{"text_format":"3","workbook":"xlsx","n_sheets":19,"sheets":["Interface","BANQUE 1","Regroupement banque1","BANQUE 2","Regroupement banque2","BANQUE 3","CAISSE 1","Regroupement caisse"," code comptes ","Contacts","CAISSE 2","CAISSE 3","Codes","Feuil1","Feuil2","Feuil3","Feuil4","Feuil5","Feuil6"],"not_rendered":{"macros":1,"external_links":1,"defined_names":10,"pivot_tables":3},"read":"whole","date_system":"1900"}

{"sheet":"Interface","index":0,"n_rows":0,"n_cols":0,"rows_kept":0}

{"sheet":"BANQUE 1","index":1,"n_rows":2001,"n_cols":14,"rows_kept":2001,"hidden":true,"merged":[[1,2,1,4],[2,3,2,4]]}
[]
[null,"Eglise :"]
[null,"N°  Compte Bancaire :"]
[{"$nulls":4},"Date","Montant"]
[null,"Solde initial",null,null,"2014-01-01"]
[null,"Solde final selon extrait à encoder",null,null,"2014-12-31"]
[null,"Solde total colonne",{"$nulls":3},{"$f":"+SUM(D11:D21791)","v":{"v":0,"d":"0.00"}}]
[null,"Contrôle:  si ok = rien; sinon  Erreur !!!",{"$nulls":3},{"$f":"+IF(F6=F7,\"ok\",\"Erreur\")","v":"ok"}]
[null,"Mouvements bancaires  B1",null,null,"Mouvements bancaires  B1","Mouvements bancaires  B1","Mouvements bancaires  B1","Mouvements bancaires  B1"]
[null,"Date","N° Extrait","Montant","Description","Commentaire","Compte comptable","Libellé compte comptable"]
[null,{"$f":"+E5","v":"2014-01-01"},null,{"$f":"+F5","v":{"v":0,"d":"0.00"}},"Solde initial",null,{"$f":"IF(H11<>\"\",VLOOKUP(H11,Codes!C$1:D$475,2,FALSE),\"\")","v":""},null,null,"Montant","Libellé compte comptable",null,{"$f":"D10","v":"Montant"},{"$f":"+CONCATENATE(G10,H10)","v":"Compte comptableLibellé compte comptable"}]
[{"$nulls":6},{"$f":"IF(H12<>\"\",VLOOKUP(H12,Codes!C$1:D$475,2,FALSE),\"\")","v":""},null,null,{"$f":"+L6","v":{"v":0,"d":"0.00   "}},{"$f":"IF(J12>0,VLOOKUP(J12,' code comptes '!$A$1:$C$148,3),\"\")","v":""},null,{"$f":"D11","v":{"v":0,"d":"0.00"}},{"$f":"+CONCATENATE(G11,H11)","v":""}]
[{"$nulls":6},{"$f":"IF(H13<>\"\",VLOOKUP(H13,Codes!C$1:D$475,2,FALSE),\"\")","v":""},{"$nulls":3},{"$f":"IF(J13>0,VLOOKUP(J13,' code comptes '!$A$1:$C$148,3),\"\")","v":""},null,{"v":0,"d":"0.00"},""]
[{"$nulls":6},{"$f":"IF(H14<>\"\",VLOOKUP(H14,Codes!C$1:D$475,2,FALSE),\"\")","v":""}]
[{"$nulls":6},{"$f":"IF(H15<>\"\",VLOOKUP(H15,Codes!C$1:D$475,2,FALSE),\"\")","v":""}]
[{"$nulls":6},{"$f":"IF(H16<>\"\",VLOOKUP(H16,Codes!C$1:D$475,2,FALSE),\"\")","v":""}]
[{"$nulls":6},{"$f":"IF(H17<>\"\",VLOOKUP(H17,Codes!C$1:D$475,2,FALSE),\"\")","v":""}]
[{"$nulls":6},{"$f":"IF(H18<>\"\",VLOOKUP(H18,Codes!C$1:D$475,2,FALSE),\"\")","v":""}]
[{"$nulls":6},{"$f":"IF(H19<>\"\",VLOOKUP(H19,Codes!C$1:D$475,2,FALSE),\"\")","v":""}]
[{"$nulls":6},{"$f":"IF(H20<>\"\",VLOOKUP(H20,Codes!C$1:D$475,2,FALSE),\"\")","v":""}]
[{"$nulls":6},{"$f":"IF(H21<>\"\",VLOOKUP(H21,Codes!C$1:D$475,2,FALSE),\"\")","v":""}]
[{"$nulls":6},{"$f":"IF(H22<>\"\",VLOOKUP(H22,Codes!C$1:D$475,2,FALSE),\"\")","v":""}]
[{"$nulls":6},{"$f":"IF(H23<>\"\",VLOOKUP(H23,Codes!C$1:D$475,2,FALSE),\"\")","v":""}]
[{"$nulls":6},{"$f":"IF(H24<>\"\",VLOOKUP(H24,Codes!C$1:D$475,2,FALSE),\"\")","v":""}]
[{"$nulls":6},{"$f":"IF(H25<>\"\",VLOOKUP(H25,Codes!C$1:D$475,2,FALSE),\"\")","v":""}]
[{"$nulls":6},{"$f":"IF(H26<>\"\",VLOOKUP(H26,Codes!C$1:D$475,2,FALSE),\"\")","v":""}]
[{"$nulls":6},{"$f":"IF(H27<>\"\",VLOOKUP(H27,Codes!C$1:D$475,2,FALSE),\"\")","v":""}]
[{"$nulls":6},{"$f":"IF(H28<>\"\",VLOOKUP(H28,Codes!C$1:D$475,2,FALSE),\"\")","v":""}]
[{"$nulls":6},{"$f":"IF(H29<>\"\",VLOOKUP(H29,Codes!C$1:D$475,2,FALSE),\"\")","v":""}]
[{"$nulls":6},{"$f":"IF(H30<>\"\",VLOOKUP(H30,Codes!C$1:D$475,2,FALSE),\"\")","v":""}]
[{"$nulls":6},{"$f":"IF(H31<>\"\",VLOOKUP(H31,Codes!C$1:D$475,2,FALSE),\"\")","v":""}]
[{"$nulls":6},{"$f":"IF(H32<>\"\",VLOOKUP(H32,Codes!C$1:D$475,2,FALSE),\"\")","v":""}]
[{"$nulls":6},{"$f":"IF(H33<>\"\",VLOOKUP(H33,Codes!C$1:D$475,2,FALSE),\"\")","v":""}]
[{"$nulls":6},{"$f":"IF(H34<>\"\",VLOOKUP(H34,Codes!C$1:D$475,2,FALSE),\"\")","v":""}]
[{"$nulls":6},{"$f":"IF(H35<>\"\",VLOOKUP(H35,Codes!C$1:D$475,2,FALSE),\"\")","v":""}]
[{"$nulls":6},{"$f":"IF(H36<>\"\",VLOOKUP(H36,Codes!C$1:D$475,2,FALSE),\"\")","v":""}]
[{"$nulls":6},{"$f":"IF(H37<>\"\",VLOOKUP(H37,Codes!C$1:D$475,2,FALSE),\"\")","v":""}]
[{"$nulls":6},{"$f":"IF(H38<>\"\",VLOOKUP(H38,Codes!C$1:D$475,2,FALSE),\"\")","v":""}]
[{"$nulls":6},{"$f":"IF(H39<>\"\",VLOOKUP(H39,Codes!C$1:D$475,2,FALSE),\"\")","v":""}]
[{"$nulls":6},{"$f":"IF(H40<>\"\",VLOOKUP(H40,Codes!C$1:D$475,2,FALSE),\"\")","v":""}]
[{"$nulls":6},{"$f":"IF(H41<>\"\",VLOOKUP(H41,Codes!C$1:D$475,2,FALSE),\"\")","v":""}]
[{"$nulls":6},{"$f":"IF(H42<>\"\",VLOOKUP(H42,Codes!C$1:D$475,2,FALSE),\"\")","v":""}]
[{"$nulls":6},{"$f":"IF(H43<>\"\",VLOOKUP(H43,Codes!C$1:D$475,2,FALSE),\"\")","v":""}]
[{"$nulls":6},{"$f":"IF(H44<>\"\",VLOOKUP(H44,Codes!C$1:D$475,2,FALSE),\"\")","v":""}]
[{"$nulls":6},{"$f":"IF(H45<>\"\",VLOOKUP(H45,Codes!C$1:D$475,2,FALSE),\"\")","v":""}]
[{"$nulls":6},{"$f":"IF(H46<>\"\",VLOOKUP(H46,Codes!C$1:D$475,2,FALSE),\"\")","v":""}]
[{"$nulls":6},{"$f":"IF(H47<>\"\",VLOOKUP(H47,Codes!C$1:D$475,2,FALSE),\"\")","v":""}]
[{"$nulls":6},{"$f":"IF(H48<>\"\",VLOOKUP(H48,Codes!C$1:D$475,2,FALSE),\"\")","v":""}]
[{"$nulls":6},{"$f":"IF(H49<>\"\",VLOOKUP(H49,Codes!C$1:D$475,2,FALSE),\"\")","v":""}]
[{"$nulls":6},{"$f":"IF(H50<>\"\",VLOOKUP(H50,Codes!C$1:D$475,2,FALSE),\"\")","v":""}]
[{"$nulls":6},{"$f":"IF(H51<>\"\",VLOOKUP(H51,Codes!C$1:D$475,2,FALSE),\"\")","v":""}]
[{"$nulls":6},{"$f":"IF(H52<>\"\",VLOOKUP(H52,Codes!C$1:D$475,2,FALSE),\"\")","v":""}]
[{"$nulls":6},{"$f":"IF(H53<>\"\",VLOOKUP(H53,Codes!C$1:D$475,2,FALSE),\"\")","v":""}]
[{"$nulls":6},{"$f":"IF(H54<>\"\",VLOOKUP(H54,Codes!C$1:D$475,2,FALSE),\"\")","v":""}]
[{"$nulls":6},{"$f":"IF(H55<>\"\",VLOOKUP(H55,Codes!C$1:D$475,2,FALSE),\"\")","v":""}]
[{"$nulls":6},{"$f":"IF(H56<>\"\",VLOOKUP(H56,Codes!C$1:D$475,2,FALSE),\"\")","v":""}]
[{"$nulls":6},{"$f":"IF(H57<>\"\",VLOOKUP(H57,Codes!C$1:D$475,2,FALSE),\"\")","v":""}]
[{"$nulls":6},{"$f":"IF(H58<>\"\",VLOOKUP(H58,Codes!C$1:D$475,2,FALSE),\"\")","v":""}]
[{"$nulls":6},{"$f":"IF(H59<>\"\",VLOOKUP(H59,Codes!C$1:D$475,2,FALSE),\"\")","v":""}]
[{"$nulls":6},{"$f":"IF(H60<>\"\",VLOOKUP(H60,Codes!C$1:D$475,2,FALSE),\"\")","v":""}]
[{"$nulls":6},{"$f":"IF(H61<>\"\",VLOOKUP(H61,Codes!C$1:D$475,2,FALSE),\"\")","v":""}]
[{"$nulls":6},{"$f":"IF(H62<>\"\",VLOOKUP(H62,Codes!C$1:D$475,2,FALSE),\"\")","v":""}]
[{"$nulls":6},{"$f":"IF(H63<>\"\",VLOOKUP(H63,Codes!C$1:D$475,2,FALSE),\"\")","v":""}]
[{"$nulls":6},{"$f":"IF(H64<>\"\",VLOOKUP(H64,Codes!C$1:D$475,2,FALSE),\"\")","v":""}]
[{"$nulls":6},{"$f":"IF(H65<>\"\",VLOOKUP(H65,Codes!C$1:D$475,2,FALSE),\"\")","v":""}]
[{"$nulls":6},{"$f":"IF(H66<>\"\",VLOOKUP(H66,Codes!C$1:D$475,2,FALSE),\"\")","v":""}]
[{"$nulls":6},{"$f":"IF(H67<>\"\",VLOOKUP(H67,Codes!C$1:D$475,2,FALSE),\"\")","v":""}]
[{"$nulls":6},{"$f":"IF(H68<>\"\",VLOOKUP(H68,Codes!C$1:D$475,2,FALSE),\"\")","v":""}]
[{"$nulls":6},{"$f":"IF(H69<>\"\",VLOOKUP(H69,Codes!C$1:D$475,2,FALSE),\"\")","v":""}]
[{"$nulls":6},{"$f":"IF(H70<>\"\",VLOOKUP(H70,Codes!C$1:D$475,2,FALSE),\"\")","v":""}]
[{"$nulls":6},{"$f":"IF(H71<>\"\",VLOOKUP(H71,Codes!C$1:D$475,2,FALSE),\"\")","v":""}]
[{"$nulls":6},{"$f":"IF(H72<>\"\",VLOOKUP(H72,Codes!C$1:D$475,2,FALSE),\"\")","v":""}]
[{"$nulls":6},{"$f":"IF(H73<>\"\",VLOOKUP(H73,Codes!C$1:D$475,2,FALSE),\"\")","v":""}]
[{"$nulls":6},{"$f":"IF(H74<>\"\",VLOOKUP(H74,Codes!C$1:D$475,2,FALSE),\"\")","v":""}]
[{"$nulls":6},{"$f":"IF(H75<>\"\",VLOOKUP(H75,Codes!C$1:D$475,2,FALSE),\"\")","v":""}]
[{"$nulls":6},{"$f":"IF(H76<>\"\",VLOOKUP(H76,Codes!C$1:D$475,2,FALSE),\"\")","v":""}]
[{"$nulls":6},{"$f":"IF(H77<>\"\",VLOOKUP(H77,Codes!C$1:D$475,2,FALSE),\"\")","v":""}]
[{"$nulls":6},{"$f":"IF(H78<>\"\",VLOOKUP(H78,Codes!C$1:D$475,2,FALSE),\"\")","v":""}]
[{"$nulls":6},{"$f":"IF(H79<>\"\",VLOOKUP(H79,Codes!C$1:D$475,2,FALSE),\"\")","v":""}]
[{"$nulls":6},{"$f":"IF(H80<>\"\",VLOOKUP(H80,Codes!C$1:D$475,2,FALSE),\"\")","v":""}]
[{"$nulls":6},{"$f":"IF(H81<>\"\",VLOOKUP(H81,Codes!C$1:D$475,2,FALSE),\"\")","v":""}]
[{"$nulls":6},{"$f":"IF(H82<>\"\",VLOOKUP(H82,Codes!C$1:D$475,2,FALSE),\"\")","v":""}]
[{"$nulls":6},{"$f":"IF(H83<>\"\",VLOOKUP(H83,Codes!C$1:D$475,2,FALSE),\"\")","v":""}]
[{"$nulls":6},{"$f":"IF(H84<>\"\",VLOOKUP(H84,Codes!C$1:D$475,2,FALSE),\"\")","v":""}]
[{"$nulls":6},{"$f":"IF(H85<>\"\",VLOOKUP(H85,Codes!C$1:D$475,2,FALSE),\"\")","v":""}]
[{"$nulls":6},{"$f":"IF(H86<>\"\",VLOOKUP(H86,Codes!C$1:D$475,2,FALSE),\"\")","v":""}]
[{"$nulls":6},{"$f":"IF(H87<>\"\",VLOOKUP(H87,Codes!C$1:D$475,2,FALSE),\"\")","v":""}]
[{"$nulls":6},{"$f":"IF(H88<>\"\",VLOOKUP(H88,Codes!C$1:D$475,2,FALSE),\"\")","v":""}]
[{"$nulls":6},{"$f":"IF(H89<>\"\",VLOOKUP(H89,Codes!C$1:D$475,2,FALSE),\"\")","v":""}]
[{"$nulls":6},{"$f":"IF(H90<>\"\",VLOOKUP(H90,Codes!C$1:D$475,2,FALSE),\"\")","v":""}]
[{"$nulls":6},{"$f":"IF(H91<>\"\",VLOOKUP(H91,Codes!C$1:D$475,2,FALSE),\"\")","v":""}]
[{"$nulls":6},{"$f":"IF(H92<>\"\",VLOOKUP(H92,Codes!C$1:D$475,2,FALSE),\"\")","v":""}]
[{"$nulls":6},{"$f":"IF(H93<>\"\",VLOOKUP(H93,Codes!C$1:D$475,2,FALSE),\"\")","v":""}]
[{"$nulls":6},{"$f":"IF(H94<>\"\",VLOOKUP(H94,Codes!C$1:D$475,2,FALSE),\"\")","v":""}]
[{"$nulls":6},{"$f":"IF(H95<>\"\",VLOOKUP(H95,Codes!C$1:D$475,2,FALSE),\"\")","v":""}]
[{"$nulls":6},{"$f":"IF(H96<>\"\",VLOOKUP(H96,Codes!C$1:D$475,2,FALSE),\"\")","v":""}]
[{"$nulls":6},{"$f":"IF(H97<>\"\",VLOOKUP(H97,Codes!C$1:D$475,2,FALSE),\"\")","v":""}]
[{"$nulls":6},{"$f":"IF(H98<>\"\",VLOOKUP(H98,Codes!C$1:D$475,2,FALSE),\"\")","v":""}]
[{"$nulls":6},{"$f":"IF(H99<>\"\",VLOOKUP(H99,Codes!C$1:D$475,2,FALSE),\"\")","v":""}]
[{"$nulls":6},{"$f":"IF(H100<>\"\",VLOOKUP(H100,Codes!C$1:D$475,2,FALSE),\"\")","v":""}]
[{"$nulls":6},{"$f":"IF(H101<>\"\",VLOOKUP(H101,Codes!C$1:D$475,2,FALSE),\"\")","v":""}]
[{"$nulls":6},{"$f":"IF(H102<>\"\",VLOOKUP(H102,Codes!C$1:D$475,2,FALSE),\"\")","v":""}]
[{"$nulls":6},{"$f":"IF(H103<>\"\",VLOOKUP(H103,Codes!C$1:D$475,2,FALSE),\"\")","v":""}]
[{"$nulls":6},{"$f":"IF(H104<>\"\",VLOOKUP(H104,Codes!C$1:D$475,2,FALSE),\"\")","v":""}]
[{"$nulls":6},{"$f":"IF(H105<>\"\",VLOOKUP(H105,Codes!C$1:D$475,2,FALSE),\"\")","v":""}]
[{"$nulls":6},{"$f":"IF(H106<>\"\",VLOOKUP(H106,Codes!C$1:D$475,2,FALSE),\"\")","v":""}]
[{"$nulls":6},{"$f":"IF(H107<>\"\",VLOOKUP(H107,Codes!C$1:D$475,2,FALSE),\"\")","v":""}]
[{"$nulls":6},{"$f":"IF(H108<>\"\",VLOOKUP(H108,Codes!C$1:D$475,2,FALSE),\"\")","v":""}]
[{"$nulls":6},{"$f":"IF(H109<>\"\",VLOOKUP(H109,Codes!C$1:D$475,2,FALSE),\"\")","v":""}]
[{"$nulls":6},{"$f":"IF(H110<>\"\",VLOOKUP(H110,Codes!C$1:D$475,2,FALSE),\"\")","v":""}]
[{"$nulls":6},{"$f":"IF(H111<>\"\",VLOOKUP(H111,Codes!C$1:D$475,2,FALSE),\"\")","v":""}]
[{"$nulls":6},{"$f":"IF(H112<>\"\",VLOOKUP(H112,Codes!C$1:D$475,2,FALSE),\"\")","v":""}]
[{"$nulls":6},{"$f":"IF(H113<>\"\",VLOOKUP(H113,Codes!C$1:D$475,2,FALSE),\"\")","v":""}]
[{"$nulls":6},{"$f":"IF(H114<>\"\",VLOOKUP(H114,Codes!C$1:D$475,2,FALSE),\"\")","v":""}]
[{"$nulls":6},{"$f":"IF(H115<>\"\",VLOOKUP(H115,Codes!C$1:D$475,2,FALSE),\"\")","v":""}]
[{"$nulls":6},{"$f":"IF(H116<>\"\",VLOOKUP(H116,Codes!C$1:D$475,2,FALSE),\"\")","v":""}]
[{"$nulls":6},{"$f":"IF(H117<>\"\",VLOOKUP(H117,Codes!C$1:D$475,2,FALSE),\"\")","v":""}]
[{"$nulls":6},{"$f":"IF(H118<>\"\",VLOOKUP(H118,Codes!C$1:D$475,2,FALSE),\"\")","v":""}]
[{"$nulls":6},{"$f":"IF(H119<>\"\",VLOOKUP(H119,Codes!C$1:D$475,2,FALSE),\"\")","v":""}]
[{"$nulls":6},{"$f":"IF(H120<>\"\",VLOOKUP(H120,Codes!C$1:D$475,2,FALSE),\"\")","v":""}]
[{"$nulls":6},{"$f":"IF(H121<>\"\",VLOOKUP(H121,Codes!C$1:D$475,2,FALSE),\"\")","v":""}]
[{"$nulls":6},{"$f":"IF(H122<>\"\",VLOOKUP(H122,Codes!C$1:D$475,2,FALSE),\"\")","v":""}]
[{"$nulls":6},{"$f":"IF(H123<>\"\",VLOOKUP(H123,Codes!C$1:D$475,2,FALSE),\"\")","v":""}]
[{"$nulls":6},{"$f":"IF(H124<>\"\",VLOOKUP(H124,Codes!C$1:D$475,2,FALSE),\"\")","v":""}]
[{"$nulls":6},{"$f":"IF(H125<>\"\",VLOOKUP(H125,Codes!C$1:D$475,2,FALSE),\"\")","v":""}]
[{"$nulls":6},{"$f":"IF(H126<>\"\",VLOOKUP(H126,Codes!C$1:D$475,2,FALSE),\"\")","v":""}]
[{"$nulls":6},{"$f":"IF(H127<>\"\",VLOOKUP(H127,Codes!C$1:D$475,2,FALSE),\"\")","v":""}]
[{"$nulls":6},{"$f":"IF(H128<>\"\",VLOOKUP(H128,Codes!C$1:D$475,2,FALSE),\"\")","v":""}]
[{"$nulls":6},{"$f":"IF(H129<>\"\",VLOOKUP(H129,Codes!C$1:D$475,2,FALSE),\"\")","v":""}]
[{"$nulls":6},{"$f":"IF(H130<>\"\",VLOOKUP(H130,Codes!C$1:D$475,2,FALSE),\"\")","v":""}]
[{"$nulls":6},{"$f":"IF(H131<>\"\",VLOOKUP(H131,Codes!C$1:D$475,2,FALSE),\"\")","v":""}]
[{"$nulls":6},{"$f":"IF(H132<>\"\",VLOOKUP(H132,Codes!C$1:D$475,2,FALSE),\"\")","v":""}]
[{"$nulls":6},{"$f":"IF(H133<>\"\",VLOOKUP(H133,Codes!C$1:D$475,2,FALSE),\"\")","v":""}]
[{"$nulls":6},{"$f":"IF(H134<>\"\",VLOOKUP(H134,Codes!C$1:D$475,2,FALSE),\"\")","v":""}]
[{"$nulls":6},{"$f":"IF(H135<>\"\",VLOOKUP(H135,Codes!C$1:D$475,2,FALSE),\"\")","v":""}]
[{"$nulls":6},{"$f":"IF(H136<>\"\",VLOOKUP(H136,Codes!C$1:D$475,2,FALSE),\"\")","v":""}]
[{"$nulls":6},{"$f":"IF(H137<>\"\",VLOOKUP(H137,Codes!C$1:D$475,2,FALSE),\"\")","v":""}]
[{"$nulls":6},{"$f":"IF(H138<>\"\",VLOOKUP(H138,Codes!C$1:D$475,2,FALSE),\"\")","v":""}]
[{"$nulls":6},{"$f":"IF(H139<>\"\",VLOOKUP(H139,Codes!C$1:D$475,2,FALSE),\"\")","v":""}]
[{"$nulls":6},{"$f":"IF(H140<>\"\",VLOOKUP(H140,Codes!C$1:D$475,2,FALSE),\"\")","v":""}]
[{"$nulls":6},{"$f":"IF(H141<>\"\",VLOOKUP(H141,Codes!C$1:D$475,2,FALSE),\"\")","v":""}]
[{"$nulls":6},{"$f":"IF(H142<>\"\",VLOOKUP(H142,Codes!C$1:D$475,2,FALSE),\"\")","v":""}]
[{"$nulls":6},{"$f":"IF(H143<>\"\",VLOOKUP(H143,Codes!C$1:D$475,2,FALSE),\"\")","v":""}]
[{"$nulls":6},{"$f":"IF(H144<>\"\",VLOOKUP(H144,Codes!C$1:D$475,2,FALSE),\"\")","v":""}]
[{"$nulls":6},{"$f":"IF(H145<>\"\",VLOOKUP(H145,Codes!C$1:D$475,2,FALSE),\"\")","v":""}]
[{"$nulls":6},{"$f":"IF(H146<>\"\",VLOOKUP(H146,Codes!C$1:D$475,2,FALSE),\"\")","v":""}]
[{"$nulls":6},{"$f":"IF(H147<>\"\",VLOOKUP(H147,Codes!C$1:D$475,2,FALSE),\"\")","v":""}]
[{"$nulls":6},{"$f":"IF(H148<>\"\",VLOOKUP(H148,Codes!C$1:D$475,2,FALSE),\"\")","v":""}]
[{"$nulls":6},{"$f":"IF(H149<>\"\",VLOOKUP(H149,Codes!C$1:D$475,2,FALSE),\"\")","v":""}]
[{"$nulls":6},{"$f":"IF(H150<>\"\",VLOOKUP(H150,Codes!C$1:D$475,2,FALSE),\"\")","v":""}]
[{"$nulls":6},{"$f":"IF(H151<>\"\",VLOOKUP(H151,Codes!C$1:D$475,2,FALSE),\"\")","v":""}]
[{"$nulls":6},{"$f":"IF(H152<>\"\",VLOOKUP(H152,Codes!C$1:D$475,2,FALSE),\"\")","v":""}]
[{"$nulls":6},{"$f":"IF(H153<>\"\",VLOOKUP(H153,Codes!C$1:D$475,2,FALSE),\"\")","v":""}]
[{"$nulls":6},{"$f":"IF(H154<>\"\",VLOOKUP(H154,Codes!C$1:D$475,2,FALSE),\"\")","v":""}]
[{"$nulls":6},{"$f":"IF(H155<>\"\",VLOOKUP(H155,Codes!C$1:D$475,2,FALSE),\"\")","v":""}]
[{"$nulls":6},{"$f":"IF(H156<>\"\",VLOOKUP(H156,Codes!C$1:D$475,2,FALSE),\"\")","v":""}]
[{"$nulls":6},{"$f":"IF(H157<>\"\",VLOOKUP(H157,Codes!C$1:D$475,2,FALSE),\"\")","v":""}]
[{"$nulls":6},{"$f":"IF(H158<>\"\",VLOOKUP(H158,Codes!C$1:D$475,2,FALSE),\"\")","v":""}]
[{"$nulls":6},{"$f":"IF(H159<>\"\",VLOOKUP(H159,Codes!C$1:D$475,2,FALSE),\"\")","v":""}]
[{"$nulls":6},{"$f":"IF(H160<>\"\",VLOOKUP(H160,Codes!C$1:D$475,2,FALSE),\"\")","v":""}]
[{"$nulls":6},{"$f":"IF(H161<>\"\",VLOOKUP(H161,Codes!C$1:D$475,2,FALSE),\"\")","v":""}]
[{"$nulls":6},{"$f":"IF(H162<>\"\",VLOOKUP(H162,Codes!C$1:D$475,2,FALSE),\"\")","v":""}]
[{"$nulls":6},{"$f":"IF(H163<>\"\",VLOOKUP(H163,Codes!C$1:D$475,2,FALSE),\"\")","v":""}]
[{"$nulls":6},{"$f":"IF(H164<>\"\",VLOOKUP(H164,Codes!C$1:D$475,2,FALSE),\"\")","v":""}]
[{"$nulls":6},{"$f":"IF(H165<>\"\",VLOOKUP(H165,Codes!C$1:D$475,2,FALSE),\"\")","v":""}]
[{"$nulls":6},{"$f":"IF(H166<>\"\",VLOOKUP(H166,Codes!C$1:D$475,2,FALSE),\"\")","v":""}]
[{"$nulls":6},{"$f":"IF(H167<>\"\",VLOOKUP(H167,Codes!C$1:D$475,2,FALSE),\"\")","v":""}]
[{"$nulls":6},{"$f":"IF(H168<>\"\",VLOOKUP(H168,Codes!C$1:D$475,2,FALSE),\"\")","v":""}]
[{"$nulls":6},{"$f":"IF(H169<>\"\",VLOOKUP(H169,Codes!C$1:D$475,2,FALSE),\"\")","v":""}]
[{"$nulls":6},{"$f":"IF(H170<>\"\",VLOOKUP(H170,Codes!C$1:D$475,2,FALSE),\"\")","v":""}]
[{"$nulls":6},{"$f":"IF(H171<>\"\",VLOOKUP(H171,Codes!C$1:D$475,2,FALSE),\"\")","v":""}]
[{"$nulls":6},{"$f":"IF(H172<>\"\",VLOOKUP(H172,Codes!C$1:D$475,2,FALSE),\"\")","v":""}]
[{"$nulls":6},{"$f":"IF(H173<>\"\",VLOOKUP(H173,Codes!C$1:D$475,2,FALSE),\"\")","v":""}]
[{"$nulls":6},{"$f":"IF(H174<>\"\",VLOOKUP(H174,Codes!C$1:D$475,2,FALSE),\"\")","v":""}]
[{"$nulls":6},{"$f":"IF(H175<>\"\",VLOOKUP(H175,Codes!C$1:D$475,2,FALSE),\"\")","v":""}]
[{"$nulls":6},{"$f":"IF(H176<>\"\",VLOOKUP(H176,Codes!C$1:D$475,2,FALSE),\"\")","v":""}]
[{"$nulls":6},{"$f":"IF(H177<>\"\",VLOOKUP(H177,Codes!C$1:D$475,2,FALSE),\"\")","v":""}]
[{"$nulls":6},{"$f":"IF(H178<>\"\",VLOOKUP(H178,Codes!C$1:D$475,2,FALSE),\"\")","v":""}]
[{"$nulls":6},{"$f":"IF(H179<>\"\",VLOOKUP(H179,Codes!C$1:D$475,2,FALSE),\"\")","v":""}]
[{"$nulls":6},{"$f":"IF(H180<>\"\",VLOOKUP(H180,Codes!C$1:D$475,2,FALSE),\"\")","v":""}]
[{"$nulls":6},{"$f":"IF(H181<>\"\",VLOOKUP(H181,Codes!C$1:D$475,2,FALSE),\"\")","v":""}]
[{"$nulls":6},{"$f":"IF(H182<>\"\",VLOOKUP(H182,Codes!C$1:D$475,2,FALSE),\"\")","v":""}]
[{"$nulls":6},{"$f":"IF(H183<>\"\",VLOOKUP(H183,Codes!C$1:D$475,2,FALSE),\"\")","v":""}]
[{"$nulls":6},{"$f":"IF(H184<>\"\",VLOOKUP(H184,Codes!C$1:D$475,2,FALSE),\"\")","v":""}]
[{"$nulls":6},{"$f":"IF(H185<>\"\",VLOOKUP(H185,Codes!C$1:D$475,2,FALSE),\"\")","v":""}]
[{"$nulls":6},{"$f":"IF(H186<>\"\",VLOOKUP(H186,Codes!C$1:D$475,2,FALSE),\"\")","v":""}]
[{"$nulls":6},{"$f":"IF(H187<>\"\",VLOOKUP(H187,Codes!C$1:D$475,2,FALSE),\"\")","v":""}]
[{"$nulls":6},{"$f":"IF(H188<>\"\",VLOOKUP(H188,Codes!C$1:D$475,2,FALSE),\"\")","v":""}]
[{"$nulls":6},{"$f":"IF(H189<>\"\",VLOOKUP(H189,Codes!C$1:D$475,2,FALSE),\"\")","v":""}]
[{"$nulls":6},{"$f":"IF(H190<>\"\",VLOOKUP(H190,Codes!C$1:D$475,2,FALSE),\"\")","v":""}]
[{"$nulls":6},{"$f":"IF(H191<>\"\",VLOOKUP(H191,Codes!C$1:D$475,2,FALSE),\"\")","v":""}]
[{"$nulls":6},{"$f":"IF(H192<>\"\",VLOOKUP(H192,Codes!C$1:D$475,2,FALSE),\"\")","v":""}]
[{"$nulls":6},{"$f":"IF(H193<>\"\",VLOOKUP(H193,Codes!C$1:D$475,2,FALSE),\"\")","v":""}]
[{"$nulls":6},{"$f":"IF(H194<>\"\",VLOOKUP(H194,Codes!C$1:D$475,2,FALSE),\"\")","v":""}]
[{"$nulls":6},{"$f":"IF(H195<>\"\",VLOOKUP(H195,Codes!C$1:D$475,2,FALSE),\"\")","v":""},{"$nulls":3},{"$f":"IF(J195>0,VLOOKUP(J195,' code comptes '!$A$1:$C$148,3),\"\")","v":""},"ok",{"$f":"D13","v":{"v":0,"d":"0.00"}},{"$f":"+CONCATENATE(G13,H13)","v":""}]
[{"$nulls":6},{"$f":"IF(H196<>\"\",VLOOKUP(H196,Codes!C$1:D$475,2,FALSE),\"\")","v":""},{"$nulls":3},{"$f":"IF(J196>0,VLOOKUP(J196,' code comptes '!$A$1:$C$148,3),\"\")","v":""},"Erreur",{"v":0,"d":"0.00"},""]
[{"$nulls":6},{"$f":"IF(H197<>\"\",VLOOKUP(H197,Codes!C$1:D$475,2,FALSE),\"\")","v":""},{"$nulls":3},{"$f":"IF(J197>0,VLOOKUP(J197,' code comptes '!$A$1:$C$148,3),\"\")","v":""},null,{"v":0,"d":"0.00"},""]
[{"$nulls":6},{"$f":"IF(H198<>\"\",VLOOKUP(H198,Codes!C$1:D$475,2,FALSE),\"\")","v":""},{"$nulls":3},{"$f":"IF(J198>0,VLOOKUP(J198,' code comptes '!$A$1:$C$148,3),\"\")","v":""},null,{"v":0,"d":"0.00"},""]
[{"$nulls":6},{"$f":"IF(H199<>\"\",VLOOKUP(H199,Codes!C$1:D$475,2,FALSE),\"\")","v":""},{"$nulls":3},{"$f":"IF(J199>0,VLOOKUP(J199,' code comptes '!$A$1:$C$148,3),\"\")","v":""},null,{"v":0,"d":"0.00"},""]
[{"$nulls":6},{"$f":"IF(H200<>\"\",VLOOKUP(H200,Codes!C$1:D$475,2,FALSE),\"\")","v":""},{"$nulls":3},{"$f":"IF(J200>0,VLOOKUP(J200,' code comptes '!$A$1:$C$148,3),\"\")","v":""},null,{"v":0,"d":"0.00"},""]
[{"$nulls":6},{"$f":"IF(H201<>\"\",VLOOKUP(H201,Codes!C$1:D$475,2,FALSE),\"\")","v":""},{"$nulls":3},{"$f":"IF(J201>0,VLOOKUP(J201,' code comptes '!$A$1:$C$148,3),\"\")","v":""},null,{"v":0,"d":"0.00"},""]
[{"$nulls":6},{"$f":"IF(H202<>\"\",VLOOKUP(H202,Codes!C$1:D$475,2,FALSE),\"\")","v":""},{"$nulls":3},{"$f":"IF(J202>0,VLOOKUP(J202,' code comptes '!$A$1:$C$148,3),\"\")","v":""},null,{"v":0,"d":"0.00"},""]
[{"$nulls":6},{"$f":"IF(H203<>\"\",VLOOKUP(H203,Codes!C$1:D$475,2,FALSE),\"\")","v":""},{"$nulls":3},{"$f":"IF(J203>0,VLOOKUP(J203,' code comptes '!$A$1:$C$148,3),\"\")","v":""},null,{"v":0,"d":"0.00"},""]
[{"$nulls":6},{"$f":"IF(H204<>\"\",VLOOKUP(H204,Codes!C$1:D$475,2,FALSE),\"\")","v":""},{"$nulls":3},{"$f":"IF(J204>0,VLOOKUP(J204,' code comptes '!$A$1:$C$148,3),\"\")","v":""},null,{"v":0,"d":"0.00"},""]
[{"$nulls":6},{"$f":"IF(H205<>\"\",VLOOKUP(H205,Codes!C$1:D$475,2,FALSE),\"\")","v":""},{"$nulls":3},{"$f":"IF(J205>0,VLOOKUP(J205,' code comptes '!$A$1:$C$148,3),\"\")","v":""},null,{"v":0,"d":"0.00"},""]
[{"$nulls":6},{"$f":"IF(H206<>\"\",VLOOKUP(H206,Codes!C$1:D$475,2,FALSE),\"\")","v":""},{"$nulls":3},{"$f":"IF(J206>0,VLOOKUP(J206,' code comptes '!$A$1:$C$148,3),\"\")","v":""},null,{"v":0,"d":"0.00"},""]
[{"$nulls":6},{"$f":"IF(H207<>\"\",VLOOKUP(H207,Codes!C$1:D$475,2,FALSE),\"\")","v":""},{"$nulls":3},{"$f":"IF(J207>0,VLOOKUP(J207,' code comptes '!$A$1:$C$148,3),\"\")","v":""},null,{"v":0,"d":"0.00"},""]
[{"$nulls":6},{"$f":"IF(H208<>\"\",VLOOKUP(H208,Codes!C$1:D$475,2,FALSE),\"\")","v":""},{"$nulls":3},{"$f":"IF(J208>0,VLOOKUP(J208,' code comptes '!$A$1:$C$148,3),\"\")","v":""},null,{"v":0,"d":"0.00"},""]
[{"$nulls":6},{"$f":"IF(H209<>\"\",VLOOKUP(H209,Codes!C$1:D$475,2,FALSE),\"\")","v":""},{"$nulls":3},{"$f":"IF(J209>0,VLOOKUP(J209,' code comptes '!$A$1:$C$148,3),\"\")","v":""},null,{"v":0,"d":"0.00"},""]
[{"$nulls":6},{"$f":"IF(H210<>\"\",VLOOKUP(H210,Codes!C$1:D$475,2,FALSE),\"\")","v":""},{"$nulls":3},{"$f":"IF(J210>0,VLOOKUP(J210,' code comptes '!$A$1:$C$148,3),\"\")","v":""},null,{"v":0,"d":"0.00"},""]
[{"$nulls":6},{"$f":"IF(H211<>\"\",VLOOKUP(H211,Codes!C$1:D$475,2,FALSE),\"\")","v":""},{"$nulls":3},{"$f":"IF(J211>0,VLOOKUP(J211,' code comptes '!$A$1:$C$148,3),\"\")","v":""},null,{"v":0,"d":"0.00"},""]
[{"$nulls":6},{"$f":"IF(H212<>\"\",VLOOKUP(H212,Codes!C$1:D$475,2,FALSE),\"\")","v":""},{"$nulls":3},{"$f":"IF(J212>0,VLOOKUP(J212,' code comptes '!$A$1:$C$148,3),\"\")","v":""},null,{"v":0,"d":"0.00"},""]
[{"$nulls":6},{"$f":"IF(H213<>\"\",VLOOKUP(H213,Codes!C$1:D$475,2,FALSE),\"\")","v":""},{"$nulls":3},{"$f":"IF(J213>0,VLOOKUP(J213,' code comptes '!$A$1:$C$148,3),\"\")","v":""},null,{"v":0,"d":"0.00"},""]
[{"$nulls":6},{"$f":"IF(H214<>\"\",VLOOKUP(H214,Codes!C$1:D$475,2,FALSE),\"\")","v":""},{"$nulls":3},{"$f":"IF(J214>0,VLOOKUP(J214,' code comptes '!$A$1:$C$148,3),\"\")","v":""},null,{"v":0,"d":"0.00"},""]
[{"$nulls":6},{"$f":"IF(H215<>\"\",VLOOKUP(H215,Codes!C$1:D$475,2,FALSE),\"\")","v":""},{"$nulls":3},{"$f":"IF(J215>0,VLOOKUP(J215,' code comptes '!$A$1:$C$148,3),\"\")","v":""},null,{"v":0,"d":"0.00"},""]
[{"$nulls":6},{"$f":"IF(H216<>\"\",VLOOKUP(H216,Codes!C$1:D$475,2,FALSE),\"\")","v":""},{"$nulls":3},{"$f":"IF(J216>0,VLOOKUP(J216,' code comptes '!$A$1:$C$148,3),\"\")","v":""},null,{"v":0,"d":"0.00"},""]
[{"$nulls":6},{"$f":"IF(H217<>\"\",VLOOKUP(H217,Codes!C$1:D$475,2,FALSE),\"\")","v":""},{"$nulls":3},{"$f":"IF(J217>0,VLOOKUP(J217,' code comptes '!$A$1:$C$148,3),\"\")","v":""},null,{"v":0,"d":"0.00"},""]
[{"$nulls":6},{"$f":"IF(H218<>\"\",VLOOKUP(H218,Codes!C$1:D$475,2,FALSE),\"\")","v":""},{"$nulls":3},{"$f":"IF(J218>0,VLOOKUP(J218,' code comptes '!$A$1:$C$148,3),\"\")","v":""},null,{"v":0,"d":"0.00"},""]
[{"$nulls":6},{"$f":"IF(H219<>\"\",VLOOKUP(H219,Codes!C$1:D$475,2,FALSE),\"\")","v":""},{"$nulls":3},{"$f":"IF(J219>0,VLOOKUP(J219,' code comptes '!$A$1:$C$148,3),\"\")","v":""},null,{"v":0,"d":"0.00"},""]
[{"$nulls":6},{"$f":"IF(H220<>\"\",VLOOKUP(H220,Codes!C$1:D$475,2,FALSE),\"\")","v":""},{"$nulls":3},{"$f":"IF(J220>0,VLOOKUP(J220,' code comptes '!$A$1:$C$148,3),\"\")","v":""},null,{"v":0,"d":"0.00"},""]
[{"$nulls":6},{"$f":"IF(H221<>\"\",VLOOKUP(H221,Codes!C$1:D$475,2,FALSE),\"\")","v":""},{"$nulls":3},{"$f":"IF(J221>0,VLOOKUP(J221,' code comptes '!$A$1:$C$148,3),\"\")","v":""},null,{"v":0,"d":"0.00"},""]
[{"$nulls":6},{"$f":"IF(H222<>\"\",VLOOKUP(H222,Codes!C$1:D$475,2,FALSE),\"\")","v":""},{"$nulls":3},{"$f":"IF(J222>0,VLOOKUP(J222,' code comptes '!$A$1:$C$148,3),\"\")","v":""},null,{"v":0,"d":"0.00"},""]
[{"$nulls":6},{"$f":"IF(H223<>\"\",VLOOKUP(H223,Codes!C$1:D$475,2,FALSE),\"\")","v":""},{"$nulls":3},{"$f":"IF(J223>0,VLOOKUP(J223,' code comptes '!$A$1:$C$148,3),\"\")","v":""},null,{"v":0,"d":"0.00"},""]
[{"$nulls":6},{"$f":"IF(H224<>\"\",VLOOKUP(H224,Codes!C$1:D$475,2,FALSE),\"\")","v":""},{"$nulls":3},{"$f":"IF(J224>0,VLOOKUP(J224,' code comptes '!$A$1:$C$148,3),\"\")","v":""},null,{"v":0,"d":"0.00"},""]
[{"$nulls":6},{"$f":"IF(H225<>\"\",VLOOKUP(H225,Codes!C$1:D$475,2,FALSE),\"\")","v":""},{"$nulls":3},{"$f":"IF(J225>0,VLOOKUP(J225,' code comptes '!$A$1:$C$148,3),\"\")","v":""},null,{"v":0,"d":"0.00"},""]
[{"$nulls":6},{"$f":"IF(H226<>\"\",VLOOKUP(H226,Codes!C$1:D$475,2,FALSE),\"\")","v":""},{"$nulls":3},{"$f":"IF(J226>0,VLOOKUP(J226,' code comptes '!$A$1:$C$148,3),\"\")","v":""},null,{"v":0,"d":"0.00"},""]
[{"$nulls":6},{"$f":"IF(H227<>\"\",VLOOKUP(H227,Codes!C$1:D$475,2,FALSE),\"\")","v":""},{"$nulls":3},{"$f":"IF(J227>0,VLOOKUP(J227,' code comptes '!$A$1:$C$148,3),\"\")","v":""},null,{"v":0,"d":"0.00"},""]
[{"$nulls":6},{"$f":"IF(H228<>\"\",VLOOKUP(H228,Codes!C$1:D$475,2,FALSE),\"\")","v":""},{"$nulls":3},{"$f":"IF(J228>0,VLOOKUP(J228,' code comptes '!$A$1:$C$148,3),\"\")","v":""},null,{"v":0,"d":"0.00"},""]
[{"$nulls":6},{"$f":"IF(H229<>\"\",VLOOKUP(H229,Codes!C$1:D$475,2,FALSE),\"\")","v":""},{"$nulls":3},{"$f":"IF(J229>0,VLOOKUP(J229,' code comptes '!$A$1:$C$148,3),\"\")","v":""},null,{"v":0,"d":"0.00"},""]
[{"$nulls":6},{"$f":"IF(H230<>\"\",VLOOKUP(H230,Codes!C$1:D$475,2,FALSE),\"\")","v":""},{"$nulls":3},{"$f":"IF(J230>0,VLOOKUP(J230,' code comptes '!$A$1:$C$148,3),\"\")","v":""},null,{"v":0,"d":"0.00"},""]
[{"$nulls":6},{"$f":"IF(H231<>\"\",VLOOKUP(H231,Codes!C$1:D$475,2,FALSE),\"\")","v":""},{"$nulls":3},{"$f":"IF(J231>0,VLOOKUP(J231,' code comptes '!$A$1:$C$148,3),\"\")","v":""},null,{"v":0,"d":"0.00"},""]
[{"$nulls":6},{"$f":"IF(H232<>\"\",VLOOKUP(H232,Codes!C$1:D$475,2,FALSE),\"\")","v":""},{"$nulls":3},{"$f":"IF(J232>0,VLOOKUP(J232,' code comptes '!$A$1:$C$148,3),\"\")","v":""},null,{"v":0,"d":"0.00"},""]
[{"$nulls":6},{"$f":"IF(H233<>\"\",VLOOKUP(H233,Codes!C$1:D$475,2,FALSE),\"\")","v":""},{"$nulls":3},{"$f":"IF(J233>0,VLOOKUP(J233,' code comptes '!$A$1:$C$148,3),\"\")","v":""},null,{"v":0,"d":"0.00"},""]
[{"$nulls":6},{"$f":"IF(H234<>\"\",VLOOKUP(H234,Codes!C$1:D$475,2,FALSE),\"\")","v":""},{"$nulls":3},{"$f":"IF(J234>0,VLOOKUP(J234,' code comptes '!$A$1:$C$148,3),\"\")","v":""},null,{"v":0,"d":"0.00"},""]
[{"$nulls":6},{"$f":"IF(H235<>\"\",VLOOKUP(H235,Codes!C$1:D$475,2,FALSE),\"\")","v":""},{"$nulls":3},{"$f":"IF(J235>0,VLOOKUP(J235,' code comptes '!$A$1:$C$148,3),\"\")","v":""},null,{"v":0,"d":"0.00"},""]
[{"$nulls":6},{"$f":"IF(H236<>\"\",VLOOKUP(H236,Codes!C$1:D$475,2,FALSE),\"\")","v":""},{"$nulls":3},{"$f":"IF(J236>0,VLOOKUP(J236,' code comptes '!$A$1:$C$148,3),\"\")","v":""},null,{"v":0,"d":"0.00"},""]
[{"$nulls":6},{"$f":"IF(H237<>\"\",VLOOKUP(H237,Codes!C$1:D$475,2,FALSE),\"\")","v":""},{"$nulls":3},{"$f":"IF(J237>0,VLOOKUP(J237,' code comptes '!$A$1:$C$148,3),\"\")","v":""},null,{"v":0,"d":"0.00"},""]
[{"$nulls":6},{"$f":"IF(H238<>\"\",VLOOKUP(H238,Codes!C$1:D$475,2,FALSE),\"\")","v":""},{"$nulls":3},{"$f":"IF(J238>0,VLOOKUP(J238,' code comptes '!$A$1:$C$148,3),\"\")","v":""},null,{"v":0,"d":"0.00"},""]
[{"$nulls":6},{"$f":"IF(H239<>\"\",VLOOKUP(H239,Codes!C$1:D$475,2,FALSE),\"\")","v":""},{"$nulls":3},{"$f":"IF(J239>0,VLOOKUP(J239,' code comptes '!$A$1:$C$148,3),\"\")","v":""},null,{"v":0,"d":"0.00"},""]
[{"$nulls":6},{"$f":"IF(H240<>\"\",VLOOKUP(H240,Codes!C$1:D$475,2,FALSE),\"\")","v":""},{"$nulls":3},{"$f":"IF(J240>0,VLOOKUP(J240,' code comptes '!$A$1:$C$148,3),\"\")","v":""},null,{"v":0,"d":"0.00"},""]
[{"$nulls":6},{"$f":"IF(H241<>\"\",VLOOKUP(H241,Codes!C$1:D$475,2,FALSE),\"\")","v":""},{"$nulls":3},{"$f":"IF(J241>0,VLOOKUP(J241,' code comptes '!$A$1:$C$148,3),\"\")","v":""},null,{"v":0,"d":"0.00"},""]
[{"$nulls":6},{"$f":"IF(H242<>\"\",VLOOKUP(H242,Codes!C$1:D$475,2,FALSE),\"\")","v":""},{"$nulls":3},{"$f":"IF(J242>0,VLOOKUP(J242,' code comptes '!$A$1:$C$148,3),\"\")","v":""},null,{"v":0,"d":"0.00"},""]
[{"$nulls":6},{"$f":"IF(H243<>\"\",VLOOKUP(H243,Codes!C$1:D$475,2,FALSE),\"\")","v":""},{"$nulls":3},{"$f":"IF(J243>0,VLOOKUP(J243,' code comptes '!$A$1:$C$148,3),\"\")","v":""},null,{"v":0,"d":"0.00"},""]
[{"$nulls":6},{"$f":"IF(H244<>\"\",VLOOKUP(H244,Codes!C$1:D$475,2,FALSE),\"\")","v":""},{"$nulls":3},{"$f":"IF(J244>0,VLOOKUP(J244,' code comptes '!$A$1:$C$148,3),\"\")","v":""},null,{"v":0,"d":"0.00"},""]
[{"$nulls":6},{"$f":"IF(H245<>\"\",VLOOKUP(H245,Codes!C$1:D$475,2,FALSE),\"\")","v":""},{"$nulls":3},{"$f":"IF(J245>0,VLOOKUP(J245,' code comptes '!$A$1:$C$148,3),\"\")","v":""},null,{"v":0,"d":"0.00"},""]
[{"$nulls":6},{"$f":"IF(H246<>\"\",VLOOKUP(H246,Codes!C$1:D$475,2,FALSE),\"\")","v":""},{"$nulls":3},{"$f":"IF(J246>0,VLOOKUP(J246,' code comptes '!$A$1:$C$148,3),\"\")","v":""},null,{"v":0,"d":"0.00"},""]
[{"$nulls":6},{"$f":"IF(H247<>\"\",VLOOKUP(H247,Codes!C$1:D$475,2,FALSE),\"\")","v":""},{"$nulls":3},{"$f":"IF(J247>0,VLOOKUP(J247,' code comptes '!$A$1:$C$148,3),\"\")","v":""},null,{"v":0,"d":"0.00"},""]
[{"$nulls":6},{"$f":"IF(H248<>\"\",VLOOKUP(H248,Codes!C$1:D$475,2,FALSE),\"\")","v":""},{"$nulls":3},{"$f":"IF(J248>0,VLOOKUP(J248,' code comptes '!$A$1:$C$148,3),\"\")","v":""},null,{"v":0,"d":"0.00"},""]
[{"$nulls":6},{"$f":"IF(H249<>\"\",VLOOKUP(H249,Codes!C$1:D$475,2,FALSE),\"\")","v":""},{"$nulls":3},{"$f":"IF(J249>0,VLOOKUP(J249,' code comptes '!$A$1:$C$148,3),\"\")","v":""},null,{"v":0,"d":"0.00"},""]
[{"$nulls":6},{"$f":"IF(H250<>\"\",VLOOKUP(H250,Codes!C$1:D$475,2,FALSE),\"\")","v":""},{"$nulls":3},{"$f":"IF(J250>0,VLOOKUP(J250,' code comptes '!$A$1:$C$148,3),\"\")","v":""},null,{"v":0,"d":"0.00"},""]
[{"$nulls":6},{"$f":"IF(H251<>\"\",VLOOKUP(H251,Codes!C$1:D$475,2,FALSE),\"\")","v":""},{"$nulls":3},{"$f":"IF(J251>0,VLOOKUP(J251,' code comptes '!$A$1:$C$148,3),\"\")","v":""},null,{"v":0,"d":"0.00"},""]
[{"$nulls":6},{"$f":"IF(H252<>\"\",VLOOKUP(H252,Codes!C$1:D$475,2,FALSE),\"\")","v":""},{"$nulls":3},{"$f":"IF(J252>0,VLOOKUP(J252,' code comptes '!$A$1:$C$148,3),\"\")","v":""},null,{"v":0,"d":"0.00"},""]
[{"$nulls":6},{"$f":"IF(H253<>\"\",VLOOKUP(H253,Codes!C$1:D$475,2,FALSE),\"\")","v":""},{"$nulls":3},{"$f":"IF(J253>0,VLOOKUP(J253,' code comptes '!$A$1:$C$148,3),\"\")","v":""},null,{"v":0,"d":"0.00"},""]
[{"$nulls":6},{"$f":"IF(H254<>\"\",VLOOKUP(H254,Codes!C$1:D$475,2,FALSE),\"\")","v":""},{"$nulls":3},{"$f":"IF(J254>0,VLOOKUP(J254,' code comptes '!$A$1:$C$148,3),\"\")","v":""},null,{"v":0,"d":"0.00"},""]
[{"$nulls":6},{"$f":"IF(H255<>\"\",VLOOKUP(H255,Codes!C$1:D$475,2,FALSE),\"\")","v":""},{"$nulls":3},{"$f":"IF(J255>0,VLOOKUP(J255,' code comptes '!$A$1:$C$148,3),\"\")","v":""},null,{"v":0,"d":"0.00"},""]
[{"$nulls":6},{"$f":"IF(H256<>\"\",VLOOKUP(H256,Codes!C$1:D$475,2,FALSE),\"\")","v":""},{"$nulls":3},{"$f":"IF(J256>0,VLOOKUP(J256,' code comptes '!$A$1:$C$148,3),\"\")","v":""},null,{"v":0,"d":"0.00"},""]
[{"$nulls":6},{"$f":"IF(H257<>\"\",VLOOKUP(H257,Codes!C$1:D$475,2,FALSE),\"\")","v":""},{"$nulls":3},{"$f":"IF(J257>0,VLOOKUP(J257,' code comptes '!$A$1:$C$148,3),\"\")","v":""},null,{"$f":"D256","v":{"v":0,"d":"0.00"}},{"$f":"+CONCATENATE(G256,H256)","v":""}]
[{"$nulls":6},{"$f":"IF(H258<>\"\",VLOOKUP(H258,Codes!C$1:D$475,2,FALSE),\"\")","v":""},{"$nulls":3},{"$f":"IF(J258>0,VLOOKUP(J258,' code comptes '!$A$1:$C$148,3),\"\")","v":""},null,{"v":0,"d":"0.00"},""]
[{"$nulls":6},{"$f":"IF(H259<>\"\",VLOOKUP(H259,Codes!C$1:D$475,2,FALSE),\"\")","v":""},{"$nulls":3},{"$f":"IF(J259>0,VLOOKUP(J259,' code comptes '!$A$1:$C$148,3),\"\")","v":""},null,{"v":0,"d":"0.00"},""]
[{"$nulls":6},{"$f":"IF(H260<>\"\",VLOOKUP(H260,Codes!C$1:D$475,2,FALSE),\"\")","v":""},{"$nulls":3},{"$f":"IF(J260>0,VLOOKUP(J260,' code comptes '!$A$1:$C$148,3),\"\")","v":""},null,{"v":0,"d":"0.00"},""]
[{"$nulls":6},{"$f":"IF(H261<>\"\",VLOOKUP(H261,Codes!C$1:D$475,2,FALSE),\"\")","v":""},{"$nulls":3},{"$f":"IF(J261>0,VLOOKUP(J261,' code comptes '!$A$1:$C$148,3),\"\")","v":""},null,{"v":0,"d":"0.00"},""]
[{"$nulls":6},{"$f":"IF(H262<>\"\",VLOOKUP(H262,Codes!C$1:D$475,2,FALSE),\"\")","v":""},{"$nulls":3},{"$f":"IF(J262>0,VLOOKUP(J262,' code comptes '!$A$1:$C$148,3),\"\")","v":""},null,{"v":0,"d":"0.00"},""]
[{"$nulls":6},{"$f":"IF(H263<>\"\",VLOOKUP(H263,Codes!C$1:D$475,2,FALSE),\"\")","v":""},{"$nulls":3},{"$f":"IF(J263>0,VLOOKUP(J263,' code comptes '!$A$1:$C$148,3),\"\")","v":""},null,{"v":0,"d":"0.00"},""]
[{"$nulls":6},{"$f":"IF(H264<>\"\",VLOOKUP(H264,Codes!C$1:D$475,2,FALSE),\"\")","v":""},{"$nulls":3},{"$f":"IF(J264>0,VLOOKUP(J264,' code comptes '!$A$1:$C$148,3),\"\")","v":""},null,{"v":0,"d":"0.00"},""]
[{"$nulls":6},{"$f":"IF(H265<>\"\",VLOOKUP(H265,Codes!C$1:D$475,2,FALSE),\"\")","v":""},{"$nulls":3},{"$f":"IF(J265>0,VLOOKUP(J265,' code comptes '!$A$1:$C$148,3),\"\")","v":""},null,{"v":0,"d":"0.00"},""]
[{"$nulls":6},{"$f":"IF(H266<>\"\",VLOOKUP(H266,Codes!C$1:D$475,2,FALSE),\"\")","v":""},{"$nulls":3},{"$f":"IF(J266>0,VLOOKUP(J266,' code comptes '!$A$1:$C$148,3),\"\")","v":""},null,{"v":0,"d":"0.00"},""]
[{"$nulls":6},{"$f":"IF(H267<>\"\",VLOOKUP(H267,Codes!C$1:D$475,2,FALSE),\"\")","v":""},{"$nulls":3},{"$f":"IF(J267>0,VLOOKUP(J267,' code comptes '!$A$1:$C$148,3),\"\")","v":""},null,{"v":0,"d":"0.00"},""]
[{"$nulls":6},{"$f":"IF(H268<>\"\",VLOOKUP(H268,Codes!C$1:D$475,2,FALSE),\"\")","v":""},{"$nulls":3},{"$f":"IF(J268>0,VLOOKUP(J268,' code comptes '!$A$1:$C$148,3),\"\")","v":""},null,{"v":0,"d":"0.00"},""]
[{"$nulls":6},{"$f":"IF(H269<>\"\",VLOOKUP(H269,Codes!C$1:D$475,2,FALSE),\"\")","v":""},{"$nulls":3},{"$f":"IF(J269>0,VLOOKUP(J269,' code comptes '!$A$1:$C$148,3),\"\")","v":""},null,{"v":0,"d":"0.00"},""]
[{"$nulls":6},{"$f":"IF(H270<>\"\",VLOOKUP(H270,Codes!C$1:D$475,2,FALSE),\"\")","v":""},{"$nulls":3},{"$f":"IF(J270>0,VLOOKUP(J270,' code comptes '!$A$1:$C$148,3),\"\")","v":""},null,{"v":0,"d":"0.00"},""]
[{"$nulls":6},{"$f":"IF(H271<>\"\",VLOOKUP(H271,Codes!C$1:D$475,2,FALSE),\"\")","v":""},{"$nulls":3},{"$f":"IF(J271>0,VLOOKUP(J271,' code comptes '!$A$1:$C$148,3),\"\")","v":""},null,{"v":0,"d":"0.00"},""]
[{"$nulls":6},{"$f":"IF(H272<>\"\",VLOOKUP(H272,Codes!C$1:D$475,2,FALSE),\"\")","v":""},{"$nulls":3},{"$f":"IF(J272>0,VLOOKUP(J272,' code comptes '!$A$1:$C$148,3),\"\")","v":""},null,{"v":0,"d":"0.00"},""]
[{"$nulls":6},{"$f":"IF(H273<>\"\",VLOOKUP(H273,Codes!C$1:D$475,2,FALSE),\"\")","v":""},{"$nulls":3},{"$f":"IF(J273>0,VLOOKUP(J273,' code comptes '!$A$1:$C$148,3),\"\")","v":""},null,{"v":0,"d":"0.00"},""]
[{"$nulls":6},{"$f":"IF(H274<>\"\",VLOOKUP(H274,Codes!C$1:D$475,2,FALSE),\"\")","v":""},{"$nulls":3},{"$f":"IF(J274>0,VLOOKUP(J274,' code comptes '!$A$1:$C$148,3),\"\")","v":""},null,{"v":0,"d":"0.00"},""]
[{"$nulls":6},{"$f":"IF(H275<>\"\",VLOOKUP(H275,Codes!C$1:D$475,2,FALSE),\"\")","v":""},{"$nulls":3},{"$f":"IF(J275>0,VLOOKUP(J275,' code comptes '!$A$1:$C$148,3),\"\")","v":""},null,{"v":0,"d":"0.00"},""]
[{"$nulls":6},{"$f":"IF(H276<>\"\",VLOOKUP(H276,Codes!C$1:D$475,2,FALSE),\"\")","v":""},{"$nulls":3},{"$f":"IF(J276>0,VLOOKUP(J276,' code comptes '!$A$1:$C$148,3),\"\")","v":""},null,{"v":0,"d":"0.00"},""]
[{"$nulls":6},{"$f":"IF(H277<>\"\",VLOOKUP(H277,Codes!C$1:D$475,2,FALSE),\"\")","v":""},{"$nulls":3},{"$f":"IF(J277>0,VLOOKUP(J277,' code comptes '!$A$1:$C$148,3),\"\")","v":""},null,{"v":0,"d":"0.00"},""]
[{"$nulls":6},{"$f":"IF(H278<>\"\",VLOOKUP(H278,Codes!C$1:D$475,2,FALSE),\"\")","v":""},{"$nulls":3},{"$f":"IF(J278>0,VLOOKUP(J278,' code comptes '!$A$1:$C$148,3),\"\")","v":""},null,{"v":0,"d":"0.00"},""]
[{"$nulls":6},{"$f":"IF(H279<>\"\",VLOOKUP(H279,Codes!C$1:D$475,2,FALSE),\"\")","v":""},{"$nulls":3},{"$f":"IF(J279>0,VLOOKUP(J279,' code comptes '!$A$1:$C$148,3),\"\")","v":""},null,{"v":0,"d":"0.00"},""]
[{"$nulls":6},{"$f":"IF(H280<>\"\",VLOOKUP(H280,Codes!C$1:D$475,2,FALSE),\"\")","v":""},{"$nulls":3},{"$f":"IF(J280>0,VLOOKUP(J280,' code comptes '!$A$1:$C$148,3),\"\")","v":""},null,{"v":0,"d":"0.00"},""]
[{"$nulls":6},{"$f":"IF(H281<>\"\",VLOOKUP(H281,Codes!C$1:D$475,2,FALSE),\"\")","v":""}]
[{"$nulls":6},{"$f":"IF(H282<>\"\",VLOOKUP(H282,Codes!C$1:D$475,2,FALSE),\"\")","v":""}]
[{"$nulls":6},{"$f":"IF(H283<>\"\",VLOOKUP(H283,Codes!C$1:D$475,2,FALSE),\"\")","v":""}]
[{"$nulls":6},{"$f":"IF(H284<>\"\",VLOOKUP(H284,Codes!C$1:D$475,2,FALSE),\"\")","v":""}]
[{"$nulls":6},{"$f":"IF(H285<>\"\",VLOOKUP(H285,Codes!C$1:D$475,2,FALSE),\"\")","v":""}]
[{"$nulls":6},{"$f":"IF(H286<>\"\",VLOOKUP(H286,Codes!C$1:D$475,2,FALSE),\"\")","v":""}]
[{"$nulls":6},{"$f":"IF(H287<>\"\",VLOOKUP(H287,Codes!C$1:D$475,2,FALSE),\"\")","v":""}]
[{"$nulls":6},{"$f":"IF(H288<>\"\",VLOOKUP(H288,Codes!C$1:D$475,2,FALSE),\"\")","v":""}]
[{"$nulls":6},{"$f":"IF(H289<>\"\",VLOOKUP(H289,Codes!C$1:D$475,2,FALSE),\"\")","v":""}]
[{"$nulls":6},{"$f":"IF(H290<>\"\",VLOOKUP(H290,Codes!C$1:D$475,2,FALSE),\"\")","v":""}]
[{"$nulls":6},{"$f":"IF(H291<>\"\",VLOOKUP(H291,Codes!C$1:D$475,2,FALSE),\"\")","v":""}]
[{"$nulls":6},{"$f":"IF(H292<>\"\",VLOOKUP(H292,Codes!C$1:D$475,2,FALSE),\"\")","v":""}]
[{"$nulls":6},{"$f":"IF(H293<>\"\",VLOOKUP(H293,Codes!C$1:D$475,2,FALSE),\"\")","v":""}]
[{"$nulls":6},{"$f":"IF(H294<>\"\",VLOOKUP(H294,Codes!C$1:D$475,2,FALSE),\"\")","v":""}]
[{"$nulls":6},{"$f":"IF(H295<>\"\",VLOOKUP(H295,Codes!C$1:D$475,2,FALSE),\"\")","v":""}]
[{"$nulls":6},{"$f":"IF(H296<>\"\",VLOOKUP(H296,Codes!C$1:D$475,2,FALSE),\"\")","v":""}]
[{"$nulls":6},{"$f":"IF(H297<>\"\",VLOOKUP(H297,Codes!C$1:D$475,2,FALSE),\"\")","v":""}]
[{"$nulls":6},{"$f":"IF(H298<>\"\",VLOOKUP(H298,Codes!C$1:D$475,2,FALSE),\"\")","v":""}]
[{"$nulls":6},{"$f":"IF(H299<>\"\",VLOOKUP(H299,Codes!C$1:D$475,2,FALSE),\"\")","v":""}]
[{"$nulls":6},{"$f":"IF(H300<>\"\",VLOOKUP(H300,Codes!C$1:D$475,2,FALSE),\"\")","v":""}]
[{"$nulls":6},{"$f":"IF(H301<>\"\",VLOOKUP(H301,Codes!C$1:D$475,2,FALSE),\"\")","v":""}]
[{"$nulls":6},{"$f":"IF(H302<>\"\",VLOOKUP(H302,Codes!C$1:D$475,2,FALSE),\"\")","v":""}]
[{"$nulls":6},{"$f":"IF(H303<>\"\",VLOOKUP(H303,Codes!C$1:D$475,2,FALSE),\"\")","v":""}]
[{"$nulls":6},{"$f":"IF(H304<>\"\",VLOOKUP(H304,Codes!C$1:D$475,2,FALSE),\"\")","v":""}]
[{"$nulls":6},{"$f":"IF(H305<>\"\",VLOOKUP(H305,Codes!C$1:D$475,2,FALSE),\"\")","v":""}]
[{"$nulls":6},{"$f":"IF(H306<>\"\",VLOOKUP(H306,Codes!C$1:D$475,2,FALSE),\"\")","v":""}]
[{"$nulls":6},{"$f":"IF(H307<>\"\",VLOOKUP(H307,Codes!C$1:D$475,2,FALSE),\"\")","v":""}]
[{"$nulls":6},{"$f":"IF(H308<>\"\",VLOOKUP(H308,Codes!C$1:D$475,2,FALSE),\"\")","v":""}]
[{"$nulls":6},{"$f":"IF(H309<>\"\",VLOOKUP(H309,Codes!C$1:D$475,2,FALSE),\"\")","v":""}]
[{"$nulls":6},{"$f":"IF(H310<>\"\",VLOOKUP(H310,Codes!C$1:D$475,2,FALSE),\"\")","v":""}]
[{"$nulls":6},{"$f":"IF(H311<>\"\",VLOOKUP(H311,Codes!C$1:D$475,2,FALSE),\"\")","v":""}]
[{"$nulls":6},{"$f":"IF(H312<>\"\",VLOOKUP(H312,Codes!C$1:D$475,2,FALSE),\"\")","v":""}]
[{"$nulls":6},{"$f":"IF(H313<>\"\",VLOOKUP(H313,Codes!C$1:D$475,2,FALSE),\"\")","v":""}]
[{"$nulls":6},{"$f":"IF(H314<>\"\",VLOOKUP(H314,Codes!C$1:D$475,2,FALSE),\"\")","v":""}]
[{"$nulls":6},{"$f":"IF(H315<>\"\",VLOOKUP(H315,Codes!C$1:D$475,2,FALSE),\"\")","v":""}]
[{"$nulls":6},{"$f":"IF(H316<>\"\",VLOOKUP(H316,Codes!C$1:D$475,2,FALSE),\"\")","v":""}]
[{"$nulls":6},{"$f":"IF(H317<>\"\",VLOOKUP(H317,Codes!C$1:D$475,2,FALSE),\"\")","v":""}]
[{"$nulls":6},{"$f":"IF(H318<>\"\",VLOOKUP(H318,Codes!C$1:D$475,2,FALSE),\"\")","v":""}]
[{"$nulls":6},{"$f":"IF(H319<>\"\",VLOOKUP(H319,Codes!C$1:D$475,2,FALSE),\"\")","v":""}]
[{"$nulls":6},{"$f":"IF(H320<>\"\",VLOOKUP(H320,Codes!C$1:D$475,2,FALSE),\"\")","v":""}]
[{"$nulls":6},{"$f":"IF(H321<>\"\",VLOOKUP(H321,Codes!C$1:D$475,2,FALSE),\"\")","v":""}]
[{"$nulls":6},{"$f":"IF(H322<>\"\",VLOOKUP(H322,Codes!C$1:D$475,2,FALSE),\"\")","v":""}]
[{"$nulls":6},{"$f":"IF(H323<>\"\",VLOOKUP(H323,Codes!C$1:D$475,2,FALSE),\"\")","v":""}]
[{"$nulls":6},{"$f":"IF(H324<>\"\",VLOOKUP(H324,Codes!C$1:D$475,2,FALSE),\"\")","v":""}]
[{"$nulls":6},{"$f":"IF(H325<>\"\",VLOOKUP(H325,Codes!C$1:D$475,2,FALSE),\"\")","v":""}]
[{"$nulls":6},{"$f":"IF(H326<>\"\",VLOOKUP(H326,Codes!C$1:D$475,2,FALSE),\"\")","v":""}]
[{"$nulls":6},{"$f":"IF(H327<>\"\",VLOOKUP(H327,Codes!C$1:D$475,2,FALSE),\"\")","v":""}]
[{"$nulls":6},{"$f":"IF(H328<>\"\",VLOOKUP(H328,Codes!C$1:D$475,2,FALSE),\"\")","v":""}]
[{"$nulls":6},{"$f":"IF(H329<>\"\",VLOOKUP(H329,Codes!C$1:D$475,2,FALSE),\"\")","v":""}]
[{"$nulls":6},{"$f":"IF(H330<>\"\",VLOOKUP(H330,Codes!C$1:D$475,2,FALSE),\"\")","v":""}]
[{"$nulls":6},{"$f":"IF(H331<>\"\",VLOOKUP(H331,Codes!C$1:D$475,2,FALSE),\"\")","v":""}]
[{"$nulls":6},{"$f":"IF(H332<>\"\",VLOOKUP(H332,Codes!C$1:D$475,2,FALSE),\"\")","v":""}]
[{"$nulls":6},{"$f":"IF(H333<>\"\",VLOOKUP(H333,Codes!C$1:D$475,2,FALSE),\"\")","v":""}]
[{"$nulls":6},{"$f":"IF(H334<>\"\",VLOOKUP(H334,Codes!C$1:D$475,2,FALSE),\"\")","v":""}]
[{"$nulls":6},{"$f":"IF(H335<>\"\",VLOOKUP(H335,Codes!C$1:D$475,2,FALSE),\"\")","v":""}]
[{"$nulls":6},{"$f":"IF(H336<>\"\",VLOOKUP(H336,Codes!C$1:D$475,2,FALSE),\"\")","v":""}]
[{"$nulls":6},{"$f":"IF(H337<>\"\",VLOOKUP(H337,Codes!C$1:D$475,2,FALSE),\"\")","v":""}]
[{"$nulls":6},{"$f":"IF(H338<>\"\",VLOOKUP(H338,Codes!C$1:D$475,2,FALSE),\"\")","v":""}]
[{"$nulls":6},{"$f":"IF(H339<>\"\",VLOOKUP(H339,Codes!C$1:D$475,2,FALSE),\"\")","v":""}]
[{"$nulls":6},{"$f":"IF(H340<>\"\",VLOOKUP(H340,Codes!C$1:D$475,2,FALSE),\"\")","v":""}]
[{"$nulls":6},{"$f":"IF(H341<>\"\",VLOOKUP(H341,Codes!C$1:D$475,2,FALSE),\"\")","v":""}]
[{"$nulls":6},{"$f":"IF(H342<>\"\",VLOOKUP(H342,Codes!C$1:D$475,2,FALSE),\"\")","v":""}]
[{"$nulls":6},{"$f":"IF(H343<>\"\",VLOOKUP(H343,Codes!C$1:D$475,2,FALSE),\"\")","v":""}]
[{"$nulls":6},{"$f":"IF(H344<>\"\",VLOOKUP(H344,Codes!C$1:D$475,2,FALSE),\"\")","v":""}]
[{"$nulls":6},{"$f":"IF(H345<>\"\",VLOOKUP(H345,Codes!C$1:D$475,2,FALSE),\"\")","v":""}]
[{"$nulls":6},{"$f":"IF(H346<>\"\",VLOOKUP(H346,Codes!C$1:D$475,2,FALSE),\"\")","v":""}]
[{"$nulls":6},{"$f":"IF(H347<>\"\",VLOOKUP(H347,Codes!C$1:D$475,2,FALSE),\"\")","v":""}]
[{"$nulls":6},{"$f":"IF(H348<>\"\",VLOOKUP(H348,Codes!C$1:D$475,2,FALSE),\"\")","v":""}]
[{"$nulls":6},{"$f":"IF(H349<>\"\",VLOOKUP(H349,Codes!C$1:D$475,2,FALSE),\"\")","v":""}]
[{"$nulls":6},{"$f":"IF(H350<>\"\",VLOOKUP(H350,Codes!C$1:D$475,2,FALSE),\"\")","v":""}]
[{"$nulls":6},{"$f":"IF(H351<>\"\",VLOOKUP(H351,Codes!C$1:D$475,2,FALSE),\"\")","v":""}]
[{"$nulls":6},{"$f":"IF(H352<>\"\",VLOOKUP(H352,Codes!C$1:D$475,2,FALSE),\"\")","v":""}]
[{"$nulls":6},{"$f":"IF(H353<>\"\",VLOOKUP(H353,Codes!C$1:D$475,2,FALSE),\"\")","v":""}]
[{"$nulls":6},{"$f":"IF(H354<>\"\",VLOOKUP(H354,Codes!C$1:D$475,2,FALSE),\"\")","v":""}]
[{"$nulls":6},{"$f":"IF(H355<>\"\",VLOOKUP(H355,Codes!C$1:D$475,2,FALSE),\"\")","v":""}]
[{"$nulls":6},{"$f":"IF(H356<>\"\",VLOOKUP(H356,Codes!C$1:D$475,2,FALSE),\"\")","v":""}]
[{"$nulls":6},{"$f":"IF(H357<>\"\",VLOOKUP(H357,Codes!C$1:D$475,2,FALSE),\"\")","v":""}]
[{"$nulls":6},{"$f":"IF(H358<>\"\",VLOOKUP(H358,Codes!C$1:D$475,2,FALSE),\"\")","v":""}]
[{"$nulls":6},{"$f":"IF(H359<>\"\",VLOOKUP(H359,Codes!C$1:D$475,2,FALSE),\"\")","v":""}]
[{"$nulls":6},{"$f":"IF(H360<>\"\",VLOOKUP(H360,Codes!C$1:D$475,2,FALSE),\"\")","v":""}]
[{"$nulls":6},{"$f":"IF(H361<>\"\",VLOOKUP(H361,Codes!C$1:D$475,2,FALSE),\"\")","v":""}]
[{"$nulls":6},{"$f":"IF(H362<>\"\",VLOOKUP(H362,Codes!C$1:D$475,2,FALSE),\"\")","v":""}]
[{"$nulls":6},{"$f":"IF(H363<>\"\",VLOOKUP(H363,Codes!C$1:D$475,2,FALSE),\"\")","v":""}]
[{"$nulls":6},{"$f":"IF(H364<>\"\",VLOOKUP(H364,Codes!C$1:D$475,2,FALSE),\"\")","v":""}]
[{"$nulls":6},{"$f":"IF(H365<>\"\",VLOOKUP(H365,Codes!C$1:D$475,2,FALSE),\"\")","v":""}]
[{"$nulls":6},{"$f":"IF(H366<>\"\",VLOOKUP(H366,Codes!C$1:D$475,2,FALSE),\"\")","v":""}]
[{"$nulls":6},{"$f":"IF(H367<>\"\",VLOOKUP(H367,Codes!C$1:D$475,2,FALSE),\"\")","v":""}]
[{"$nulls":6},{"$f":"IF(H368<>\"\",VLOOKUP(H368,Codes!C$1:D$475,2,FALSE),\"\")","v":""}]
[{"$nulls":6},{"$f":"IF(H369<>\"\",VLOOKUP(H369,Codes!C$1:D$475,2,FALSE),\"\")","v":""}]
[{"$nulls":6},{"$f":"IF(H370<>\"\",VLOOKUP(H370,Codes!C$1:D$475,2,FALSE),\"\")","v":""}]
[{"$nulls":6},{"$f":"IF(H371<>\"\",VLOOKUP(H371,Codes!C$1:D$475,2,FALSE),\"\")","v":""}]
[{"$nulls":6},{"$f":"IF(H372<>\"\",VLOOKUP(H372,Codes!C$1:D$475,2,FALSE),\"\")","v":""}]
[{"$nulls":6},{"$f":"IF(H373<>\"\",VLOOKUP(H373,Codes!C$1:D$475,2,FALSE),\"\")","v":""}]
[{"$nulls":6},{"$f":"IF(H374<>\"\",VLOOKUP(H374,Codes!C$1:D$475,2,FALSE),\"\")","v":""}]
[{"$nulls":6},{"$f":"IF(H375<>\"\",VLOOKUP(H375,Codes!C$1:D$475,2,FALSE),\"\")","v":""}]
[{"$nulls":6},{"$f":"IF(H376<>\"\",VLOOKUP(H376,Codes!C$1:D$475,2,FALSE),\"\")","v":""}]
[{"$nulls":6},{"$f":"IF(H377<>\"\",VLOOKUP(H377,Codes!C$1:D$475,2,FALSE),\"\")","v":""}]
[{"$nulls":6},{"$f":"IF(H378<>\"\",VLOOKUP(H378,Codes!C$1:D$475,2,FALSE),\"\")","v":""}]
[{"$nulls":6},{"$f":"IF(H379<>\"\",VLOOKUP(H379,Codes!C$1:D$475,2,FALSE),\"\")","v":""}]
[{"$nulls":6},{"$f":"IF(H380<>\"\",VLOOKUP(H380,Codes!C$1:D$475,2,FALSE),\"\")","v":""}]
[{"$nulls":6},{"$f":"IF(H381<>\"\",VLOOKUP(H381,Codes!C$1:D$475,2,FALSE),\"\")","v":""}]
[{"$nulls":6},{"$f":"IF(H382<>\"\",VLOOKUP(H382,Codes!C$1:D$475,2,FALSE),\"\")","v":""}]
[{"$nulls":6},{"$f":"IF(H383<>\"\",VLOOKUP(H383,Codes!C$1:D$475,2,FALSE),\"\")","v":""}]
[{"$nulls":6},{"$f":"IF(H384<>\"\",VLOOKUP(H384,Codes!C$1:D$475,2,FALSE),\"\")","v":""}]
[{"$nulls":6},{"$f":"IF(H385<>\"\",VLOOKUP(H385,Codes!C$1:D$475,2,FALSE),\"\")","v":""}]
[{"$nulls":6},{"$f":"IF(H386<>\"\",VLOOKUP(H386,Codes!C$1:D$475,2,FALSE),\"\")","v":""}]
[{"$nulls":6},{"$f":"IF(H387<>\"\",VLOOKUP(H387,Codes!C$1:D$475,2,FALSE),\"\")","v":""},{"$nulls":3},{"$f":"IF(J387>0,VLOOKUP(J387,' code comptes '!$A$1:$C$148,3),\"\")","v":""},null,{"$f":"D280","v":{"v":0,"d":"0.00"}},{"$f":"+CONCATENATE(G280,H280)","v":""}]
[{"$nulls":6},{"$f":"IF(H388<>\"\",VLOOKUP(H388,Codes!C$1:D$475,2,FALSE),\"\")","v":""},{"$nulls":3},{"$f":"IF(J388>0,VLOOKUP(J388,' code comptes '!$A$1:$C$148,3),\"\")","v":""},null,{"v":0,"d":"0.00"},""]
[{"$nulls":6},{"$f":"IF(H389<>\"\",VLOOKUP(H389,Codes!C$1:D$475,2,FALSE),\"\")","v":""},{"$nulls":3},{"$f":"IF(J389>0,VLOOKUP(J389,' code comptes '!$A$1:$C$148,3),\"\")","v":""},null,{"v":0,"d":"0.00"},""]
[{"$nulls":6},{"$f":"IF(H390<>\"\",VLOOKUP(H390,Codes!C$1:D$475,2,FALSE),\"\")","v":""},{"$nulls":3},{"$f":"IF(J390>0,VLOOKUP(J390,' code comptes '!$A$1:$C$148,3),\"\")","v":""},null,{"v":0,"d":"0.00"},""]
[{"$nulls":6},{"$f":"IF(H391<>\"\",VLOOKUP(H391,Codes!C$1:D$475,2,FALSE),\"\")","v":""},{"$nulls":3},{"$f":"IF(J391>0,VLOOKUP(J391,' code comptes '!$A$1:$C$148,3),\"\")","v":""},null,{"v":0,"d":"0.00"},""]
[{"$nulls":6},{"$f":"IF(H392<>\"\",VLOOKUP(H392,Codes!C$1:D$475,2,FALSE),\"\")","v":""},{"$nulls":3},{"$f":"IF(J392>0,VLOOKUP(J392,' code comptes '!$A$1:$C$148,3),\"\")","v":""},null,{"v":0,"d":"0.00"},""]
[{"$nulls":6},{"$f":"IF(H393<>\"\",VLOOKUP(H393,Codes!C$1:D$475,2,FALSE),\"\")","v":""},{"$nulls":3},{"$f":"IF(J393>0,VLOOKUP(J393,' code comptes '!$A$1:$C$148,3),\"\")","v":""},null,{"v":0,"d":"0.00"},""]
[{"$nulls":6},{"$f":"IF(H394<>\"\",VLOOKUP(H394,Codes!C$1:D$475,2,FALSE),\"\")","v":""},{"$nulls":3},{"$f":"IF(J394>0,VLOOKUP(J394,' code comptes '!$A$1:$C$148,3),\"\")","v":""},null,{"v":0,"d":"0.00"},""]
[{"$nulls":6},{"$f":"IF(H395<>\"\",VLOOKUP(H395,Codes!C$1:D$475,2,FALSE),\"\")","v":""},{"$nulls":3},{"$f":"IF(J395>0,VLOOKUP(J395,' code comptes '!$A$1:$C$148,3),\"\")","v":""},null,{"v":0,"d":"0.00"},""]
[{"$nulls":6},{"$f":"IF(H396<>\"\",VLOOKUP(H396,Codes!C$1:D$475,2,FALSE),\"\")","v":""},{"$nulls":3},{"$f":"IF(J396>0,VLOOKUP(J396,' code comptes '!$A$1:$C$148,3),\"\")","v":""},null,{"v":0,"d":"0.00"},""]
[{"$nulls":6},{"$f":"IF(H397<>\"\",VLOOKUP(H397,Codes!C$1:D$475,2,FALSE),\"\")","v":""},{"$nulls":3},{"$f":"IF(J397>0,VLOOKUP(J397,' code comptes '!$A$1:$C$148,3),\"\")","v":""},null,{"v":0,"d":"0.00"},""]
[{"$nulls":6},{"$f":"IF(H398<>\"\",VLOOKUP(H398,Codes!C$1:D$475,2,FALSE),\"\")","v":""},{"$nulls":3},{"$f":"IF(J398>0,VLOOKUP(J398,' code comptes '!$A$1:$C$148,3),\"\")","v":""},null,{"v":0,"d":"0.00"},""]
[{"$nulls":6},{"$f":"IF(H399<>\"\",VLOOKUP(H399,Codes!C$1:D$475,2,FALSE),\"\")","v":""},{"$nulls":3},{"$f":"IF(J399>0,VLOOKUP(J399,' code comptes '!$A$1:$C$148,3),\"\")","v":""},null,{"v":0,"d":"0.00"},""]
[{"$nulls":6},{"$f":"IF(H400<>\"\",VLOOKUP(H400,Codes!C$1:D$475,2,FALSE),\"\")","v":""},{"$nulls":3},{"$f":"IF(J400>0,VLOOKUP(J400,' code comptes '!$A$1:$C$148,3),\"\")","v":""},null,{"v":0,"d":"0.00"},""]
[{"$nulls":6},{"$f":"IF(H401<>\"\",VLOOKUP(H401,Codes!C$1:D$475,2,FALSE),\"\")","v":""},{"$nulls":3},{"$f":"IF(J401>0,VLOOKUP(J401,' code comptes '!$A$1:$C$148,3),\"\")","v":""},null,{"v":0,"d":"0.00"},""]
[{"$nulls":6},{"$f":"IF(H402<>\"\",VLOOKUP(H402,Codes!C$1:D$475,2,FALSE),\"\")","v":""},{"$nulls":3},{"$f":"IF(J402>0,VLOOKUP(J402,' code comptes '!$A$1:$C$148,3),\"\")","v":""},null,{"v":0,"d":"0.00"},""]
[{"$nulls":6},{"$f":"IF(H403<>\"\",VLOOKUP(H403,Codes!C$1:D$475,2,FALSE),\"\")","v":""},{"$nulls":3},{"$f":"IF(J403>0,VLOOKUP(J403,' code comptes '!$A$1:$C$148,3),\"\")","v":""},null,{"v":0,"d":"0.00"},""]
[{"$nulls":6},{"$f":"IF(H404<>\"\",VLOOKUP(H404,Codes!C$1:D$475,2,FALSE),\"\")","v":""},{"$nulls":3},{"$f":"IF(J404>0,VLOOKUP(J404,' code comptes '!$A$1:$C$148,3),\"\")","v":""},null,{"v":0,"d":"0.00"},""]
[{"$nulls":6},{"$f":"IF(H405<>\"\",VLOOKUP(H405,Codes!C$1:D$475,2,FALSE),\"\")","v":""},{"$nulls":3},{"$f":"IF(J405>0,VLOOKUP(J405,' code comptes '!$A$1:$C$148,3),\"\")","v":""},null,{"v":0,"d":"0.00"},""]
[{"$nulls":6},{"$f":"IF(H406<>\"\",VLOOKUP(H406,Codes!C$1:D$475,2,FALSE),\"\")","v":""},{"$nulls":3},{"$f":"IF(J406>0,VLOOKUP(J406,' code comptes '!$A$1:$C$148,3),\"\")","v":""},null,{"v":0,"d":"0.00"},""]
[{"$nulls":6},{"$f":"IF(H407<>\"\",VLOOKUP(H407,Codes!C$1:D$475,2,FALSE),\"\")","v":""},{"$nulls":3},{"$f":"IF(J407>0,VLOOKUP(J407,' code comptes '!$A$1:$C$148,3),\"\")","v":""},null,{"v":0,"d":"0.00"},""]
[{"$nulls":6},{"$f":"IF(H408<>\"\",VLOOKUP(H408,Codes!C$1:D$475,2,FALSE),\"\")","v":""},{"$nulls":3},{"$f":"IF(J408>0,VLOOKUP(J408,' code comptes '!$A$1:$C$148,3),\"\")","v":""},null,{"v":0,"d":"0.00"},""]
[{"$nulls":6},{"$f":"IF(H409<>\"\",VLOOKUP(H409,Codes!C$1:D$475,2,FALSE),\"\")","v":""},{"$nulls":3},{"$f":"IF(J409>0,VLOOKUP(J409,' code comptes '!$A$1:$C$148,3),\"\")","v":""},null,{"v":0,"d":"0.00"},""]
[{"$nulls":6},{"$f":"IF(H410<>\"\",VLOOKUP(H410,Codes!C$1:D$475,2,FALSE),\"\")","v":""},{"$nulls":3},{"$f":"IF(J410>0,VLOOKUP(J410,' code comptes '!$A$1:$C$148,3),\"\")","v":""},null,{"v":0,"d":"0.00"},""]
[{"$nulls":6},{"$f":"IF(H411<>\"\",VLOOKUP(H411,Codes!C$1:D$475,2,FALSE),\"\")","v":""},{"$nulls":3},{"$f":"IF(J411>0,VLOOKUP(J411,' code comptes '!$A$1:$C$148,3),\"\")","v":""},null,{"v":0,"d":"0.00"},""]
[{"$nulls":6},{"$f":"IF(H412<>\"\",VLOOKUP(H412,Codes!C$1:D$475,2,FALSE),\"\")","v":""},{"$nulls":3},{"$f":"IF(J412>0,VLOOKUP(J412,' code comptes '!$A$1:$C$148,3),\"\")","v":""},null,{"v":0,"d":"0.00"},""]
[{"$nulls":6},{"$f":"IF(H413<>\"\",VLOOKUP(H413,Codes!C$1:D$475,2,FALSE),\"\")","v":""},{"$nulls":3},{"$f":"IF(J413>0,VLOOKUP(J413,' code comptes '!$A$1:$C$148,3),\"\")","v":""},null,{"v":0,"d":"0.00"},""]
[{"$nulls":6},{"$f":"IF(H414<>\"\",VLOOKUP(H414,Codes!C$1:D$475,2,FALSE),\"\")","v":""},{"$nulls":3},{"$f":"IF(J414>0,VLOOKUP(J414,' code comptes '!$A$1:$C$148,3),\"\")","v":""},null,{"v":0,"d":"0.00"},""]
[{"$nulls":6},{"$f":"IF(H415<>\"\",VLOOKUP(H415,Codes!C$1:D$475,2,FALSE),\"\")","v":""},{"$nulls":3},{"$f":"IF(J415>0,VLOOKUP(J415,' code comptes '!$A$1:$C$148,3),\"\")","v":""},null,{"v":0,"d":"0.00"},""]
[{"$nulls":6},{"$f":"IF(H416<>\"\",VLOOKUP(H416,Codes!C$1:D$475,2,FALSE),\"\")","v":""},{"$nulls":3},{"$f":"IF(J416>0,VLOOKUP(J416,' code comptes '!$A$1:$C$148,3),\"\")","v":""},null,{"v":0,"d":"0.00"},""]
[{"$nulls":6},{"$f":"IF(H417<>\"\",VLOOKUP(H417,Codes!C$1:D$475,2,FALSE),\"\")","v":""},{"$nulls":3},{"$f":"IF(J417>0,VLOOKUP(J417,' code comptes '!$A$1:$C$148,3),\"\")","v":""},null,{"v":0,"d":"0.00"},""]
[{"$nulls":6},{"$f":"IF(H418<>\"\",VLOOKUP(H418,Codes!C$1:D$475,2,FALSE),\"\")","v":""},{"$nulls":3},{"$f":"IF(J418>0,VLOOKUP(J418,' code comptes '!$A$1:$C$148,3),\"\")","v":""},null,{"v":0,"d":"0.00"},""]
[{"$nulls":6},{"$f":"IF(H419<>\"\",VLOOKUP(H419,Codes!C$1:D$475,2,FALSE),\"\")","v":""},{"$nulls":3},{"$f":"IF(J419>0,VLOOKUP(J419,' code comptes '!$A$1:$C$148,3),\"\")","v":""},null,{"v":0,"d":"0.00"},""]
[{"$nulls":6},{"$f":"IF(H420<>\"\",VLOOKUP(H420,Codes!C$1:D$475,2,FALSE),\"\")","v":""},{"$nulls":3},{"$f":"IF(J420>0,VLOOKUP(J420,' code comptes '!$A$1:$C$148,3),\"\")","v":""},null,{"v":0,"d":"0.00"},""]
[{"$nulls":6},{"$f":"IF(H421<>\"\",VLOOKUP(H421,Codes!C$1:D$475,2,FALSE),\"\")","v":""},{"$nulls":3},{"$f":"IF(J421>0,VLOOKUP(J421,' code comptes '!$A$1:$C$148,3),\"\")","v":""},null,{"v":0,"d":"0.00"},""]
[{"$nulls":6},{"$f":"IF(H422<>\"\",VLOOKUP(H422,Codes!C$1:D$475,2,FALSE),\"\")","v":""},{"$nulls":3},{"$f":"IF(J422>0,VLOOKUP(J422,' code comptes '!$A$1:$C$148,3),\"\")","v":""},null,{"v":0,"d":"0.00"},""]
[{"$nulls":6},{"$f":"IF(H423<>\"\",VLOOKUP(H423,Codes!C$1:D$475,2,FALSE),\"\")","v":""},{"$nulls":3},{"$f":"IF(J423>0,VLOOKUP(J423,' code comptes '!$A$1:$C$148,3),\"\")","v":""},null,{"v":0,"d":"0.00"},""]
[{"$nulls":6},{"$f":"IF(H424<>\"\",VLOOKUP(H424,Codes!C$1:D$475,2,FALSE),\"\")","v":""},{"$nulls":3},{"$f":"IF(J424>0,VLOOKUP(J424,' code comptes '!$A$1:$C$148,3),\"\")","v":""},null,{"v":0,"d":"0.00"},""]
[{"$nulls":6},{"$f":"IF(H425<>\"\",VLOOKUP(H425,Codes!C$1:D$475,2,FALSE),\"\")","v":""},{"$nulls":3},{"$f":"IF(J425>0,VLOOKUP(J425,' code comptes '!$A$1:$C$148,3),\"\")","v":""},null,{"v":0,"d":"0.00"},""]
[{"$nulls":6},{"$f":"IF(H426<>\"\",VLOOKUP(H426,Codes!C$1:D$475,2,FALSE),\"\")","v":""},{"$nulls":3},{"$f":"IF(J426>0,VLOOKUP(J426,' code comptes '!$A$1:$C$148,3),\"\")","v":""},null,{"v":0,"d":"0.00"},""]
[{"$nulls":6},{"$f":"IF(H427<>\"\",VLOOKUP(H427,Codes!C$1:D$475,2,FALSE),\"\")","v":""},{"$nulls":3},{"$f":"IF(J427>0,VLOOKUP(J427,' code comptes '!$A$1:$C$148,3),\"\")","v":""},null,{"$f":"D426","v":{"v":0,"d":"0.00"}},{"$f":"+CONCATENATE(G426,H426)","v":""}]
[{"$nulls":6},{"$f":"IF(H428<>\"\",VLOOKUP(H428,Codes!C$1:D$475,2,FALSE),\"\")","v":""},{"$nulls":3},{"$f":"IF(J428>0,VLOOKUP(J428,' code comptes '!$A$1:$C$148,3),\"\")","v":""},null,{"v":0,"d":"0.00"},""]
[{"$nulls":6},{"$f":"IF(H429<>\"\",VLOOKUP(H429,Codes!C$1:D$475,2,FALSE),\"\")","v":""},{"$nulls":3},{"$f":"IF(J429>0,VLOOKUP(J429,' code comptes '!$A$1:$C$148,3),\"\")","v":""},null,{"v":0,"d":"0.00"},""]
[{"$nulls":6},{"$f":"IF(H430<>\"\",VLOOKUP(H430,Codes!C$1:D$475,2,FALSE),\"\")","v":""},{"$nulls":3},{"$f":"IF(J430>0,VLOOKUP(J430,' code comptes '!$A$1:$C$148,3),\"\")","v":""},null,{"v":0,"d":"0.00"},""]
[{"$nulls":6},{"$f":"IF(H431<>\"\",VLOOKUP(H431,Codes!C$1:D$475,2,FALSE),\"\")","v":""},{"$nulls":3},{"$f":"IF(J431>0,VLOOKUP(J431,' code comptes '!$A$1:$C$148,3),\"\")","v":""},null,{"v":0,"d":"0.00"},""]
[{"$nulls":6},{"$f":"IF(H432<>\"\",VLOOKUP(H432,Codes!C$1:D$475,2,FALSE),\"\")","v":""},{"$nulls":3},{"$f":"IF(J432>0,VLOOKUP(J432,' code comptes '!$A$1:$C$148,3),\"\")","v":""},null,{"v":0,"d":"0.00"},""]
[{"$nulls":6},{"$f":"IF(H433<>\"\",VLOOKUP(H433,Codes!C$1:D$475,2,FALSE),\"\")","v":""},{"$nulls":3},{"$f":"IF(J433>0,VLOOKUP(J433,' code comptes '!$A$1:$C$148,3),\"\")","v":""},null,{"v":0,"d":"0.00"},""]
[{"$nulls":6},{"$f":"IF(H434<>\"\",VLOOKUP(H434,Codes!C$1:D$475,2,FALSE),\"\")","v":""},{"$nulls":3},{"$f":"IF(J434>0,VLOOKUP(J434,' code comptes '!$A$1:$C$148,3),\"\")","v":""},null,{"v":0,"d":"0.00"},""]
[{"$nulls":6},{"$f":"IF(H435<>\"\",VLOOKUP(H435,Codes!C$1:D$475,2,FALSE),\"\")","v":""},{"$nulls":3},{"$f":"IF(J435>0,VLOOKUP(J435,' code comptes '!$A$1:$C$148,3),\"\")","v":""},null,{"v":0,"d":"0.00"},""]
[{"$nulls":6},{"$f":"IF(H436<>\"\",VLOOKUP(H436,Codes!C$1:D$475,2,FALSE),\"\")","v":""},{"$nulls":3},{"$f":"IF(J436>0,VLOOKUP(J436,' code comptes '!$A$1:$C$148,3),\"\")","v":""},null,{"v":0,"d":"0.00"},""]
[{"$nulls":6},{"$f":"IF(H437<>\"\",VLOOKUP(H437,Codes!C$1:D$475,2,FALSE),\"\")","v":""},{"$nulls":3},{"$f":"IF(J437>0,VLOOKUP(J437,' code comptes '!$A$1:$C$148,3),\"\")","v":""},null,{"v":0,"d":"0.00"},""]
[{"$nulls":6},{"$f":"IF(H438<>\"\",VLOOKUP(H438,Codes!C$1:D$475,2,FALSE),\"\")","v":""},{"$nulls":3},{"$f":"IF(J438>0,VLOOKUP(J438,' code comptes '!$A$1:$C$148,3),\"\")","v":""},null,{"v":0,"d":"0.00"},""]
[{"$nulls":6},{"$f":"IF(H439<>\"\",VLOOKUP(H439,Codes!C$1:D$475,2,FALSE),\"\")","v":""},{"$nulls":3},{"$f":"IF(J439>0,VLOOKUP(J439,' code comptes '!$A$1:$C$148,3),\"\")","v":""},null,{"v":0,"d":"0.00"},""]
[{"$nulls":6},{"$f":"IF(H440<>\"\",VLOOKUP(H440,Codes!C$1:D$475,2,FALSE),\"\")","v":""},{"$nulls":3},{"$f":"IF(J440>0,VLOOKUP(J440,' code comptes '!$A$1:$C$148,3),\"\")","v":""},null,{"v":0,"d":"0.00"},""]
[{"$nulls":6},{"$f":"IF(H441<>\"\",VLOOKUP(H441,Codes!C$1:D$475,2,FALSE),\"\")","v":""},{"$nulls":3},{"$f":"IF(J441>0,VLOOKUP(J441,' code comptes '!$A$1:$C$148,3),\"\")","v":""},null,{"v":0,"d":"0.00"},""]
[{"$nulls":6},{"$f":"IF(H442<>\"\",VLOOKUP(H442,Codes!C$1:D$475,2,FALSE),\"\")","v":""},{"$nulls":3},{"$f":"IF(J442>0,VLOOKUP(J442,' code comptes '!$A$1:$C$148,3),\"\")","v":""},null,{"v":0,"d":"0.00"},""]
[{"$nulls":6},{"$f":"IF(H443<>\"\",VLOOKUP(H443,Codes!C$1:D$475,2,FALSE),\"\")","v":""},{"$nulls":3},{"$f":"IF(J443>0,VLOOKUP(J443,' code comptes '!$A$1:$C$148,3),\"\")","v":""},null,{"v":0,"d":"0.00"},""]
[{"$nulls":6},{"$f":"IF(H444<>\"\",VLOOKUP(H444,Codes!C$1:D$475,2,FALSE),\"\")","v":""},{"$nulls":3},{"$f":"IF(J444>0,VLOOKUP(J444,' code comptes '!$A$1:$C$148,3),\"\")","v":""},null,{"v":0,"d":"0.00"},""]
[{"$nulls":6},{"$f":"IF(H445<>\"\",VLOOKUP(H445,Codes!C$1:D$475,2,FALSE),\"\")","v":""},{"$nulls":3},{"$f":"IF(J445>0,VLOOKUP(J445,' code comptes '!$A$1:$C$148,3),\"\")","v":""},null,{"v":0,"d":"0.00"},""]
[{"$nulls":6},{"$f":"IF(H446<>\"\",VLOOKUP(H446,Codes!C$1:D$475,2,FALSE),\"\")","v":""},{"$nulls":3},{"$f":"IF(J446>0,VLOOKUP(J446,' code comptes '!$A$1:$C$148,3),\"\")","v":""},null,{"v":0,"d":"0.00"},""]
[{"$nulls":6},{"$f":"IF(H447<>\"\",VLOOKUP(H447,Codes!C$1:D$475,2,FALSE),\"\")","v":""},{"$nulls":3},{"$f":"IF(J447>0,VLOOKUP(J447,' code comptes '!$A$1:$C$148,3),\"\")","v":""},null,{"v":0,"d":"0.00"},""]
[{"$nulls":6},{"$f":"IF(H448<>\"\",VLOOKUP(H448,Codes!C$1:D$475,2,FALSE),\"\")","v":""},{"$nulls":3},{"$f":"IF(J448>0,VLOOKUP(J448,' code comptes '!$A$1:$C$148,3),\"\")","v":""},null,{"v":0,"d":"0.00"},""]
[{"$nulls":6},{"$f":"IF(H449<>\"\",VLOOKUP(H449,Codes!C$1:D$475,2,FALSE),\"\")","v":""},{"$nulls":3},{"$f":"IF(J449>0,VLOOKUP(J449,' code comptes '!$A$1:$C$148,3),\"\")","v":""},null,{"v":0,"d":"0.00"},""]
[{"$nulls":6},{"$f":"IF(H450<>\"\",VLOOKUP(H450,Codes!C$1:D$475,2,FALSE),\"\")","v":""},{"$nulls":3},{"$f":"IF(J450>0,VLOOKUP(J450,' code comptes '!$A$1:$C$148,3),\"\")","v":""},null,{"v":0,"d":"0.00"},""]
[{"$nulls":6},{"$f":"IF(H451<>\"\",VLOOKUP(H451,Codes!C$1:D$475,2,FALSE),\"\")","v":""},{"$nulls":3},{"$f":"IF(J451>0,VLOOKUP(J451,' code comptes '!$A$1:$C$148,3),\"\")","v":""},null,{"v":0,"d":"0.00"},""]
[{"$nulls":6},{"$f":"IF(H452<>\"\",VLOOKUP(H452,Codes!C$1:D$475,2,FALSE),\"\")","v":""},{"$nulls":3},{"$f":"IF(J452>0,VLOOKUP(J452,' code comptes '!$A$1:$C$148,3),\"\")","v":""},null,{"v":0,"d":"0.00"},""]
[{"$nulls":6},{"$f":"IF(H453<>\"\",VLOOKUP(H453,Codes!C$1:D$475,2,FALSE),\"\")","v":""},{"$nulls":3},{"$f":"IF(J453>0,VLOOKUP(J453,' code comptes '!$A$1:$C$148,3),\"\")","v":""},null,{"v":0,"d":"0.00"},""]
[{"$nulls":6},{"$f":"IF(H454<>\"\",VLOOKUP(H454,Codes!C$1:D$475,2,FALSE),\"\")","v":""},{"$nulls":3},{"$f":"IF(J454>0,VLOOKUP(J454,' code comptes '!$A$1:$C$148,3),\"\")","v":""},null,{"v":0,"d":"0.00"},""]
[{"$nulls":6},{"$f":"IF(H455<>\"\",VLOOKUP(H455,Codes!C$1:D$475,2,FALSE),\"\")","v":""},{"$nulls":3},{"$f":"IF(J455>0,VLOOKUP(J455,' code comptes '!$A$1:$C$148,3),\"\")","v":""},null,{"v":0,"d":"0.00"},""]
[{"$nulls":6},{"$f":"IF(H456<>\"\",VLOOKUP(H456,Codes!C$1:D$475,2,FALSE),\"\")","v":""},{"$nulls":3},{"$f":"IF(J456>0,VLOOKUP(J456,' code comptes '!$A$1:$C$148,3),\"\")","v":""},null,{"v":0,"d":"0.00"},""]
[{"$nulls":6},{"$f":"IF(H457<>\"\",VLOOKUP(H457,Codes!C$1:D$475,2,FALSE),\"\")","v":""},{"$nulls":3},{"$f":"IF(J457>0,VLOOKUP(J457,' code comptes '!$A$1:$C$148,3),\"\")","v":""},null,{"v":0,"d":"0.00"},""]
[{"$nulls":6},{"$f":"IF(H458<>\"\",VLOOKUP(H458,Codes!C$1:D$475,2,FALSE),\"\")","v":""},{"$nulls":3},{"$f":"IF(J458>0,VLOOKUP(J458,' code comptes '!$A$1:$C$148,3),\"\")","v":""},null,{"v":0,"d":"0.00"},""]
[{"$nulls":6},{"$f":"IF(H459<>\"\",VLOOKUP(H459,Codes!C$1:D$475,2,FALSE),\"\")","v":""},{"$nulls":3},{"$f":"IF(J459>0,VLOOKUP(J459,' code comptes '!$A$1:$C$148,3),\"\")","v":""},null,{"v":0,"d":"0.00"},""]
[{"$nulls":6},{"$f":"IF(H460<>\"\",VLOOKUP(H460,Codes!C$1:D$475,2,FALSE),\"\")","v":""},{"$nulls":3},{"$f":"IF(J460>0,VLOOKUP(J460,' code comptes '!$A$1:$C$148,3),\"\")","v":""},null,{"v":0,"d":"0.00"},""]
[{"$nulls":6},{"$f":"IF(H461<>\"\",VLOOKUP(H461,Codes!C$1:D$475,2,FALSE),\"\")","v":""},{"$nulls":3},{"$f":"IF(J461>0,VLOOKUP(J461,' code comptes '!$A$1:$C$148,3),\"\")","v":""},null,{"v":0,"d":"0.00"},""]
[{"$nulls":6},{"$f":"IF(H462<>\"\",VLOOKUP(H462,Codes!C$1:D$475,2,FALSE),\"\")","v":""},{"$nulls":3},{"$f":"IF(J462>0,VLOOKUP(J462,' code comptes '!$A$1:$C$148,3),\"\")","v":""},null,{"v":0,"d":"0.00"},""]
[{"$nulls":6},{"$f":"IF(H463<>\"\",VLOOKUP(H463,Codes!C$1:D$475,2,FALSE),\"\")","v":""},{"$nulls":3},{"$f":"IF(J463>0,VLOOKUP(J463,' code comptes '!$A$1:$C$148,3),\"\")","v":""},null,{"v":0,"d":"0.00"},""]
[{"$nulls":6},{"$f":"IF(H464<>\"\",VLOOKUP(H464,Codes!C$1:D$475,2,FALSE),\"\")","v":""},{"$nulls":3},{"$f":"IF(J464>0,VLOOKUP(J464,' code comptes '!$A$1:$C$148,3),\"\")","v":""},null,{"v":0,"d":"0.00"},""]
[{"$nulls":6},{"$f":"IF(H465<>\"\",VLOOKUP(H465,Codes!C$1:D$475,2,FALSE),\"\")","v":""},{"$nulls":3},{"$f":"IF(J465>0,VLOOKUP(J465,' code comptes '!$A$1:$C$148,3),\"\")","v":""},null,{"v":0,"d":"0.00"},""]
[{"$nulls":6},{"$f":"IF(H466<>\"\",VLOOKUP(H466,Codes!C$1:D$475,2,FALSE),\"\")","v":""},{"$nulls":3},{"$f":"IF(J466>0,VLOOKUP(J466,' code comptes '!$A$1:$C$148,3),\"\")","v":""},null,{"v":0,"d":"0.00"},""]
[{"$nulls":6},{"$f":"IF(H467<>\"\",VLOOKUP(H467,Codes!C$1:D$475,2,FALSE),\"\")","v":""},{"$nulls":3},{"$f":"IF(J467>0,VLOOKUP(J467,' code comptes '!$A$1:$C$148,3),\"\")","v":""},null,{"v":0,"d":"0.00"},""]
[{"$nulls":6},{"$f":"IF(H468<>\"\",VLOOKUP(H468,Codes!C$1:D$475,2,FALSE),\"\")","v":""},{"$nulls":3},{"$f":"IF(J468>0,VLOOKUP(J468,' code comptes '!$A$1:$C$148,3),\"\")","v":""},null,{"v":0,"d":"0.00"},""]
[{"$nulls":6},{"$f":"IF(H469<>\"\",VLOOKUP(H469,Codes!C$1:D$475,2,FALSE),\"\")","v":""},{"$nulls":3},{"$f":"IF(J469>0,VLOOKUP(J469,' code comptes '!$A$1:$C$148,3),\"\")","v":""},null,{"v":0,"d":"0.00"},""]
[{"$nulls":6},{"$f":"IF(H470<>\"\",VLOOKUP(H470,Codes!C$1:D$475,2,FALSE),\"\")","v":""},{"$nulls":3},{"$f":"IF(J470>0,VLOOKUP(J470,' code comptes '!$A$1:$C$148,3),\"\")","v":""},null,{"v":0,"d":"0.00"},""]
[{"$nulls":6},{"$f":"IF(H471<>\"\",VLOOKUP(H471,Codes!C$1:D$475,2,FALSE),\"\")","v":""},{"$nulls":3},{"$f":"IF(J471>0,VLOOKUP(J471,' code comptes '!$A$1:$C$148,3),\"\")","v":""},null,{"v":0,"d":"0.00"},""]
[{"$nulls":6},{"$f":"IF(H472<>\"\",VLOOKUP(H472,Codes!C$1:D$475,2,FALSE),\"\")","v":""},{"$nulls":3},{"$f":"IF(J472>0,VLOOKUP(J472,' code comptes '!$A$1:$C$148,3),\"\")","v":""},null,{"v":0,"d":"0.00"},""]
[{"$nulls":6},{"$f":"IF(H473<>\"\",VLOOKUP(H473,Codes!C$1:D$475,2,FALSE),\"\")","v":""},{"$nulls":3},{"$f":"IF(J473>0,VLOOKUP(J473,' code comptes '!$A$1:$C$148,3),\"\")","v":""},null,{"v":0,"d":"0.00"},""]
[{"$nulls":6},{"$f":"IF(H474<>\"\",VLOOKUP(H474,Codes!C$1:D$475,2,FALSE),\"\")","v":""},{"$nulls":3},{"$f":"IF(J474>0,VLOOKUP(J474,' code comptes '!$A$1:$C$148,3),\"\")","v":""},null,{"v":0,"d":"0.00"},""]
[{"$nulls":6},{"$f":"IF(H475<>\"\",VLOOKUP(H475,Codes!C$1:D$475,2,FALSE),\"\")","v":""},{"$nulls":3},{"$f":"IF(J475>0,VLOOKUP(J475,' code comptes '!$A$1:$C$148,3),\"\")","v":""},null,{"v":0,"d":"0.00"},""]
[{"$nulls":6},{"$f":"IF(H476<>\"\",VLOOKUP(H476,Codes!C$1:D$475,2,FALSE),\"\")","v":""},{"$nulls":3},{"$f":"IF(J476>0,VLOOKUP(J476,' code comptes '!$A$1:$C$148,3),\"\")","v":""},null,{"v":0,"d":"0.00"},""]
[{"$nulls":6},{"$f":"IF(H477<>\"\",VLOOKUP(H477,Codes!C$1:D$475,2,FALSE),\"\")","v":""},{"$nulls":3},{"$f":"IF(J477>0,VLOOKUP(J477,' code comptes '!$A$1:$C$148,3),\"\")","v":""},null,{"v":0,"d":"0.00"},""]
[{"$nulls":6},{"$f":"IF(H478<>\"\",VLOOKUP(H478,Codes!C$1:D$475,2,FALSE),\"\")","v":""},{"$nulls":3},{"$f":"IF(J478>0,VLOOKUP(J478,' code comptes '!$A$1:$C$148,3),\"\")","v":""},null,{"v":0,"d":"0.00"},""]
[{"$nulls":6},{"$f":"IF(H479<>\"\",VLOOKUP(H479,Codes!C$1:D$475,2,FALSE),\"\")","v":""},{"$nulls":3},{"$f":"IF(J479>0,VLOOKUP(J479,' code comptes '!$A$1:$C$148,3),\"\")","v":""},null,{"v":0,"d":"0.00"},""]
[{"$nulls":6},{"$f":"IF(H480<>\"\",VLOOKUP(H480,Codes!C$1:D$475,2,FALSE),\"\")","v":""},{"$nulls":3},{"$f":"IF(J480>0,VLOOKUP(J480,' code comptes '!$A$1:$C$148,3),\"\")","v":""},null,{"v":0,"d":"0.00"},""]
[{"$nulls":6},{"$f":"IF(H481<>\"\",VLOOKUP(H481,Codes!C$1:D$475,2,FALSE),\"\")","v":""},{"$nulls":3},{"$f":"IF(J481>0,VLOOKUP(J481,' code comptes '!$A$1:$C$148,3),\"\")","v":""},null,{"v":0,"d":"0.00"},""]
[{"$nulls":6},{"$f":"IF(H482<>\"\",VLOOKUP(H482,Codes!C$1:D$475,2,FALSE),\"\")","v":""},{"$nulls":3},{"$f":"IF(J482>0,VLOOKUP(J482,' code comptes '!$A$1:$C$148,3),\"\")","v":""},null,{"v":0,"d":"0.00"},""]
[{"$nulls":6},{"$f":"IF(H483<>\"\",VLOOKUP(H483,Codes!C$1:D$475,2,FALSE),\"\")","v":""},{"$nulls":3},{"$f":"IF(J483>0,VLOOKUP(J483,' code comptes '!$A$1:$C$148,3),\"\")","v":""},null,{"v":0,"d":"0.00"},""]
[{"$nulls":6},{"$f":"IF(H484<>\"\",VLOOKUP(H484,Codes!C$1:D$475,2,FALSE),\"\")","v":""},{"$nulls":3},{"$f":"IF(J484>0,VLOOKUP(J484,' code comptes '!$A$1:$C$148,3),\"\")","v":""},null,{"v":0,"d":"0.00"},""]
[{"$nulls":6},{"$f":"IF(H485<>\"\",VLOOKUP(H485,Codes!C$1:D$475,2,FALSE),\"\")","v":""},{"$nulls":3},{"$f":"IF(J485>0,VLOOKUP(J485,' code comptes '!$A$1:$C$148,3),\"\")","v":""},null,{"v":0,"d":"0.00"},""]
[{"$nulls":6},{"$f":"IF(H486<>\"\",VLOOKUP(H486,Codes!C$1:D$475,2,FALSE),\"\")","v":""},{"$nulls":3},{"$f":"IF(J486>0,VLOOKUP(J486,' code comptes '!$A$1:$C$148,3),\"\")","v":""},null,{"v":0,"d":"0.00"},""]
[{"$nulls":6},{"$f":"IF(H487<>\"\",VLOOKUP(H487,Codes!C$1:D$475,2,FALSE),\"\")","v":""},{"$nulls":3},{"$f":"IF(J487>0,VLOOKUP(J487,' code comptes '!$A$1:$C$148,3),\"\")","v":""},null,{"v":0,"d":"0.00"},""]
[{"$nulls":6},{"$f":"IF(H488<>\"\",VLOOKUP(H488,Codes!C$1:D$475,2,FALSE),\"\")","v":""},{"$nulls":3},{"$f":"IF(J488>0,VLOOKUP(J488,' code comptes '!$A$1:$C$148,3),\"\")","v":""},null,{"v":0,"d":"0.00"},""]
[{"$nulls":6},{"$f":"IF(H489<>\"\",VLOOKUP(H489,Codes!C$1:D$475,2,FALSE),\"\")","v":""},{"$nulls":3},{"$f":"IF(J489>0,VLOOKUP(J489,' code comptes '!$A$1:$C$148,3),\"\")","v":""},null,{"v":0,"d":"0.00"},""]
[{"$nulls":6},{"$f":"IF(H490<>\"\",VLOOKUP(H490,Codes!C$1:D$475,2,FALSE),\"\")","v":""},{"$nulls":3},{"$f":"IF(J490>0,VLOOKUP(J490,' code comptes '!$A$1:$C$148,3),\"\")","v":""},null,{"v":0,"d":"0.00"},""]
[{"$nulls":6},{"$f":"IF(H491<>\"\",VLOOKUP(H491,Codes!C$1:D$475,2,FALSE),\"\")","v":""}]
[{"$nulls":6},{"$f":"IF(H492<>\"\",VLOOKUP(H492,Codes!C$1:D$475,2,FALSE),\"\")","v":""}]
[{"$nulls":6},{"$f":"IF(H493<>\"\",VLOOKUP(H493,Codes!C$1:D$475,2,FALSE),\"\")","v":""}]
[{"$nulls":6},{"$f":"IF(H494<>\"\",VLOOKUP(H494,Codes!C$1:D$475,2,FALSE),\"\")","v":""},{"$nulls":3},{"$f":"IF(J494>0,VLOOKUP(J494,' code comptes '!$A$1:$C$148,3),\"\")","v":""},null,{"$f":"D490","v":{"v":0,"d":"0.00"}},{"$f":"+CONCATENATE(G490,H490)","v":""}]
[{"$nulls":6},{"$f":"IF(H495<>\"\",VLOOKUP(H495,Codes!C$1:D$475,2,FALSE),\"\")","v":""},{"$nulls":3},{"$f":"IF(J495>0,VLOOKUP(J495,' code comptes '!$A$1:$C$148,3),\"\")","v":""},null,{"$f":"D494","v":{"v":0,"d":"0.00"}},{"$f":"+CONCATENATE(G494,H494)","v":""}]
[{"$nulls":6},{"$f":"IF(H496<>\"\",VLOOKUP(H496,Codes!C$1:D$475,2,FALSE),\"\")","v":""},{"$nulls":3},{"$f":"IF(J496>0,VLOOKUP(J496,' code comptes '!$A$1:$C$148,3),\"\")","v":""},null,{"v":0,"d":"0.00"},""]
[{"$nulls":6},{"$f":"IF(H497<>\"\",VLOOKUP(H497,Codes!C$1:D$475,2,FALSE),\"\")","v":""},{"$nulls":3},{"$f":"IF(J497>0,VLOOKUP(J497,' code comptes '!$A$1:$C$148,3),\"\")","v":""},null,{"v":0,"d":"0.00"},""]
[{"$nulls":6},{"$f":"IF(H498<>\"\",VLOOKUP(H498,Codes!C$1:D$475,2,FALSE),\"\")","v":""},{"$nulls":3},{"$f":"IF(J498>0,VLOOKUP(J498,' code comptes '!$A$1:$C$148,3),\"\")","v":""},null,{"v":0,"d":"0.00"},""]
[{"$nulls":6},{"$f":"IF(H499<>\"\",VLOOKUP(H499,Codes!C$1:D$475,2,FALSE),\"\")","v":""},{"$nulls":3},{"$f":"IF(J499>0,VLOOKUP(J499,' code comptes '!$A$1:$C$148,3),\"\")","v":""},null,{"v":0,"d":"0.00"},""]
[{"$nulls":6},{"$f":"IF(H500<>\"\",VLOOKUP(H500,Codes!C$1:D$475,2,FALSE),\"\")","v":""},{"$nulls":3},{"$f":"IF(J500>0,VLOOKUP(J500,' code comptes '!$A$1:$C$148,3),\"\")","v":""},null,{"v":0,"d":"0.00"},""]
[{"$nulls":6},{"$f":"IF(H501<>\"\",VLOOKUP(H501,Codes!C$1:D$475,2,FALSE),\"\")","v":""}]
[{"$nulls":6},{"$f":"IF(H502<>\"\",VLOOKUP(H502,Codes!C$1:D$475,2,FALSE),\"\")","v":""}]
[{"$nulls":6},{"$f":"IF(H503<>\"\",VLOOKUP(H503,Codes!C$1:D$475,2,FALSE),\"\")","v":""}]
[{"$nulls":6},{"$f":"IF(H504<>\"\",VLOOKUP(H504,Codes!C$1:D$475,2,FALSE),\"\")","v":""}]
[{"$nulls":6},{"$f":"IF(H505<>\"\",VLOOKUP(H505,Codes!C$1:D$475,2,FALSE),\"\")","v":""}]
[{"$nulls":6},{"$f":"IF(H506<>\"\",VLOOKUP(H506,Codes!C$1:D$475,2,FALSE),\"\")","v":""}]
[{"$nulls":6},{"$f":"IF(H507<>\"\",VLOOKUP(H507,Codes!C$1:D$475,2,FALSE),\"\")","v":""}]
[{"$nulls":6},{"$f":"IF(H508<>\"\",VLOOKUP(H508,Codes!C$1:D$475,2,FALSE),\"\")","v":""}]
[{"$nulls":6},{"$f":"IF(H509<>\"\",VLOOKUP(H509,Codes!C$1:D$475,2,FALSE),\"\")","v":""}]
[{"$nulls":6},{"$f":"IF(H510<>\"\",VLOOKUP(H510,Codes!C$1:D$475,2,FALSE),\"\")","v":""}]
[{"$nulls":6},{"$f":"IF(H511<>\"\",VLOOKUP(H511,Codes!C$1:D$475,2,FALSE),\"\")","v":""}]
[{"$nulls":6},{"$f":"IF(H512<>\"\",VLOOKUP(H512,Codes!C$1:D$475,2,FALSE),\"\")","v":""}]
[{"$nulls":6},{"$f":"IF(H513<>\"\",VLOOKUP(H513,Codes!C$1:D$475,2,FALSE),\"\")","v":""}]
[{"$nulls":6},{"$f":"IF(H514<>\"\",VLOOKUP(H514,Codes!C$1:D$475,2,FALSE),\"\")","v":""}]
[{"$nulls":6},{"$f":"IF(H515<>\"\",VLOOKUP(H515,Codes!C$1:D$475,2,FALSE),\"\")","v":""}]
[{"$nulls":6},{"$f":"IF(H516<>\"\",VLOOKUP(H516,Codes!C$1:D$475,2,FALSE),\"\")","v":""}]
[{"$nulls":6},{"$f":"IF(H517<>\"\",VLOOKUP(H517,Codes!C$1:D$475,2,FALSE),\"\")","v":""}]
[{"$nulls":6},{"$f":"IF(H518<>\"\",VLOOKUP(H518,Codes!C$1:D$475,2,FALSE),\"\")","v":""}]
[{"$nulls":6},{"$f":"IF(H519<>\"\",VLOOKUP(H519,Codes!C$1:D$475,2,FALSE),\"\")","v":""}]
[{"$nulls":6},{"$f":"IF(H520<>\"\",VLOOKUP(H520,Codes!C$1:D$475,2,FALSE),\"\")","v":""}]
[{"$nulls":6},{"$f":"IF(H521<>\"\",VLOOKUP(H521,Codes!C$1:D$475,2,FALSE),\"\")","v":""}]
[{"$nulls":6},{"$f":"IF(H522<>\"\",VLOOKUP(H522,Codes!C$1:D$475,2,FALSE),\"\")","v":""}]
[{"$nulls":6},{"$f":"IF(H523<>\"\",VLOOKUP(H523,Codes!C$1:D$475,2,FALSE),\"\")","v":""}]
[{"$nulls":6},{"$f":"IF(H524<>\"\",VLOOKUP(H524,Codes!C$1:D$475,2,FALSE),\"\")","v":""}]
[{"$nulls":6},{"$f":"IF(H525<>\"\",VLOOKUP(H525,Codes!C$1:D$475,2,FALSE),\"\")","v":""}]
[{"$nulls":6},{"$f":"IF(H526<>\"\",VLOOKUP(H526,Codes!C$1:D$475,2,FALSE),\"\")","v":""}]
[{"$nulls":6},{"$f":"IF(H527<>\"\",VLOOKUP(H527,Codes!C$1:D$475,2,FALSE),\"\")","v":""}]
[{"$nulls":6},{"$f":"IF(H528<>\"\",VLOOKUP(H528,Codes!C$1:D$475,2,FALSE),\"\")","v":""}]
[{"$nulls":6},{"$f":"IF(H529<>\"\",VLOOKUP(H529,Codes!C$1:D$475,2,FALSE),\"\")","v":""}]
[{"$nulls":6},{"$f":"IF(H530<>\"\",VLOOKUP(H530,Codes!C$1:D$475,2,FALSE),\"\")","v":""}]
[{"$nulls":6},{"$f":"IF(H531<>\"\",VLOOKUP(H531,Codes!C$1:D$475,2,FALSE),\"\")","v":""}]
[{"$nulls":6},{"$f":"IF(H532<>\"\",VLOOKUP(H532,Codes!C$1:D$475,2,FALSE),\"\")","v":""}]
[{"$nulls":6},{"$f":"IF(H533<>\"\",VLOOKUP(H533,Codes!C$1:D$475,2,FALSE),\"\")","v":""}]
[{"$nulls":6},{"$f":"IF(H534<>\"\",VLOOKUP(H534,Codes!C$1:D$475,2,FALSE),\"\")","v":""}]
[{"$nulls":6},{"$f":"IF(H535<>\"\",VLOOKUP(H535,Codes!C$1:D$475,2,FALSE),\"\")","v":""}]
[{"$nulls":6},{"$f":"IF(H536<>\"\",VLOOKUP(H536,Codes!C$1:D$475,2,FALSE),\"\")","v":""}]
[{"$nulls":6},{"$f":"IF(H537<>\"\",VLOOKUP(H537,Codes!C$1:D$475,2,FALSE),\"\")","v":""}]
[{"$nulls":6},{"$f":"IF(H538<>\"\",VLOOKUP(H538,Codes!C$1:D$475,2,FALSE),\"\")","v":""}]
[{"$nulls":6},{"$f":"IF(H539<>\"\",VLOOKUP(H539,Codes!C$1:D$475,2,FALSE),\"\")","v":""}]
[{"$nulls":6},{"$f":"IF(H540<>\"\",VLOOKUP(H540,Codes!C$1:D$475,2,FALSE),\"\")","v":""}]
[{"$nulls":6},{"$f":"IF(H541<>\"\",VLOOKUP(H541,Codes!C$1:D$475,2,FALSE),\"\")","v":""}]
[{"$nulls":6},{"$f":"IF(H542<>\"\",VLOOKUP(H542,Codes!C$1:D$475,2,FALSE),\"\")","v":""}]
[{"$nulls":6},{"$f":"IF(H543<>\"\",VLOOKUP(H543,Codes!C$1:D$475,2,FALSE),\"\")","v":""}]
[{"$nulls":6},{"$f":"IF(H544<>\"\",VLOOKUP(H544,Codes!C$1:D$475,2,FALSE),\"\")","v":""}]
[{"$nulls":6},{"$f":"IF(H545<>\"\",VLOOKUP(H545,Codes!C$1:D$475,2,FALSE),\"\")","v":""}]
[{"$nulls":6},{"$f":"IF(H546<>\"\",VLOOKUP(H546,Codes!C$1:D$475,2,FALSE),\"\")","v":""}]
[{"$nulls":6},{"$f":"IF(H547<>\"\",VLOOKUP(H547,Codes!C$1:D$475,2,FALSE),\"\")","v":""}]
[{"$nulls":6},{"$f":"IF(H548<>\"\",VLOOKUP(H548,Codes!C$1:D$475,2,FALSE),\"\")","v":""}]
[{"$nulls":6},{"$f":"IF(H549<>\"\",VLOOKUP(H549,Codes!C$1:D$475,2,FALSE),\"\")","v":""}]
[{"$nulls":6},{"$f":"IF(H550<>\"\",VLOOKUP(H550,Codes!C$1:D$475,2,FALSE),\"\")","v":""}]
[{"$nulls":6},{"$f":"IF(H551<>\"\",VLOOKUP(H551,Codes!C$1:D$475,2,FALSE),\"\")","v":""}]
[{"$nulls":6},{"$f":"IF(H552<>\"\",VLOOKUP(H552,Codes!C$1:D$475,2,FALSE),\"\")","v":""}]
[{"$nulls":6},{"$f":"IF(H553<>\"\",VLOOKUP(H553,Codes!C$1:D$475,2,FALSE),\"\")","v":""}]
[{"$nulls":6},{"$f":"IF(H554<>\"\",VLOOKUP(H554,Codes!C$1:D$475,2,FALSE),\"\")","v":""}]
[{"$nulls":6},{"$f":"IF(H555<>\"\",VLOOKUP(H555,Codes!C$1:D$475,2,FALSE),\"\")","v":""}]
[{"$nulls":6},{"$f":"IF(H556<>\"\",VLOOKUP(H556,Codes!C$1:D$475,2,FALSE),\"\")","v":""}]
[{"$nulls":6},{"$f":"IF(H557<>\"\",VLOOKUP(H557,Codes!C$1:D$475,2,FALSE),\"\")","v":""}]
[{"$nulls":6},{"$f":"IF(H558<>\"\",VLOOKUP(H558,Codes!C$1:D$475,2,FALSE),\"\")","v":""}]
[{"$nulls":6},{"$f":"IF(H559<>\"\",VLOOKUP(H559,Codes!C$1:D$475,2,FALSE),\"\")","v":""}]
[{"$nulls":6},{"$f":"IF(H560<>\"\",VLOOKUP(H560,Codes!C$1:D$475,2,FALSE),\"\")","v":""}]
[{"$nulls":6},{"$f":"IF(H561<>\"\",VLOOKUP(H561,Codes!C$1:D$475,2,FALSE),\"\")","v":""}]
[{"$nulls":6},{"$f":"IF(H562<>\"\",VLOOKUP(H562,Codes!C$1:D$475,2,FALSE),\"\")","v":""}]
[{"$nulls":6},{"$f":"IF(H563<>\"\",VLOOKUP(H563,Codes!C$1:D$475,2,FALSE),\"\")","v":""}]
[{"$nulls":6},{"$f":"IF(H564<>\"\",VLOOKUP(H564,Codes!C$1:D$475,2,FALSE),\"\")","v":""}]
[{"$nulls":6},{"$f":"IF(H565<>\"\",VLOOKUP(H565,Codes!C$1:D$475,2,FALSE),\"\")","v":""}]
[{"$nulls":6},{"$f":"IF(H566<>\"\",VLOOKUP(H566,Codes!C$1:D$475,2,FALSE),\"\")","v":""}]
[{"$nulls":6},{"$f":"IF(H567<>\"\",VLOOKUP(H567,Codes!C$1:D$475,2,FALSE),\"\")","v":""}]
[{"$nulls":6},{"$f":"IF(H568<>\"\",VLOOKUP(H568,Codes!C$1:D$475,2,FALSE),\"\")","v":""}]
[{"$nulls":6},{"$f":"IF(H569<>\"\",VLOOKUP(H569,Codes!C$1:D$475,2,FALSE),\"\")","v":""}]
[{"$nulls":6},{"$f":"IF(H570<>\"\",VLOOKUP(H570,Codes!C$1:D$475,2,FALSE),\"\")","v":""}]
[{"$nulls":6},{"$f":"IF(H571<>\"\",VLOOKUP(H571,Codes!C$1:D$475,2,FALSE),\"\")","v":""}]
[{"$nulls":6},{"$f":"IF(H572<>\"\",VLOOKUP(H572,Codes!C$1:D$475,2,FALSE),\"\")","v":""}]
[{"$nulls":6},{"$f":"IF(H573<>\"\",VLOOKUP(H573,Codes!C$1:D$475,2,FALSE),\"\")","v":""}]
[{"$nulls":6},{"$f":"IF(H574<>\"\",VLOOKUP(H574,Codes!C$1:D$475,2,FALSE),\"\")","v":""}]
[{"$nulls":6},{"$f":"IF(H575<>\"\",VLOOKUP(H575,Codes!C$1:D$475,2,FALSE),\"\")","v":""}]
[{"$nulls":6},{"$f":"IF(H576<>\"\",VLOOKUP(H576,Codes!C$1:D$475,2,FALSE),\"\")","v":""}]
[{"$nulls":6},{"$f":"IF(H577<>\"\",VLOOKUP(H577,Codes!C$1:D$475,2,FALSE),\"\")","v":""}]
[{"$nulls":6},{"$f":"IF(H578<>\"\",VLOOKUP(H578,Codes!C$1:D$475,2,FALSE),\"\")","v":""}]
[{"$nulls":6},{"$f":"IF(H579<>\"\",VLOOKUP(H579,Codes!C$1:D$475,2,FALSE),\"\")","v":""}]
[{"$nulls":6},{"$f":"IF(H580<>\"\",VLOOKUP(H580,Codes!C$1:D$475,2,FALSE),\"\")","v":""}]
[{"$nulls":6},{"$f":"IF(H581<>\"\",VLOOKUP(H581,Codes!C$1:D$475,2,FALSE),\"\")","v":""}]
[{"$nulls":6},{"$f":"IF(H582<>\"\",VLOOKUP(H582,Codes!C$1:D$475,2,FALSE),\"\")","v":""}]
[{"$nulls":6},{"$f":"IF(H583<>\"\",VLOOKUP(H583,Codes!C$1:D$475,2,FALSE),\"\")","v":""}]
[{"$nulls":6},{"$f":"IF(H584<>\"\",VLOOKUP(H584,Codes!C$1:D$475,2,FALSE),\"\")","v":""}]
[{"$nulls":6},{"$f":"IF(H585<>\"\",VLOOKUP(H585,Codes!C$1:D$475,2,FALSE),\"\")","v":""}]
[{"$nulls":6},{"$f":"IF(H586<>\"\",VLOOKUP(H586,Codes!C$1:D$475,2,FALSE),\"\")","v":""}]
[{"$nulls":6},{"$f":"IF(H587<>\"\",VLOOKUP(H587,Codes!C$1:D$475,2,FALSE),\"\")","v":""}]
[{"$nulls":6},{"$f":"IF(H588<>\"\",VLOOKUP(H588,Codes!C$1:D$475,2,FALSE),\"\")","v":""}]
[{"$nulls":6},{"$f":"IF(H589<>\"\",VLOOKUP(H589,Codes!C$1:D$475,2,FALSE),\"\")","v":""}]
[{"$nulls":6},{"$f":"IF(H590<>\"\",VLOOKUP(H590,Codes!C$1:D$475,2,FALSE),\"\")","v":""}]
[{"$nulls":6},{"$f":"IF(H591<>\"\",VLOOKUP(H591,Codes!C$1:D$475,2,FALSE),\"\")","v":""}]
[{"$nulls":6},{"$f":"IF(H592<>\"\",VLOOKUP(H592,Codes!C$1:D$475,2,FALSE),\"\")","v":""}]
[{"$nulls":6},{"$f":"IF(H593<>\"\",VLOOKUP(H593,Codes!C$1:D$475,2,FALSE),\"\")","v":""}]
[{"$nulls":6},{"$f":"IF(H594<>\"\",VLOOKUP(H594,Codes!C$1:D$475,2,FALSE),\"\")","v":""}]
[{"$nulls":6},{"$f":"IF(H595<>\"\",VLOOKUP(H595,Codes!C$1:D$475,2,FALSE),\"\")","v":""}]
[{"$nulls":6},{"$f":"IF(H596<>\"\",VLOOKUP(H596,Codes!C$1:D$475,2,FALSE),\"\")","v":""}]
[{"$nulls":6},{"$f":"IF(H597<>\"\",VLOOKUP(H597,Codes!C$1:D$475,2,FALSE),\"\")","v":""}]
[{"$nulls":6},{"$f":"IF(H598<>\"\",VLOOKUP(H598,Codes!C$1:D$475,2,FALSE),\"\")","v":""}]
[{"$nulls":6},{"$f":"IF(H599<>\"\",VLOOKUP(H599,Codes!C$1:D$475,2,FALSE),\"\")","v":""}]
[{"$nulls":6},{"$f":"IF(H600<>\"\",VLOOKUP(H600,Codes!C$1:D$475,2,FALSE),\"\")","v":""}]
[{"$nulls":6},{"$f":"IF(H601<>\"\",VLOOKUP(H601,Codes!C$1:D$475,2,FALSE),\"\")","v":""}]
[{"$nulls":6},{"$f":"IF(H602<>\"\",VLOOKUP(H602,Codes!C$1:D$475,2,FALSE),\"\")","v":""}]
[{"$nulls":6},{"$f":"IF(H603<>\"\",VLOOKUP(H603,Codes!C$1:D$475,2,FALSE),\"\")","v":""}]
[{"$nulls":6},{"$f":"IF(H604<>\"\",VLOOKUP(H604,Codes!C$1:D$475,2,FALSE),\"\")","v":""}]
[{"$nulls":6},{"$f":"IF(H605<>\"\",VLOOKUP(H605,Codes!C$1:D$475,2,FALSE),\"\")","v":""}]
[{"$nulls":6},{"$f":"IF(H606<>\"\",VLOOKUP(H606,Codes!C$1:D$475,2,FALSE),\"\")","v":""}]
[{"$nulls":6},{"$f":"IF(H607<>\"\",VLOOKUP(H607,Codes!C$1:D$475,2,FALSE),\"\")","v":""}]
[{"$nulls":6},{"$f":"IF(H608<>\"\",VLOOKUP(H608,Codes!C$1:D$475,2,FALSE),\"\")","v":""}]
[{"$nulls":6},{"$f":"IF(H609<>\"\",VLOOKUP(H609,Codes!C$1:D$475,2,FALSE),\"\")","v":""}]
[{"$nulls":6},{"$f":"IF(H610<>\"\",VLOOKUP(H610,Codes!C$1:D$475,2,FALSE),\"\")","v":""}]
[{"$nulls":6},{"$f":"IF(H611<>\"\",VLOOKUP(H611,Codes!C$1:D$475,2,FALSE),\"\")","v":""}]
[{"$nulls":6},{"$f":"IF(H612<>\"\",VLOOKUP(H612,Codes!C$1:D$475,2,FALSE),\"\")","v":""}]
[{"$nulls":6},{"$f":"IF(H613<>\"\",VLOOKUP(H613,Codes!C$1:D$475,2,FALSE),\"\")","v":""}]
[{"$nulls":6},{"$f":"IF(H614<>\"\",VLOOKUP(H614,Codes!C$1:D$475,2,FALSE),\"\")","v":""}]
[{"$nulls":6},{"$f":"IF(H615<>\"\",VLOOKUP(H615,Codes!C$1:D$475,2,FALSE),\"\")","v":""}]
[{"$nulls":6},{"$f":"IF(H616<>\"\",VLOOKUP(H616,Codes!C$1:D$475,2,FALSE),\"\")","v":""}]
[{"$nulls":6},{"$f":"IF(H617<>\"\",VLOOKUP(H617,Codes!C$1:D$475,2,FALSE),\"\")","v":""}]
[{"$nulls":6},{"$f":"IF(H618<>\"\",VLOOKUP(H618,Codes!C$1:D$475,2,FALSE),\"\")","v":""}]
[{"$nulls":6},{"$f":"IF(H619<>\"\",VLOOKUP(H619,Codes!C$1:D$475,2,FALSE),\"\")","v":""}]
[{"$nulls":6},{"$f":"IF(H620<>\"\",VLOOKUP(H620,Codes!C$1:D$475,2,FALSE),\"\")","v":""}]
[{"$nulls":6},{"$f":"IF(H621<>\"\",VLOOKUP(H621,Codes!C$1:D$475,2,FALSE),\"\")","v":""}]
[{"$nulls":6},{"$f":"IF(H622<>\"\",VLOOKUP(H622,Codes!C$1:D$475,2,FALSE),\"\")","v":""}]
[{"$nulls":6},{"$f":"IF(H623<>\"\",VLOOKUP(H623,Codes!C$1:D$475,2,FALSE),\"\")","v":""}]
[{"$nulls":6},{"$f":"IF(H624<>\"\",VLOOKUP(H624,Codes!C$1:D$475,2,FALSE),\"\")","v":""}]
[{"$nulls":6},{"$f":"IF(H625<>\"\",VLOOKUP(H625,Codes!C$1:D$475,2,FALSE),\"\")","v":""}]
[{"$nulls":6},{"$f":"IF(H626<>\"\",VLOOKUP(H626,Codes!C$1:D$475,2,FALSE),\"\")","v":""}]
[{"$nulls":6},{"$f":"IF(H627<>\"\",VLOOKUP(H627,Codes!C$1:D$475,2,FALSE),\"\")","v":""}]
[{"$nulls":6},{"$f":"IF(H628<>\"\",VLOOKUP(H628,Codes!C$1:D$475,2,FALSE),\"\")","v":""}]
[{"$nulls":6},{"$f":"IF(H629<>\"\",VLOOKUP(H629,Codes!C$1:D$475,2,FALSE),\"\")","v":""}]
[{"$nulls":6},{"$f":"IF(H630<>\"\",VLOOKUP(H630,Codes!C$1:D$475,2,FALSE),\"\")","v":""}]
[{"$nulls":6},{"$f":"IF(H631<>\"\",VLOOKUP(H631,Codes!C$1:D$475,2,FALSE),\"\")","v":""}]
[{"$nulls":6},{"$f":"IF(H632<>\"\",VLOOKUP(H632,Codes!C$1:D$475,2,FALSE),\"\")","v":""}]
[{"$nulls":6},{"$f":"IF(H633<>\"\",VLOOKUP(H633,Codes!C$1:D$475,2,FALSE),\"\")","v":""}]
[{"$nulls":6},{"$f":"IF(H634<>\"\",VLOOKUP(H634,Codes!C$1:D$475,2,FALSE),\"\")","v":""}]
[{"$nulls":6},{"$f":"IF(H635<>\"\",VLOOKUP(H635,Codes!C$1:D$475,2,FALSE),\"\")","v":""}]
[{"$nulls":6},{"$f":"IF(H636<>\"\",VLOOKUP(H636,Codes!C$1:D$475,2,FALSE),\"\")","v":""}]
[{"$nulls":6},{"$f":"IF(H637<>\"\",VLOOKUP(H637,Codes!C$1:D$475,2,FALSE),\"\")","v":""}]
[{"$nulls":6},{"$f":"IF(H638<>\"\",VLOOKUP(H638,Codes!C$1:D$475,2,FALSE),\"\")","v":""}]
[{"$nulls":6},{"$f":"IF(H639<>\"\",VLOOKUP(H639,Codes!C$1:D$475,2,FALSE),\"\")","v":""}]
[{"$nulls":6},{"$f":"IF(H640<>\"\",VLOOKUP(H640,Codes!C$1:D$475,2,FALSE),\"\")","v":""}]
[{"$nulls":6},{"$f":"IF(H641<>\"\",VLOOKUP(H641,Codes!C$1:D$475,2,FALSE),\"\")","v":""}]
[{"$nulls":6},{"$f":"IF(H642<>\"\",VLOOKUP(H642,Codes!C$1:D$475,2,FALSE),\"\")","v":""}]
[{"$nulls":6},{"$f":"IF(H643<>\"\",VLOOKUP(H643,Codes!C$1:D$475,2,FALSE),\"\")","v":""}]
[{"$nulls":6},{"$f":"IF(H644<>\"\",VLOOKUP(H644,Codes!C$1:D$475,2,FALSE),\"\")","v":""}]
[{"$nulls":6},{"$f":"IF(H645<>\"\",VLOOKUP(H645,Codes!C$1:D$475,2,FALSE),\"\")","v":""}]
[{"$nulls":6},{"$f":"IF(H646<>\"\",VLOOKUP(H646,Codes!C$1:D$475,2,FALSE),\"\")","v":""}]
[{"$nulls":6},{"$f":"IF(H647<>\"\",VLOOKUP(H647,Codes!C$1:D$475,2,FALSE),\"\")","v":""}]
[{"$nulls":6},{"$f":"IF(H648<>\"\",VLOOKUP(H648,Codes!C$1:D$475,2,FALSE),\"\")","v":""}]
[{"$nulls":6},{"$f":"IF(H649<>\"\",VLOOKUP(H649,Codes!C$1:D$475,2,FALSE),\"\")","v":""}]
[{"$nulls":6},{"$f":"IF(H650<>\"\",VLOOKUP(H650,Codes!C$1:D$475,2,FALSE),\"\")","v":""}]
[{"$nulls":6},{"$f":"IF(H651<>\"\",VLOOKUP(H651,Codes!C$1:D$475,2,FALSE),\"\")","v":""}]
[{"$nulls":6},{"$f":"IF(H652<>\"\",VLOOKUP(H652,Codes!C$1:D$475,2,FALSE),\"\")","v":""}]
[{"$nulls":6},{"$f":"IF(H653<>\"\",VLOOKUP(H653,Codes!C$1:D$475,2,FALSE),\"\")","v":""}]
[{"$nulls":6},{"$f":"IF(H654<>\"\",VLOOKUP(H654,Codes!C$1:D$475,2,FALSE),\"\")","v":""}]
[{"$nulls":6},{"$f":"IF(H655<>\"\",VLOOKUP(H655,Codes!C$1:D$475,2,FALSE),\"\")","v":""}]
[{"$nulls":6},{"$f":"IF(H656<>\"\",VLOOKUP(H656,Codes!C$1:D$475,2,FALSE),\"\")","v":""}]
[{"$nulls":6},{"$f":"IF(H657<>\"\",VLOOKUP(H657,Codes!C$1:D$475,2,FALSE),\"\")","v":""}]
[{"$nulls":6},{"$f":"IF(H658<>\"\",VLOOKUP(H658,Codes!C$1:D$475,2,FALSE),\"\")","v":""}]
[{"$nulls":6},{"$f":"IF(H659<>\"\",VLOOKUP(H659,Codes!C$1:D$475,2,FALSE),\"\")","v":""}]
[{"$nulls":6},{"$f":"IF(H660<>\"\",VLOOKUP(H660,Codes!C$1:D$475,2,FALSE),\"\")","v":""}]
[{"$nulls":6},{"$f":"IF(H661<>\"\",VLOOKUP(H661,Codes!C$1:D$475,2,FALSE),\"\")","v":""}]
[{"$nulls":6},{"$f":"IF(H662<>\"\",VLOOKUP(H662,Codes!C$1:D$475,2,FALSE),\"\")","v":""}]
[{"$nulls":6},{"$f":"IF(H663<>\"\",VLOOKUP(H663,Codes!C$1:D$475,2,FALSE),\"\")","v":""}]
[{"$nulls":6},{"$f":"IF(H664<>\"\",VLOOKUP(H664,Codes!C$1:D$475,2,FALSE),\"\")","v":""}]
[{"$nulls":6},{"$f":"IF(H665<>\"\",VLOOKUP(H665,Codes!C$1:D$475,2,FALSE),\"\")","v":""}]
[{"$nulls":6},{"$f":"IF(H666<>\"\",VLOOKUP(H666,Codes!C$1:D$475,2,FALSE),\"\")","v":""}]
[{"$nulls":6},{"$f":"IF(H667<>\"\",VLOOKUP(H667,Codes!C$1:D$475,2,FALSE),\"\")","v":""}]
[{"$nulls":6},{"$f":"IF(H668<>\"\",VLOOKUP(H668,Codes!C$1:D$475,2,FALSE),\"\")","v":""}]
[{"$nulls":6},{"$f":"IF(H669<>\"\",VLOOKUP(H669,Codes!C$1:D$475,2,FALSE),\"\")","v":""}]
[{"$nulls":6},{"$f":"IF(H670<>\"\",VLOOKUP(H670,Codes!C$1:D$475,2,FALSE),\"\")","v":""}]
[{"$nulls":6},{"$f":"IF(H671<>\"\",VLOOKUP(H671,Codes!C$1:D$475,2,FALSE),\"\")","v":""}]
[{"$nulls":6},{"$f":"IF(H672<>\"\",VLOOKUP(H672,Codes!C$1:D$475,2,FALSE),\"\")","v":""}]
[{"$nulls":6},{"$f":"IF(H673<>\"\",VLOOKUP(H673,Codes!C$1:D$475,2,FALSE),\"\")","v":""}]
[{"$nulls":6},{"$f":"IF(H674<>\"\",VLOOKUP(H674,Codes!C$1:D$475,2,FALSE),\"\")","v":""}]
[{"$nulls":6},{"$f":"IF(H675<>\"\",VLOOKUP(H675,Codes!C$1:D$475,2,FALSE),\"\")","v":""}]
[{"$nulls":6},{"$f":"IF(H676<>\"\",VLOOKUP(H676,Codes!C$1:D$475,2,FALSE),\"\")","v":""}]
[{"$nulls":6},{"$f":"IF(H677<>\"\",VLOOKUP(H677,Codes!C$1:D$475,2,FALSE),\"\")","v":""}]
[{"$nulls":6},{"$f":"IF(H678<>\"\",VLOOKUP(H678,Codes!C$1:D$475,2,FALSE),\"\")","v":""}]
[{"$nulls":6},{"$f":"IF(H679<>\"\",VLOOKUP(H679,Codes!C$1:D$475,2,FALSE),\"\")","v":""}]
[{"$nulls":6},{"$f":"IF(H680<>\"\",VLOOKUP(H680,Codes!C$1:D$475,2,FALSE),\"\")","v":""}]
[{"$nulls":6},{"$f":"IF(H681<>\"\",VLOOKUP(H681,Codes!C$1:D$475,2,FALSE),\"\")","v":""}]
[{"$nulls":6},{"$f":"IF(H682<>\"\",VLOOKUP(H682,Codes!C$1:D$475,2,FALSE),\"\")","v":""},{"$nulls":3},{"$f":"IF(J682>0,VLOOKUP(J682,' code comptes '!$A$1:$C$148,3),\"\")","v":""},"ok",{"$f":"D500","v":{"v":0,"d":"0.00"}},{"$f":"+CONCATENATE(G500,H500)","v":""}]
[{"$nulls":6},{"$f":"IF(H683<>\"\",VLOOKUP(H683,Codes!C$1:D$475,2,FALSE),\"\")","v":""},{"$nulls":3},{"$f":"IF(J683>0,VLOOKUP(J683,' code comptes '!$A$1:$C$148,3),\"\")","v":""},"Erreur",{"$f":"D682","v":{"v":0,"d":"0.00"}},{"$f":"+CONCATENATE(G682,H682)","v":""}]
[{"$nulls":6},{"$f":"IF(H684<>\"\",VLOOKUP(H684,Codes!C$1:D$475,2,FALSE),\"\")","v":""},{"$nulls":3},{"$f":"IF(J684>0,VLOOKUP(J684,' code comptes '!$A$1:$C$148,3),\"\")","v":""},null,{"v":0,"d":"0.00"},""]
[{"$nulls":6},{"$f":"IF(H685<>\"\",VLOOKUP(H685,Codes!C$1:D$475,2,FALSE),\"\")","v":""},{"$nulls":3},{"$f":"IF(J685>0,VLOOKUP(J685,' code comptes '!$A$1:$C$148,3),\"\")","v":""},null,{"v":0,"d":"0.00"},""]
[{"$nulls":6},{"$f":"IF(H686<>\"\",VLOOKUP(H686,Codes!C$1:D$475,2,FALSE),\"\")","v":""},{"$nulls":3},{"$f":"IF(J686>0,VLOOKUP(J686,' code comptes '!$A$1:$C$148,3),\"\")","v":""},null,{"v":0,"d":"0.00"},""]
[{"$nulls":6},{"$f":"IF(H687<>\"\",VLOOKUP(H687,Codes!C$1:D$475,2,FALSE),\"\")","v":""},{"$nulls":3},{"$f":"IF(J687>0,VLOOKUP(J687,' code comptes '!$A$1:$C$148,3),\"\")","v":""},null,{"v":0,"d":"0.00"},""]
[{"$nulls":6},{"$f":"IF(H688<>\"\",VLOOKUP(H688,Codes!C$1:D$475,2,FALSE),\"\")","v":""},{"$nulls":3},{"$f":"IF(J688>0,VLOOKUP(J688,' code comptes '!$A$1:$C$148,3),\"\")","v":""},null,{"v":0,"d":"0.00"},""]
[{"$nulls":6},{"$f":"IF(H689<>\"\",VLOOKUP(H689,Codes!C$1:D$475,2,FALSE),\"\")","v":""},{"$nulls":3},{"$f":"IF(J689>0,VLOOKUP(J689,' code comptes '!$A$1:$C$148,3),\"\")","v":""},null,{"v":0,"d":"0.00"},""]
[{"$nulls":6},{"$f":"IF(H690<>\"\",VLOOKUP(H690,Codes!C$1:D$475,2,FALSE),\"\")","v":""},{"$nulls":3},{"$f":"IF(J690>0,VLOOKUP(J690,' code comptes '!$A$1:$C$148,3),\"\")","v":""},null,{"v":0,"d":"0.00"},""]
[{"$nulls":6},{"$f":"IF(H691<>\"\",VLOOKUP(H691,Codes!C$1:D$475,2,FALSE),\"\")","v":""},{"$nulls":3},{"$f":"IF(J691>0,VLOOKUP(J691,' code comptes '!$A$1:$C$148,3),\"\")","v":""},null,{"v":0,"d":"0.00"},""]
[{"$nulls":6},{"$f":"IF(H692<>\"\",VLOOKUP(H692,Codes!C$1:D$475,2,FALSE),\"\")","v":""},{"$nulls":3},{"$f":"IF(J692>0,VLOOKUP(J692,' code comptes '!$A$1:$C$148,3),\"\")","v":""},null,{"v":0,"d":"0.00"},""]
[{"$nulls":6},{"$f":"IF(H693<>\"\",VLOOKUP(H693,Codes!C$1:D$475,2,FALSE),\"\")","v":""},{"$nulls":3},{"$f":"IF(J693>0,VLOOKUP(J693,' code comptes '!$A$1:$C$148,3),\"\")","v":""},null,{"v":0,"d":"0.00"},""]
[{"$nulls":6},{"$f":"IF(H694<>\"\",VLOOKUP(H694,Codes!C$1:D$475,2,FALSE),\"\")","v":""},{"$nulls":3},{"$f":"IF(J694>0,VLOOKUP(J694,' code comptes '!$A$1:$C$148,3),\"\")","v":""},null,{"v":0,"d":"0.00"},""]
[{"$nulls":6},{"$f":"IF(H695<>\"\",VLOOKUP(H695,Codes!C$1:D$475,2,FALSE),\"\")","v":""},{"$nulls":3},{"$f":"IF(J695>0,VLOOKUP(J695,' code comptes '!$A$1:$C$148,3),\"\")","v":""},null,{"v":0,"d":"0.00"},""]
[{"$nulls":6},{"$f":"IF(H696<>\"\",VLOOKUP(H696,Codes!C$1:D$475,2,FALSE),\"\")","v":""},{"$nulls":3},{"$f":"IF(J696>0,VLOOKUP(J696,' code comptes '!$A$1:$C$148,3),\"\")","v":""},null,{"v":0,"d":"0.00"},""]
[{"$nulls":6},{"$f":"IF(H697<>\"\",VLOOKUP(H697,Codes!C$1:D$475,2,FALSE),\"\")","v":""},{"$nulls":3},{"$f":"IF(J697>0,VLOOKUP(J697,' code comptes '!$A$1:$C$148,3),\"\")","v":""},null,{"v":0,"d":"0.00"},""]
[{"$nulls":6},{"$f":"IF(H698<>\"\",VLOOKUP(H698,Codes!C$1:D$475,2,FALSE),\"\")","v":""},{"$nulls":3},{"$f":"IF(J698>0,VLOOKUP(J698,' code comptes '!$A$1:$C$148,3),\"\")","v":""},null,{"v":0,"d":"0.00"},""]
[{"$nulls":6},{"$f":"IF(H699<>\"\",VLOOKUP(H699,Codes!C$1:D$475,2,FALSE),\"\")","v":""},{"$nulls":3},{"$f":"IF(J699>0,VLOOKUP(J699,' code comptes '!$A$1:$C$148,3),\"\")","v":""},null,{"v":0,"d":"0.00"},""]
[{"$nulls":6},{"$f":"IF(H700<>\"\",VLOOKUP(H700,Codes!C$1:D$475,2,FALSE),\"\")","v":""},{"$nulls":3},{"$f":"IF(J700>0,VLOOKUP(J700,' code comptes '!$A$1:$C$148,3),\"\")","v":""},null,{"v":0,"d":"0.00"},""]
[{"$nulls":6},{"$f":"IF(H701<>\"\",VLOOKUP(H701,Codes!C$1:D$475,2,FALSE),\"\")","v":""},{"$nulls":3},{"$f":"IF(J701>0,VLOOKUP(J701,' code comptes '!$A$1:$C$148,3),\"\")","v":""},null,{"v":0,"d":"0.00"},""]
[{"$nulls":6},{"$f":"IF(H702<>\"\",VLOOKUP(H702,Codes!C$1:D$475,2,FALSE),\"\")","v":""},{"$nulls":3},{"$f":"IF(J702>0,VLOOKUP(J702,' code comptes '!$A$1:$C$148,3),\"\")","v":""},null,{"v":0,"d":"0.00"},""]
[{"$nulls":6},{"$f":"IF(H703<>\"\",VLOOKUP(H703,Codes!C$1:D$475,2,FALSE),\"\")","v":""},{"$nulls":3},{"$f":"IF(J703>0,VLOOKUP(J703,' code comptes '!$A$1:$C$148,3),\"\")","v":""},null,{"v":0,"d":"0.00"},""]
[{"$nulls":6},{"$f":"IF(H704<>\"\",VLOOKUP(H704,Codes!C$1:D$475,2,FALSE),\"\")","v":""},{"$nulls":3},{"$f":"IF(J704>0,VLOOKUP(J704,' code comptes '!$A$1:$C$148,3),\"\")","v":""},null,{"v":0,"d":"0.00"},""]
[{"$nulls":6},{"$f":"IF(H705<>\"\",VLOOKUP(H705,Codes!C$1:D$475,2,FALSE),\"\")","v":""},{"$nulls":3},{"$f":"IF(J705>0,VLOOKUP(J705,' code comptes '!$A$1:$C$148,3),\"\")","v":""},null,{"v":0,"d":"0.00"},""]
[{"$nulls":6},{"$f":"IF(H706<>\"\",VLOOKUP(H706,Codes!C$1:D$475,2,FALSE),\"\")","v":""},{"$nulls":3},{"$f":"IF(J706>0,VLOOKUP(J706,' code comptes '!$A$1:$C$148,3),\"\")","v":""},null,{"v":0,"d":"0.00"},""]
[{"$nulls":6},{"$f":"IF(H707<>\"\",VLOOKUP(H707,Codes!C$1:D$475,2,FALSE),\"\")","v":""},{"$nulls":3},{"$f":"IF(J707>0,VLOOKUP(J707,' code comptes '!$A$1:$C$148,3),\"\")","v":""},null,{"v":0,"d":"0.00"},""]
[{"$nulls":6},{"$f":"IF(H708<>\"\",VLOOKUP(H708,Codes!C$1:D$475,2,FALSE),\"\")","v":""},{"$nulls":3},{"$f":"IF(J708>0,VLOOKUP(J708,' code comptes '!$A$1:$C$148,3),\"\")","v":""},null,{"v":0,"d":"0.00"},""]
[{"$nulls":6},{"$f":"IF(H709<>\"\",VLOOKUP(H709,Codes!C$1:D$475,2,FALSE),\"\")","v":""},{"$nulls":3},{"$f":"IF(J709>0,VLOOKUP(J709,' code comptes '!$A$1:$C$148,3),\"\")","v":""},null,{"v":0,"d":"0.00"},""]
[{"$nulls":6},{"$f":"IF(H710<>\"\",VLOOKUP(H710,Codes!C$1:D$475,2,FALSE),\"\")","v":""},{"$nulls":3},{"$f":"IF(J710>0,VLOOKUP(J710,' code comptes '!$A$1:$C$148,3),\"\")","v":""},null,{"v":0,"d":"0.00"},""]
[{"$nulls":6},{"$f":"IF(H711<>\"\",VLOOKUP(H711,Codes!C$1:D$475,2,FALSE),\"\")","v":""},{"$nulls":3},{"$f":"IF(J711>0,VLOOKUP(J711,' code comptes '!$A$1:$C$148,3),\"\")","v":""},null,{"v":0,"d":"0.00"},""]
[{"$nulls":6},{"$f":"IF(H712<>\"\",VLOOKUP(H712,Codes!C$1:D$475,2,FALSE),\"\")","v":""},{"$nulls":3},{"$f":"IF(J712>0,VLOOKUP(J712,' code comptes '!$A$1:$C$148,3),\"\")","v":""},null,{"v":0,"d":"0.00"},""]
[{"$nulls":6},{"$f":"IF(H713<>\"\",VLOOKUP(H713,Codes!C$1:D$475,2,FALSE),\"\")","v":""},{"$nulls":3},{"$f":"IF(J713>0,VLOOKUP(J713,' code comptes '!$A$1:$C$148,3),\"\")","v":""},null,{"v":0,"d":"0.00"},""]
[{"$nulls":6},{"$f":"IF(H714<>\"\",VLOOKUP(H714,Codes!C$1:D$475,2,FALSE),\"\")","v":""},{"$nulls":3},{"$f":"IF(J714>0,VLOOKUP(J714,' code comptes '!$A$1:$C$148,3),\"\")","v":""},null,{"v":0,"d":"0.00"},""]
[{"$nulls":6},{"$f":"IF(H715<>\"\",VLOOKUP(H715,Codes!C$1:D$475,2,FALSE),\"\")","v":""},{"$nulls":3},{"$f":"IF(J715>0,VLOOKUP(J715,' code comptes '!$A$1:$C$148,3),\"\")","v":""},null,{"v":0,"d":"0.00"},""]
[{"$nulls":6},{"$f":"IF(H716<>\"\",VLOOKUP(H716,Codes!C$1:D$475,2,FALSE),\"\")","v":""},{"$nulls":3},{"$f":"IF(J716>0,VLOOKUP(J716,' code comptes '!$A$1:$C$148,3),\"\")","v":""},null,{"v":0,"d":"0.00"},""]
[{"$nulls":6},{"$f":"IF(H717<>\"\",VLOOKUP(H717,Codes!C$1:D$475,2,FALSE),\"\")","v":""},{"$nulls":3},{"$f":"IF(J717>0,VLOOKUP(J717,' code comptes '!$A$1:$C$148,3),\"\")","v":""},null,{"v":0,"d":"0.00"},""]
[{"$nulls":6},{"$f":"IF(H718<>\"\",VLOOKUP(H718,Codes!C$1:D$475,2,FALSE),\"\")","v":""},{"$nulls":3},{"$f":"IF(J718>0,VLOOKUP(J718,' code comptes '!$A$1:$C$148,3),\"\")","v":""},null,{"v":0,"d":"0.00"},""]
[{"$nulls":6},{"$f":"IF(H719<>\"\",VLOOKUP(H719,Codes!C$1:D$475,2,FALSE),\"\")","v":""},{"$nulls":3},{"$f":"IF(J719>0,VLOOKUP(J719,' code comptes '!$A$1:$C$148,3),\"\")","v":""},null,{"v":0,"d":"0.00"},""]
[{"$nulls":6},{"$f":"IF(H720<>\"\",VLOOKUP(H720,Codes!C$1:D$475,2,FALSE),\"\")","v":""},{"$nulls":3},{"$f":"IF(J720>0,VLOOKUP(J720,' code comptes '!$A$1:$C$148,3),\"\")","v":""},null,{"v":0,"d":"0.00"},""]
[{"$nulls":6},{"$f":"IF(H721<>\"\",VLOOKUP(H721,Codes!C$1:D$475,2,FALSE),\"\")","v":""},{"$nulls":3},{"$f":"IF(J721>0,VLOOKUP(J721,' code comptes '!$A$1:$C$148,3),\"\")","v":""},null,{"v":0,"d":"0.00"},""]
[{"$nulls":6},{"$f":"IF(H722<>\"\",VLOOKUP(H722,Codes!C$1:D$475,2,FALSE),\"\")","v":""},{"$nulls":3},{"$f":"IF(J722>0,VLOOKUP(J722,' code comptes '!$A$1:$C$148,3),\"\")","v":""},null,{"v":0,"d":"0.00"},""]
[{"$nulls":6},{"$f":"IF(H723<>\"\",VLOOKUP(H723,Codes!C$1:D$475,2,FALSE),\"\")","v":""},{"$nulls":3},{"$f":"IF(J723>0,VLOOKUP(J723,' code comptes '!$A$1:$C$148,3),\"\")","v":""},null,{"v":0,"d":"0.00"},""]
[{"$nulls":6},{"$f":"IF(H724<>\"\",VLOOKUP(H724,Codes!C$1:D$475,2,FALSE),\"\")","v":""},{"$nulls":3},{"$f":"IF(J724>0,VLOOKUP(J724,' code comptes '!$A$1:$C$148,3),\"\")","v":""},null,{"v":0,"d":"0.00"},""]
[{"$nulls":6},{"$f":"IF(H725<>\"\",VLOOKUP(H725,Codes!C$1:D$475,2,FALSE),\"\")","v":""},{"$nulls":3},{"$f":"IF(J725>0,VLOOKUP(J725,' code comptes '!$A$1:$C$148,3),\"\")","v":""},null,{"v":0,"d":"0.00"},""]
[{"$nulls":6},{"$f":"IF(H726<>\"\",VLOOKUP(H726,Codes!C$1:D$475,2,FALSE),\"\")","v":""},{"$nulls":3},{"$f":"IF(J726>0,VLOOKUP(J726,' code comptes '!$A$1:$C$148,3),\"\")","v":""},null,{"v":0,"d":"0.00"},""]
[{"$nulls":6},{"$f":"IF(H727<>\"\",VLOOKUP(H727,Codes!C$1:D$475,2,FALSE),\"\")","v":""},{"$nulls":3},{"$f":"IF(J727>0,VLOOKUP(J727,' code comptes '!$A$1:$C$148,3),\"\")","v":""},null,{"v":0,"d":"0.00"},""]
[{"$nulls":6},{"$f":"IF(H728<>\"\",VLOOKUP(H728,Codes!C$1:D$475,2,FALSE),\"\")","v":""},{"$nulls":3},{"$f":"IF(J728>0,VLOOKUP(J728,' code comptes '!$A$1:$C$148,3),\"\")","v":""},null,{"v":0,"d":"0.00"},""]
[{"$nulls":6},{"$f":"IF(H729<>\"\",VLOOKUP(H729,Codes!C$1:D$475,2,FALSE),\"\")","v":""},{"$nulls":3},{"$f":"IF(J729>0,VLOOKUP(J729,' code comptes '!$A$1:$C$148,3),\"\")","v":""},null,{"v":0,"d":"0.00"},""]
[{"$nulls":6},{"$f":"IF(H730<>\"\",VLOOKUP(H730,Codes!C$1:D$475,2,FALSE),\"\")","v":""},{"$nulls":3},{"$f":"IF(J730>0,VLOOKUP(J730,' code comptes '!$A$1:$C$148,3),\"\")","v":""},null,{"v":0,"d":"0.00"},""]
[{"$nulls":6},{"$f":"IF(H731<>\"\",VLOOKUP(H731,Codes!C$1:D$475,2,FALSE),\"\")","v":""},{"$nulls":3},{"$f":"IF(J731>0,VLOOKUP(J731,' code comptes '!$A$1:$C$148,3),\"\")","v":""},null,{"v":0,"d":"0.00"},""]
[{"$nulls":6},{"$f":"IF(H732<>\"\",VLOOKUP(H732,Codes!C$1:D$475,2,FALSE),\"\")","v":""},{"$nulls":3},{"$f":"IF(J732>0,VLOOKUP(J732,' code comptes '!$A$1:$C$148,3),\"\")","v":""},null,{"v":0,"d":"0.00"},""]
[{"$nulls":6},{"$f":"IF(H733<>\"\",VLOOKUP(H733,Codes!C$1:D$475,2,FALSE),\"\")","v":""},{"$nulls":3},{"$f":"IF(J733>0,VLOOKUP(J733,' code comptes '!$A$1:$C$148,3),\"\")","v":""},null,{"v":0,"d":"0.00"},""]
[{"$nulls":6},{"$f":"IF(H734<>\"\",VLOOKUP(H734,Codes!C$1:D$475,2,FALSE),\"\")","v":""},{"$nulls":3},{"$f":"IF(J734>0,VLOOKUP(J734,' code comptes '!$A$1:$C$148,3),\"\")","v":""},null,{"v":0,"d":"0.00"},""]
[{"$nulls":6},{"$f":"IF(H735<>\"\",VLOOKUP(H735,Codes!C$1:D$475,2,FALSE),\"\")","v":""},{"$nulls":3},{"$f":"IF(J735>0,VLOOKUP(J735,' code comptes '!$A$1:$C$148,3),\"\")","v":""},null,{"v":0,"d":"0.00"},""]
[{"$nulls":6},{"$f":"IF(H736<>\"\",VLOOKUP(H736,Codes!C$1:D$475,2,FALSE),\"\")","v":""},{"$nulls":3},{"$f":"IF(J736>0,VLOOKUP(J736,' code comptes '!$A$1:$C$148,3),\"\")","v":""},null,{"v":0,"d":"0.00"},""]
[{"$nulls":6},{"$f":"IF(H737<>\"\",VLOOKUP(H737,Codes!C$1:D$475,2,FALSE),\"\")","v":""},{"$nulls":3},{"$f":"IF(J737>0,VLOOKUP(J737,' code comptes '!$A$1:$C$148,3),\"\")","v":""},null,{"v":0,"d":"0.00"},""]
[{"$nulls":6},{"$f":"IF(H738<>\"\",VLOOKUP(H738,Codes!C$1:D$475,2,FALSE),\"\")","v":""},{"$nulls":3},{"$f":"IF(J738>0,VLOOKUP(J738,' code comptes '!$A$1:$C$148,3),\"\")","v":""},null,{"v":0,"d":"0.00"},""]
[{"$nulls":6},{"$f":"IF(H739<>\"\",VLOOKUP(H739,Codes!C$1:D$475,2,FALSE),\"\")","v":""},{"$nulls":3},{"$f":"IF(J739>0,VLOOKUP(J739,' code comptes '!$A$1:$C$148,3),\"\")","v":""},null,{"v":0,"d":"0.00"},""]
[{"$nulls":6},{"$f":"IF(H740<>\"\",VLOOKUP(H740,Codes!C$1:D$475,2,FALSE),\"\")","v":""},{"$nulls":3},{"$f":"IF(J740>0,VLOOKUP(J740,' code comptes '!$A$1:$C$148,3),\"\")","v":""},null,{"v":0,"d":"0.00"},""]
[{"$nulls":6},{"$f":"IF(H741<>\"\",VLOOKUP(H741,Codes!C$1:D$475,2,FALSE),\"\")","v":""},{"$nulls":3},{"$f":"IF(J741>0,VLOOKUP(J741,' code comptes '!$A$1:$C$148,3),\"\")","v":""},null,{"v":0,"d":"0.00"},""]
[{"$nulls":6},{"$f":"IF(H742<>\"\",VLOOKUP(H742,Codes!C$1:D$475,2,FALSE),\"\")","v":""},{"$nulls":3},{"$f":"IF(J742>0,VLOOKUP(J742,' code comptes '!$A$1:$C$148,3),\"\")","v":""},null,{"v":0,"d":"0.00"},""]
[{"$nulls":6},{"$f":"IF(H743<>\"\",VLOOKUP(H743,Codes!C$1:D$475,2,FALSE),\"\")","v":""},{"$nulls":3},{"$f":"IF(J743>0,VLOOKUP(J743,' code comptes '!$A$1:$C$148,3),\"\")","v":""},null,{"v":0,"d":"0.00"},""]
[{"$nulls":6},{"$f":"IF(H744<>\"\",VLOOKUP(H744,Codes!C$1:D$475,2,FALSE),\"\")","v":""},{"$nulls":3},{"$f":"IF(J744>0,VLOOKUP(J744,' code comptes '!$A$1:$C$148,3),\"\")","v":""},null,{"v":0,"d":"0.00"},""]
[{"$nulls":6},{"$f":"IF(H745<>\"\",VLOOKUP(H745,Codes!C$1:D$475,2,FALSE),\"\")","v":""},{"$nulls":3},{"$f":"IF(J745>0,VLOOKUP(J745,' code comptes '!$A$1:$C$148,3),\"\")","v":""},null,{"v":0,"d":"0.00"},""]
[{"$nulls":6},{"$f":"IF(H746<>\"\",VLOOKUP(H746,Codes!C$1:D$475,2,FALSE),\"\")","v":""},{"$nulls":3},{"$f":"IF(J746>0,VLOOKUP(J746,' code comptes '!$A$1:$C$148,3),\"\")","v":""},null,{"v":0,"d":"0.00"},""]
[{"$nulls":6},{"$f":"IF(H747<>\"\",VLOOKUP(H747,Codes!C$1:D$475,2,FALSE),\"\")","v":""},{"$nulls":3},{"$f":"IF(J747>0,VLOOKUP(J747,' code comptes '!$A$1:$C$148,3),\"\")","v":""},null,{"v":0,"d":"0.00"},""]
[{"$nulls":6},{"$f":"IF(H748<>\"\",VLOOKUP(H748,Codes!C$1:D$475,2,FALSE),\"\")","v":""},{"$nulls":3},{"$f":"IF(J748>0,VLOOKUP(J748,' code comptes '!$A$1:$C$148,3),\"\")","v":""},null,{"v":0,"d":"0.00"},""]
[{"$nulls":6},{"$f":"IF(H749<>\"\",VLOOKUP(H749,Codes!C$1:D$475,2,FALSE),\"\")","v":""},{"$nulls":3},{"$f":"IF(J749>0,VLOOKUP(J749,' code comptes '!$A$1:$C$148,3),\"\")","v":""},null,{"v":0,"d":"0.00"},""]
[{"$nulls":6},{"$f":"IF(H750<>\"\",VLOOKUP(H750,Codes!C$1:D$475,2,FALSE),\"\")","v":""},{"$nulls":3},{"$f":"IF(J750>0,VLOOKUP(J750,' code comptes '!$A$1:$C$148,3),\"\")","v":""},null,{"v":0,"d":"0.00"},""]
[{"$nulls":6},{"$f":"IF(H751<>\"\",VLOOKUP(H751,Codes!C$1:D$475,2,FALSE),\"\")","v":""},{"$nulls":3},{"$f":"IF(J751>0,VLOOKUP(J751,' code comptes '!$A$1:$C$148,3),\"\")","v":""},null,{"v":0,"d":"0.00"},""]
[{"$nulls":6},{"$f":"IF(H752<>\"\",VLOOKUP(H752,Codes!C$1:D$475,2,FALSE),\"\")","v":""},{"$nulls":3},{"$f":"IF(J752>0,VLOOKUP(J752,' code comptes '!$A$1:$C$148,3),\"\")","v":""},null,{"v":0,"d":"0.00"},""]
[{"$nulls":6},{"$f":"IF(H753<>\"\",VLOOKUP(H753,Codes!C$1:D$475,2,FALSE),\"\")","v":""},{"$nulls":3},{"$f":"IF(J753>0,VLOOKUP(J753,' code comptes '!$A$1:$C$148,3),\"\")","v":""},null,{"v":0,"d":"0.00"},""]
[{"$nulls":6},{"$f":"IF(H754<>\"\",VLOOKUP(H754,Codes!C$1:D$475,2,FALSE),\"\")","v":""},{"$nulls":3},{"$f":"IF(J754>0,VLOOKUP(J754,' code comptes '!$A$1:$C$148,3),\"\")","v":""},null,{"v":0,"d":"0.00"},""]
[{"$nulls":6},{"$f":"IF(H755<>\"\",VLOOKUP(H755,Codes!C$1:D$475,2,FALSE),\"\")","v":""},{"$nulls":3},{"$f":"IF(J755>0,VLOOKUP(J755,' code comptes '!$A$1:$C$148,3),\"\")","v":""},null,{"v":0,"d":"0.00"},""]
[{"$nulls":6},{"$f":"IF(H756<>\"\",VLOOKUP(H756,Codes!C$1:D$475,2,FALSE),\"\")","v":""},{"$nulls":3},{"$f":"IF(J756>0,VLOOKUP(J756,' code comptes '!$A$1:$C$148,3),\"\")","v":""},null,{"v":0,"d":"0.00"},""]
[{"$nulls":6},{"$f":"IF(H757<>\"\",VLOOKUP(H757,Codes!C$1:D$475,2,FALSE),\"\")","v":""},{"$nulls":3},{"$f":"IF(J757>0,VLOOKUP(J757,' code comptes '!$A$1:$C$148,3),\"\")","v":""},null,{"v":0,"d":"0.00"},""]
[{"$nulls":6},{"$f":"IF(H758<>\"\",VLOOKUP(H758,Codes!C$1:D$475,2,FALSE),\"\")","v":""},{"$nulls":3},{"$f":"IF(J758>0,VLOOKUP(J758,' code comptes '!$A$1:$C$148,3),\"\")","v":""},null,{"v":0,"d":"0.00"},""]
[{"$nulls":6},{"$f":"IF(H759<>\"\",VLOOKUP(H759,Codes!C$1:D$475,2,FALSE),\"\")","v":""},{"$nulls":3},{"$f":"IF(J759>0,VLOOKUP(J759,' code comptes '!$A$1:$C$148,3),\"\")","v":""},null,{"v":0,"d":"0.00"},""]
[{"$nulls":6},{"$f":"IF(H760<>\"\",VLOOKUP(H760,Codes!C$1:D$475,2,FALSE),\"\")","v":""},{"$nulls":3},{"$f":"IF(J760>0,VLOOKUP(J760,' code comptes '!$A$1:$C$148,3),\"\")","v":""},null,{"v":0,"d":"0.00"},""]
[{"$nulls":6},{"$f":"IF(H761<>\"\",VLOOKUP(H761,Codes!C$1:D$475,2,FALSE),\"\")","v":""},{"$nulls":3},{"$f":"IF(J761>0,VLOOKUP(J761,' code comptes '!$A$1:$C$148,3),\"\")","v":""},null,{"v":0,"d":"0.00"},""]
[{"$nulls":6},{"$f":"IF(H762<>\"\",VLOOKUP(H762,Codes!C$1:D$475,2,FALSE),\"\")","v":""},{"$nulls":3},{"$f":"IF(J762>0,VLOOKUP(J762,' code comptes '!$A$1:$C$148,3),\"\")","v":""},null,{"v":0,"d":"0.00"},""]
[{"$nulls":6},{"$f":"IF(H763<>\"\",VLOOKUP(H763,Codes!C$1:D$475,2,FALSE),\"\")","v":""},{"$nulls":3},{"$f":"IF(J763>0,VLOOKUP(J763,' code comptes '!$A$1:$C$148,3),\"\")","v":""},null,{"v":0,"d":"0.00"},""]
[{"$nulls":6},{"$f":"IF(H764<>\"\",VLOOKUP(H764,Codes!C$1:D$475,2,FALSE),\"\")","v":""},{"$nulls":3},{"$f":"IF(J764>0,VLOOKUP(J764,' code comptes '!$A$1:$C$148,3),\"\")","v":""},null,{"v":0,"d":"0.00"},""]
[{"$nulls":6},{"$f":"IF(H765<>\"\",VLOOKUP(H765,Codes!C$1:D$475,2,FALSE),\"\")","v":""},{"$nulls":3},{"$f":"IF(J765>0,VLOOKUP(J765,' code comptes '!$A$1:$C$148,3),\"\")","v":""},null,{"v":0,"d":"0.00"},""]
[{"$nulls":6},{"$f":"IF(H766<>\"\",VLOOKUP(H766,Codes!C$1:D$475,2,FALSE),\"\")","v":""},{"$nulls":3},{"$f":"IF(J766>0,VLOOKUP(J766,' code comptes '!$A$1:$C$148,3),\"\")","v":""},null,{"v":0,"d":"0.00"},""]
[{"$nulls":6},{"$f":"IF(H767<>\"\",VLOOKUP(H767,Codes!C$1:D$475,2,FALSE),\"\")","v":""},{"$nulls":3},{"$f":"IF(J767>0,VLOOKUP(J767,' code comptes '!$A$1:$C$148,3),\"\")","v":""},null,{"v":0,"d":"0.00"},""]
[{"$nulls":6},{"$f":"IF(H768<>\"\",VLOOKUP(H768,Codes!C$1:D$475,2,FALSE),\"\")","v":""}]
[{"$nulls":6},{"$f":"IF(H769<>\"\",VLOOKUP(H769,Codes!C$1:D$475,2,FALSE),\"\")","v":""}]
[{"$nulls":6},{"$f":"IF(H770<>\"\",VLOOKUP(H770,Codes!C$1:D$475,2,FALSE),\"\")","v":""}]
[{"$nulls":6},{"$f":"IF(H771<>\"\",VLOOKUP(H771,Codes!C$1:D$475,2,FALSE),\"\")","v":""}]
[{"$nulls":6},{"$f":"IF(H772<>\"\",VLOOKUP(H772,Codes!C$1:D$475,2,FALSE),\"\")","v":""}]
[{"$nulls":6},{"$f":"IF(H773<>\"\",VLOOKUP(H773,Codes!C$1:D$475,2,FALSE),\"\")","v":""}]
[{"$nulls":6},{"$f":"IF(H774<>\"\",VLOOKUP(H774,Codes!C$1:D$475,2,FALSE),\"\")","v":""}]
[{"$nulls":6},{"$f":"IF(H775<>\"\",VLOOKUP(H775,Codes!C$1:D$475,2,FALSE),\"\")","v":""}]
[{"$nulls":6},{"$f":"IF(H776<>\"\",VLOOKUP(H776,Codes!C$1:D$475,2,FALSE),\"\")","v":""}]
[{"$nulls":6},{"$f":"IF(H777<>\"\",VLOOKUP(H777,Codes!C$1:D$475,2,FALSE),\"\")","v":""}]
[{"$nulls":6},{"$f":"IF(H778<>\"\",VLOOKUP(H778,Codes!C$1:D$475,2,FALSE),\"\")","v":""}]
[{"$nulls":6},{"$f":"IF(H779<>\"\",VLOOKUP(H779,Codes!C$1:D$475,2,FALSE),\"\")","v":""}]
[{"$nulls":6},{"$f":"IF(H780<>\"\",VLOOKUP(H780,Codes!C$1:D$475,2,FALSE),\"\")","v":""}]
[{"$nulls":6},{"$f":"IF(H781<>\"\",VLOOKUP(H781,Codes!C$1:D$475,2,FALSE),\"\")","v":""}]
[{"$nulls":6},{"$f":"IF(H782<>\"\",VLOOKUP(H782,Codes!C$1:D$475,2,FALSE),\"\")","v":""}]
[{"$nulls":6},{"$f":"IF(H783<>\"\",VLOOKUP(H783,Codes!C$1:D$475,2,FALSE),\"\")","v":""}]
[{"$nulls":6},{"$f":"IF(H784<>\"\",VLOOKUP(H784,Codes!C$1:D$475,2,FALSE),\"\")","v":""}]
[{"$nulls":6},{"$f":"IF(H785<>\"\",VLOOKUP(H785,Codes!C$1:D$475,2,FALSE),\"\")","v":""}]
[{"$nulls":6},{"$f":"IF(H786<>\"\",VLOOKUP(H786,Codes!C$1:D$475,2,FALSE),\"\")","v":""}]
[{"$nulls":6},{"$f":"IF(H787<>\"\",VLOOKUP(H787,Codes!C$1:D$475,2,FALSE),\"\")","v":""}]
[{"$nulls":6},{"$f":"IF(H788<>\"\",VLOOKUP(H788,Codes!C$1:D$475,2,FALSE),\"\")","v":""}]
[{"$nulls":6},{"$f":"IF(H789<>\"\",VLOOKUP(H789,Codes!C$1:D$475,2,FALSE),\"\")","v":""}]
[{"$nulls":6},{"$f":"IF(H790<>\"\",VLOOKUP(H790,Codes!C$1:D$475,2,FALSE),\"\")","v":""}]
[{"$nulls":6},{"$f":"IF(H791<>\"\",VLOOKUP(H791,Codes!C$1:D$475,2,FALSE),\"\")","v":""}]
[{"$nulls":6},{"$f":"IF(H792<>\"\",VLOOKUP(H792,Codes!C$1:D$475,2,FALSE),\"\")","v":""}]
[{"$nulls":6},{"$f":"IF(H793<>\"\",VLOOKUP(H793,Codes!C$1:D$475,2,FALSE),\"\")","v":""}]
[{"$nulls":6},{"$f":"IF(H794<>\"\",VLOOKUP(H794,Codes!C$1:D$475,2,FALSE),\"\")","v":""}]
[{"$nulls":6},{"$f":"IF(H795<>\"\",VLOOKUP(H795,Codes!C$1:D$475,2,FALSE),\"\")","v":""}]
[{"$nulls":6},{"$f":"IF(H796<>\"\",VLOOKUP(H796,Codes!C$1:D$475,2,FALSE),\"\")","v":""}]
[{"$nulls":6},{"$f":"IF(H797<>\"\",VLOOKUP(H797,Codes!C$1:D$475,2,FALSE),\"\")","v":""}]
[{"$nulls":6},{"$f":"IF(H798<>\"\",VLOOKUP(H798,Codes!C$1:D$475,2,FALSE),\"\")","v":""}]
[{"$nulls":6},{"$f":"IF(H799<>\"\",VLOOKUP(H799,Codes!C$1:D$475,2,FALSE),\"\")","v":""}]
[{"$nulls":6},{"$f":"IF(H800<>\"\",VLOOKUP(H800,Codes!C$1:D$475,2,FALSE),\"\")","v":""}]
[{"$nulls":6},{"$f":"IF(H801<>\"\",VLOOKUP(H801,Codes!C$1:D$475,2,FALSE),\"\")","v":""}]
[{"$nulls":6},{"$f":"IF(H802<>\"\",VLOOKUP(H802,Codes!C$1:D$475,2,FALSE),\"\")","v":""}]
[{"$nulls":6},{"$f":"IF(H803<>\"\",VLOOKUP(H803,Codes!C$1:D$475,2,FALSE),\"\")","v":""}]
[{"$nulls":6},{"$f":"IF(H804<>\"\",VLOOKUP(H804,Codes!C$1:D$475,2,FALSE),\"\")","v":""}]
[{"$nulls":6},{"$f":"IF(H805<>\"\",VLOOKUP(H805,Codes!C$1:D$475,2,FALSE),\"\")","v":""}]
[{"$nulls":6},{"$f":"IF(H806<>\"\",VLOOKUP(H806,Codes!C$1:D$475,2,FALSE),\"\")","v":""}]
[{"$nulls":6},{"$f":"IF(H807<>\"\",VLOOKUP(H807,Codes!C$1:D$475,2,FALSE),\"\")","v":""}]
[{"$nulls":6},{"$f":"IF(H808<>\"\",VLOOKUP(H808,Codes!C$1:D$475,2,FALSE),\"\")","v":""}]
[{"$nulls":6},{"$f":"IF(H809<>\"\",VLOOKUP(H809,Codes!C$1:D$475,2,FALSE),\"\")","v":""}]
[{"$nulls":6},{"$f":"IF(H810<>\"\",VLOOKUP(H810,Codes!C$1:D$475,2,FALSE),\"\")","v":""}]
[{"$nulls":6},{"$f":"IF(H811<>\"\",VLOOKUP(H811,Codes!C$1:D$475,2,FALSE),\"\")","v":""}]
[{"$nulls":6},{"$f":"IF(H812<>\"\",VLOOKUP(H812,Codes!C$1:D$475,2,FALSE),\"\")","v":""}]
[{"$nulls":6},{"$f":"IF(H813<>\"\",VLOOKUP(H813,Codes!C$1:D$475,2,FALSE),\"\")","v":""}]
[{"$nulls":6},{"$f":"IF(H814<>\"\",VLOOKUP(H814,Codes!C$1:D$475,2,FALSE),\"\")","v":""}]
[{"$nulls":6},{"$f":"IF(H815<>\"\",VLOOKUP(H815,Codes!C$1:D$475,2,FALSE),\"\")","v":""}]
[{"$nulls":6},{"$f":"IF(H816<>\"\",VLOOKUP(H816,Codes!C$1:D$475,2,FALSE),\"\")","v":""}]
[{"$nulls":6},{"$f":"IF(H817<>\"\",VLOOKUP(H817,Codes!C$1:D$475,2,FALSE),\"\")","v":""}]
[{"$nulls":6},{"$f":"IF(H818<>\"\",VLOOKUP(H818,Codes!C$1:D$475,2,FALSE),\"\")","v":""}]
[{"$nulls":6},{"$f":"IF(H819<>\"\",VLOOKUP(H819,Codes!C$1:D$475,2,FALSE),\"\")","v":""}]
[{"$nulls":6},{"$f":"IF(H820<>\"\",VLOOKUP(H820,Codes!C$1:D$475,2,FALSE),\"\")","v":""}]
[{"$nulls":6},{"$f":"IF(H821<>\"\",VLOOKUP(H821,Codes!C$1:D$475,2,FALSE),\"\")","v":""}]
[{"$nulls":6},{"$f":"IF(H822<>\"\",VLOOKUP(H822,Codes!C$1:D$475,2,FALSE),\"\")","v":""}]
[{"$nulls":6},{"$f":"IF(H823<>\"\",VLOOKUP(H823,Codes!C$1:D$475,2,FALSE),\"\")","v":""}]
[{"$nulls":6},{"$f":"IF(H824<>\"\",VLOOKUP(H824,Codes!C$1:D$475,2,FALSE),\"\")","v":""}]
[{"$nulls":6},{"$f":"IF(H825<>\"\",VLOOKUP(H825,Codes!C$1:D$475,2,FALSE),\"\")","v":""}]
[{"$nulls":6},{"$f":"IF(H826<>\"\",VLOOKUP(H826,Codes!C$1:D$475,2,FALSE),\"\")","v":""}]
[{"$nulls":6},{"$f":"IF(H827<>\"\",VLOOKUP(H827,Codes!C$1:D$475,2,FALSE),\"\")","v":""}]
[{"$nulls":6},{"$f":"IF(H828<>\"\",VLOOKUP(H828,Codes!C$1:D$475,2,FALSE),\"\")","v":""}]
[{"$nulls":6},{"$f":"IF(H829<>\"\",VLOOKUP(H829,Codes!C$1:D$475,2,FALSE),\"\")","v":""}]
[{"$nulls":6},{"$f":"IF(H830<>\"\",VLOOKUP(H830,Codes!C$1:D$475,2,FALSE),\"\")","v":""}]
[{"$nulls":6},{"$f":"IF(H831<>\"\",VLOOKUP(H831,Codes!C$1:D$475,2,FALSE),\"\")","v":""}]
[{"$nulls":6},{"$f":"IF(H832<>\"\",VLOOKUP(H832,Codes!C$1:D$475,2,FALSE),\"\")","v":""}]
[{"$nulls":6},{"$f":"IF(H833<>\"\",VLOOKUP(H833,Codes!C$1:D$475,2,FALSE),\"\")","v":""}]
[{"$nulls":6},{"$f":"IF(H834<>\"\",VLOOKUP(H834,Codes!C$1:D$475,2,FALSE),\"\")","v":""}]
[{"$nulls":6},{"$f":"IF(H835<>\"\",VLOOKUP(H835,Codes!C$1:D$475,2,FALSE),\"\")","v":""}]
[{"$nulls":6},{"$f":"IF(H836<>\"\",VLOOKUP(H836,Codes!C$1:D$475,2,FALSE),\"\")","v":""}]
[{"$nulls":6},{"$f":"IF(H837<>\"\",VLOOKUP(H837,Codes!C$1:D$475,2,FALSE),\"\")","v":""}]
[{"$nulls":6},{"$f":"IF(H838<>\"\",VLOOKUP(H838,Codes!C$1:D$475,2,FALSE),\"\")","v":""}]
[{"$nulls":6},{"$f":"IF(H839<>\"\",VLOOKUP(H839,Codes!C$1:D$475,2,FALSE),\"\")","v":""}]
[{"$nulls":6},{"$f":"IF(H840<>\"\",VLOOKUP(H840,Codes!C$1:D$475,2,FALSE),\"\")","v":""}]
[{"$nulls":6},{"$f":"IF(H841<>\"\",VLOOKUP(H841,Codes!C$1:D$475,2,FALSE),\"\")","v":""}]
[{"$nulls":6},{"$f":"IF(H842<>\"\",VLOOKUP(H842,Codes!C$1:D$475,2,FALSE),\"\")","v":""}]
[{"$nulls":6},{"$f":"IF(H843<>\"\",VLOOKUP(H843,Codes!C$1:D$475,2,FALSE),\"\")","v":""}]
[{"$nulls":6},{"$f":"IF(H844<>\"\",VLOOKUP(H844,Codes!C$1:D$475,2,FALSE),\"\")","v":""}]
[{"$nulls":6},{"$f":"IF(H845<>\"\",VLOOKUP(H845,Codes!C$1:D$475,2,FALSE),\"\")","v":""}]
[{"$nulls":6},{"$f":"IF(H846<>\"\",VLOOKUP(H846,Codes!C$1:D$475,2,FALSE),\"\")","v":""}]
[{"$nulls":6},{"$f":"IF(H847<>\"\",VLOOKUP(H847,Codes!C$1:D$475,2,FALSE),\"\")","v":""}]
[{"$nulls":6},{"$f":"IF(H848<>\"\",VLOOKUP(H848,Codes!C$1:D$475,2,FALSE),\"\")","v":""}]
[{"$nulls":6},{"$f":"IF(H849<>\"\",VLOOKUP(H849,Codes!C$1:D$475,2,FALSE),\"\")","v":""}]
[{"$nulls":6},{"$f":"IF(H850<>\"\",VLOOKUP(H850,Codes!C$1:D$475,2,FALSE),\"\")","v":""}]
[{"$nulls":6},{"$f":"IF(H851<>\"\",VLOOKUP(H851,Codes!C$1:D$475,2,FALSE),\"\")","v":""}]
[{"$nulls":6},{"$f":"IF(H852<>\"\",VLOOKUP(H852,Codes!C$1:D$475,2,FALSE),\"\")","v":""}]
[{"$nulls":6},{"$f":"IF(H853<>\"\",VLOOKUP(H853,Codes!C$1:D$475,2,FALSE),\"\")","v":""}]
[{"$nulls":6},{"$f":"IF(H854<>\"\",VLOOKUP(H854,Codes!C$1:D$475,2,FALSE),\"\")","v":""}]
[{"$nulls":6},{"$f":"IF(H855<>\"\",VLOOKUP(H855,Codes!C$1:D$475,2,FALSE),\"\")","v":""}]
[{"$nulls":6},{"$f":"IF(H856<>\"\",VLOOKUP(H856,Codes!C$1:D$475,2,FALSE),\"\")","v":""}]
[{"$nulls":6},{"$f":"IF(H857<>\"\",VLOOKUP(H857,Codes!C$1:D$475,2,FALSE),\"\")","v":""}]
[{"$nulls":6},{"$f":"IF(H858<>\"\",VLOOKUP(H858,Codes!C$1:D$475,2,FALSE),\"\")","v":""}]
[{"$nulls":6},{"$f":"IF(H859<>\"\",VLOOKUP(H859,Codes!C$1:D$475,2,FALSE),\"\")","v":""}]
[{"$nulls":6},{"$f":"IF(H860<>\"\",VLOOKUP(H860,Codes!C$1:D$475,2,FALSE),\"\")","v":""}]
[{"$nulls":6},{"$f":"IF(H861<>\"\",VLOOKUP(H861,Codes!C$1:D$475,2,FALSE),\"\")","v":""}]
[{"$nulls":6},{"$f":"IF(H862<>\"\",VLOOKUP(H862,Codes!C$1:D$475,2,FALSE),\"\")","v":""}]
[{"$nulls":6},{"$f":"IF(H863<>\"\",VLOOKUP(H863,Codes!C$1:D$475,2,FALSE),\"\")","v":""}]
[{"$nulls":6},{"$f":"IF(H864<>\"\",VLOOKUP(H864,Codes!C$1:D$475,2,FALSE),\"\")","v":""}]
[{"$nulls":6},{"$f":"IF(H865<>\"\",VLOOKUP(H865,Codes!C$1:D$475,2,FALSE),\"\")","v":""}]
[{"$nulls":6},{"$f":"IF(H866<>\"\",VLOOKUP(H866,Codes!C$1:D$475,2,FALSE),\"\")","v":""}]
[{"$nulls":6},{"$f":"IF(H867<>\"\",VLOOKUP(H867,Codes!C$1:D$475,2,FALSE),\"\")","v":""}]
[{"$nulls":6},{"$f":"IF(H868<>\"\",VLOOKUP(H868,Codes!C$1:D$475,2,FALSE),\"\")","v":""}]
[{"$nulls":6},{"$f":"IF(H869<>\"\",VLOOKUP(H869,Codes!C$1:D$475,2,FALSE),\"\")","v":""}]
[{"$nulls":6},{"$f":"IF(H870<>\"\",VLOOKUP(H870,Codes!C$1:D$475,2,FALSE),\"\")","v":""}]
[{"$nulls":6},{"$f":"IF(H871<>\"\",VLOOKUP(H871,Codes!C$1:D$475,2,FALSE),\"\")","v":""}]
[{"$nulls":6},{"$f":"IF(H872<>\"\",VLOOKUP(H872,Codes!C$1:D$475,2,FALSE),\"\")","v":""}]
[{"$nulls":6},{"$f":"IF(H873<>\"\",VLOOKUP(H873,Codes!C$1:D$475,2,FALSE),\"\")","v":""}]
[{"$nulls":6},{"$f":"IF(H874<>\"\",VLOOKUP(H874,Codes!C$1:D$475,2,FALSE),\"\")","v":""},{"$nulls":3},{"$f":"IF(J874>0,VLOOKUP(J874,' code comptes '!$A$1:$C$148,3),\"\")","v":""},null,{"$f":"D767","v":{"v":0,"d":"0.00"}},{"$f":"+CONCATENATE(G767,H767)","v":""}]
[{"$nulls":6},{"$f":"IF(H875<>\"\",VLOOKUP(H875,Codes!C$1:D$475,2,FALSE),\"\")","v":""},{"$nulls":3},{"$f":"IF(J875>0,VLOOKUP(J875,' code comptes '!$A$1:$C$148,3),\"\")","v":""},null,{"$f":"D874","v":{"v":0,"d":"0.00"}},{"$f":"+CONCATENATE(G874,H874)","v":""}]
[{"$nulls":6},{"$f":"IF(H876<>\"\",VLOOKUP(H876,Codes!C$1:D$475,2,FALSE),\"\")","v":""},{"$nulls":3},{"$f":"IF(J876>0,VLOOKUP(J876,' code comptes '!$A$1:$C$148,3),\"\")","v":""},null,{"v":0,"d":"0.00"},""]
[{"$nulls":6},{"$f":"IF(H877<>\"\",VLOOKUP(H877,Codes!C$1:D$475,2,FALSE),\"\")","v":""},{"$nulls":3},{"$f":"IF(J877>0,VLOOKUP(J877,' code comptes '!$A$1:$C$148,3),\"\")","v":""},null,{"v":0,"d":"0.00"},""]
[{"$nulls":6},{"$f":"IF(H878<>\"\",VLOOKUP(H878,Codes!C$1:D$475,2,FALSE),\"\")","v":""},{"$nulls":3},{"$f":"IF(J878>0,VLOOKUP(J878,' code comptes '!$A$1:$C$148,3),\"\")","v":""},null,{"v":0,"d":"0.00"},""]
[{"$nulls":6},{"$f":"IF(H879<>\"\",VLOOKUP(H879,Codes!C$1:D$475,2,FALSE),\"\")","v":""},{"$nulls":3},{"$f":"IF(J879>0,VLOOKUP(J879,' code comptes '!$A$1:$C$148,3),\"\")","v":""},null,{"v":0,"d":"0.00"},""]
[{"$nulls":6},{"$f":"IF(H880<>\"\",VLOOKUP(H880,Codes!C$1:D$475,2,FALSE),\"\")","v":""},{"$nulls":3},{"$f":"IF(J880>0,VLOOKUP(J880,' code comptes '!$A$1:$C$148,3),\"\")","v":""},null,{"v":0,"d":"0.00"},""]
[{"$nulls":6},{"$f":"IF(H881<>\"\",VLOOKUP(H881,Codes!C$1:D$475,2,FALSE),\"\")","v":""},{"$nulls":3},{"$f":"IF(J881>0,VLOOKUP(J881,' code comptes '!$A$1:$C$148,3),\"\")","v":""},null,{"v":0,"d":"0.00"},""]
[{"$nulls":6},{"$f":"IF(H882<>\"\",VLOOKUP(H882,Codes!C$1:D$475,2,FALSE),\"\")","v":""},{"$nulls":3},{"$f":"IF(J882>0,VLOOKUP(J882,' code comptes '!$A$1:$C$148,3),\"\")","v":""},null,{"v":0,"d":"0.00"},""]
[{"$nulls":6},{"$f":"IF(H883<>\"\",VLOOKUP(H883,Codes!C$1:D$475,2,FALSE),\"\")","v":""},{"$nulls":3},{"$f":"IF(J883>0,VLOOKUP(J883,' code comptes '!$A$1:$C$148,3),\"\")","v":""},null,{"v":0,"d":"0.00"},""]
[{"$nulls":6},{"$f":"IF(H884<>\"\",VLOOKUP(H884,Codes!C$1:D$475,2,FALSE),\"\")","v":""},{"$nulls":3},{"$f":"IF(J884>0,VLOOKUP(J884,' code comptes '!$A$1:$C$148,3),\"\")","v":""},null,{"v":0,"d":"0.00"},""]
[{"$nulls":6},{"$f":"IF(H885<>\"\",VLOOKUP(H885,Codes!C$1:D$475,2,FALSE),\"\")","v":""},{"$nulls":3},{"$f":"IF(J885>0,VLOOKUP(J885,' code comptes '!$A$1:$C$148,3),\"\")","v":""},null,{"v":0,"d":"0.00"},""]
[{"$nulls":6},{"$f":"IF(H886<>\"\",VLOOKUP(H886,Codes!C$1:D$475,2,FALSE),\"\")","v":""},{"$nulls":3},{"$f":"IF(J886>0,VLOOKUP(J886,' code comptes '!$A$1:$C$148,3),\"\")","v":""},null,{"v":0,"d":"0.00"},""]
[{"$nulls":6},{"$f":"IF(H887<>\"\",VLOOKUP(H887,Codes!C$1:D$475,2,FALSE),\"\")","v":""},{"$nulls":3},{"$f":"IF(J887>0,VLOOKUP(J887,' code comptes '!$A$1:$C$148,3),\"\")","v":""},null,{"v":0,"d":"0.00"},""]
[{"$nulls":6},{"$f":"IF(H888<>\"\",VLOOKUP(H888,Codes!C$1:D$475,2,FALSE),\"\")","v":""},{"$nulls":3},{"$f":"IF(J888>0,VLOOKUP(J888,' code comptes '!$A$1:$C$148,3),\"\")","v":""},null,{"v":0,"d":"0.00"},""]
[{"$nulls":6},{"$f":"IF(H889<>\"\",VLOOKUP(H889,Codes!C$1:D$475,2,FALSE),\"\")","v":""},{"$nulls":3},{"$f":"IF(J889>0,VLOOKUP(J889,' code comptes '!$A$1:$C$148,3),\"\")","v":""},null,{"v":0,"d":"0.00"},""]
[{"$nulls":6},{"$f":"IF(H890<>\"\",VLOOKUP(H890,Codes!C$1:D$475,2,FALSE),\"\")","v":""},{"$nulls":3},{"$f":"IF(J890>0,VLOOKUP(J890,' code comptes '!$A$1:$C$148,3),\"\")","v":""},null,{"v":0,"d":"0.00"},""]
[{"$nulls":6},{"$f":"IF(H891<>\"\",VLOOKUP(H891,Codes!C$1:D$475,2,FALSE),\"\")","v":""},{"$nulls":3},{"$f":"IF(J891>0,VLOOKUP(J891,' code comptes '!$A$1:$C$148,3),\"\")","v":""},null,{"v":0,"d":"0.00"},""]
[{"$nulls":6},{"$f":"IF(H892<>\"\",VLOOKUP(H892,Codes!C$1:D$475,2,FALSE),\"\")","v":""},{"$nulls":3},{"$f":"IF(J892>0,VLOOKUP(J892,' code comptes '!$A$1:$C$148,3),\"\")","v":""},null,{"v":0,"d":"0.00"},""]
[{"$nulls":6},{"$f":"IF(H893<>\"\",VLOOKUP(H893,Codes!C$1:D$475,2,FALSE),\"\")","v":""},{"$nulls":3},{"$f":"IF(J893>0,VLOOKUP(J893,' code comptes '!$A$1:$C$148,3),\"\")","v":""},null,{"v":0,"d":"0.00"},""]
[{"$nulls":6},{"$f":"IF(H894<>\"\",VLOOKUP(H894,Codes!C$1:D$475,2,FALSE),\"\")","v":""},{"$nulls":3},{"$f":"IF(J894>0,VLOOKUP(J894,' code comptes '!$A$1:$C$148,3),\"\")","v":""},null,{"v":0,"d":"0.00"},""]
[{"$nulls":6},{"$f":"IF(H895<>\"\",VLOOKUP(H895,Codes!C$1:D$475,2,FALSE),\"\")","v":""},{"$nulls":3},{"$f":"IF(J895>0,VLOOKUP(J895,' code comptes '!$A$1:$C$148,3),\"\")","v":""},null,{"v":0,"d":"0.00"},""]
[{"$nulls":6},{"$f":"IF(H896<>\"\",VLOOKUP(H896,Codes!C$1:D$475,2,FALSE),\"\")","v":""},{"$nulls":3},{"$f":"IF(J896>0,VLOOKUP(J896,' code comptes '!$A$1:$C$148,3),\"\")","v":""},null,{"v":0,"d":"0.00"},""]
[{"$nulls":6},{"$f":"IF(H897<>\"\",VLOOKUP(H897,Codes!C$1:D$475,2,FALSE),\"\")","v":""},{"$nulls":3},{"$f":"IF(J897>0,VLOOKUP(J897,' code comptes '!$A$1:$C$148,3),\"\")","v":""},null,{"v":0,"d":"0.00"},""]
[{"$nulls":6},{"$f":"IF(H898<>\"\",VLOOKUP(H898,Codes!C$1:D$475,2,FALSE),\"\")","v":""},{"$nulls":3},{"$f":"IF(J898>0,VLOOKUP(J898,' code comptes '!$A$1:$C$148,3),\"\")","v":""},null,{"v":0,"d":"0.00"},""]
[{"$nulls":6},{"$f":"IF(H899<>\"\",VLOOKUP(H899,Codes!C$1:D$475,2,FALSE),\"\")","v":""},{"$nulls":3},{"$f":"IF(J899>0,VLOOKUP(J899,' code comptes '!$A$1:$C$148,3),\"\")","v":""},null,{"v":0,"d":"0.00"},""]
[{"$nulls":6},{"$f":"IF(H900<>\"\",VLOOKUP(H900,Codes!C$1:D$475,2,FALSE),\"\")","v":""},{"$nulls":3},{"$f":"IF(J900>0,VLOOKUP(J900,' code comptes '!$A$1:$C$148,3),\"\")","v":""},null,{"v":0,"d":"0.00"},""]
[{"$nulls":6},{"$f":"IF(H901<>\"\",VLOOKUP(H901,Codes!C$1:D$475,2,FALSE),\"\")","v":""},{"$nulls":3},{"$f":"IF(J901>0,VLOOKUP(J901,' code comptes '!$A$1:$C$148,3),\"\")","v":""},null,{"v":0,"d":"0.00"},""]
[{"$nulls":6},{"$f":"IF(H902<>\"\",VLOOKUP(H902,Codes!C$1:D$475,2,FALSE),\"\")","v":""},{"$nulls":3},{"$f":"IF(J902>0,VLOOKUP(J902,' code comptes '!$A$1:$C$148,3),\"\")","v":""},null,{"v":0,"d":"0.00"},""]
[{"$nulls":6},{"$f":"IF(H903<>\"\",VLOOKUP(H903,Codes!C$1:D$475,2,FALSE),\"\")","v":""},{"$nulls":3},{"$f":"IF(J903>0,VLOOKUP(J903,' code comptes '!$A$1:$C$148,3),\"\")","v":""},null,{"v":0,"d":"0.00"},""]
[{"$nulls":6},{"$f":"IF(H904<>\"\",VLOOKUP(H904,Codes!C$1:D$475,2,FALSE),\"\")","v":""},{"$nulls":3},{"$f":"IF(J904>0,VLOOKUP(J904,' code comptes '!$A$1:$C$148,3),\"\")","v":""},null,{"v":0,"d":"0.00"},""]
[{"$nulls":6},{"$f":"IF(H905<>\"\",VLOOKUP(H905,Codes!C$1:D$475,2,FALSE),\"\")","v":""},{"$nulls":3},{"$f":"IF(J905>0,VLOOKUP(J905,' code comptes '!$A$1:$C$148,3),\"\")","v":""},null,{"v":0,"d":"0.00"},""]
[{"$nulls":6},{"$f":"IF(H906<>\"\",VLOOKUP(H906,Codes!C$1:D$475,2,FALSE),\"\")","v":""},{"$nulls":3},{"$f":"IF(J906>0,VLOOKUP(J906,' code comptes '!$A$1:$C$148,3),\"\")","v":""},null,{"v":0,"d":"0.00"},""]
[{"$nulls":6},{"$f":"IF(H907<>\"\",VLOOKUP(H907,Codes!C$1:D$475,2,FALSE),\"\")","v":""},{"$nulls":3},{"$f":"IF(J907>0,VLOOKUP(J907,' code comptes '!$A$1:$C$148,3),\"\")","v":""},null,{"v":0,"d":"0.00"},""]
[{"$nulls":6},{"$f":"IF(H908<>\"\",VLOOKUP(H908,Codes!C$1:D$475,2,FALSE),\"\")","v":""},{"$nulls":3},{"$f":"IF(J908>0,VLOOKUP(J908,' code comptes '!$A$1:$C$148,3),\"\")","v":""},null,{"v":0,"d":"0.00"},""]
[{"$nulls":6},{"$f":"IF(H909<>\"\",VLOOKUP(H909,Codes!C$1:D$475,2,FALSE),\"\")","v":""},{"$nulls":3},{"$f":"IF(J909>0,VLOOKUP(J909,' code comptes '!$A$1:$C$148,3),\"\")","v":""},null,{"v":0,"d":"0.00"},""]
[{"$nulls":6},{"$f":"IF(H910<>\"\",VLOOKUP(H910,Codes!C$1:D$475,2,FALSE),\"\")","v":""},{"$nulls":3},{"$f":"IF(J910>0,VLOOKUP(J910,' code comptes '!$A$1:$C$148,3),\"\")","v":""},null,{"v":0,"d":"0.00"},""]
[{"$nulls":6},{"$f":"IF(H911<>\"\",VLOOKUP(H911,Codes!C$1:D$475,2,FALSE),\"\")","v":""},{"$nulls":3},{"$f":"IF(J911>0,VLOOKUP(J911,' code comptes '!$A$1:$C$148,3),\"\")","v":""},null,{"v":0,"d":"0.00"},""]
[{"$nulls":6},{"$f":"IF(H912<>\"\",VLOOKUP(H912,Codes!C$1:D$475,2,FALSE),\"\")","v":""},{"$nulls":3},{"$f":"IF(J912>0,VLOOKUP(J912,' code comptes '!$A$1:$C$148,3),\"\")","v":""},null,{"v":0,"d":"0.00"},""]
[{"$nulls":6},{"$f":"IF(H913<>\"\",VLOOKUP(H913,Codes!C$1:D$475,2,FALSE),\"\")","v":""},{"$nulls":3},{"$f":"IF(J913>0,VLOOKUP(J913,' code comptes '!$A$1:$C$148,3),\"\")","v":""},null,{"v":0,"d":"0.00"},""]
[{"$nulls":6},{"$f":"IF(H914<>\"\",VLOOKUP(H914,Codes!C$1:D$475,2,FALSE),\"\")","v":""},{"$nulls":3},{"$f":"IF(J914>0,VLOOKUP(J914,' code comptes '!$A$1:$C$148,3),\"\")","v":""},null,{"v":0,"d":"0.00"},""]
[{"$nulls":6},{"$f":"IF(H915<>\"\",VLOOKUP(H915,Codes!C$1:D$475,2,FALSE),\"\")","v":""},{"$nulls":3},{"$f":"IF(J915>0,VLOOKUP(J915,' code comptes '!$A$1:$C$148,3),\"\")","v":""},null,{"v":0,"d":"0.00"},""]
[{"$nulls":6},{"$f":"IF(H916<>\"\",VLOOKUP(H916,Codes!C$1:D$475,2,FALSE),\"\")","v":""},{"$nulls":3},{"$f":"IF(J916>0,VLOOKUP(J916,' code comptes '!$A$1:$C$148,3),\"\")","v":""},null,{"v":0,"d":"0.00"},""]
[{"$nulls":6},{"$f":"IF(H917<>\"\",VLOOKUP(H917,Codes!C$1:D$475,2,FALSE),\"\")","v":""},{"$nulls":3},{"$f":"IF(J917>0,VLOOKUP(J917,' code comptes '!$A$1:$C$148,3),\"\")","v":""},null,{"v":0,"d":"0.00"},""]
[{"$nulls":6},{"$f":"IF(H918<>\"\",VLOOKUP(H918,Codes!C$1:D$475,2,FALSE),\"\")","v":""},{"$nulls":3},{"$f":"IF(J918>0,VLOOKUP(J918,' code comptes '!$A$1:$C$148,3),\"\")","v":""},null,{"v":0,"d":"0.00"},""]
[{"$nulls":6},{"$f":"IF(H919<>\"\",VLOOKUP(H919,Codes!C$1:D$475,2,FALSE),\"\")","v":""},{"$nulls":3},{"$f":"IF(J919>0,VLOOKUP(J919,' code comptes '!$A$1:$C$148,3),\"\")","v":""},null,{"v":0,"d":"0.00"},""]
[{"$nulls":6},{"$f":"IF(H920<>\"\",VLOOKUP(H920,Codes!C$1:D$475,2,FALSE),\"\")","v":""},{"$nulls":3},{"$f":"IF(J920>0,VLOOKUP(J920,' code comptes '!$A$1:$C$148,3),\"\")","v":""},null,{"v":0,"d":"0.00"},""]
[{"$nulls":6},{"$f":"IF(H921<>\"\",VLOOKUP(H921,Codes!C$1:D$475,2,FALSE),\"\")","v":""},{"$nulls":3},{"$f":"IF(J921>0,VLOOKUP(J921,' code comptes '!$A$1:$C$148,3),\"\")","v":""},null,{"v":0,"d":"0.00"},""]
[{"$nulls":6},{"$f":"IF(H922<>\"\",VLOOKUP(H922,Codes!C$1:D$475,2,FALSE),\"\")","v":""},{"$nulls":3},{"$f":"IF(J922>0,VLOOKUP(J922,' code comptes '!$A$1:$C$148,3),\"\")","v":""},null,{"v":0,"d":"0.00"},""]
[{"$nulls":6},{"$f":"IF(H923<>\"\",VLOOKUP(H923,Codes!C$1:D$475,2,FALSE),\"\")","v":""},{"$nulls":3},{"$f":"IF(J923>0,VLOOKUP(J923,' code comptes '!$A$1:$C$148,3),\"\")","v":""},null,{"v":0,"d":"0.00"},""]
[{"$nulls":6},{"$f":"IF(H924<>\"\",VLOOKUP(H924,Codes!C$1:D$475,2,FALSE),\"\")","v":""},{"$nulls":3},{"$f":"IF(J924>0,VLOOKUP(J924,' code comptes '!$A$1:$C$148,3),\"\")","v":""},null,{"v":0,"d":"0.00"},""]
[{"$nulls":6},{"$f":"IF(H925<>\"\",VLOOKUP(H925,Codes!C$1:D$475,2,FALSE),\"\")","v":""},{"$nulls":3},{"$f":"IF(J925>0,VLOOKUP(J925,' code comptes '!$A$1:$C$148,3),\"\")","v":""},null,{"v":0,"d":"0.00"},""]
[{"$nulls":6},{"$f":"IF(H926<>\"\",VLOOKUP(H926,Codes!C$1:D$475,2,FALSE),\"\")","v":""},{"$nulls":3},{"$f":"IF(J926>0,VLOOKUP(J926,' code comptes '!$A$1:$C$148,3),\"\")","v":""},null,{"v":0,"d":"0.00"},""]
[{"$nulls":6},{"$f":"IF(H927<>\"\",VLOOKUP(H927,Codes!C$1:D$475,2,FALSE),\"\")","v":""},{"$nulls":3},{"$f":"IF(J927>0,VLOOKUP(J927,' code comptes '!$A$1:$C$148,3),\"\")","v":""},null,{"v":0,"d":"0.00"},""]
[{"$nulls":6},{"$f":"IF(H928<>\"\",VLOOKUP(H928,Codes!C$1:D$475,2,FALSE),\"\")","v":""},{"$nulls":3},{"$f":"IF(J928>0,VLOOKUP(J928,' code comptes '!$A$1:$C$148,3),\"\")","v":""},null,{"v":0,"d":"0.00"},""]
[{"$nulls":6},{"$f":"IF(H929<>\"\",VLOOKUP(H929,Codes!C$1:D$475,2,FALSE),\"\")","v":""},{"$nulls":3},{"$f":"IF(J929>0,VLOOKUP(J929,' code comptes '!$A$1:$C$148,3),\"\")","v":""},null,{"v":0,"d":"0.00"},""]
[{"$nulls":6},{"$f":"IF(H930<>\"\",VLOOKUP(H930,Codes!C$1:D$475,2,FALSE),\"\")","v":""},{"$nulls":3},{"$f":"IF(J930>0,VLOOKUP(J930,' code comptes '!$A$1:$C$148,3),\"\")","v":""},null,{"v":0,"d":"0.00"},""]
[{"$nulls":6},{"$f":"IF(H931<>\"\",VLOOKUP(H931,Codes!C$1:D$475,2,FALSE),\"\")","v":""},{"$nulls":3},{"$f":"IF(J931>0,VLOOKUP(J931,' code comptes '!$A$1:$C$148,3),\"\")","v":""},null,{"v":0,"d":"0.00"},""]
[{"$nulls":6},{"$f":"IF(H932<>\"\",VLOOKUP(H932,Codes!C$1:D$475,2,FALSE),\"\")","v":""},{"$nulls":3},{"$f":"IF(J932>0,VLOOKUP(J932,' code comptes '!$A$1:$C$148,3),\"\")","v":""},null,{"v":0,"d":"0.00"},""]
[{"$nulls":6},{"$f":"IF(H933<>\"\",VLOOKUP(H933,Codes!C$1:D$475,2,FALSE),\"\")","v":""},{"$nulls":3},{"$f":"IF(J933>0,VLOOKUP(J933,' code comptes '!$A$1:$C$148,3),\"\")","v":""},null,{"v":0,"d":"0.00"},""]
[{"$nulls":6},{"$f":"IF(H934<>\"\",VLOOKUP(H934,Codes!C$1:D$475,2,FALSE),\"\")","v":""},{"$nulls":3},{"$f":"IF(J934>0,VLOOKUP(J934,' code comptes '!$A$1:$C$148,3),\"\")","v":""},null,{"v":0,"d":"0.00"},""]
[{"$nulls":6},{"$f":"IF(H935<>\"\",VLOOKUP(H935,Codes!C$1:D$475,2,FALSE),\"\")","v":""},{"$nulls":3},{"$f":"IF(J935>0,VLOOKUP(J935,' code comptes '!$A$1:$C$148,3),\"\")","v":""},null,{"v":0,"d":"0.00"},""]
[{"$nulls":6},{"$f":"IF(H936<>\"\",VLOOKUP(H936,Codes!C$1:D$475,2,FALSE),\"\")","v":""},{"$nulls":3},{"$f":"IF(J936>0,VLOOKUP(J936,' code comptes '!$A$1:$C$148,3),\"\")","v":""},null,{"v":0,"d":"0.00"},""]
[{"$nulls":6},{"$f":"IF(H937<>\"\",VLOOKUP(H937,Codes!C$1:D$475,2,FALSE),\"\")","v":""},{"$nulls":3},{"$f":"IF(J937>0,VLOOKUP(J937,' code comptes '!$A$1:$C$148,3),\"\")","v":""},null,{"v":0,"d":"0.00"},""]
[{"$nulls":6},{"$f":"IF(H938<>\"\",VLOOKUP(H938,Codes!C$1:D$475,2,FALSE),\"\")","v":""},{"$nulls":3},{"$f":"IF(J938>0,VLOOKUP(J938,' code comptes '!$A$1:$C$148,3),\"\")","v":""},null,{"v":0,"d":"0.00"},""]
[{"$nulls":6},{"$f":"IF(H939<>\"\",VLOOKUP(H939,Codes!C$1:D$475,2,FALSE),\"\")","v":""},{"$nulls":3},{"$f":"IF(J939>0,VLOOKUP(J939,' code comptes '!$A$1:$C$148,3),\"\")","v":""},null,{"v":0,"d":"0.00"},""]
[{"$nulls":6},{"$f":"IF(H940<>\"\",VLOOKUP(H940,Codes!C$1:D$475,2,FALSE),\"\")","v":""},{"$nulls":3},{"$f":"IF(J940>0,VLOOKUP(J940,' code comptes '!$A$1:$C$148,3),\"\")","v":""},null,{"v":0,"d":"0.00"},""]
[{"$nulls":6},{"$f":"IF(H941<>\"\",VLOOKUP(H941,Codes!C$1:D$475,2,FALSE),\"\")","v":""},{"$nulls":3},{"$f":"IF(J941>0,VLOOKUP(J941,' code comptes '!$A$1:$C$148,3),\"\")","v":""},null,{"v":0,"d":"0.00"},""]
[{"$nulls":6},{"$f":"IF(H942<>\"\",VLOOKUP(H942,Codes!C$1:D$475,2,FALSE),\"\")","v":""},{"$nulls":3},{"$f":"IF(J942>0,VLOOKUP(J942,' code comptes '!$A$1:$C$148,3),\"\")","v":""},null,{"v":0,"d":"0.00"},""]
[{"$nulls":6},{"$f":"IF(H943<>\"\",VLOOKUP(H943,Codes!C$1:D$475,2,FALSE),\"\")","v":""},{"$nulls":3},{"$f":"IF(J943>0,VLOOKUP(J943,' code comptes '!$A$1:$C$148,3),\"\")","v":""},null,{"v":0,"d":"0.00"},""]
[{"$nulls":6},{"$f":"IF(H944<>\"\",VLOOKUP(H944,Codes!C$1:D$475,2,FALSE),\"\")","v":""},{"$nulls":3},{"$f":"IF(J944>0,VLOOKUP(J944,' code comptes '!$A$1:$C$148,3),\"\")","v":""},null,{"v":0,"d":"0.00"},""]
[{"$nulls":6},{"$f":"IF(H945<>\"\",VLOOKUP(H945,Codes!C$1:D$475,2,FALSE),\"\")","v":""},{"$nulls":3},{"$f":"IF(J945>0,VLOOKUP(J945,' code comptes '!$A$1:$C$148,3),\"\")","v":""},null,{"v":0,"d":"0.00"},""]
[{"$nulls":6},{"$f":"IF(H946<>\"\",VLOOKUP(H946,Codes!C$1:D$475,2,FALSE),\"\")","v":""},{"$nulls":3},{"$f":"IF(J946>0,VLOOKUP(J946,' code comptes '!$A$1:$C$148,3),\"\")","v":""},null,{"v":0,"d":"0.00"},""]
[{"$nulls":6},{"$f":"IF(H947<>\"\",VLOOKUP(H947,Codes!C$1:D$475,2,FALSE),\"\")","v":""},{"$nulls":3},{"$f":"IF(J947>0,VLOOKUP(J947,' code comptes '!$A$1:$C$148,3),\"\")","v":""},null,{"v":0,"d":"0.00"},""]
[{"$nulls":6},{"$f":"IF(H948<>\"\",VLOOKUP(H948,Codes!C$1:D$475,2,FALSE),\"\")","v":""},{"$nulls":3},{"$f":"IF(J948>0,VLOOKUP(J948,' code comptes '!$A$1:$C$148,3),\"\")","v":""},null,{"v":0,"d":"0.00"},""]
[{"$nulls":6},{"$f":"IF(H949<>\"\",VLOOKUP(H949,Codes!C$1:D$475,2,FALSE),\"\")","v":""},{"$nulls":3},{"$f":"IF(J949>0,VLOOKUP(J949,' code comptes '!$A$1:$C$148,3),\"\")","v":""},null,{"v":0,"d":"0.00"},""]
[{"$nulls":6},{"$f":"IF(H950<>\"\",VLOOKUP(H950,Codes!C$1:D$475,2,FALSE),\"\")","v":""},{"$nulls":3},{"$f":"IF(J950>0,VLOOKUP(J950,' code comptes '!$A$1:$C$148,3),\"\")","v":""},null,{"v":0,"d":"0.00"},""]
[{"$nulls":6},{"$f":"IF(H951<>\"\",VLOOKUP(H951,Codes!C$1:D$475,2,FALSE),\"\")","v":""},{"$nulls":3},{"$f":"IF(J951>0,VLOOKUP(J951,' code comptes '!$A$1:$C$148,3),\"\")","v":""},null,{"v":0,"d":"0.00"},""]
[{"$nulls":6},{"$f":"IF(H952<>\"\",VLOOKUP(H952,Codes!C$1:D$475,2,FALSE),\"\")","v":""},{"$nulls":3},{"$f":"IF(J952>0,VLOOKUP(J952,' code comptes '!$A$1:$C$148,3),\"\")","v":""},null,{"v":0,"d":"0.00"},""]
[{"$nulls":6},{"$f":"IF(H953<>\"\",VLOOKUP(H953,Codes!C$1:D$475,2,FALSE),\"\")","v":""},{"$nulls":3},{"$f":"IF(J953>0,VLOOKUP(J953,' code comptes '!$A$1:$C$148,3),\"\")","v":""},null,{"v":0,"d":"0.00"},""]
[{"$nulls":6},{"$f":"IF(H954<>\"\",VLOOKUP(H954,Codes!C$1:D$475,2,FALSE),\"\")","v":""},{"$nulls":3},{"$f":"IF(J954>0,VLOOKUP(J954,' code comptes '!$A$1:$C$148,3),\"\")","v":""},null,{"v":0,"d":"0.00"},""]
[{"$nulls":6},{"$f":"IF(H955<>\"\",VLOOKUP(H955,Codes!C$1:D$475,2,FALSE),\"\")","v":""},{"$nulls":3},{"$f":"IF(J955>0,VLOOKUP(J955,' code comptes '!$A$1:$C$148,3),\"\")","v":""},null,{"v":0,"d":"0.00"},""]
[{"$nulls":6},{"$f":"IF(H956<>\"\",VLOOKUP(H956,Codes!C$1:D$475,2,FALSE),\"\")","v":""},{"$nulls":3},{"$f":"IF(J956>0,VLOOKUP(J956,' code comptes '!$A$1:$C$148,3),\"\")","v":""},null,{"v":0,"d":"0.00"},""]
[{"$nulls":6},{"$f":"IF(H957<>\"\",VLOOKUP(H957,Codes!C$1:D$475,2,FALSE),\"\")","v":""},{"$nulls":3},{"$f":"IF(J957>0,VLOOKUP(J957,' code comptes '!$A$1:$C$148,3),\"\")","v":""},null,{"v":0,"d":"0.00"},""]
[{"$nulls":6},{"$f":"IF(H958<>\"\",VLOOKUP(H958,Codes!C$1:D$475,2,FALSE),\"\")","v":""},{"$nulls":3},{"$f":"IF(J958>0,VLOOKUP(J958,' code comptes '!$A$1:$C$148,3),\"\")","v":""},null,{"v":0,"d":"0.00"},""]
[{"$nulls":6},{"$f":"IF(H959<>\"\",VLOOKUP(H959,Codes!C$1:D$475,2,FALSE),\"\")","v":""},{"$nulls":3},{"$f":"IF(J959>0,VLOOKUP(J959,' code comptes '!$A$1:$C$148,3),\"\")","v":""},null,{"v":0,"d":"0.00"},""]
[{"$nulls":6},{"$f":"IF(H960<>\"\",VLOOKUP(H960,Codes!C$1:D$475,2,FALSE),\"\")","v":""},{"$nulls":3},{"$f":"IF(J960>0,VLOOKUP(J960,' code comptes '!$A$1:$C$148,3),\"\")","v":""},null,{"v":0,"d":"0.00"},""]
[{"$nulls":6},{"$f":"IF(H961<>\"\",VLOOKUP(H961,Codes!C$1:D$475,2,FALSE),\"\")","v":""},{"$nulls":3},{"$f":"IF(J961>0,VLOOKUP(J961,' code comptes '!$A$1:$C$148,3),\"\")","v":""},null,{"v":0,"d":"0.00"},""]
[{"$nulls":6},{"$f":"IF(H962<>\"\",VLOOKUP(H962,Codes!C$1:D$475,2,FALSE),\"\")","v":""},{"$nulls":3},{"$f":"IF(J962>0,VLOOKUP(J962,' code comptes '!$A$1:$C$148,3),\"\")","v":""},null,{"v":0,"d":"0.00"},""]
[{"$nulls":6},{"$f":"IF(H963<>\"\",VLOOKUP(H963,Codes!C$1:D$475,2,FALSE),\"\")","v":""},{"$nulls":3},{"$f":"IF(J963>0,VLOOKUP(J963,' code comptes '!$A$1:$C$148,3),\"\")","v":""},null,{"v":0,"d":"0.00"},""]
[{"$nulls":6},{"$f":"IF(H964<>\"\",VLOOKUP(H964,Codes!C$1:D$475,2,FALSE),\"\")","v":""},{"$nulls":3},{"$f":"IF(J964>0,VLOOKUP(J964,' code comptes '!$A$1:$C$148,3),\"\")","v":""},null,{"v":0,"d":"0.00"},""]
[{"$nulls":6},{"$f":"IF(H965<>\"\",VLOOKUP(H965,Codes!C$1:D$475,2,FALSE),\"\")","v":""},{"$nulls":3},{"$f":"IF(J965>0,VLOOKUP(J965,' code comptes '!$A$1:$C$148,3),\"\")","v":""},null,{"v":0,"d":"0.00"},""]
[{"$nulls":6},{"$f":"IF(H966<>\"\",VLOOKUP(H966,Codes!C$1:D$475,2,FALSE),\"\")","v":""},{"$nulls":3},{"$f":"IF(J966>0,VLOOKUP(J966,' code comptes '!$A$1:$C$148,3),\"\")","v":""},null,{"v":0,"d":"0.00"},""]
[{"$nulls":6},{"$f":"IF(H967<>\"\",VLOOKUP(H967,Codes!C$1:D$475,2,FALSE),\"\")","v":""},{"$nulls":3},{"$f":"IF(J967>0,VLOOKUP(J967,' code comptes '!$A$1:$C$148,3),\"\")","v":""},null,{"v":0,"d":"0.00"},""]
[{"$nulls":6},{"$f":"IF(H968<>\"\",VLOOKUP(H968,Codes!C$1:D$475,2,FALSE),\"\")","v":""},{"$nulls":3},{"$f":"IF(J968>0,VLOOKUP(J968,' code comptes '!$A$1:$C$148,3),\"\")","v":""},null,{"v":0,"d":"0.00"},""]
[{"$nulls":6},{"$f":"IF(H969<>\"\",VLOOKUP(H969,Codes!C$1:D$475,2,FALSE),\"\")","v":""},{"$nulls":3},{"$f":"IF(J969>0,VLOOKUP(J969,' code comptes '!$A$1:$C$148,3),\"\")","v":""},null,{"v":0,"d":"0.00"},""]
[{"$nulls":6},{"$f":"IF(H970<>\"\",VLOOKUP(H970,Codes!C$1:D$475,2,FALSE),\"\")","v":""},{"$nulls":3},{"$f":"IF(J970>0,VLOOKUP(J970,' code comptes '!$A$1:$C$148,3),\"\")","v":""},null,{"v":0,"d":"0.00"},""]
[{"$nulls":6},{"$f":"IF(H971<>\"\",VLOOKUP(H971,Codes!C$1:D$475,2,FALSE),\"\")","v":""},{"$nulls":3},{"$f":"IF(J971>0,VLOOKUP(J971,' code comptes '!$A$1:$C$148,3),\"\")","v":""},null,{"v":0,"d":"0.00"},""]
[{"$nulls":6},{"$f":"IF(H972<>\"\",VLOOKUP(H972,Codes!C$1:D$475,2,FALSE),\"\")","v":""},{"$nulls":3},{"$f":"IF(J972>0,VLOOKUP(J972,' code comptes '!$A$1:$C$148,3),\"\")","v":""},null,{"v":0,"d":"0.00"},""]
[{"$nulls":6},{"$f":"IF(H973<>\"\",VLOOKUP(H973,Codes!C$1:D$475,2,FALSE),\"\")","v":""},{"$nulls":3},{"$f":"IF(J973>0,VLOOKUP(J973,' code comptes '!$A$1:$C$148,3),\"\")","v":""},null,{"v":0,"d":"0.00"},""]
[{"$nulls":6},{"$f":"IF(H974<>\"\",VLOOKUP(H974,Codes!C$1:D$475,2,FALSE),\"\")","v":""},{"$nulls":3},{"$f":"IF(J974>0,VLOOKUP(J974,' code comptes '!$A$1:$C$148,3),\"\")","v":""},null,{"v":0,"d":"0.00"},""]
[{"$nulls":6},{"$f":"IF(H975<>\"\",VLOOKUP(H975,Codes!C$1:D$475,2,FALSE),\"\")","v":""},{"$nulls":3},{"$f":"IF(J975>0,VLOOKUP(J975,' code comptes '!$A$1:$C$148,3),\"\")","v":""},null,{"v":0,"d":"0.00"},""]
[{"$nulls":6},{"$f":"IF(H976<>\"\",VLOOKUP(H976,Codes!C$1:D$475,2,FALSE),\"\")","v":""},{"$nulls":3},{"$f":"IF(J976>0,VLOOKUP(J976,' code comptes '!$A$1:$C$148,3),\"\")","v":""},null,{"v":0,"d":"0.00"},""]
[{"$nulls":6},{"$f":"IF(H977<>\"\",VLOOKUP(H977,Codes!C$1:D$475,2,FALSE),\"\")","v":""},{"$nulls":3},{"$f":"IF(J977>0,VLOOKUP(J977,' code comptes '!$A$1:$C$148,3),\"\")","v":""},null,{"v":0,"d":"0.00"},""]
[{"$nulls":6},{"$f":"IF(H978<>\"\",VLOOKUP(H978,Codes!C$1:D$475,2,FALSE),\"\")","v":""}]
[{"$nulls":6},{"$f":"IF(H979<>\"\",VLOOKUP(H979,Codes!C$1:D$475,2,FALSE),\"\")","v":""}]
[{"$nulls":6},{"$f":"IF(H980<>\"\",VLOOKUP(H980,Codes!C$1:D$475,2,FALSE),\"\")","v":""}]
[{"$nulls":6},{"$f":"IF(H981<>\"\",VLOOKUP(H981,Codes!C$1:D$475,2,FALSE),\"\")","v":""},{"$nulls":3},{"$f":"IF(J981>0,VLOOKUP(J981,' code comptes '!$A$1:$C$148,3),\"\")","v":""},null,{"$f":"D977","v":{"v":0,"d":"0.00"}},{"$f":"+CONCATENATE(G977,H977)","v":""}]
[{"$nulls":6},{"$f":"IF(H982<>\"\",VLOOKUP(H982,Codes!C$1:D$475,2,FALSE),\"\")","v":""},{"$nulls":3},{"$f":"IF(J982>0,VLOOKUP(J982,' code comptes '!$A$1:$C$148,3),\"\")","v":""},null,{"$f":"D981","v":{"v":0,"d":"0.00"}},{"$f":"+CONCATENATE(G981,H981)","v":""}]
[{"$nulls":6},{"$f":"IF(H983<>\"\",VLOOKUP(H983,Codes!C$1:D$475,2,FALSE),\"\")","v":""},{"$nulls":3},{"$f":"IF(J983>0,VLOOKUP(J983,' code comptes '!$A$1:$C$148,3),\"\")","v":""},null,{"v":0,"d":"0.00"},""]
[{"$nulls":6},{"$f":"IF(H984<>\"\",VLOOKUP(H984,Codes!C$1:D$475,2,FALSE),\"\")","v":""},{"$nulls":3},{"$f":"IF(J984>0,VLOOKUP(J984,' code comptes '!$A$1:$C$148,3),\"\")","v":""},null,{"v":0,"d":"0.00"},""]
[{"$nulls":6},{"$f":"IF(H985<>\"\",VLOOKUP(H985,Codes!C$1:D$475,2,FALSE),\"\")","v":""},{"$nulls":3},{"$f":"IF(J985>0,VLOOKUP(J985,' code comptes '!$A$1:$C$148,3),\"\")","v":""},null,{"v":0,"d":"0.00"},""]
[{"$nulls":6},{"$f":"IF(H986<>\"\",VLOOKUP(H986,Codes!C$1:D$475,2,FALSE),\"\")","v":""},{"$nulls":3},{"$f":"IF(J986>0,VLOOKUP(J986,' code comptes '!$A$1:$C$148,3),\"\")","v":""},null,{"v":0,"d":"0.00"},""]
[{"$nulls":6},{"$f":"IF(H987<>\"\",VLOOKUP(H987,Codes!C$1:D$475,2,FALSE),\"\")","v":""},{"$nulls":3},{"$f":"IF(J987>0,VLOOKUP(J987,' code comptes '!$A$1:$C$148,3),\"\")","v":""},null,{"v":0,"d":"0.00"},""]
[{"$nulls":6},{"$f":"IF(H988<>\"\",VLOOKUP(H988,Codes!C$1:D$475,2,FALSE),\"\")","v":""}]
[{"$nulls":6},{"$f":"IF(H989<>\"\",VLOOKUP(H989,Codes!C$1:D$475,2,FALSE),\"\")","v":""}]
[{"$nulls":6},{"$f":"IF(H990<>\"\",VLOOKUP(H990,Codes!C$1:D$475,2,FALSE),\"\")","v":""}]
[{"$nulls":6},{"$f":"IF(H991<>\"\",VLOOKUP(H991,Codes!C$1:D$475,2,FALSE),\"\")","v":""}]
[{"$nulls":6},{"$f":"IF(H992<>\"\",VLOOKUP(H992,Codes!C$1:D$475,2,FALSE),\"\")","v":""}]
[{"$nulls":6},{"$f":"IF(H993<>\"\",VLOOKUP(H993,Codes!C$1:D$475,2,FALSE),\"\")","v":""}]
[{"$nulls":6},{"$f":"IF(H994<>\"\",VLOOKUP(H994,Codes!C$1:D$475,2,FALSE),\"\")","v":""}]
[{"$nulls":6},{"$f":"IF(H995<>\"\",VLOOKUP(H995,Codes!C$1:D$475,2,FALSE),\"\")","v":""}]
[{"$nulls":6},{"$f":"IF(H996<>\"\",VLOOKUP(H996,Codes!C$1:D$475,2,FALSE),\"\")","v":""}]
[{"$nulls":6},{"$f":"IF(H997<>\"\",VLOOKUP(H997,Codes!C$1:D$475,2,FALSE),\"\")","v":""}]
[{"$nulls":6},{"$f":"IF(H998<>\"\",VLOOKUP(H998,Codes!C$1:D$475,2,FALSE),\"\")","v":""}]
[{"$nulls":6},{"$f":"IF(H999<>\"\",VLOOKUP(H999,Codes!C$1:D$475,2,FALSE),\"\")","v":""}]
[{"$nulls":6},{"$f":"IF(H1000<>\"\",VLOOKUP(H1000,Codes!C$1:D$475,2,FALSE),\"\")","v":""}]
[{"$nulls":6},{"$f":"IF(H1001<>\"\",VLOOKUP(H1001,Codes!C$1:D$475,2,FALSE),\"\")","v":""}]
[{"$nulls":6},{"$f":"IF(H1002<>\"\",VLOOKUP(H1002,Codes!C$1:D$475,2,FALSE),\"\")","v":""}]
[{"$nulls":6},{"$f":"IF(H1003<>\"\",VLOOKUP(H1003,Codes!C$1:D$475,2,FALSE),\"\")","v":""}]
[{"$nulls":6},{"$f":"IF(H1004<>\"\",VLOOKUP(H1004,Codes!C$1:D$475,2,FALSE),\"\")","v":""}]
[{"$nulls":6},{"$f":"IF(H1005<>\"\",VLOOKUP(H1005,Codes!C$1:D$475,2,FALSE),\"\")","v":""}]
[{"$nulls":6},{"$f":"IF(H1006<>\"\",VLOOKUP(H1006,Codes!C$1:D$475,2,FALSE),\"\")","v":""}]
[{"$nulls":6},{"$f":"IF(H1007<>\"\",VLOOKUP(H1007,Codes!C$1:D$475,2,FALSE),\"\")","v":""}]
[{"$nulls":6},{"$f":"IF(H1008<>\"\",VLOOKUP(H1008,Codes!C$1:D$475,2,FALSE),\"\")","v":""}]
[{"$nulls":6},{"$f":"IF(H1009<>\"\",VLOOKUP(H1009,Codes!C$1:D$475,2,FALSE),\"\")","v":""}]
[{"$nulls":6},{"$f":"IF(H1010<>\"\",VLOOKUP(H1010,Codes!C$1:D$475,2,FALSE),\"\")","v":""}]
[{"$nulls":6},{"$f":"IF(H1011<>\"\",VLOOKUP(H1011,Codes!C$1:D$475,2,FALSE),\"\")","v":""}]
[{"$nulls":6},{"$f":"IF(H1012<>\"\",VLOOKUP(H1012,Codes!C$1:D$475,2,FALSE),\"\")","v":""}]
[{"$nulls":6},{"$f":"IF(H1013<>\"\",VLOOKUP(H1013,Codes!C$1:D$475,2,FALSE),\"\")","v":""}]
[{"$nulls":6},{"$f":"IF(H1014<>\"\",VLOOKUP(H1014,Codes!C$1:D$475,2,FALSE),\"\")","v":""}]
[{"$nulls":6},{"$f":"IF(H1015<>\"\",VLOOKUP(H1015,Codes!C$1:D$475,2,FALSE),\"\")","v":""}]
[{"$nulls":6},{"$f":"IF(H1016<>\"\",VLOOKUP(H1016,Codes!C$1:D$475,2,FALSE),\"\")","v":""}]
[{"$nulls":6},{"$f":"IF(H1017<>\"\",VLOOKUP(H1017,Codes!C$1:D$475,2,FALSE),\"\")","v":""}]
[{"$nulls":6},{"$f":"IF(H1018<>\"\",VLOOKUP(H1018,Codes!C$1:D$475,2,FALSE),\"\")","v":""}]
[{"$nulls":6},{"$f":"IF(H1019<>\"\",VLOOKUP(H1019,Codes!C$1:D$475,2,FALSE),\"\")","v":""}]
[{"$nulls":6},{"$f":"IF(H1020<>\"\",VLOOKUP(H1020,Codes!C$1:D$475,2,FALSE),\"\")","v":""}]
[{"$nulls":6},{"$f":"IF(H1021<>\"\",VLOOKUP(H1021,Codes!C$1:D$475,2,FALSE),\"\")","v":""}]
[{"$nulls":6},{"$f":"IF(H1022<>\"\",VLOOKUP(H1022,Codes!C$1:D$475,2,FALSE),\"\")","v":""}]
[{"$nulls":6},{"$f":"IF(H1023<>\"\",VLOOKUP(H1023,Codes!C$1:D$475,2,FALSE),\"\")","v":""}]
[{"$nulls":6},{"$f":"IF(H1024<>\"\",VLOOKUP(H1024,Codes!C$1:D$475,2,FALSE),\"\")","v":""}]
[{"$nulls":6},{"$f":"IF(H1025<>\"\",VLOOKUP(H1025,Codes!C$1:D$475,2,FALSE),\"\")","v":""}]
[{"$nulls":6},{"$f":"IF(H1026<>\"\",VLOOKUP(H1026,Codes!C$1:D$475,2,FALSE),\"\")","v":""}]
[{"$nulls":6},{"$f":"IF(H1027<>\"\",VLOOKUP(H1027,Codes!C$1:D$475,2,FALSE),\"\")","v":""}]
[{"$nulls":6},{"$f":"IF(H1028<>\"\",VLOOKUP(H1028,Codes!C$1:D$475,2,FALSE),\"\")","v":""}]
[{"$nulls":6},{"$f":"IF(H1029<>\"\",VLOOKUP(H1029,Codes!C$1:D$475,2,FALSE),\"\")","v":""}]
[{"$nulls":6},{"$f":"IF(H1030<>\"\",VLOOKUP(H1030,Codes!C$1:D$475,2,FALSE),\"\")","v":""}]
[{"$nulls":6},{"$f":"IF(H1031<>\"\",VLOOKUP(H1031,Codes!C$1:D$475,2,FALSE),\"\")","v":""}]
[{"$nulls":6},{"$f":"IF(H1032<>\"\",VLOOKUP(H1032,Codes!C$1:D$475,2,FALSE),\"\")","v":""}]
[{"$nulls":6},{"$f":"IF(H1033<>\"\",VLOOKUP(H1033,Codes!C$1:D$475,2,FALSE),\"\")","v":""}]
[{"$nulls":6},{"$f":"IF(H1034<>\"\",VLOOKUP(H1034,Codes!C$1:D$475,2,FALSE),\"\")","v":""}]
[{"$nulls":6},{"$f":"IF(H1035<>\"\",VLOOKUP(H1035,Codes!C$1:D$475,2,FALSE),\"\")","v":""}]
[{"$nulls":6},{"$f":"IF(H1036<>\"\",VLOOKUP(H1036,Codes!C$1:D$475,2,FALSE),\"\")","v":""}]
[{"$nulls":6},{"$f":"IF(H1037<>\"\",VLOOKUP(H1037,Codes!C$1:D$475,2,FALSE),\"\")","v":""}]
[{"$nulls":6},{"$f":"IF(H1038<>\"\",VLOOKUP(H1038,Codes!C$1:D$475,2,FALSE),\"\")","v":""}]
[{"$nulls":6},{"$f":"IF(H1039<>\"\",VLOOKUP(H1039,Codes!C$1:D$475,2,FALSE),\"\")","v":""}]
[{"$nulls":6},{"$f":"IF(H1040<>\"\",VLOOKUP(H1040,Codes!C$1:D$475,2,FALSE),\"\")","v":""}]
[{"$nulls":6},{"$f":"IF(H1041<>\"\",VLOOKUP(H1041,Codes!C$1:D$475,2,FALSE),\"\")","v":""}]
[{"$nulls":6},{"$f":"IF(H1042<>\"\",VLOOKUP(H1042,Codes!C$1:D$475,2,FALSE),\"\")","v":""}]
[{"$nulls":6},{"$f":"IF(H1043<>\"\",VLOOKUP(H1043,Codes!C$1:D$475,2,FALSE),\"\")","v":""}]
[{"$nulls":6},{"$f":"IF(H1044<>\"\",VLOOKUP(H1044,Codes!C$1:D$475,2,FALSE),\"\")","v":""}]
[{"$nulls":6},{"$f":"IF(H1045<>\"\",VLOOKUP(H1045,Codes!C$1:D$475,2,FALSE),\"\")","v":""}]
[{"$nulls":6},{"$f":"IF(H1046<>\"\",VLOOKUP(H1046,Codes!C$1:D$475,2,FALSE),\"\")","v":""}]
[{"$nulls":6},{"$f":"IF(H1047<>\"\",VLOOKUP(H1047,Codes!C$1:D$475,2,FALSE),\"\")","v":""}]
[{"$nulls":6},{"$f":"IF(H1048<>\"\",VLOOKUP(H1048,Codes!C$1:D$475,2,FALSE),\"\")","v":""}]
[{"$nulls":6},{"$f":"IF(H1049<>\"\",VLOOKUP(H1049,Codes!C$1:D$475,2,FALSE),\"\")","v":""}]
[{"$nulls":6},{"$f":"IF(H1050<>\"\",VLOOKUP(H1050,Codes!C$1:D$475,2,FALSE),\"\")","v":""}]
[{"$nulls":6},{"$f":"IF(H1051<>\"\",VLOOKUP(H1051,Codes!C$1:D$475,2,FALSE),\"\")","v":""}]
[{"$nulls":6},{"$f":"IF(H1052<>\"\",VLOOKUP(H1052,Codes!C$1:D$475,2,FALSE),\"\")","v":""}]
[{"$nulls":6},{"$f":"IF(H1053<>\"\",VLOOKUP(H1053,Codes!C$1:D$475,2,FALSE),\"\")","v":""}]
[{"$nulls":6},{"$f":"IF(H1054<>\"\",VLOOKUP(H1054,Codes!C$1:D$475,2,FALSE),\"\")","v":""}]
[{"$nulls":6},{"$f":"IF(H1055<>\"\",VLOOKUP(H1055,Codes!C$1:D$475,2,FALSE),\"\")","v":""}]
[{"$nulls":6},{"$f":"IF(H1056<>\"\",VLOOKUP(H1056,Codes!C$1:D$475,2,FALSE),\"\")","v":""}]
[{"$nulls":6},{"$f":"IF(H1057<>\"\",VLOOKUP(H1057,Codes!C$1:D$475,2,FALSE),\"\")","v":""}]
[{"$nulls":6},{"$f":"IF(H1058<>\"\",VLOOKUP(H1058,Codes!C$1:D$475,2,FALSE),\"\")","v":""}]
[{"$nulls":6},{"$f":"IF(H1059<>\"\",VLOOKUP(H1059,Codes!C$1:D$475,2,FALSE),\"\")","v":""}]
[{"$nulls":6},{"$f":"IF(H1060<>\"\",VLOOKUP(H1060,Codes!C$1:D$475,2,FALSE),\"\")","v":""}]
[{"$nulls":6},{"$f":"IF(H1061<>\"\",VLOOKUP(H1061,Codes!C$1:D$475,2,FALSE),\"\")","v":""}]
[{"$nulls":6},{"$f":"IF(H1062<>\"\",VLOOKUP(H1062,Codes!C$1:D$475,2,FALSE),\"\")","v":""}]
[{"$nulls":6},{"$f":"IF(H1063<>\"\",VLOOKUP(H1063,Codes!C$1:D$475,2,FALSE),\"\")","v":""}]
[{"$nulls":6},{"$f":"IF(H1064<>\"\",VLOOKUP(H1064,Codes!C$1:D$475,2,FALSE),\"\")","v":""}]
[{"$nulls":6},{"$f":"IF(H1065<>\"\",VLOOKUP(H1065,Codes!C$1:D$475,2,FALSE),\"\")","v":""}]
[{"$nulls":6},{"$f":"IF(H1066<>\"\",VLOOKUP(H1066,Codes!C$1:D$475,2,FALSE),\"\")","v":""}]
[{"$nulls":6},{"$f":"IF(H1067<>\"\",VLOOKUP(H1067,Codes!C$1:D$475,2,FALSE),\"\")","v":""}]
[{"$nulls":6},{"$f":"IF(H1068<>\"\",VLOOKUP(H1068,Codes!C$1:D$475,2,FALSE),\"\")","v":""}]
[{"$nulls":6},{"$f":"IF(H1069<>\"\",VLOOKUP(H1069,Codes!C$1:D$475,2,FALSE),\"\")","v":""}]
[{"$nulls":6},{"$f":"IF(H1070<>\"\",VLOOKUP(H1070,Codes!C$1:D$475,2,FALSE),\"\")","v":""}]
[{"$nulls":6},{"$f":"IF(H1071<>\"\",VLOOKUP(H1071,Codes!C$1:D$475,2,FALSE),\"\")","v":""}]
[{"$nulls":6},{"$f":"IF(H1072<>\"\",VLOOKUP(H1072,Codes!C$1:D$475,2,FALSE),\"\")","v":""}]
[{"$nulls":6},{"$f":"IF(H1073<>\"\",VLOOKUP(H1073,Codes!C$1:D$475,2,FALSE),\"\")","v":""}]
[{"$nulls":6},{"$f":"IF(H1074<>\"\",VLOOKUP(H1074,Codes!C$1:D$475,2,FALSE),\"\")","v":""}]
[{"$nulls":6},{"$f":"IF(H1075<>\"\",VLOOKUP(H1075,Codes!C$1:D$475,2,FALSE),\"\")","v":""}]
[{"$nulls":6},{"$f":"IF(H1076<>\"\",VLOOKUP(H1076,Codes!C$1:D$475,2,FALSE),\"\")","v":""}]
[{"$nulls":6},{"$f":"IF(H1077<>\"\",VLOOKUP(H1077,Codes!C$1:D$475,2,FALSE),\"\")","v":""}]
[{"$nulls":6},{"$f":"IF(H1078<>\"\",VLOOKUP(H1078,Codes!C$1:D$475,2,FALSE),\"\")","v":""}]
[{"$nulls":6},{"$f":"IF(H1079<>\"\",VLOOKUP(H1079,Codes!C$1:D$475,2,FALSE),\"\")","v":""}]
[{"$nulls":6},{"$f":"IF(H1080<>\"\",VLOOKUP(H1080,Codes!C$1:D$475,2,FALSE),\"\")","v":""}]
[{"$nulls":6},{"$f":"IF(H1081<>\"\",VLOOKUP(H1081,Codes!C$1:D$475,2,FALSE),\"\")","v":""}]
[{"$nulls":6},{"$f":"IF(H1082<>\"\",VLOOKUP(H1082,Codes!C$1:D$475,2,FALSE),\"\")","v":""}]
[{"$nulls":6},{"$f":"IF(H1083<>\"\",VLOOKUP(H1083,Codes!C$1:D$475,2,FALSE),\"\")","v":""}]
[{"$nulls":6},{"$f":"IF(H1084<>\"\",VLOOKUP(H1084,Codes!C$1:D$475,2,FALSE),\"\")","v":""}]
[{"$nulls":6},{"$f":"IF(H1085<>\"\",VLOOKUP(H1085,Codes!C$1:D$475,2,FALSE),\"\")","v":""}]
[{"$nulls":6},{"$f":"IF(H1086<>\"\",VLOOKUP(H1086,Codes!C$1:D$475,2,FALSE),\"\")","v":""}]
[{"$nulls":6},{"$f":"IF(H1087<>\"\",VLOOKUP(H1087,Codes!C$1:D$475,2,FALSE),\"\")","v":""}]
[{"$nulls":6},{"$f":"IF(H1088<>\"\",VLOOKUP(H1088,Codes!C$1:D$475,2,FALSE),\"\")","v":""}]
[{"$nulls":6},{"$f":"IF(H1089<>\"\",VLOOKUP(H1089,Codes!C$1:D$475,2,FALSE),\"\")","v":""}]
[{"$nulls":6},{"$f":"IF(H1090<>\"\",VLOOKUP(H1090,Codes!C$1:D$475,2,FALSE),\"\")","v":""}]
[{"$nulls":6},{"$f":"IF(H1091<>\"\",VLOOKUP(H1091,Codes!C$1:D$475,2,FALSE),\"\")","v":""}]
[{"$nulls":6},{"$f":"IF(H1092<>\"\",VLOOKUP(H1092,Codes!C$1:D$475,2,FALSE),\"\")","v":""}]
[{"$nulls":6},{"$f":"IF(H1093<>\"\",VLOOKUP(H1093,Codes!C$1:D$475,2,FALSE),\"\")","v":""}]
[{"$nulls":6},{"$f":"IF(H1094<>\"\",VLOOKUP(H1094,Codes!C$1:D$475,2,FALSE),\"\")","v":""}]
[{"$nulls":6},{"$f":"IF(H1095<>\"\",VLOOKUP(H1095,Codes!C$1:D$475,2,FALSE),\"\")","v":""}]
[{"$nulls":6},{"$f":"IF(H1096<>\"\",VLOOKUP(H1096,Codes!C$1:D$475,2,FALSE),\"\")","v":""}]
[{"$nulls":6},{"$f":"IF(H1097<>\"\",VLOOKUP(H1097,Codes!C$1:D$475,2,FALSE),\"\")","v":""}]
[{"$nulls":6},{"$f":"IF(H1098<>\"\",VLOOKUP(H1098,Codes!C$1:D$475,2,FALSE),\"\")","v":""}]
[{"$nulls":6},{"$f":"IF(H1099<>\"\",VLOOKUP(H1099,Codes!C$1:D$475,2,FALSE),\"\")","v":""}]
[{"$nulls":6},{"$f":"IF(H1100<>\"\",VLOOKUP(H1100,Codes!C$1:D$475,2,FALSE),\"\")","v":""}]
[{"$nulls":6},{"$f":"IF(H1101<>\"\",VLOOKUP(H1101,Codes!C$1:D$475,2,FALSE),\"\")","v":""}]
[{"$nulls":6},{"$f":"IF(H1102<>\"\",VLOOKUP(H1102,Codes!C$1:D$475,2,FALSE),\"\")","v":""}]
[{"$nulls":6},{"$f":"IF(H1103<>\"\",VLOOKUP(H1103,Codes!C$1:D$475,2,FALSE),\"\")","v":""}]
[{"$nulls":6},{"$f":"IF(H1104<>\"\",VLOOKUP(H1104,Codes!C$1:D$475,2,FALSE),\"\")","v":""}]
[{"$nulls":6},{"$f":"IF(H1105<>\"\",VLOOKUP(H1105,Codes!C$1:D$475,2,FALSE),\"\")","v":""}]
[{"$nulls":6},{"$f":"IF(H1106<>\"\",VLOOKUP(H1106,Codes!C$1:D$475,2,FALSE),\"\")","v":""}]
[{"$nulls":6},{"$f":"IF(H1107<>\"\",VLOOKUP(H1107,Codes!C$1:D$475,2,FALSE),\"\")","v":""}]
[{"$nulls":6},{"$f":"IF(H1108<>\"\",VLOOKUP(H1108,Codes!C$1:D$475,2,FALSE),\"\")","v":""}]
[{"$nulls":6},{"$f":"IF(H1109<>\"\",VLOOKUP(H1109,Codes!C$1:D$475,2,FALSE),\"\")","v":""}]
[{"$nulls":6},{"$f":"IF(H1110<>\"\",VLOOKUP(H1110,Codes!C$1:D$475,2,FALSE),\"\")","v":""}]
[{"$nulls":6},{"$f":"IF(H1111<>\"\",VLOOKUP(H1111,Codes!C$1:D$475,2,FALSE),\"\")","v":""}]
[{"$nulls":6},{"$f":"IF(H1112<>\"\",VLOOKUP(H1112,Codes!C$1:D$475,2,FALSE),\"\")","v":""}]
[{"$nulls":6},{"$f":"IF(H1113<>\"\",VLOOKUP(H1113,Codes!C$1:D$475,2,FALSE),\"\")","v":""}]
[{"$nulls":6},{"$f":"IF(H1114<>\"\",VLOOKUP(H1114,Codes!C$1:D$475,2,FALSE),\"\")","v":""}]
[{"$nulls":6},{"$f":"IF(H1115<>\"\",VLOOKUP(H1115,Codes!C$1:D$475,2,FALSE),\"\")","v":""}]
[{"$nulls":6},{"$f":"IF(H1116<>\"\",VLOOKUP(H1116,Codes!C$1:D$475,2,FALSE),\"\")","v":""}]
[{"$nulls":6},{"$f":"IF(H1117<>\"\",VLOOKUP(H1117,Codes!C$1:D$475,2,FALSE),\"\")","v":""}]
[{"$nulls":6},{"$f":"IF(H1118<>\"\",VLOOKUP(H1118,Codes!C$1:D$475,2,FALSE),\"\")","v":""}]
[{"$nulls":6},{"$f":"IF(H1119<>\"\",VLOOKUP(H1119,Codes!C$1:D$475,2,FALSE),\"\")","v":""}]
[{"$nulls":6},{"$f":"IF(H1120<>\"\",VLOOKUP(H1120,Codes!C$1:D$475,2,FALSE),\"\")","v":""}]
[{"$nulls":6},{"$f":"IF(H1121<>\"\",VLOOKUP(H1121,Codes!C$1:D$475,2,FALSE),\"\")","v":""}]
[{"$nulls":6},{"$f":"IF(H1122<>\"\",VLOOKUP(H1122,Codes!C$1:D$475,2,FALSE),\"\")","v":""}]
[{"$nulls":6},{"$f":"IF(H1123<>\"\",VLOOKUP(H1123,Codes!C$1:D$475,2,FALSE),\"\")","v":""}]
[{"$nulls":6},{"$f":"IF(H1124<>\"\",VLOOKUP(H1124,Codes!C$1:D$475,2,FALSE),\"\")","v":""}]
[{"$nulls":6},{"$f":"IF(H1125<>\"\",VLOOKUP(H1125,Codes!C$1:D$475,2,FALSE),\"\")","v":""}]
[{"$nulls":6},{"$f":"IF(H1126<>\"\",VLOOKUP(H1126,Codes!C$1:D$475,2,FALSE),\"\")","v":""}]
[{"$nulls":6},{"$f":"IF(H1127<>\"\",VLOOKUP(H1127,Codes!C$1:D$475,2,FALSE),\"\")","v":""}]
[{"$nulls":6},{"$f":"IF(H1128<>\"\",VLOOKUP(H1128,Codes!C$1:D$475,2,FALSE),\"\")","v":""}]
[{"$nulls":6},{"$f":"IF(H1129<>\"\",VLOOKUP(H1129,Codes!C$1:D$475,2,FALSE),\"\")","v":""}]
[{"$nulls":6},{"$f":"IF(H1130<>\"\",VLOOKUP(H1130,Codes!C$1:D$475,2,FALSE),\"\")","v":""}]
[{"$nulls":6},{"$f":"IF(H1131<>\"\",VLOOKUP(H1131,Codes!C$1:D$475,2,FALSE),\"\")","v":""}]
[{"$nulls":6},{"$f":"IF(H1132<>\"\",VLOOKUP(H1132,Codes!C$1:D$475,2,FALSE),\"\")","v":""}]
[{"$nulls":6},{"$f":"IF(H1133<>\"\",VLOOKUP(H1133,Codes!C$1:D$475,2,FALSE),\"\")","v":""}]
[{"$nulls":6},{"$f":"IF(H1134<>\"\",VLOOKUP(H1134,Codes!C$1:D$475,2,FALSE),\"\")","v":""}]
[{"$nulls":6},{"$f":"IF(H1135<>\"\",VLOOKUP(H1135,Codes!C$1:D$475,2,FALSE),\"\")","v":""}]
[{"$nulls":6},{"$f":"IF(H1136<>\"\",VLOOKUP(H1136,Codes!C$1:D$475,2,FALSE),\"\")","v":""}]
[{"$nulls":6},{"$f":"IF(H1137<>\"\",VLOOKUP(H1137,Codes!C$1:D$475,2,FALSE),\"\")","v":""}]
[{"$nulls":6},{"$f":"IF(H1138<>\"\",VLOOKUP(H1138,Codes!C$1:D$475,2,FALSE),\"\")","v":""}]
[{"$nulls":6},{"$f":"IF(H1139<>\"\",VLOOKUP(H1139,Codes!C$1:D$475,2,FALSE),\"\")","v":""}]
[{"$nulls":6},{"$f":"IF(H1140<>\"\",VLOOKUP(H1140,Codes!C$1:D$475,2,FALSE),\"\")","v":""}]
[{"$nulls":6},{"$f":"IF(H1141<>\"\",VLOOKUP(H1141,Codes!C$1:D$475,2,FALSE),\"\")","v":""}]
[{"$nulls":6},{"$f":"IF(H1142<>\"\",VLOOKUP(H1142,Codes!C$1:D$475,2,FALSE),\"\")","v":""}]
[{"$nulls":6},{"$f":"IF(H1143<>\"\",VLOOKUP(H1143,Codes!C$1:D$475,2,FALSE),\"\")","v":""}]
[{"$nulls":6},{"$f":"IF(H1144<>\"\",VLOOKUP(H1144,Codes!C$1:D$475,2,FALSE),\"\")","v":""}]
[{"$nulls":6},{"$f":"IF(H1145<>\"\",VLOOKUP(H1145,Codes!C$1:D$475,2,FALSE),\"\")","v":""}]
[{"$nulls":6},{"$f":"IF(H1146<>\"\",VLOOKUP(H1146,Codes!C$1:D$475,2,FALSE),\"\")","v":""}]
[{"$nulls":6},{"$f":"IF(H1147<>\"\",VLOOKUP(H1147,Codes!C$1:D$475,2,FALSE),\"\")","v":""}]
[{"$nulls":6},{"$f":"IF(H1148<>\"\",VLOOKUP(H1148,Codes!C$1:D$475,2,FALSE),\"\")","v":""}]
[{"$nulls":6},{"$f":"IF(H1149<>\"\",VLOOKUP(H1149,Codes!C$1:D$475,2,FALSE),\"\")","v":""}]
[{"$nulls":6},{"$f":"IF(H1150<>\"\",VLOOKUP(H1150,Codes!C$1:D$475,2,FALSE),\"\")","v":""}]
[{"$nulls":6},{"$f":"IF(H1151<>\"\",VLOOKUP(H1151,Codes!C$1:D$475,2,FALSE),\"\")","v":""}]
[{"$nulls":6},{"$f":"IF(H1152<>\"\",VLOOKUP(H1152,Codes!C$1:D$475,2,FALSE),\"\")","v":""}]
[{"$nulls":6},{"$f":"IF(H1153<>\"\",VLOOKUP(H1153,Codes!C$1:D$475,2,FALSE),\"\")","v":""}]
[{"$nulls":6},{"$f":"IF(H1154<>\"\",VLOOKUP(H1154,Codes!C$1:D$475,2,FALSE),\"\")","v":""}]
[{"$nulls":6},{"$f":"IF(H1155<>\"\",VLOOKUP(H1155,Codes!C$1:D$475,2,FALSE),\"\")","v":""}]
[{"$nulls":6},{"$f":"IF(H1156<>\"\",VLOOKUP(H1156,Codes!C$1:D$475,2,FALSE),\"\")","v":""}]
[{"$nulls":6},{"$f":"IF(H1157<>\"\",VLOOKUP(H1157,Codes!C$1:D$475,2,FALSE),\"\")","v":""}]
[{"$nulls":6},{"$f":"IF(H1158<>\"\",VLOOKUP(H1158,Codes!C$1:D$475,2,FALSE),\"\")","v":""}]
[{"$nulls":6},{"$f":"IF(H1159<>\"\",VLOOKUP(H1159,Codes!C$1:D$475,2,FALSE),\"\")","v":""}]
[{"$nulls":6},{"$f":"IF(H1160<>\"\",VLOOKUP(H1160,Codes!C$1:D$475,2,FALSE),\"\")","v":""}]
[{"$nulls":6},{"$f":"IF(H1161<>\"\",VLOOKUP(H1161,Codes!C$1:D$475,2,FALSE),\"\")","v":""}]
[{"$nulls":6},{"$f":"IF(H1162<>\"\",VLOOKUP(H1162,Codes!C$1:D$475,2,FALSE),\"\")","v":""}]
[{"$nulls":6},{"$f":"IF(H1163<>\"\",VLOOKUP(H1163,Codes!C$1:D$475,2,FALSE),\"\")","v":""}]
[{"$nulls":6},{"$f":"IF(H1164<>\"\",VLOOKUP(H1164,Codes!C$1:D$475,2,FALSE),\"\")","v":""}]
[{"$nulls":6},{"$f":"IF(H1165<>\"\",VLOOKUP(H1165,Codes!C$1:D$475,2,FALSE),\"\")","v":""}]
[{"$nulls":6},{"$f":"IF(H1166<>\"\",VLOOKUP(H1166,Codes!C$1:D$475,2,FALSE),\"\")","v":""}]
[{"$nulls":6},{"$f":"IF(H1167<>\"\",VLOOKUP(H1167,Codes!C$1:D$475,2,FALSE),\"\")","v":""}]
[{"$nulls":6},{"$f":"IF(H1168<>\"\",VLOOKUP(H1168,Codes!C$1:D$475,2,FALSE),\"\")","v":""}]
[{"$nulls":6},{"$f":"IF(H1169<>\"\",VLOOKUP(H1169,Codes!C$1:D$475,2,FALSE),\"\")","v":""},{"$nulls":3},{"$f":"IF(J1169>0,VLOOKUP(J1169,' code comptes '!$A$1:$C$148,3),\"\")","v":""},"ok",{"$f":"D987","v":{"v":0,"d":"0.00"}},{"$f":"+CONCATENATE(G987,H987)","v":""}]
[{"$nulls":6},{"$f":"IF(H1170<>\"\",VLOOKUP(H1170,Codes!C$1:D$475,2,FALSE),\"\")","v":""},{"$nulls":3},{"$f":"IF(J1170>0,VLOOKUP(J1170,' code comptes '!$A$1:$C$148,3),\"\")","v":""},"Erreur",{"$f":"D1169","v":{"v":0,"d":"0.00"}},{"$f":"+CONCATENATE(G1169,H1169)","v":""}]
[{"$nulls":6},{"$f":"IF(H1171<>\"\",VLOOKUP(H1171,Codes!C$1:D$475,2,FALSE),\"\")","v":""},{"$nulls":3},{"$f":"IF(J1171>0,VLOOKUP(J1171,' code comptes '!$A$1:$C$148,3),\"\")","v":""},null,{"v":0,"d":"0.00"},""]
[{"$nulls":6},{"$f":"IF(H1172<>\"\",VLOOKUP(H1172,Codes!C$1:D$475,2,FALSE),\"\")","v":""},{"$nulls":3},{"$f":"IF(J1172>0,VLOOKUP(J1172,' code comptes '!$A$1:$C$148,3),\"\")","v":""},null,{"v":0,"d":"0.00"},""]
[{"$nulls":6},{"$f":"IF(H1173<>\"\",VLOOKUP(H1173,Codes!C$1:D$475,2,FALSE),\"\")","v":""},{"$nulls":3},{"$f":"IF(J1173>0,VLOOKUP(J1173,' code comptes '!$A$1:$C$148,3),\"\")","v":""},null,{"v":0,"d":"0.00"},""]
[{"$nulls":6},{"$f":"IF(H1174<>\"\",VLOOKUP(H1174,Codes!C$1:D$475,2,FALSE),\"\")","v":""},{"$nulls":3},{"$f":"IF(J1174>0,VLOOKUP(J1174,' code comptes '!$A$1:$C$148,3),\"\")","v":""},null,{"v":0,"d":"0.00"},""]
[{"$nulls":6},{"$f":"IF(H1175<>\"\",VLOOKUP(H1175,Codes!C$1:D$475,2,FALSE),\"\")","v":""},{"$nulls":3},{"$f":"IF(J1175>0,VLOOKUP(J1175,' code comptes '!$A$1:$C$148,3),\"\")","v":""},null,{"v":0,"d":"0.00"},""]
[{"$nulls":6},{"$f":"IF(H1176<>\"\",VLOOKUP(H1176,Codes!C$1:D$475,2,FALSE),\"\")","v":""},{"$nulls":3},{"$f":"IF(J1176>0,VLOOKUP(J1176,' code comptes '!$A$1:$C$148,3),\"\")","v":""},null,{"v":0,"d":"0.00"},""]
[{"$nulls":6},{"$f":"IF(H1177<>\"\",VLOOKUP(H1177,Codes!C$1:D$475,2,FALSE),\"\")","v":""},{"$nulls":3},{"$f":"IF(J1177>0,VLOOKUP(J1177,' code comptes '!$A$1:$C$148,3),\"\")","v":""},null,{"v":0,"d":"0.00"},""]
[{"$nulls":6},{"$f":"IF(H1178<>\"\",VLOOKUP(H1178,Codes!C$1:D$475,2,FALSE),\"\")","v":""},{"$nulls":3},{"$f":"IF(J1178>0,VLOOKUP(J1178,' code comptes '!$A$1:$C$148,3),\"\")","v":""},null,{"v":0,"d":"0.00"},""]
[{"$nulls":6},{"$f":"IF(H1179<>\"\",VLOOKUP(H1179,Codes!C$1:D$475,2,FALSE),\"\")","v":""},{"$nulls":3},{"$f":"IF(J1179>0,VLOOKUP(J1179,' code comptes '!$A$1:$C$148,3),\"\")","v":""},null,{"v":0,"d":"0.00"},""]
[{"$nulls":6},{"$f":"IF(H1180<>\"\",VLOOKUP(H1180,Codes!C$1:D$475,2,FALSE),\"\")","v":""},{"$nulls":3},{"$f":"IF(J1180>0,VLOOKUP(J1180,' code comptes '!$A$1:$C$148,3),\"\")","v":""},null,{"v":0,"d":"0.00"},""]
[{"$nulls":6},{"$f":"IF(H1181<>\"\",VLOOKUP(H1181,Codes!C$1:D$475,2,FALSE),\"\")","v":""},{"$nulls":3},{"$f":"IF(J1181>0,VLOOKUP(J1181,' code comptes '!$A$1:$C$148,3),\"\")","v":""},null,{"v":0,"d":"0.00"},""]
[{"$nulls":6},{"$f":"IF(H1182<>\"\",VLOOKUP(H1182,Codes!C$1:D$475,2,FALSE),\"\")","v":""},{"$nulls":3},{"$f":"IF(J1182>0,VLOOKUP(J1182,' code comptes '!$A$1:$C$148,3),\"\")","v":""},null,{"v":0,"d":"0.00"},""]
[{"$nulls":6},{"$f":"IF(H1183<>\"\",VLOOKUP(H1183,Codes!C$1:D$475,2,FALSE),\"\")","v":""},{"$nulls":3},{"$f":"IF(J1183>0,VLOOKUP(J1183,' code comptes '!$A$1:$C$148,3),\"\")","v":""},null,{"v":0,"d":"0.00"},""]
[{"$nulls":6},{"$f":"IF(H1184<>\"\",VLOOKUP(H1184,Codes!C$1:D$475,2,FALSE),\"\")","v":""},{"$nulls":3},{"$f":"IF(J1184>0,VLOOKUP(J1184,' code comptes '!$A$1:$C$148,3),\"\")","v":""},null,{"v":0,"d":"0.00"},""]
[{"$nulls":6},{"$f":"IF(H1185<>\"\",VLOOKUP(H1185,Codes!C$1:D$475,2,FALSE),\"\")","v":""},{"$nulls":3},{"$f":"IF(J1185>0,VLOOKUP(J1185,' code comptes '!$A$1:$C$148,3),\"\")","v":""},null,{"v":0,"d":"0.00"},""]
[{"$nulls":6},{"$f":"IF(H1186<>\"\",VLOOKUP(H1186,Codes!C$1:D$475,2,FALSE),\"\")","v":""},{"$nulls":3},{"$f":"IF(J1186>0,VLOOKUP(J1186,' code comptes '!$A$1:$C$148,3),\"\")","v":""},null,{"v":0,"d":"0.00"},""]
[{"$nulls":6},{"$f":"IF(H1187<>\"\",VLOOKUP(H1187,Codes!C$1:D$475,2,FALSE),\"\")","v":""},{"$nulls":3},{"$f":"IF(J1187>0,VLOOKUP(J1187,' code comptes '!$A$1:$C$148,3),\"\")","v":""},null,{"v":0,"d":"0.00"},""]
[{"$nulls":6},{"$f":"IF(H1188<>\"\",VLOOKUP(H1188,Codes!C$1:D$475,2,FALSE),\"\")","v":""},{"$nulls":3},{"$f":"IF(J1188>0,VLOOKUP(J1188,' code comptes '!$A$1:$C$148,3),\"\")","v":""},null,{"v":0,"d":"0.00"},""]
[{"$nulls":6},{"$f":"IF(H1189<>\"\",VLOOKUP(H1189,Codes!C$1:D$475,2,FALSE),\"\")","v":""},{"$nulls":3},{"$f":"IF(J1189>0,VLOOKUP(J1189,' code comptes '!$A$1:$C$148,3),\"\")","v":""},null,{"v":0,"d":"0.00"},""]
[{"$nulls":6},{"$f":"IF(H1190<>\"\",VLOOKUP(H1190,Codes!C$1:D$475,2,FALSE),\"\")","v":""},{"$nulls":3},{"$f":"IF(J1190>0,VLOOKUP(J1190,' code comptes '!$A$1:$C$148,3),\"\")","v":""},null,{"v":0,"d":"0.00"},""]
[{"$nulls":6},{"$f":"IF(H1191<>\"\",VLOOKUP(H1191,Codes!C$1:D$475,2,FALSE),\"\")","v":""},{"$nulls":3},{"$f":"IF(J1191>0,VLOOKUP(J1191,' code comptes '!$A$1:$C$148,3),\"\")","v":""},null,{"v":0,"d":"0.00"},""]
[{"$nulls":6},{"$f":"IF(H1192<>\"\",VLOOKUP(H1192,Codes!C$1:D$475,2,FALSE),\"\")","v":""},{"$nulls":3},{"$f":"IF(J1192>0,VLOOKUP(J1192,' code comptes '!$A$1:$C$148,3),\"\")","v":""},null,{"v":0,"d":"0.00"},""]
[{"$nulls":6},{"$f":"IF(H1193<>\"\",VLOOKUP(H1193,Codes!C$1:D$475,2,FALSE),\"\")","v":""},{"$nulls":3},{"$f":"IF(J1193>0,VLOOKUP(J1193,' code comptes '!$A$1:$C$148,3),\"\")","v":""},null,{"v":0,"d":"0.00"},""]
[{"$nulls":6},{"$f":"IF(H1194<>\"\",VLOOKUP(H1194,Codes!C$1:D$475,2,FALSE),\"\")","v":""},{"$nulls":3},{"$f":"IF(J1194>0,VLOOKUP(J1194,' code comptes '!$A$1:$C$148,3),\"\")","v":""},null,{"v":0,"d":"0.00"},""]
[{"$nulls":6},{"$f":"IF(H1195<>\"\",VLOOKUP(H1195,Codes!C$1:D$475,2,FALSE),\"\")","v":""},{"$nulls":3},{"$f":"IF(J1195>0,VLOOKUP(J1195,' code comptes '!$A$1:$C$148,3),\"\")","v":""},null,{"v":0,"d":"0.00"},""]
[{"$nulls":6},{"$f":"IF(H1196<>\"\",VLOOKUP(H1196,Codes!C$1:D$475,2,FALSE),\"\")","v":""},{"$nulls":3},{"$f":"IF(J1196>0,VLOOKUP(J1196,' code comptes '!$A$1:$C$148,3),\"\")","v":""},null,{"v":0,"d":"0.00"},""]
[{"$nulls":6},{"$f":"IF(H1197<>\"\",VLOOKUP(H1197,Codes!C$1:D$475,2,FALSE),\"\")","v":""},{"$nulls":3},{"$f":"IF(J1197>0,VLOOKUP(J1197,' code comptes '!$A$1:$C$148,3),\"\")","v":""},null,{"v":0,"d":"0.00"},""]
[{"$nulls":6},{"$f":"IF(H1198<>\"\",VLOOKUP(H1198,Codes!C$1:D$475,2,FALSE),\"\")","v":""},{"$nulls":3},{"$f":"IF(J1198>0,VLOOKUP(J1198,' code comptes '!$A$1:$C$148,3),\"\")","v":""},null,{"v":0,"d":"0.00"},""]
[{"$nulls":6},{"$f":"IF(H1199<>\"\",VLOOKUP(H1199,Codes!C$1:D$475,2,FALSE),\"\")","v":""},{"$nulls":3},{"$f":"IF(J1199>0,VLOOKUP(J1199,' code comptes '!$A$1:$C$148,3),\"\")","v":""},null,{"v":0,"d":"0.00"},""]
[{"$nulls":6},{"$f":"IF(H1200<>\"\",VLOOKUP(H1200,Codes!C$1:D$475,2,FALSE),\"\")","v":""},{"$nulls":3},{"$f":"IF(J1200>0,VLOOKUP(J1200,' code comptes '!$A$1:$C$148,3),\"\")","v":""},null,{"v":0,"d":"0.00"},""]
[{"$nulls":6},{"$f":"IF(H1201<>\"\",VLOOKUP(H1201,Codes!C$1:D$475,2,FALSE),\"\")","v":""},{"$nulls":3},{"$f":"IF(J1201>0,VLOOKUP(J1201,' code comptes '!$A$1:$C$148,3),\"\")","v":""},null,{"v":0,"d":"0.00"},""]
[{"$nulls":6},{"$f":"IF(H1202<>\"\",VLOOKUP(H1202,Codes!C$1:D$475,2,FALSE),\"\")","v":""},{"$nulls":3},{"$f":"IF(J1202>0,VLOOKUP(J1202,' code comptes '!$A$1:$C$148,3),\"\")","v":""},null,{"v":0,"d":"0.00"},""]
[{"$nulls":6},{"$f":"IF(H1203<>\"\",VLOOKUP(H1203,Codes!C$1:D$475,2,FALSE),\"\")","v":""},{"$nulls":3},{"$f":"IF(J1203>0,VLOOKUP(J1203,' code comptes '!$A$1:$C$148,3),\"\")","v":""},null,{"v":0,"d":"0.00"},""]
[{"$nulls":6},{"$f":"IF(H1204<>\"\",VLOOKUP(H1204,Codes!C$1:D$475,2,FALSE),\"\")","v":""},{"$nulls":3},{"$f":"IF(J1204>0,VLOOKUP(J1204,' code comptes '!$A$1:$C$148,3),\"\")","v":""},null,{"v":0,"d":"0.00"},""]
[{"$nulls":6},{"$f":"IF(H1205<>\"\",VLOOKUP(H1205,Codes!C$1:D$475,2,FALSE),\"\")","v":""},{"$nulls":3},{"$f":"IF(J1205>0,VLOOKUP(J1205,' code comptes '!$A$1:$C$148,3),\"\")","v":""},null,{"v":0,"d":"0.00"},""]
[{"$nulls":6},{"$f":"IF(H1206<>\"\",VLOOKUP(H1206,Codes!C$1:D$475,2,FALSE),\"\")","v":""},{"$nulls":3},{"$f":"IF(J1206>0,VLOOKUP(J1206,' code comptes '!$A$1:$C$148,3),\"\")","v":""},null,{"v":0,"d":"0.00"},""]
[{"$nulls":6},{"$f":"IF(H1207<>\"\",VLOOKUP(H1207,Codes!C$1:D$475,2,FALSE),\"\")","v":""},{"$nulls":3},{"$f":"IF(J1207>0,VLOOKUP(J1207,' code comptes '!$A$1:$C$148,3),\"\")","v":""},null,{"v":0,"d":"0.00"},""]
[{"$nulls":6},{"$f":"IF(H1208<>\"\",VLOOKUP(H1208,Codes!C$1:D$475,2,FALSE),\"\")","v":""},{"$nulls":3},{"$f":"IF(J1208>0,VLOOKUP(J1208,' code comptes '!$A$1:$C$148,3),\"\")","v":""},null,{"v":0,"d":"0.00"},""]
[{"$nulls":6},{"$f":"IF(H1209<>\"\",VLOOKUP(H1209,Codes!C$1:D$475,2,FALSE),\"\")","v":""},{"$nulls":3},{"$f":"IF(J1209>0,VLOOKUP(J1209,' code comptes '!$A$1:$C$148,3),\"\")","v":""},null,{"v":0,"d":"0.00"},""]
[{"$nulls":6},{"$f":"IF(H1210<>\"\",VLOOKUP(H1210,Codes!C$1:D$475,2,FALSE),\"\")","v":""},{"$nulls":3},{"$f":"IF(J1210>0,VLOOKUP(J1210,' code comptes '!$A$1:$C$148,3),\"\")","v":""},null,{"v":0,"d":"0.00"},""]
[{"$nulls":6},{"$f":"IF(H1211<>\"\",VLOOKUP(H1211,Codes!C$1:D$475,2,FALSE),\"\")","v":""},{"$nulls":3},{"$f":"IF(J1211>0,VLOOKUP(J1211,' code comptes '!$A$1:$C$148,3),\"\")","v":""},null,{"v":0,"d":"0.00"},""]
[{"$nulls":6},{"$f":"IF(H1212<>\"\",VLOOKUP(H1212,Codes!C$1:D$475,2,FALSE),\"\")","v":""},{"$nulls":3},{"$f":"IF(J1212>0,VLOOKUP(J1212,' code comptes '!$A$1:$C$148,3),\"\")","v":""},null,{"v":0,"d":"0.00"},""]
[{"$nulls":6},{"$f":"IF(H1213<>\"\",VLOOKUP(H1213,Codes!C$1:D$475,2,FALSE),\"\")","v":""},{"$nulls":3},{"$f":"IF(J1213>0,VLOOKUP(J1213,' code comptes '!$A$1:$C$148,3),\"\")","v":""},null,{"v":0,"d":"0.00"},""]
[{"$nulls":6},{"$f":"IF(H1214<>\"\",VLOOKUP(H1214,Codes!C$1:D$475,2,FALSE),\"\")","v":""},{"$nulls":3},{"$f":"IF(J1214>0,VLOOKUP(J1214,' code comptes '!$A$1:$C$148,3),\"\")","v":""},null,{"v":0,"d":"0.00"},""]
[{"$nulls":6},{"$f":"IF(H1215<>\"\",VLOOKUP(H1215,Codes!C$1:D$475,2,FALSE),\"\")","v":""},{"$nulls":3},{"$f":"IF(J1215>0,VLOOKUP(J1215,' code comptes '!$A$1:$C$148,3),\"\")","v":""},null,{"v":0,"d":"0.00"},""]
[{"$nulls":6},{"$f":"IF(H1216<>\"\",VLOOKUP(H1216,Codes!C$1:D$475,2,FALSE),\"\")","v":""},{"$nulls":3},{"$f":"IF(J1216>0,VLOOKUP(J1216,' code comptes '!$A$1:$C$148,3),\"\")","v":""},null,{"v":0,"d":"0.00"},""]
[{"$nulls":6},{"$f":"IF(H1217<>\"\",VLOOKUP(H1217,Codes!C$1:D$475,2,FALSE),\"\")","v":""},{"$nulls":3},{"$f":"IF(J1217>0,VLOOKUP(J1217,' code comptes '!$A$1:$C$148,3),\"\")","v":""},null,{"v":0,"d":"0.00"},""]
[{"$nulls":6},{"$f":"IF(H1218<>\"\",VLOOKUP(H1218,Codes!C$1:D$475,2,FALSE),\"\")","v":""},{"$nulls":3},{"$f":"IF(J1218>0,VLOOKUP(J1218,' code comptes '!$A$1:$C$148,3),\"\")","v":""},null,{"v":0,"d":"0.00"},""]
[{"$nulls":6},{"$f":"IF(H1219<>\"\",VLOOKUP(H1219,Codes!C$1:D$475,2,FALSE),\"\")","v":""},{"$nulls":3},{"$f":"IF(J1219>0,VLOOKUP(J1219,' code comptes '!$A$1:$C$148,3),\"\")","v":""},null,{"v":0,"d":"0.00"},""]
[{"$nulls":6},{"$f":"IF(H1220<>\"\",VLOOKUP(H1220,Codes!C$1:D$475,2,FALSE),\"\")","v":""},{"$nulls":3},{"$f":"IF(J1220>0,VLOOKUP(J1220,' code comptes '!$A$1:$C$148,3),\"\")","v":""},null,{"v":0,"d":"0.00"},""]
[{"$nulls":6},{"$f":"IF(H1221<>\"\",VLOOKUP(H1221,Codes!C$1:D$475,2,FALSE),\"\")","v":""},{"$nulls":3},{"$f":"IF(J1221>0,VLOOKUP(J1221,' code comptes '!$A$1:$C$148,3),\"\")","v":""},null,{"v":0,"d":"0.00"},""]
[{"$nulls":6},{"$f":"IF(H1222<>\"\",VLOOKUP(H1222,Codes!C$1:D$475,2,FALSE),\"\")","v":""},{"$nulls":3},{"$f":"IF(J1222>0,VLOOKUP(J1222,' code comptes '!$A$1:$C$148,3),\"\")","v":""},null,{"v":0,"d":"0.00"},""]
[{"$nulls":6},{"$f":"IF(H1223<>\"\",VLOOKUP(H1223,Codes!C$1:D$475,2,FALSE),\"\")","v":""},{"$nulls":3},{"$f":"IF(J1223>0,VLOOKUP(J1223,' code comptes '!$A$1:$C$148,3),\"\")","v":""},null,{"v":0,"d":"0.00"},""]
[{"$nulls":6},{"$f":"IF(H1224<>\"\",VLOOKUP(H1224,Codes!C$1:D$475,2,FALSE),\"\")","v":""},{"$nulls":3},{"$f":"IF(J1224>0,VLOOKUP(J1224,' code comptes '!$A$1:$C$148,3),\"\")","v":""},null,{"v":0,"d":"0.00"},""]
[{"$nulls":6},{"$f":"IF(H1225<>\"\",VLOOKUP(H1225,Codes!C$1:D$475,2,FALSE),\"\")","v":""},{"$nulls":3},{"$f":"IF(J1225>0,VLOOKUP(J1225,' code comptes '!$A$1:$C$148,3),\"\")","v":""},null,{"v":0,"d":"0.00"},""]
[{"$nulls":6},{"$f":"IF(H1226<>\"\",VLOOKUP(H1226,Codes!C$1:D$475,2,FALSE),\"\")","v":""},{"$nulls":3},{"$f":"IF(J1226>0,VLOOKUP(J1226,' code comptes '!$A$1:$C$148,3),\"\")","v":""},null,{"v":0,"d":"0.00"},""]
[{"$nulls":6},{"$f":"IF(H1227<>\"\",VLOOKUP(H1227,Codes!C$1:D$475,2,FALSE),\"\")","v":""},{"$nulls":3},{"$f":"IF(J1227>0,VLOOKUP(J1227,' code comptes '!$A$1:$C$148,3),\"\")","v":""},null,{"v":0,"d":"0.00"},""]
[{"$nulls":6},{"$f":"IF(H1228<>\"\",VLOOKUP(H1228,Codes!C$1:D$475,2,FALSE),\"\")","v":""},{"$nulls":3},{"$f":"IF(J1228>0,VLOOKUP(J1228,' code comptes '!$A$1:$C$148,3),\"\")","v":""},null,{"v":0,"d":"0.00"},""]
[{"$nulls":6},{"$f":"IF(H1229<>\"\",VLOOKUP(H1229,Codes!C$1:D$475,2,FALSE),\"\")","v":""},{"$nulls":3},{"$f":"IF(J1229>0,VLOOKUP(J1229,' code comptes '!$A$1:$C$148,3),\"\")","v":""},null,{"v":0,"d":"0.00"},""]
[{"$nulls":6},{"$f":"IF(H1230<>\"\",VLOOKUP(H1230,Codes!C$1:D$475,2,FALSE),\"\")","v":""},{"$nulls":3},{"$f":"IF(J1230>0,VLOOKUP(J1230,' code comptes '!$A$1:$C$148,3),\"\")","v":""},null,{"v":0,"d":"0.00"},""]
[{"$nulls":6},{"$f":"IF(H1231<>\"\",VLOOKUP(H1231,Codes!C$1:D$475,2,FALSE),\"\")","v":""},{"$nulls":3},{"$f":"IF(J1231>0,VLOOKUP(J1231,' code comptes '!$A$1:$C$148,3),\"\")","v":""},null,{"v":0,"d":"0.00"},""]
[{"$nulls":6},{"$f":"IF(H1232<>\"\",VLOOKUP(H1232,Codes!C$1:D$475,2,FALSE),\"\")","v":""},{"$nulls":3},{"$f":"IF(J1232>0,VLOOKUP(J1232,' code comptes '!$A$1:$C$148,3),\"\")","v":""},null,{"v":0,"d":"0.00"},""]
[{"$nulls":6},{"$f":"IF(H1233<>\"\",VLOOKUP(H1233,Codes!C$1:D$475,2,FALSE),\"\")","v":""},{"$nulls":3},{"$f":"IF(J1233>0,VLOOKUP(J1233,' code comptes '!$A$1:$C$148,3),\"\")","v":""},null,{"v":0,"d":"0.00"},""]
[{"$nulls":6},{"$f":"IF(H1234<>\"\",VLOOKUP(H1234,Codes!C$1:D$475,2,FALSE),\"\")","v":""},{"$nulls":3},{"$f":"IF(J1234>0,VLOOKUP(J1234,' code comptes '!$A$1:$C$148,3),\"\")","v":""},null,{"v":0,"d":"0.00"},""]
[{"$nulls":6},{"$f":"IF(H1235<>\"\",VLOOKUP(H1235,Codes!C$1:D$475,2,FALSE),\"\")","v":""},{"$nulls":3},{"$f":"IF(J1235>0,VLOOKUP(J1235,' code comptes '!$A$1:$C$148,3),\"\")","v":""},null,{"v":0,"d":"0.00"},""]
[{"$nulls":6},{"$f":"IF(H1236<>\"\",VLOOKUP(H1236,Codes!C$1:D$475,2,FALSE),\"\")","v":""},{"$nulls":3},{"$f":"IF(J1236>0,VLOOKUP(J1236,' code comptes '!$A$1:$C$148,3),\"\")","v":""},null,{"v":0,"d":"0.00"},""]
[{"$nulls":6},{"$f":"IF(H1237<>\"\",VLOOKUP(H1237,Codes!C$1:D$475,2,FALSE),\"\")","v":""},{"$nulls":3},{"$f":"IF(J1237>0,VLOOKUP(J1237,' code comptes '!$A$1:$C$148,3),\"\")","v":""},null,{"v":0,"d":"0.00"},""]
[{"$nulls":6},{"$f":"IF(H1238<>\"\",VLOOKUP(H1238,Codes!C$1:D$475,2,FALSE),\"\")","v":""},{"$nulls":3},{"$f":"IF(J1238>0,VLOOKUP(J1238,' code comptes '!$A$1:$C$148,3),\"\")","v":""},null,{"v":0,"d":"0.00"},""]
[{"$nulls":6},{"$f":"IF(H1239<>\"\",VLOOKUP(H1239,Codes!C$1:D$475,2,FALSE),\"\")","v":""},{"$nulls":3},{"$f":"IF(J1239>0,VLOOKUP(J1239,' code comptes '!$A$1:$C$148,3),\"\")","v":""},null,{"v":0,"d":"0.00"},""]
[{"$nulls":6},{"$f":"IF(H1240<>\"\",VLOOKUP(H1240,Codes!C$1:D$475,2,FALSE),\"\")","v":""},{"$nulls":3},{"$f":"IF(J1240>0,VLOOKUP(J1240,' code comptes '!$A$1:$C$148,3),\"\")","v":""},null,{"v":0,"d":"0.00"},""]
[{"$nulls":6},{"$f":"IF(H1241<>\"\",VLOOKUP(H1241,Codes!C$1:D$475,2,FALSE),\"\")","v":""},{"$nulls":3},{"$f":"IF(J1241>0,VLOOKUP(J1241,' code comptes '!$A$1:$C$148,3),\"\")","v":""},null,{"v":0,"d":"0.00"},""]
[{"$nulls":6},{"$f":"IF(H1242<>\"\",VLOOKUP(H1242,Codes!C$1:D$475,2,FALSE),\"\")","v":""},{"$nulls":3},{"$f":"IF(J1242>0,VLOOKUP(J1242,' code comptes '!$A$1:$C$148,3),\"\")","v":""},null,{"v":0,"d":"0.00"},""]
[{"$nulls":6},{"$f":"IF(H1243<>\"\",VLOOKUP(H1243,Codes!C$1:D$475,2,FALSE),\"\")","v":""},{"$nulls":3},{"$f":"IF(J1243>0,VLOOKUP(J1243,' code comptes '!$A$1:$C$148,3),\"\")","v":""},null,{"v":0,"d":"0.00"},""]
[{"$nulls":6},{"$f":"IF(H1244<>\"\",VLOOKUP(H1244,Codes!C$1:D$475,2,FALSE),\"\")","v":""},{"$nulls":3},{"$f":"IF(J1244>0,VLOOKUP(J1244,' code comptes '!$A$1:$C$148,3),\"\")","v":""},null,{"v":0,"d":"0.00"},""]
[{"$nulls":6},{"$f":"IF(H1245<>\"\",VLOOKUP(H1245,Codes!C$1:D$475,2,FALSE),\"\")","v":""},{"$nulls":3},{"$f":"IF(J1245>0,VLOOKUP(J1245,' code comptes '!$A$1:$C$148,3),\"\")","v":""},null,{"v":0,"d":"0.00"},""]
[{"$nulls":6},{"$f":"IF(H1246<>\"\",VLOOKUP(H1246,Codes!C$1:D$475,2,FALSE),\"\")","v":""},{"$nulls":3},{"$f":"IF(J1246>0,VLOOKUP(J1246,' code comptes '!$A$1:$C$148,3),\"\")","v":""},null,{"v":0,"d":"0.00"},""]
[{"$nulls":6},{"$f":"IF(H1247<>\"\",VLOOKUP(H1247,Codes!C$1:D$475,2,FALSE),\"\")","v":""},{"$nulls":3},{"$f":"IF(J1247>0,VLOOKUP(J1247,' code comptes '!$A$1:$C$148,3),\"\")","v":""},null,{"v":0,"d":"0.00"},""]
[{"$nulls":6},{"$f":"IF(H1248<>\"\",VLOOKUP(H1248,Codes!C$1:D$475,2,FALSE),\"\")","v":""},{"$nulls":3},{"$f":"IF(J1248>0,VLOOKUP(J1248,' code comptes '!$A$1:$C$148,3),\"\")","v":""},null,{"v":0,"d":"0.00"},""]
[{"$nulls":6},{"$f":"IF(H1249<>\"\",VLOOKUP(H1249,Codes!C$1:D$475,2,FALSE),\"\")","v":""},{"$nulls":3},{"$f":"IF(J1249>0,VLOOKUP(J1249,' code comptes '!$A$1:$C$148,3),\"\")","v":""},null,{"v":0,"d":"0.00"},""]
[{"$nulls":6},{"$f":"IF(H1250<>\"\",VLOOKUP(H1250,Codes!C$1:D$475,2,FALSE),\"\")","v":""},{"$nulls":3},{"$f":"IF(J1250>0,VLOOKUP(J1250,' code comptes '!$A$1:$C$148,3),\"\")","v":""},null,{"v":0,"d":"0.00"},""]
[{"$nulls":6},{"$f":"IF(H1251<>\"\",VLOOKUP(H1251,Codes!C$1:D$475,2,FALSE),\"\")","v":""},{"$nulls":3},{"$f":"IF(J1251>0,VLOOKUP(J1251,' code comptes '!$A$1:$C$148,3),\"\")","v":""},null,{"v":0,"d":"0.00"},""]
[{"$nulls":6},{"$f":"IF(H1252<>\"\",VLOOKUP(H1252,Codes!C$1:D$475,2,FALSE),\"\")","v":""},{"$nulls":3},{"$f":"IF(J1252>0,VLOOKUP(J1252,' code comptes '!$A$1:$C$148,3),\"\")","v":""},null,{"v":0,"d":"0.00"},""]
[{"$nulls":6},{"$f":"IF(H1253<>\"\",VLOOKUP(H1253,Codes!C$1:D$475,2,FALSE),\"\")","v":""},{"$nulls":3},{"$f":"IF(J1253>0,VLOOKUP(J1253,' code comptes '!$A$1:$C$148,3),\"\")","v":""},null,{"v":0,"d":"0.00"},""]
[{"$nulls":6},{"$f":"IF(H1254<>\"\",VLOOKUP(H1254,Codes!C$1:D$475,2,FALSE),\"\")","v":""},{"$nulls":3},{"$f":"IF(J1254>0,VLOOKUP(J1254,' code comptes '!$A$1:$C$148,3),\"\")","v":""},null,{"v":0,"d":"0.00"},""]
[{"$nulls":6},{"$f":"IF(H1255<>\"\",VLOOKUP(H1255,Codes!C$1:D$475,2,FALSE),\"\")","v":""}]
[{"$nulls":6},{"$f":"IF(H1256<>\"\",VLOOKUP(H1256,Codes!C$1:D$475,2,FALSE),\"\")","v":""}]
[{"$nulls":6},{"$f":"IF(H1257<>\"\",VLOOKUP(H1257,Codes!C$1:D$475,2,FALSE),\"\")","v":""}]
[{"$nulls":6},{"$f":"IF(H1258<>\"\",VLOOKUP(H1258,Codes!C$1:D$475,2,FALSE),\"\")","v":""}]
[{"$nulls":6},{"$f":"IF(H1259<>\"\",VLOOKUP(H1259,Codes!C$1:D$475,2,FALSE),\"\")","v":""}]
[{"$nulls":6},{"$f":"IF(H1260<>\"\",VLOOKUP(H1260,Codes!C$1:D$475,2,FALSE),\"\")","v":""}]
[{"$nulls":6},{"$f":"IF(H1261<>\"\",VLOOKUP(H1261,Codes!C$1:D$475,2,FALSE),\"\")","v":""}]
[{"$nulls":6},{"$f":"IF(H1262<>\"\",VLOOKUP(H1262,Codes!C$1:D$475,2,FALSE),\"\")","v":""}]
[{"$nulls":6},{"$f":"IF(H1263<>\"\",VLOOKUP(H1263,Codes!C$1:D$475,2,FALSE),\"\")","v":""}]
[{"$nulls":6},{"$f":"IF(H1264<>\"\",VLOOKUP(H1264,Codes!C$1:D$475,2,FALSE),\"\")","v":""}]
[{"$nulls":6},{"$f":"IF(H1265<>\"\",VLOOKUP(H1265,Codes!C$1:D$475,2,FALSE),\"\")","v":""}]
[{"$nulls":6},{"$f":"IF(H1266<>\"\",VLOOKUP(H1266,Codes!C$1:D$475,2,FALSE),\"\")","v":""}]
[{"$nulls":6},{"$f":"IF(H1267<>\"\",VLOOKUP(H1267,Codes!C$1:D$475,2,FALSE),\"\")","v":""}]
[{"$nulls":6},{"$f":"IF(H1268<>\"\",VLOOKUP(H1268,Codes!C$1:D$475,2,FALSE),\"\")","v":""}]
[{"$nulls":6},{"$f":"IF(H1269<>\"\",VLOOKUP(H1269,Codes!C$1:D$475,2,FALSE),\"\")","v":""}]
[{"$nulls":6},{"$f":"IF(H1270<>\"\",VLOOKUP(H1270,Codes!C$1:D$475,2,FALSE),\"\")","v":""}]
[{"$nulls":6},{"$f":"IF(H1271<>\"\",VLOOKUP(H1271,Codes!C$1:D$475,2,FALSE),\"\")","v":""}]
[{"$nulls":6},{"$f":"IF(H1272<>\"\",VLOOKUP(H1272,Codes!C$1:D$475,2,FALSE),\"\")","v":""}]
[{"$nulls":6},{"$f":"IF(H1273<>\"\",VLOOKUP(H1273,Codes!C$1:D$475,2,FALSE),\"\")","v":""}]
[{"$nulls":6},{"$f":"IF(H1274<>\"\",VLOOKUP(H1274,Codes!C$1:D$475,2,FALSE),\"\")","v":""}]
[{"$nulls":6},{"$f":"IF(H1275<>\"\",VLOOKUP(H1275,Codes!C$1:D$475,2,FALSE),\"\")","v":""}]
[{"$nulls":6},{"$f":"IF(H1276<>\"\",VLOOKUP(H1276,Codes!C$1:D$475,2,FALSE),\"\")","v":""}]
[{"$nulls":6},{"$f":"IF(H1277<>\"\",VLOOKUP(H1277,Codes!C$1:D$475,2,FALSE),\"\")","v":""}]
[{"$nulls":6},{"$f":"IF(H1278<>\"\",VLOOKUP(H1278,Codes!C$1:D$475,2,FALSE),\"\")","v":""}]
[{"$nulls":6},{"$f":"IF(H1279<>\"\",VLOOKUP(H1279,Codes!C$1:D$475,2,FALSE),\"\")","v":""}]
[{"$nulls":6},{"$f":"IF(H1280<>\"\",VLOOKUP(H1280,Codes!C$1:D$475,2,FALSE),\"\")","v":""}]
[{"$nulls":6},{"$f":"IF(H1281<>\"\",VLOOKUP(H1281,Codes!C$1:D$475,2,FALSE),\"\")","v":""}]
[{"$nulls":6},{"$f":"IF(H1282<>\"\",VLOOKUP(H1282,Codes!C$1:D$475,2,FALSE),\"\")","v":""}]
[{"$nulls":6},{"$f":"IF(H1283<>\"\",VLOOKUP(H1283,Codes!C$1:D$475,2,FALSE),\"\")","v":""}]
[{"$nulls":6},{"$f":"IF(H1284<>\"\",VLOOKUP(H1284,Codes!C$1:D$475,2,FALSE),\"\")","v":""}]
[{"$nulls":6},{"$f":"IF(H1285<>\"\",VLOOKUP(H1285,Codes!C$1:D$475,2,FALSE),\"\")","v":""}]
[{"$nulls":6},{"$f":"IF(H1286<>\"\",VLOOKUP(H1286,Codes!C$1:D$475,2,FALSE),\"\")","v":""}]
[{"$nulls":6},{"$f":"IF(H1287<>\"\",VLOOKUP(H1287,Codes!C$1:D$475,2,FALSE),\"\")","v":""}]
[{"$nulls":6},{"$f":"IF(H1288<>\"\",VLOOKUP(H1288,Codes!C$1:D$475,2,FALSE),\"\")","v":""}]
[{"$nulls":6},{"$f":"IF(H1289<>\"\",VLOOKUP(H1289,Codes!C$1:D$475,2,FALSE),\"\")","v":""}]
[{"$nulls":6},{"$f":"IF(H1290<>\"\",VLOOKUP(H1290,Codes!C$1:D$475,2,FALSE),\"\")","v":""}]
[{"$nulls":6},{"$f":"IF(H1291<>\"\",VLOOKUP(H1291,Codes!C$1:D$475,2,FALSE),\"\")","v":""}]
[{"$nulls":6},{"$f":"IF(H1292<>\"\",VLOOKUP(H1292,Codes!C$1:D$475,2,FALSE),\"\")","v":""}]
[{"$nulls":6},{"$f":"IF(H1293<>\"\",VLOOKUP(H1293,Codes!C$1:D$475,2,FALSE),\"\")","v":""}]
[{"$nulls":6},{"$f":"IF(H1294<>\"\",VLOOKUP(H1294,Codes!C$1:D$475,2,FALSE),\"\")","v":""}]
[{"$nulls":6},{"$f":"IF(H1295<>\"\",VLOOKUP(H1295,Codes!C$1:D$475,2,FALSE),\"\")","v":""}]
[{"$nulls":6},{"$f":"IF(H1296<>\"\",VLOOKUP(H1296,Codes!C$1:D$475,2,FALSE),\"\")","v":""}]
[{"$nulls":6},{"$f":"IF(H1297<>\"\",VLOOKUP(H1297,Codes!C$1:D$475,2,FALSE),\"\")","v":""}]
[{"$nulls":6},{"$f":"IF(H1298<>\"\",VLOOKUP(H1298,Codes!C$1:D$475,2,FALSE),\"\")","v":""}]
[{"$nulls":6},{"$f":"IF(H1299<>\"\",VLOOKUP(H1299,Codes!C$1:D$475,2,FALSE),\"\")","v":""}]
[{"$nulls":6},{"$f":"IF(H1300<>\"\",VLOOKUP(H1300,Codes!C$1:D$475,2,FALSE),\"\")","v":""}]
[{"$nulls":6},{"$f":"IF(H1301<>\"\",VLOOKUP(H1301,Codes!C$1:D$475,2,FALSE),\"\")","v":""}]
[{"$nulls":6},{"$f":"IF(H1302<>\"\",VLOOKUP(H1302,Codes!C$1:D$475,2,FALSE),\"\")","v":""}]
[{"$nulls":6},{"$f":"IF(H1303<>\"\",VLOOKUP(H1303,Codes!C$1:D$475,2,FALSE),\"\")","v":""}]
[{"$nulls":6},{"$f":"IF(H1304<>\"\",VLOOKUP(H1304,Codes!C$1:D$475,2,FALSE),\"\")","v":""}]
[{"$nulls":6},{"$f":"IF(H1305<>\"\",VLOOKUP(H1305,Codes!C$1:D$475,2,FALSE),\"\")","v":""}]
[{"$nulls":6},{"$f":"IF(H1306<>\"\",VLOOKUP(H1306,Codes!C$1:D$475,2,FALSE),\"\")","v":""}]
[{"$nulls":6},{"$f":"IF(H1307<>\"\",VLOOKUP(H1307,Codes!C$1:D$475,2,FALSE),\"\")","v":""}]
[{"$nulls":6},{"$f":"IF(H1308<>\"\",VLOOKUP(H1308,Codes!C$1:D$475,2,FALSE),\"\")","v":""}]
[{"$nulls":6},{"$f":"IF(H1309<>\"\",VLOOKUP(H1309,Codes!C$1:D$475,2,FALSE),\"\")","v":""}]
[{"$nulls":6},{"$f":"IF(H1310<>\"\",VLOOKUP(H1310,Codes!C$1:D$475,2,FALSE),\"\")","v":""}]
[{"$nulls":6},{"$f":"IF(H1311<>\"\",VLOOKUP(H1311,Codes!C$1:D$475,2,FALSE),\"\")","v":""}]
[{"$nulls":6},{"$f":"IF(H1312<>\"\",VLOOKUP(H1312,Codes!C$1:D$475,2,FALSE),\"\")","v":""}]
[{"$nulls":6},{"$f":"IF(H1313<>\"\",VLOOKUP(H1313,Codes!C$1:D$475,2,FALSE),\"\")","v":""}]
[{"$nulls":6},{"$f":"IF(H1314<>\"\",VLOOKUP(H1314,Codes!C$1:D$475,2,FALSE),\"\")","v":""}]
[{"$nulls":6},{"$f":"IF(H1315<>\"\",VLOOKUP(H1315,Codes!C$1:D$475,2,FALSE),\"\")","v":""}]
[{"$nulls":6},{"$f":"IF(H1316<>\"\",VLOOKUP(H1316,Codes!C$1:D$475,2,FALSE),\"\")","v":""}]
[{"$nulls":6},{"$f":"IF(H1317<>\"\",VLOOKUP(H1317,Codes!C$1:D$475,2,FALSE),\"\")","v":""}]
[{"$nulls":6},{"$f":"IF(H1318<>\"\",VLOOKUP(H1318,Codes!C$1:D$475,2,FALSE),\"\")","v":""}]
[{"$nulls":6},{"$f":"IF(H1319<>\"\",VLOOKUP(H1319,Codes!C$1:D$475,2,FALSE),\"\")","v":""}]
[{"$nulls":6},{"$f":"IF(H1320<>\"\",VLOOKUP(H1320,Codes!C$1:D$475,2,FALSE),\"\")","v":""}]
[{"$nulls":6},{"$f":"IF(H1321<>\"\",VLOOKUP(H1321,Codes!C$1:D$475,2,FALSE),\"\")","v":""}]
[{"$nulls":6},{"$f":"IF(H1322<>\"\",VLOOKUP(H1322,Codes!C$1:D$475,2,FALSE),\"\")","v":""}]
[{"$nulls":6},{"$f":"IF(H1323<>\"\",VLOOKUP(H1323,Codes!C$1:D$475,2,FALSE),\"\")","v":""}]
[{"$nulls":6},{"$f":"IF(H1324<>\"\",VLOOKUP(H1324,Codes!C$1:D$475,2,FALSE),\"\")","v":""}]
[{"$nulls":6},{"$f":"IF(H1325<>\"\",VLOOKUP(H1325,Codes!C$1:D$475,2,FALSE),\"\")","v":""}]
[{"$nulls":6},{"$f":"IF(H1326<>\"\",VLOOKUP(H1326,Codes!C$1:D$475,2,FALSE),\"\")","v":""}]
[{"$nulls":6},{"$f":"IF(H1327<>\"\",VLOOKUP(H1327,Codes!C$1:D$475,2,FALSE),\"\")","v":""}]
[{"$nulls":6},{"$f":"IF(H1328<>\"\",VLOOKUP(H1328,Codes!C$1:D$475,2,FALSE),\"\")","v":""}]
[{"$nulls":6},{"$f":"IF(H1329<>\"\",VLOOKUP(H1329,Codes!C$1:D$475,2,FALSE),\"\")","v":""}]
[{"$nulls":6},{"$f":"IF(H1330<>\"\",VLOOKUP(H1330,Codes!C$1:D$475,2,FALSE),\"\")","v":""}]
[{"$nulls":6},{"$f":"IF(H1331<>\"\",VLOOKUP(H1331,Codes!C$1:D$475,2,FALSE),\"\")","v":""}]
[{"$nulls":6},{"$f":"IF(H1332<>\"\",VLOOKUP(H1332,Codes!C$1:D$475,2,FALSE),\"\")","v":""}]
[{"$nulls":6},{"$f":"IF(H1333<>\"\",VLOOKUP(H1333,Codes!C$1:D$475,2,FALSE),\"\")","v":""}]
[{"$nulls":6},{"$f":"IF(H1334<>\"\",VLOOKUP(H1334,Codes!C$1:D$475,2,FALSE),\"\")","v":""}]
[{"$nulls":6},{"$f":"IF(H1335<>\"\",VLOOKUP(H1335,Codes!C$1:D$475,2,FALSE),\"\")","v":""}]
[{"$nulls":6},{"$f":"IF(H1336<>\"\",VLOOKUP(H1336,Codes!C$1:D$475,2,FALSE),\"\")","v":""}]
[{"$nulls":6},{"$f":"IF(H1337<>\"\",VLOOKUP(H1337,Codes!C$1:D$475,2,FALSE),\"\")","v":""}]
[{"$nulls":6},{"$f":"IF(H1338<>\"\",VLOOKUP(H1338,Codes!C$1:D$475,2,FALSE),\"\")","v":""}]
[{"$nulls":6},{"$f":"IF(H1339<>\"\",VLOOKUP(H1339,Codes!C$1:D$475,2,FALSE),\"\")","v":""}]
[{"$nulls":6},{"$f":"IF(H1340<>\"\",VLOOKUP(H1340,Codes!C$1:D$475,2,FALSE),\"\")","v":""}]
[{"$nulls":6},{"$f":"IF(H1341<>\"\",VLOOKUP(H1341,Codes!C$1:D$475,2,FALSE),\"\")","v":""}]
[{"$nulls":6},{"$f":"IF(H1342<>\"\",VLOOKUP(H1342,Codes!C$1:D$475,2,FALSE),\"\")","v":""}]
[{"$nulls":6},{"$f":"IF(H1343<>\"\",VLOOKUP(H1343,Codes!C$1:D$475,2,FALSE),\"\")","v":""}]
[{"$nulls":6},{"$f":"IF(H1344<>\"\",VLOOKUP(H1344,Codes!C$1:D$475,2,FALSE),\"\")","v":""}]
[{"$nulls":6},{"$f":"IF(H1345<>\"\",VLOOKUP(H1345,Codes!C$1:D$475,2,FALSE),\"\")","v":""}]
[{"$nulls":6},{"$f":"IF(H1346<>\"\",VLOOKUP(H1346,Codes!C$1:D$475,2,FALSE),\"\")","v":""}]
[{"$nulls":6},{"$f":"IF(H1347<>\"\",VLOOKUP(H1347,Codes!C$1:D$475,2,FALSE),\"\")","v":""}]
[{"$nulls":6},{"$f":"IF(H1348<>\"\",VLOOKUP(H1348,Codes!C$1:D$475,2,FALSE),\"\")","v":""}]
[{"$nulls":6},{"$f":"IF(H1349<>\"\",VLOOKUP(H1349,Codes!C$1:D$475,2,FALSE),\"\")","v":""}]
[{"$nulls":6},{"$f":"IF(H1350<>\"\",VLOOKUP(H1350,Codes!C$1:D$475,2,FALSE),\"\")","v":""}]
[{"$nulls":6},{"$f":"IF(H1351<>\"\",VLOOKUP(H1351,Codes!C$1:D$475,2,FALSE),\"\")","v":""}]
[{"$nulls":6},{"$f":"IF(H1352<>\"\",VLOOKUP(H1352,Codes!C$1:D$475,2,FALSE),\"\")","v":""}]
[{"$nulls":6},{"$f":"IF(H1353<>\"\",VLOOKUP(H1353,Codes!C$1:D$475,2,FALSE),\"\")","v":""}]
[{"$nulls":6},{"$f":"IF(H1354<>\"\",VLOOKUP(H1354,Codes!C$1:D$475,2,FALSE),\"\")","v":""}]
[{"$nulls":6},{"$f":"IF(H1355<>\"\",VLOOKUP(H1355,Codes!C$1:D$475,2,FALSE),\"\")","v":""}]
[{"$nulls":6},{"$f":"IF(H1356<>\"\",VLOOKUP(H1356,Codes!C$1:D$475,2,FALSE),\"\")","v":""}]
[{"$nulls":6},{"$f":"IF(H1357<>\"\",VLOOKUP(H1357,Codes!C$1:D$475,2,FALSE),\"\")","v":""}]
[{"$nulls":6},{"$f":"IF(H1358<>\"\",VLOOKUP(H1358,Codes!C$1:D$475,2,FALSE),\"\")","v":""}]
[{"$nulls":6},{"$f":"IF(H1359<>\"\",VLOOKUP(H1359,Codes!C$1:D$475,2,FALSE),\"\")","v":""}]
[{"$nulls":6},{"$f":"IF(H1360<>\"\",VLOOKUP(H1360,Codes!C$1:D$475,2,FALSE),\"\")","v":""}]
[{"$nulls":6},{"$f":"IF(H1361<>\"\",VLOOKUP(H1361,Codes!C$1:D$475,2,FALSE),\"\")","v":""},{"$nulls":3},{"$f":"IF(J1361>0,VLOOKUP(J1361,' code comptes '!$A$1:$C$148,3),\"\")","v":""},null,{"$f":"D1254","v":{"v":0,"d":"0.00"}},{"$f":"+CONCATENATE(G1254,H1254)","v":""}]
[{"$nulls":6},{"$f":"IF(H1362<>\"\",VLOOKUP(H1362,Codes!C$1:D$475,2,FALSE),\"\")","v":""},{"$nulls":3},{"$f":"IF(J1362>0,VLOOKUP(J1362,' code comptes '!$A$1:$C$148,3),\"\")","v":""},null,{"$f":"D1361","v":{"v":0,"d":"0.00"}},{"$f":"+CONCATENATE(G1361,H1361)","v":""}]
[{"$nulls":6},{"$f":"IF(H1363<>\"\",VLOOKUP(H1363,Codes!C$1:D$475,2,FALSE),\"\")","v":""},{"$nulls":3},{"$f":"IF(J1363>0,VLOOKUP(J1363,' code comptes '!$A$1:$C$148,3),\"\")","v":""},null,{"v":0,"d":"0.00"},""]
[{"$nulls":6},{"$f":"IF(H1364<>\"\",VLOOKUP(H1364,Codes!C$1:D$475,2,FALSE),\"\")","v":""},{"$nulls":3},{"$f":"IF(J1364>0,VLOOKUP(J1364,' code comptes '!$A$1:$C$148,3),\"\")","v":""},null,{"v":0,"d":"0.00"},""]
[{"$nulls":6},{"$f":"IF(H1365<>\"\",VLOOKUP(H1365,Codes!C$1:D$475,2,FALSE),\"\")","v":""},{"$nulls":3},{"$f":"IF(J1365>0,VLOOKUP(J1365,' code comptes '!$A$1:$C$148,3),\"\")","v":""},null,{"v":0,"d":"0.00"},""]
[{"$nulls":6},{"$f":"IF(H1366<>\"\",VLOOKUP(H1366,Codes!C$1:D$475,2,FALSE),\"\")","v":""},{"$nulls":3},{"$f":"IF(J1366>0,VLOOKUP(J1366,' code comptes '!$A$1:$C$148,3),\"\")","v":""},null,{"v":0,"d":"0.00"},""]
[{"$nulls":6},{"$f":"IF(H1367<>\"\",VLOOKUP(H1367,Codes!C$1:D$475,2,FALSE),\"\")","v":""},{"$nulls":3},{"$f":"IF(J1367>0,VLOOKUP(J1367,' code comptes '!$A$1:$C$148,3),\"\")","v":""},null,{"v":0,"d":"0.00"},""]
[{"$nulls":6},{"$f":"IF(H1368<>\"\",VLOOKUP(H1368,Codes!C$1:D$475,2,FALSE),\"\")","v":""},{"$nulls":3},{"$f":"IF(J1368>0,VLOOKUP(J1368,' code comptes '!$A$1:$C$148,3),\"\")","v":""},null,{"v":0,"d":"0.00"},""]
[{"$nulls":6},{"$f":"IF(H1369<>\"\",VLOOKUP(H1369,Codes!C$1:D$475,2,FALSE),\"\")","v":""},{"$nulls":3},{"$f":"IF(J1369>0,VLOOKUP(J1369,' code comptes '!$A$1:$C$148,3),\"\")","v":""},null,{"v":0,"d":"0.00"},""]
[{"$nulls":6},{"$f":"IF(H1370<>\"\",VLOOKUP(H1370,Codes!C$1:D$475,2,FALSE),\"\")","v":""},{"$nulls":3},{"$f":"IF(J1370>0,VLOOKUP(J1370,' code comptes '!$A$1:$C$148,3),\"\")","v":""},null,{"v":0,"d":"0.00"},""]
[{"$nulls":6},{"$f":"IF(H1371<>\"\",VLOOKUP(H1371,Codes!C$1:D$475,2,FALSE),\"\")","v":""},{"$nulls":3},{"$f":"IF(J1371>0,VLOOKUP(J1371,' code comptes '!$A$1:$C$148,3),\"\")","v":""},null,{"v":0,"d":"0.00"},""]
[{"$nulls":6},{"$f":"IF(H1372<>\"\",VLOOKUP(H1372,Codes!C$1:D$475,2,FALSE),\"\")","v":""},{"$nulls":3},{"$f":"IF(J1372>0,VLOOKUP(J1372,' code comptes '!$A$1:$C$148,3),\"\")","v":""},null,{"v":0,"d":"0.00"},""]
[{"$nulls":6},{"$f":"IF(H1373<>\"\",VLOOKUP(H1373,Codes!C$1:D$475,2,FALSE),\"\")","v":""},{"$nulls":3},{"$f":"IF(J1373>0,VLOOKUP(J1373,' code comptes '!$A$1:$C$148,3),\"\")","v":""},null,{"v":0,"d":"0.00"},""]
[{"$nulls":6},{"$f":"IF(H1374<>\"\",VLOOKUP(H1374,Codes!C$1:D$475,2,FALSE),\"\")","v":""},{"$nulls":3},{"$f":"IF(J1374>0,VLOOKUP(J1374,' code comptes '!$A$1:$C$148,3),\"\")","v":""},null,{"v":0,"d":"0.00"},""]
[{"$nulls":6},{"$f":"IF(H1375<>\"\",VLOOKUP(H1375,Codes!C$1:D$475,2,FALSE),\"\")","v":""},{"$nulls":3},{"$f":"IF(J1375>0,VLOOKUP(J1375,' code comptes '!$A$1:$C$148,3),\"\")","v":""},null,{"v":0,"d":"0.00"},""]
[{"$nulls":6},{"$f":"IF(H1376<>\"\",VLOOKUP(H1376,Codes!C$1:D$475,2,FALSE),\"\")","v":""},{"$nulls":3},{"$f":"IF(J1376>0,VLOOKUP(J1376,' code comptes '!$A$1:$C$148,3),\"\")","v":""},null,{"v":0,"d":"0.00"},""]
[{"$nulls":6},{"$f":"IF(H1377<>\"\",VLOOKUP(H1377,Codes!C$1:D$475,2,FALSE),\"\")","v":""},{"$nulls":3},{"$f":"IF(J1377>0,VLOOKUP(J1377,' code comptes '!$A$1:$C$148,3),\"\")","v":""},null,{"v":0,"d":"0.00"},""]
[{"$nulls":6},{"$f":"IF(H1378<>\"\",VLOOKUP(H1378,Codes!C$1:D$475,2,FALSE),\"\")","v":""},{"$nulls":3},{"$f":"IF(J1378>0,VLOOKUP(J1378,' code comptes '!$A$1:$C$148,3),\"\")","v":""},null,{"v":0,"d":"0.00"},""]
[{"$nulls":6},{"$f":"IF(H1379<>\"\",VLOOKUP(H1379,Codes!C$1:D$475,2,FALSE),\"\")","v":""},{"$nulls":3},{"$f":"IF(J1379>0,VLOOKUP(J1379,' code comptes '!$A$1:$C$148,3),\"\")","v":""},null,{"v":0,"d":"0.00"},""]
[{"$nulls":6},{"$f":"IF(H1380<>\"\",VLOOKUP(H1380,Codes!C$1:D$475,2,FALSE),\"\")","v":""},{"$nulls":3},{"$f":"IF(J1380>0,VLOOKUP(J1380,' code comptes '!$A$1:$C$148,3),\"\")","v":""},null,{"v":0,"d":"0.00"},""]
[{"$nulls":6},{"$f":"IF(H1381<>\"\",VLOOKUP(H1381,Codes!C$1:D$475,2,FALSE),\"\")","v":""},{"$nulls":3},{"$f":"IF(J1381>0,VLOOKUP(J1381,' code comptes '!$A$1:$C$148,3),\"\")","v":""},null,{"v":0,"d":"0.00"},""]
[{"$nulls":6},{"$f":"IF(H1382<>\"\",VLOOKUP(H1382,Codes!C$1:D$475,2,FALSE),\"\")","v":""},{"$nulls":3},{"$f":"IF(J1382>0,VLOOKUP(J1382,' code comptes '!$A$1:$C$148,3),\"\")","v":""},null,{"v":0,"d":"0.00"},""]
[{"$nulls":6},{"$f":"IF(H1383<>\"\",VLOOKUP(H1383,Codes!C$1:D$475,2,FALSE),\"\")","v":""},{"$nulls":3},{"$f":"IF(J1383>0,VLOOKUP(J1383,' code comptes '!$A$1:$C$148,3),\"\")","v":""},null,{"v":0,"d":"0.00"},""]
[{"$nulls":6},{"$f":"IF(H1384<>\"\",VLOOKUP(H1384,Codes!C$1:D$475,2,FALSE),\"\")","v":""},{"$nulls":3},{"$f":"IF(J1384>0,VLOOKUP(J1384,' code comptes '!$A$1:$C$148,3),\"\")","v":""},null,{"v":0,"d":"0.00"},""]
[{"$nulls":6},{"$f":"IF(H1385<>\"\",VLOOKUP(H1385,Codes!C$1:D$475,2,FALSE),\"\")","v":""},{"$nulls":3},{"$f":"IF(J1385>0,VLOOKUP(J1385,' code comptes '!$A$1:$C$148,3),\"\")","v":""},null,{"v":0,"d":"0.00"},""]
[{"$nulls":6},{"$f":"IF(H1386<>\"\",VLOOKUP(H1386,Codes!C$1:D$475,2,FALSE),\"\")","v":""},{"$nulls":3},{"$f":"IF(J1386>0,VLOOKUP(J1386,' code comptes '!$A$1:$C$148,3),\"\")","v":""},null,{"v":0,"d":"0.00"},""]
[{"$nulls":6},{"$f":"IF(H1387<>\"\",VLOOKUP(H1387,Codes!C$1:D$475,2,FALSE),\"\")","v":""},{"$nulls":3},{"$f":"IF(J1387>0,VLOOKUP(J1387,' code comptes '!$A$1:$C$148,3),\"\")","v":""},null,{"v":0,"d":"0.00"},""]
[{"$nulls":6},{"$f":"IF(H1388<>\"\",VLOOKUP(H1388,Codes!C$1:D$475,2,FALSE),\"\")","v":""},{"$nulls":3},{"$f":"IF(J1388>0,VLOOKUP(J1388,' code comptes '!$A$1:$C$148,3),\"\")","v":""},null,{"v":0,"d":"0.00"},""]
[{"$nulls":6},{"$f":"IF(H1389<>\"\",VLOOKUP(H1389,Codes!C$1:D$475,2,FALSE),\"\")","v":""},{"$nulls":3},{"$f":"IF(J1389>0,VLOOKUP(J1389,' code comptes '!$A$1:$C$148,3),\"\")","v":""},null,{"v":0,"d":"0.00"},""]
[{"$nulls":6},{"$f":"IF(H1390<>\"\",VLOOKUP(H1390,Codes!C$1:D$475,2,FALSE),\"\")","v":""},{"$nulls":3},{"$f":"IF(J1390>0,VLOOKUP(J1390,' code comptes '!$A$1:$C$148,3),\"\")","v":""},null,{"v":0,"d":"0.00"},""]
[{"$nulls":6},{"$f":"IF(H1391<>\"\",VLOOKUP(H1391,Codes!C$1:D$475,2,FALSE),\"\")","v":""},{"$nulls":3},{"$f":"IF(J1391>0,VLOOKUP(J1391,' code comptes '!$A$1:$C$148,3),\"\")","v":""},null,{"v":0,"d":"0.00"},""]
[{"$nulls":6},{"$f":"IF(H1392<>\"\",VLOOKUP(H1392,Codes!C$1:D$475,2,FALSE),\"\")","v":""},{"$nulls":3},{"$f":"IF(J1392>0,VLOOKUP(J1392,' code comptes '!$A$1:$C$148,3),\"\")","v":""},null,{"v":0,"d":"0.00"},""]
[{"$nulls":6},{"$f":"IF(H1393<>\"\",VLOOKUP(H1393,Codes!C$1:D$475,2,FALSE),\"\")","v":""},{"$nulls":3},{"$f":"IF(J1393>0,VLOOKUP(J1393,' code comptes '!$A$1:$C$148,3),\"\")","v":""},null,{"v":0,"d":"0.00"},""]
[{"$nulls":6},{"$f":"IF(H1394<>\"\",VLOOKUP(H1394,Codes!C$1:D$475,2,FALSE),\"\")","v":""},{"$nulls":3},{"$f":"IF(J1394>0,VLOOKUP(J1394,' code comptes '!$A$1:$C$148,3),\"\")","v":""},null,{"v":0,"d":"0.00"},""]
[{"$nulls":6},{"$f":"IF(H1395<>\"\",VLOOKUP(H1395,Codes!C$1:D$475,2,FALSE),\"\")","v":""},{"$nulls":3},{"$f":"IF(J1395>0,VLOOKUP(J1395,' code comptes '!$A$1:$C$148,3),\"\")","v":""},null,{"v":0,"d":"0.00"},""]
[{"$nulls":6},{"$f":"IF(H1396<>\"\",VLOOKUP(H1396,Codes!C$1:D$475,2,FALSE),\"\")","v":""},{"$nulls":3},{"$f":"IF(J1396>0,VLOOKUP(J1396,' code comptes '!$A$1:$C$148,3),\"\")","v":""},null,{"v":0,"d":"0.00"},""]
[{"$nulls":6},{"$f":"IF(H1397<>\"\",VLOOKUP(H1397,Codes!C$1:D$475,2,FALSE),\"\")","v":""},{"$nulls":3},{"$f":"IF(J1397>0,VLOOKUP(J1397,' code comptes '!$A$1:$C$148,3),\"\")","v":""},null,{"v":0,"d":"0.00"},""]
[{"$nulls":6},{"$f":"IF(H1398<>\"\",VLOOKUP(H1398,Codes!C$1:D$475,2,FALSE),\"\")","v":""},{"$nulls":3},{"$f":"IF(J1398>0,VLOOKUP(J1398,' code comptes '!$A$1:$C$148,3),\"\")","v":""},null,{"v":0,"d":"0.00"},""]
[{"$nulls":6},{"$f":"IF(H1399<>\"\",VLOOKUP(H1399,Codes!C$1:D$475,2,FALSE),\"\")","v":""},{"$nulls":3},{"$f":"IF(J1399>0,VLOOKUP(J1399,' code comptes '!$A$1:$C$148,3),\"\")","v":""},null,{"v":0,"d":"0.00"},""]
[{"$nulls":6},{"$f":"IF(H1400<>\"\",VLOOKUP(H1400,Codes!C$1:D$475,2,FALSE),\"\")","v":""},{"$nulls":3},{"$f":"IF(J1400>0,VLOOKUP(J1400,' code comptes '!$A$1:$C$148,3),\"\")","v":""},null,{"v":0,"d":"0.00"},""]
[{"$nulls":6},{"$f":"IF(H1401<>\"\",VLOOKUP(H1401,Codes!C$1:D$475,2,FALSE),\"\")","v":""},{"$nulls":3},{"$f":"IF(J1401>0,VLOOKUP(J1401,' code comptes '!$A$1:$C$148,3),\"\")","v":""},null,{"v":0,"d":"0.00"},""]
[{"$nulls":6},{"$f":"IF(H1402<>\"\",VLOOKUP(H1402,Codes!C$1:D$475,2,FALSE),\"\")","v":""},{"$nulls":3},{"$f":"IF(J1402>0,VLOOKUP(J1402,' code comptes '!$A$1:$C$148,3),\"\")","v":""},null,{"v":0,"d":"0.00"},""]
[{"$nulls":6},{"$f":"IF(H1403<>\"\",VLOOKUP(H1403,Codes!C$1:D$475,2,FALSE),\"\")","v":""},{"$nulls":3},{"$f":"IF(J1403>0,VLOOKUP(J1403,' code comptes '!$A$1:$C$148,3),\"\")","v":""},null,{"v":0,"d":"0.00"},""]
[{"$nulls":6},{"$f":"IF(H1404<>\"\",VLOOKUP(H1404,Codes!C$1:D$475,2,FALSE),\"\")","v":""},{"$nulls":3},{"$f":"IF(J1404>0,VLOOKUP(J1404,' code comptes '!$A$1:$C$148,3),\"\")","v":""},null,{"v":0,"d":"0.00"},""]
[{"$nulls":6},{"$f":"IF(H1405<>\"\",VLOOKUP(H1405,Codes!C$1:D$475,2,FALSE),\"\")","v":""},{"$nulls":3},{"$f":"IF(J1405>0,VLOOKUP(J1405,' code comptes '!$A$1:$C$148,3),\"\")","v":""},null,{"v":0,"d":"0.00"},""]
[{"$nulls":6},{"$f":"IF(H1406<>\"\",VLOOKUP(H1406,Codes!C$1:D$475,2,FALSE),\"\")","v":""},{"$nulls":3},{"$f":"IF(J1406>0,VLOOKUP(J1406,' code comptes '!$A$1:$C$148,3),\"\")","v":""},null,{"v":0,"d":"0.00"},""]
[{"$nulls":6},{"$f":"IF(H1407<>\"\",VLOOKUP(H1407,Codes!C$1:D$475,2,FALSE),\"\")","v":""},{"$nulls":3},{"$f":"IF(J1407>0,VLOOKUP(J1407,' code comptes '!$A$1:$C$148,3),\"\")","v":""},null,{"v":0,"d":"0.00"},""]
[{"$nulls":6},{"$f":"IF(H1408<>\"\",VLOOKUP(H1408,Codes!C$1:D$475,2,FALSE),\"\")","v":""},{"$nulls":3},{"$f":"IF(J1408>0,VLOOKUP(J1408,' code comptes '!$A$1:$C$148,3),\"\")","v":""},null,{"v":0,"d":"0.00"},""]
[{"$nulls":6},{"$f":"IF(H1409<>\"\",VLOOKUP(H1409,Codes!C$1:D$475,2,FALSE),\"\")","v":""},{"$nulls":3},{"$f":"IF(J1409>0,VLOOKUP(J1409,' code comptes '!$A$1:$C$148,3),\"\")","v":""},null,{"v":0,"d":"0.00"},""]
[{"$nulls":6},{"$f":"IF(H1410<>\"\",VLOOKUP(H1410,Codes!C$1:D$475,2,FALSE),\"\")","v":""},{"$nulls":3},{"$f":"IF(J1410>0,VLOOKUP(J1410,' code comptes '!$A$1:$C$148,3),\"\")","v":""},null,{"v":0,"d":"0.00"},""]
[{"$nulls":6},{"$f":"IF(H1411<>\"\",VLOOKUP(H1411,Codes!C$1:D$475,2,FALSE),\"\")","v":""},{"$nulls":3},{"$f":"IF(J1411>0,VLOOKUP(J1411,' code comptes '!$A$1:$C$148,3),\"\")","v":""},null,{"v":0,"d":"0.00"},""]
[{"$nulls":6},{"$f":"IF(H1412<>\"\",VLOOKUP(H1412,Codes!C$1:D$475,2,FALSE),\"\")","v":""},{"$nulls":3},{"$f":"IF(J1412>0,VLOOKUP(J1412,' code comptes '!$A$1:$C$148,3),\"\")","v":""},null,{"v":0,"d":"0.00"},""]
[{"$nulls":6},{"$f":"IF(H1413<>\"\",VLOOKUP(H1413,Codes!C$1:D$475,2,FALSE),\"\")","v":""},{"$nulls":3},{"$f":"IF(J1413>0,VLOOKUP(J1413,' code comptes '!$A$1:$C$148,3),\"\")","v":""},null,{"v":0,"d":"0.00"},""]
[{"$nulls":6},{"$f":"IF(H1414<>\"\",VLOOKUP(H1414,Codes!C$1:D$475,2,FALSE),\"\")","v":""},{"$nulls":3},{"$f":"IF(J1414>0,VLOOKUP(J1414,' code comptes '!$A$1:$C$148,3),\"\")","v":""},null,{"v":0,"d":"0.00"},""]
[{"$nulls":6},{"$f":"IF(H1415<>\"\",VLOOKUP(H1415,Codes!C$1:D$475,2,FALSE),\"\")","v":""},{"$nulls":3},{"$f":"IF(J1415>0,VLOOKUP(J1415,' code comptes '!$A$1:$C$148,3),\"\")","v":""},null,{"v":0,"d":"0.00"},""]
[{"$nulls":6},{"$f":"IF(H1416<>\"\",VLOOKUP(H1416,Codes!C$1:D$475,2,FALSE),\"\")","v":""},{"$nulls":3},{"$f":"IF(J1416>0,VLOOKUP(J1416,' code comptes '!$A$1:$C$148,3),\"\")","v":""},null,{"v":0,"d":"0.00"},""]
[{"$nulls":6},{"$f":"IF(H1417<>\"\",VLOOKUP(H1417,Codes!C$1:D$475,2,FALSE),\"\")","v":""},{"$nulls":3},{"$f":"IF(J1417>0,VLOOKUP(J1417,' code comptes '!$A$1:$C$148,3),\"\")","v":""},null,{"v":0,"d":"0.00"},""]
[{"$nulls":6},{"$f":"IF(H1418<>\"\",VLOOKUP(H1418,Codes!C$1:D$475,2,FALSE),\"\")","v":""},{"$nulls":3},{"$f":"IF(J1418>0,VLOOKUP(J1418,' code comptes '!$A$1:$C$148,3),\"\")","v":""},null,{"v":0,"d":"0.00"},""]
[{"$nulls":6},{"$f":"IF(H1419<>\"\",VLOOKUP(H1419,Codes!C$1:D$475,2,FALSE),\"\")","v":""},{"$nulls":3},{"$f":"IF(J1419>0,VLOOKUP(J1419,' code comptes '!$A$1:$C$148,3),\"\")","v":""},null,{"v":0,"d":"0.00"},""]
[{"$nulls":6},{"$f":"IF(H1420<>\"\",VLOOKUP(H1420,Codes!C$1:D$475,2,FALSE),\"\")","v":""},{"$nulls":3},{"$f":"IF(J1420>0,VLOOKUP(J1420,' code comptes '!$A$1:$C$148,3),\"\")","v":""},null,{"v":0,"d":"0.00"},""]
[{"$nulls":6},{"$f":"IF(H1421<>\"\",VLOOKUP(H1421,Codes!C$1:D$475,2,FALSE),\"\")","v":""},{"$nulls":3},{"$f":"IF(J1421>0,VLOOKUP(J1421,' code comptes '!$A$1:$C$148,3),\"\")","v":""},null,{"v":0,"d":"0.00"},""]
[{"$nulls":6},{"$f":"IF(H1422<>\"\",VLOOKUP(H1422,Codes!C$1:D$475,2,FALSE),\"\")","v":""},{"$nulls":3},{"$f":"IF(J1422>0,VLOOKUP(J1422,' code comptes '!$A$1:$C$148,3),\"\")","v":""},null,{"v":0,"d":"0.00"},""]
[{"$nulls":6},{"$f":"IF(H1423<>\"\",VLOOKUP(H1423,Codes!C$1:D$475,2,FALSE),\"\")","v":""},{"$nulls":3},{"$f":"IF(J1423>0,VLOOKUP(J1423,' code comptes '!$A$1:$C$148,3),\"\")","v":""},null,{"v":0,"d":"0.00"},""]
[{"$nulls":6},{"$f":"IF(H1424<>\"\",VLOOKUP(H1424,Codes!C$1:D$475,2,FALSE),\"\")","v":""},{"$nulls":3},{"$f":"IF(J1424>0,VLOOKUP(J1424,' code comptes '!$A$1:$C$148,3),\"\")","v":""},null,{"v":0,"d":"0.00"},""]
[{"$nulls":6},{"$f":"IF(H1425<>\"\",VLOOKUP(H1425,Codes!C$1:D$475,2,FALSE),\"\")","v":""},{"$nulls":3},{"$f":"IF(J1425>0,VLOOKUP(J1425,' code comptes '!$A$1:$C$148,3),\"\")","v":""},null,{"v":0,"d":"0.00"},""]
[{"$nulls":6},{"$f":"IF(H1426<>\"\",VLOOKUP(H1426,Codes!C$1:D$475,2,FALSE),\"\")","v":""},{"$nulls":3},{"$f":"IF(J1426>0,VLOOKUP(J1426,' code comptes '!$A$1:$C$148,3),\"\")","v":""},null,{"v":0,"d":"0.00"},""]
[{"$nulls":6},{"$f":"IF(H1427<>\"\",VLOOKUP(H1427,Codes!C$1:D$475,2,FALSE),\"\")","v":""},{"$nulls":3},{"$f":"IF(J1427>0,VLOOKUP(J1427,' code comptes '!$A$1:$C$148,3),\"\")","v":""},null,{"v":0,"d":"0.00"},""]
[{"$nulls":6},{"$f":"IF(H1428<>\"\",VLOOKUP(H1428,Codes!C$1:D$475,2,FALSE),\"\")","v":""},{"$nulls":3},{"$f":"IF(J1428>0,VLOOKUP(J1428,' code comptes '!$A$1:$C$148,3),\"\")","v":""},null,{"v":0,"d":"0.00"},""]
[{"$nulls":6},{"$f":"IF(H1429<>\"\",VLOOKUP(H1429,Codes!C$1:D$475,2,FALSE),\"\")","v":""},{"$nulls":3},{"$f":"IF(J1429>0,VLOOKUP(J1429,' code comptes '!$A$1:$C$148,3),\"\")","v":""},null,{"v":0,"d":"0.00"},""]
[{"$nulls":6},{"$f":"IF(H1430<>\"\",VLOOKUP(H1430,Codes!C$1:D$475,2,FALSE),\"\")","v":""},{"$nulls":3},{"$f":"IF(J1430>0,VLOOKUP(J1430,' code comptes '!$A$1:$C$148,3),\"\")","v":""},null,{"v":0,"d":"0.00"},""]
[{"$nulls":6},{"$f":"IF(H1431<>\"\",VLOOKUP(H1431,Codes!C$1:D$475,2,FALSE),\"\")","v":""},{"$nulls":3},{"$f":"IF(J1431>0,VLOOKUP(J1431,' code comptes '!$A$1:$C$148,3),\"\")","v":""},null,{"v":0,"d":"0.00"},""]
[{"$nulls":6},{"$f":"IF(H1432<>\"\",VLOOKUP(H1432,Codes!C$1:D$475,2,FALSE),\"\")","v":""},{"$nulls":3},{"$f":"IF(J1432>0,VLOOKUP(J1432,' code comptes '!$A$1:$C$148,3),\"\")","v":""},null,{"v":0,"d":"0.00"},""]
[{"$nulls":6},{"$f":"IF(H1433<>\"\",VLOOKUP(H1433,Codes!C$1:D$475,2,FALSE),\"\")","v":""},{"$nulls":3},{"$f":"IF(J1433>0,VLOOKUP(J1433,' code comptes '!$A$1:$C$148,3),\"\")","v":""},null,{"v":0,"d":"0.00"},""]
[{"$nulls":6},{"$f":"IF(H1434<>\"\",VLOOKUP(H1434,Codes!C$1:D$475,2,FALSE),\"\")","v":""},{"$nulls":3},{"$f":"IF(J1434>0,VLOOKUP(J1434,' code comptes '!$A$1:$C$148,3),\"\")","v":""},null,{"v":0,"d":"0.00"},""]
[{"$nulls":6},{"$f":"IF(H1435<>\"\",VLOOKUP(H1435,Codes!C$1:D$475,2,FALSE),\"\")","v":""},{"$nulls":3},{"$f":"IF(J1435>0,VLOOKUP(J1435,' code comptes '!$A$1:$C$148,3),\"\")","v":""},null,{"v":0,"d":"0.00"},""]
[{"$nulls":6},{"$f":"IF(H1436<>\"\",VLOOKUP(H1436,Codes!C$1:D$475,2,FALSE),\"\")","v":""},{"$nulls":3},{"$f":"IF(J1436>0,VLOOKUP(J1436,' code comptes '!$A$1:$C$148,3),\"\")","v":""},null,{"v":0,"d":"0.00"},""]
[{"$nulls":6},{"$f":"IF(H1437<>\"\",VLOOKUP(H1437,Codes!C$1:D$475,2,FALSE),\"\")","v":""},{"$nulls":3},{"$f":"IF(J1437>0,VLOOKUP(J1437,' code comptes '!$A$1:$C$148,3),\"\")","v":""},null,{"v":0,"d":"0.00"},""]
[{"$nulls":6},{"$f":"IF(H1438<>\"\",VLOOKUP(H1438,Codes!C$1:D$475,2,FALSE),\"\")","v":""},{"$nulls":3},{"$f":"IF(J1438>0,VLOOKUP(J1438,' code comptes '!$A$1:$C$148,3),\"\")","v":""},null,{"v":0,"d":"0.00"},""]
[{"$nulls":6},{"$f":"IF(H1439<>\"\",VLOOKUP(H1439,Codes!C$1:D$475,2,FALSE),\"\")","v":""},{"$nulls":3},{"$f":"IF(J1439>0,VLOOKUP(J1439,' code comptes '!$A$1:$C$148,3),\"\")","v":""},null,{"v":0,"d":"0.00"},""]
[{"$nulls":6},{"$f":"IF(H1440<>\"\",VLOOKUP(H1440,Codes!C$1:D$475,2,FALSE),\"\")","v":""},{"$nulls":3},{"$f":"IF(J1440>0,VLOOKUP(J1440,' code comptes '!$A$1:$C$148,3),\"\")","v":""},null,{"v":0,"d":"0.00"},""]
[{"$nulls":6},{"$f":"IF(H1441<>\"\",VLOOKUP(H1441,Codes!C$1:D$475,2,FALSE),\"\")","v":""},{"$nulls":3},{"$f":"IF(J1441>0,VLOOKUP(J1441,' code comptes '!$A$1:$C$148,3),\"\")","v":""},null,{"v":0,"d":"0.00"},""]
[{"$nulls":6},{"$f":"IF(H1442<>\"\",VLOOKUP(H1442,Codes!C$1:D$475,2,FALSE),\"\")","v":""},{"$nulls":3},{"$f":"IF(J1442>0,VLOOKUP(J1442,' code comptes '!$A$1:$C$148,3),\"\")","v":""},null,{"v":0,"d":"0.00"},""]
[{"$nulls":6},{"$f":"IF(H1443<>\"\",VLOOKUP(H1443,Codes!C$1:D$475,2,FALSE),\"\")","v":""},{"$nulls":3},{"$f":"IF(J1443>0,VLOOKUP(J1443,' code comptes '!$A$1:$C$148,3),\"\")","v":""},null,{"v":0,"d":"0.00"},""]
[{"$nulls":6},{"$f":"IF(H1444<>\"\",VLOOKUP(H1444,Codes!C$1:D$475,2,FALSE),\"\")","v":""},{"$nulls":3},{"$f":"IF(J1444>0,VLOOKUP(J1444,' code comptes '!$A$1:$C$148,3),\"\")","v":""},null,{"v":0,"d":"0.00"},""]
[{"$nulls":6},{"$f":"IF(H1445<>\"\",VLOOKUP(H1445,Codes!C$1:D$475,2,FALSE),\"\")","v":""},{"$nulls":3},{"$f":"IF(J1445>0,VLOOKUP(J1445,' code comptes '!$A$1:$C$148,3),\"\")","v":""},null,{"v":0,"d":"0.00"},""]
[{"$nulls":6},{"$f":"IF(H1446<>\"\",VLOOKUP(H1446,Codes!C$1:D$475,2,FALSE),\"\")","v":""},{"$nulls":3},{"$f":"IF(J1446>0,VLOOKUP(J1446,' code comptes '!$A$1:$C$148,3),\"\")","v":""},null,{"v":0,"d":"0.00"},""]
[{"$nulls":6},{"$f":"IF(H1447<>\"\",VLOOKUP(H1447,Codes!C$1:D$475,2,FALSE),\"\")","v":""},{"$nulls":3},{"$f":"IF(J1447>0,VLOOKUP(J1447,' code comptes '!$A$1:$C$148,3),\"\")","v":""},null,{"v":0,"d":"0.00"},""]
[{"$nulls":6},{"$f":"IF(H1448<>\"\",VLOOKUP(H1448,Codes!C$1:D$475,2,FALSE),\"\")","v":""},{"$nulls":3},{"$f":"IF(J1448>0,VLOOKUP(J1448,' code comptes '!$A$1:$C$148,3),\"\")","v":""},null,{"v":0,"d":"0.00"},""]
[{"$nulls":6},{"$f":"IF(H1449<>\"\",VLOOKUP(H1449,Codes!C$1:D$475,2,FALSE),\"\")","v":""},{"$nulls":3},{"$f":"IF(J1449>0,VLOOKUP(J1449,' code comptes '!$A$1:$C$148,3),\"\")","v":""},null,{"v":0,"d":"0.00"},""]
[{"$nulls":6},{"$f":"IF(H1450<>\"\",VLOOKUP(H1450,Codes!C$1:D$475,2,FALSE),\"\")","v":""},{"$nulls":3},{"$f":"IF(J1450>0,VLOOKUP(J1450,' code comptes '!$A$1:$C$148,3),\"\")","v":""},null,{"v":0,"d":"0.00"},""]
[{"$nulls":6},{"$f":"IF(H1451<>\"\",VLOOKUP(H1451,Codes!C$1:D$475,2,FALSE),\"\")","v":""},{"$nulls":3},{"$f":"IF(J1451>0,VLOOKUP(J1451,' code comptes '!$A$1:$C$148,3),\"\")","v":""},null,{"v":0,"d":"0.00"},""]
[{"$nulls":6},{"$f":"IF(H1452<>\"\",VLOOKUP(H1452,Codes!C$1:D$475,2,FALSE),\"\")","v":""},{"$nulls":3},{"$f":"IF(J1452>0,VLOOKUP(J1452,' code comptes '!$A$1:$C$148,3),\"\")","v":""},null,{"v":0,"d":"0.00"},""]
[{"$nulls":6},{"$f":"IF(H1453<>\"\",VLOOKUP(H1453,Codes!C$1:D$475,2,FALSE),\"\")","v":""},{"$nulls":3},{"$f":"IF(J1453>0,VLOOKUP(J1453,' code comptes '!$A$1:$C$148,3),\"\")","v":""},null,{"v":0,"d":"0.00"},""]
[{"$nulls":6},{"$f":"IF(H1454<>\"\",VLOOKUP(H1454,Codes!C$1:D$475,2,FALSE),\"\")","v":""},{"$nulls":3},{"$f":"IF(J1454>0,VLOOKUP(J1454,' code comptes '!$A$1:$C$148,3),\"\")","v":""},null,{"v":0,"d":"0.00"},""]
[{"$nulls":6},{"$f":"IF(H1455<>\"\",VLOOKUP(H1455,Codes!C$1:D$475,2,FALSE),\"\")","v":""},{"$nulls":3},{"$f":"IF(J1455>0,VLOOKUP(J1455,' code comptes '!$A$1:$C$148,3),\"\")","v":""},null,{"v":0,"d":"0.00"},""]
[{"$nulls":6},{"$f":"IF(H1456<>\"\",VLOOKUP(H1456,Codes!C$1:D$475,2,FALSE),\"\")","v":""},{"$nulls":3},{"$f":"IF(J1456>0,VLOOKUP(J1456,' code comptes '!$A$1:$C$148,3),\"\")","v":""},null,{"v":0,"d":"0.00"},""]
[{"$nulls":6},{"$f":"IF(H1457<>\"\",VLOOKUP(H1457,Codes!C$1:D$475,2,FALSE),\"\")","v":""},{"$nulls":3},{"$f":"IF(J1457>0,VLOOKUP(J1457,' code comptes '!$A$1:$C$148,3),\"\")","v":""},null,{"v":0,"d":"0.00"},""]
[{"$nulls":6},{"$f":"IF(H1458<>\"\",VLOOKUP(H1458,Codes!C$1:D$475,2,FALSE),\"\")","v":""},{"$nulls":3},{"$f":"IF(J1458>0,VLOOKUP(J1458,' code comptes '!$A$1:$C$148,3),\"\")","v":""},null,{"v":0,"d":"0.00"},""]
[{"$nulls":6},{"$f":"IF(H1459<>\"\",VLOOKUP(H1459,Codes!C$1:D$475,2,FALSE),\"\")","v":""},{"$nulls":3},{"$f":"IF(J1459>0,VLOOKUP(J1459,' code comptes '!$A$1:$C$148,3),\"\")","v":""},null,{"v":0,"d":"0.00"},""]
[{"$nulls":6},{"$f":"IF(H1460<>\"\",VLOOKUP(H1460,Codes!C$1:D$475,2,FALSE),\"\")","v":""},{"$nulls":3},{"$f":"IF(J1460>0,VLOOKUP(J1460,' code comptes '!$A$1:$C$148,3),\"\")","v":""},null,{"v":0,"d":"0.00"},""]
[{"$nulls":6},{"$f":"IF(H1461<>\"\",VLOOKUP(H1461,Codes!C$1:D$475,2,FALSE),\"\")","v":""},{"$nulls":3},{"$f":"IF(J1461>0,VLOOKUP(J1461,' code comptes '!$A$1:$C$148,3),\"\")","v":""},null,{"v":0,"d":"0.00"},""]
[{"$nulls":6},{"$f":"IF(H1462<>\"\",VLOOKUP(H1462,Codes!C$1:D$475,2,FALSE),\"\")","v":""},{"$nulls":3},{"$f":"IF(J1462>0,VLOOKUP(J1462,' code comptes '!$A$1:$C$148,3),\"\")","v":""},null,{"v":0,"d":"0.00"},""]
[{"$nulls":6},{"$f":"IF(H1463<>\"\",VLOOKUP(H1463,Codes!C$1:D$475,2,FALSE),\"\")","v":""},{"$nulls":3},{"$f":"IF(J1463>0,VLOOKUP(J1463,' code comptes '!$A$1:$C$148,3),\"\")","v":""},null,{"v":0,"d":"0.00"},""]
[{"$nulls":6},{"$f":"IF(H1464<>\"\",VLOOKUP(H1464,Codes!C$1:D$475,2,FALSE),\"\")","v":""},{"$nulls":3},{"$f":"IF(J1464>0,VLOOKUP(J1464,' code comptes '!$A$1:$C$148,3),\"\")","v":""},null,{"v":0,"d":"0.00"},""]
[{"$nulls":6},{"$f":"IF(H1465<>\"\",VLOOKUP(H1465,Codes!C$1:D$475,2,FALSE),\"\")","v":""}]
[{"$nulls":6},{"$f":"IF(H1466<>\"\",VLOOKUP(H1466,Codes!C$1:D$475,2,FALSE),\"\")","v":""}]
[{"$nulls":6},{"$f":"IF(H1467<>\"\",VLOOKUP(H1467,Codes!C$1:D$475,2,FALSE),\"\")","v":""}]
[{"$nulls":6},{"$f":"IF(H1468<>\"\",VLOOKUP(H1468,Codes!C$1:D$475,2,FALSE),\"\")","v":""},{"$nulls":3},{"$f":"IF(J1468>0,VLOOKUP(J1468,' code comptes '!$A$1:$C$148,3),\"\")","v":""},null,{"$f":"D1464","v":{"v":0,"d":"0.00"}},{"$f":"+CONCATENATE(G1464,H1464)","v":""}]
[{"$nulls":6},{"$f":"IF(H1469<>\"\",VLOOKUP(H1469,Codes!C$1:D$475,2,FALSE),\"\")","v":""},{"$nulls":3},{"$f":"IF(J1469>0,VLOOKUP(J1469,' code comptes '!$A$1:$C$148,3),\"\")","v":""},null,{"$f":"D1468","v":{"v":0,"d":"0.00"}},{"$f":"+CONCATENATE(G1468,H1468)","v":""}]
[{"$nulls":6},{"$f":"IF(H1470<>\"\",VLOOKUP(H1470,Codes!C$1:D$475,2,FALSE),\"\")","v":""},{"$nulls":3},{"$f":"IF(J1470>0,VLOOKUP(J1470,' code comptes '!$A$1:$C$148,3),\"\")","v":""},null,{"v":0,"d":"0.00"},""]
[{"$nulls":6},{"$f":"IF(H1471<>\"\",VLOOKUP(H1471,Codes!C$1:D$475,2,FALSE),\"\")","v":""},{"$nulls":3},{"$f":"IF(J1471>0,VLOOKUP(J1471,' code comptes '!$A$1:$C$148,3),\"\")","v":""},null,{"v":0,"d":"0.00"},""]
[{"$nulls":6},{"$f":"IF(H1472<>\"\",VLOOKUP(H1472,Codes!C$1:D$475,2,FALSE),\"\")","v":""},{"$nulls":3},{"$f":"IF(J1472>0,VLOOKUP(J1472,' code comptes '!$A$1:$C$148,3),\"\")","v":""},null,{"v":0,"d":"0.00"},""]
[{"$nulls":6},{"$f":"IF(H1473<>\"\",VLOOKUP(H1473,Codes!C$1:D$475,2,FALSE),\"\")","v":""},{"$nulls":3},{"$f":"IF(J1473>0,VLOOKUP(J1473,' code comptes '!$A$1:$C$148,3),\"\")","v":""},null,{"v":0,"d":"0.00"},""]
[{"$nulls":6},{"$f":"IF(H1474<>\"\",VLOOKUP(H1474,Codes!C$1:D$475,2,FALSE),\"\")","v":""},{"$nulls":3},{"$f":"IF(J1474>0,VLOOKUP(J1474,' code comptes '!$A$1:$C$148,3),\"\")","v":""},null,{"v":0,"d":"0.00"},""]
[{"$nulls":6},{"$f":"IF(H1475<>\"\",VLOOKUP(H1475,Codes!C$1:D$475,2,FALSE),\"\")","v":""}]
[{"$nulls":6},{"$f":"IF(H1476<>\"\",VLOOKUP(H1476,Codes!C$1:D$475,2,FALSE),\"\")","v":""}]
[{"$nulls":6},{"$f":"IF(H1477<>\"\",VLOOKUP(H1477,Codes!C$1:D$475,2,FALSE),\"\")","v":""}]
[{"$nulls":6},{"$f":"IF(H1478<>\"\",VLOOKUP(H1478,Codes!C$1:D$475,2,FALSE),\"\")","v":""}]
[{"$nulls":6},{"$f":"IF(H1479<>\"\",VLOOKUP(H1479,Codes!C$1:D$475,2,FALSE),\"\")","v":""}]
[{"$nulls":6},{"$f":"IF(H1480<>\"\",VLOOKUP(H1480,Codes!C$1:D$475,2,FALSE),\"\")","v":""}]
[{"$nulls":6},{"$f":"IF(H1481<>\"\",VLOOKUP(H1481,Codes!C$1:D$475,2,FALSE),\"\")","v":""}]
[{"$nulls":6},{"$f":"IF(H1482<>\"\",VLOOKUP(H1482,Codes!C$1:D$475,2,FALSE),\"\")","v":""}]
[{"$nulls":6},{"$f":"IF(H1483<>\"\",VLOOKUP(H1483,Codes!C$1:D$475,2,FALSE),\"\")","v":""}]
[{"$nulls":6},{"$f":"IF(H1484<>\"\",VLOOKUP(H1484,Codes!C$1:D$475,2,FALSE),\"\")","v":""}]
[{"$nulls":6},{"$f":"IF(H1485<>\"\",VLOOKUP(H1485,Codes!C$1:D$475,2,FALSE),\"\")","v":""}]
[{"$nulls":6},{"$f":"IF(H1486<>\"\",VLOOKUP(H1486,Codes!C$1:D$475,2,FALSE),\"\")","v":""}]
[{"$nulls":6},{"$f":"IF(H1487<>\"\",VLOOKUP(H1487,Codes!C$1:D$475,2,FALSE),\"\")","v":""}]
[{"$nulls":6},{"$f":"IF(H1488<>\"\",VLOOKUP(H1488,Codes!C$1:D$475,2,FALSE),\"\")","v":""}]
[{"$nulls":6},{"$f":"IF(H1489<>\"\",VLOOKUP(H1489,Codes!C$1:D$475,2,FALSE),\"\")","v":""}]
[{"$nulls":6},{"$f":"IF(H1490<>\"\",VLOOKUP(H1490,Codes!C$1:D$475,2,FALSE),\"\")","v":""}]
[{"$nulls":6},{"$f":"IF(H1491<>\"\",VLOOKUP(H1491,Codes!C$1:D$475,2,FALSE),\"\")","v":""}]
[{"$nulls":6},{"$f":"IF(H1492<>\"\",VLOOKUP(H1492,Codes!C$1:D$475,2,FALSE),\"\")","v":""}]
[{"$nulls":6},{"$f":"IF(H1493<>\"\",VLOOKUP(H1493,Codes!C$1:D$475,2,FALSE),\"\")","v":""}]
[{"$nulls":6},{"$f":"IF(H1494<>\"\",VLOOKUP(H1494,Codes!C$1:D$475,2,FALSE),\"\")","v":""}]
[{"$nulls":6},{"$f":"IF(H1495<>\"\",VLOOKUP(H1495,Codes!C$1:D$475,2,FALSE),\"\")","v":""}]
[{"$nulls":6},{"$f":"IF(H1496<>\"\",VLOOKUP(H1496,Codes!C$1:D$475,2,FALSE),\"\")","v":""}]
[{"$nulls":6},{"$f":"IF(H1497<>\"\",VLOOKUP(H1497,Codes!C$1:D$475,2,FALSE),\"\")","v":""}]
[{"$nulls":6},{"$f":"IF(H1498<>\"\",VLOOKUP(H1498,Codes!C$1:D$475,2,FALSE),\"\")","v":""}]
[{"$nulls":6},{"$f":"IF(H1499<>\"\",VLOOKUP(H1499,Codes!C$1:D$475,2,FALSE),\"\")","v":""}]
[{"$nulls":6},{"$f":"IF(H1500<>\"\",VLOOKUP(H1500,Codes!C$1:D$475,2,FALSE),\"\")","v":""}]
[{"$nulls":6},{"$f":"IF(H1501<>\"\",VLOOKUP(H1501,Codes!C$1:D$475,2,FALSE),\"\")","v":""}]
[{"$nulls":6},{"$f":"IF(H1502<>\"\",VLOOKUP(H1502,Codes!C$1:D$475,2,FALSE),\"\")","v":""}]
[{"$nulls":6},{"$f":"IF(H1503<>\"\",VLOOKUP(H1503,Codes!C$1:D$475,2,FALSE),\"\")","v":""}]
[{"$nulls":6},{"$f":"IF(H1504<>\"\",VLOOKUP(H1504,Codes!C$1:D$475,2,FALSE),\"\")","v":""}]
[{"$nulls":6},{"$f":"IF(H1505<>\"\",VLOOKUP(H1505,Codes!C$1:D$475,2,FALSE),\"\")","v":""}]
[{"$nulls":6},{"$f":"IF(H1506<>\"\",VLOOKUP(H1506,Codes!C$1:D$475,2,FALSE),\"\")","v":""}]
[{"$nulls":6},{"$f":"IF(H1507<>\"\",VLOOKUP(H1507,Codes!C$1:D$475,2,FALSE),\"\")","v":""}]
[{"$nulls":6},{"$f":"IF(H1508<>\"\",VLOOKUP(H1508,Codes!C$1:D$475,2,FALSE),\"\")","v":""}]
[{"$nulls":6},{"$f":"IF(H1509<>\"\",VLOOKUP(H1509,Codes!C$1:D$475,2,FALSE),\"\")","v":""}]
[{"$nulls":6},{"$f":"IF(H1510<>\"\",VLOOKUP(H1510,Codes!C$1:D$475,2,FALSE),\"\")","v":""}]
[{"$nulls":6},{"$f":"IF(H1511<>\"\",VLOOKUP(H1511,Codes!C$1:D$475,2,FALSE),\"\")","v":""}]
[{"$nulls":6},{"$f":"IF(H1512<>\"\",VLOOKUP(H1512,Codes!C$1:D$475,2,FALSE),\"\")","v":""}]
[{"$nulls":6},{"$f":"IF(H1513<>\"\",VLOOKUP(H1513,Codes!C$1:D$475,2,FALSE),\"\")","v":""}]
[{"$nulls":6},{"$f":"IF(H1514<>\"\",VLOOKUP(H1514,Codes!C$1:D$475,2,FALSE),\"\")","v":""}]
[{"$nulls":6},{"$f":"IF(H1515<>\"\",VLOOKUP(H1515,Codes!C$1:D$475,2,FALSE),\"\")","v":""}]
[{"$nulls":6},{"$f":"IF(H1516<>\"\",VLOOKUP(H1516,Codes!C$1:D$475,2,FALSE),\"\")","v":""}]
[{"$nulls":6},{"$f":"IF(H1517<>\"\",VLOOKUP(H1517,Codes!C$1:D$475,2,FALSE),\"\")","v":""}]
[{"$nulls":6},{"$f":"IF(H1518<>\"\",VLOOKUP(H1518,Codes!C$1:D$475,2,FALSE),\"\")","v":""}]
[{"$nulls":6},{"$f":"IF(H1519<>\"\",VLOOKUP(H1519,Codes!C$1:D$475,2,FALSE),\"\")","v":""}]
[{"$nulls":6},{"$f":"IF(H1520<>\"\",VLOOKUP(H1520,Codes!C$1:D$475,2,FALSE),\"\")","v":""}]
[{"$nulls":6},{"$f":"IF(H1521<>\"\",VLOOKUP(H1521,Codes!C$1:D$475,2,FALSE),\"\")","v":""}]
[{"$nulls":6},{"$f":"IF(H1522<>\"\",VLOOKUP(H1522,Codes!C$1:D$475,2,FALSE),\"\")","v":""}]
[{"$nulls":6},{"$f":"IF(H1523<>\"\",VLOOKUP(H1523,Codes!C$1:D$475,2,FALSE),\"\")","v":""}]
[{"$nulls":6},{"$f":"IF(H1524<>\"\",VLOOKUP(H1524,Codes!C$1:D$475,2,FALSE),\"\")","v":""}]
[{"$nulls":6},{"$f":"IF(H1525<>\"\",VLOOKUP(H1525,Codes!C$1:D$475,2,FALSE),\"\")","v":""}]
[{"$nulls":6},{"$f":"IF(H1526<>\"\",VLOOKUP(H1526,Codes!C$1:D$475,2,FALSE),\"\")","v":""}]
[{"$nulls":6},{"$f":"IF(H1527<>\"\",VLOOKUP(H1527,Codes!C$1:D$475,2,FALSE),\"\")","v":""}]
[{"$nulls":6},{"$f":"IF(H1528<>\"\",VLOOKUP(H1528,Codes!C$1:D$475,2,FALSE),\"\")","v":""}]
[{"$nulls":6},{"$f":"IF(H1529<>\"\",VLOOKUP(H1529,Codes!C$1:D$475,2,FALSE),\"\")","v":""}]
[{"$nulls":6},{"$f":"IF(H1530<>\"\",VLOOKUP(H1530,Codes!C$1:D$475,2,FALSE),\"\")","v":""}]
[{"$nulls":6},{"$f":"IF(H1531<>\"\",VLOOKUP(H1531,Codes!C$1:D$475,2,FALSE),\"\")","v":""}]
[{"$nulls":6},{"$f":"IF(H1532<>\"\",VLOOKUP(H1532,Codes!C$1:D$475,2,FALSE),\"\")","v":""}]
[{"$nulls":6},{"$f":"IF(H1533<>\"\",VLOOKUP(H1533,Codes!C$1:D$475,2,FALSE),\"\")","v":""}]
[{"$nulls":6},{"$f":"IF(H1534<>\"\",VLOOKUP(H1534,Codes!C$1:D$475,2,FALSE),\"\")","v":""}]
[{"$nulls":6},{"$f":"IF(H1535<>\"\",VLOOKUP(H1535,Codes!C$1:D$475,2,FALSE),\"\")","v":""}]
[{"$nulls":6},{"$f":"IF(H1536<>\"\",VLOOKUP(H1536,Codes!C$1:D$475,2,FALSE),\"\")","v":""}]
[{"$nulls":6},{"$f":"IF(H1537<>\"\",VLOOKUP(H1537,Codes!C$1:D$475,2,FALSE),\"\")","v":""}]
[{"$nulls":6},{"$f":"IF(H1538<>\"\",VLOOKUP(H1538,Codes!C$1:D$475,2,FALSE),\"\")","v":""}]
[{"$nulls":6},{"$f":"IF(H1539<>\"\",VLOOKUP(H1539,Codes!C$1:D$475,2,FALSE),\"\")","v":""}]
[{"$nulls":6},{"$f":"IF(H1540<>\"\",VLOOKUP(H1540,Codes!C$1:D$475,2,FALSE),\"\")","v":""}]
[{"$nulls":6},{"$f":"IF(H1541<>\"\",VLOOKUP(H1541,Codes!C$1:D$475,2,FALSE),\"\")","v":""}]
[{"$nulls":6},{"$f":"IF(H1542<>\"\",VLOOKUP(H1542,Codes!C$1:D$475,2,FALSE),\"\")","v":""}]
[{"$nulls":6},{"$f":"IF(H1543<>\"\",VLOOKUP(H1543,Codes!C$1:D$475,2,FALSE),\"\")","v":""}]
[{"$nulls":6},{"$f":"IF(H1544<>\"\",VLOOKUP(H1544,Codes!C$1:D$475,2,FALSE),\"\")","v":""}]
[{"$nulls":6},{"$f":"IF(H1545<>\"\",VLOOKUP(H1545,Codes!C$1:D$475,2,FALSE),\"\")","v":""}]
[{"$nulls":6},{"$f":"IF(H1546<>\"\",VLOOKUP(H1546,Codes!C$1:D$475,2,FALSE),\"\")","v":""}]
[{"$nulls":6},{"$f":"IF(H1547<>\"\",VLOOKUP(H1547,Codes!C$1:D$475,2,FALSE),\"\")","v":""}]
[{"$nulls":6},{"$f":"IF(H1548<>\"\",VLOOKUP(H1548,Codes!C$1:D$475,2,FALSE),\"\")","v":""}]
[{"$nulls":6},{"$f":"IF(H1549<>\"\",VLOOKUP(H1549,Codes!C$1:D$475,2,FALSE),\"\")","v":""}]
[{"$nulls":6},{"$f":"IF(H1550<>\"\",VLOOKUP(H1550,Codes!C$1:D$475,2,FALSE),\"\")","v":""}]
[{"$nulls":6},{"$f":"IF(H1551<>\"\",VLOOKUP(H1551,Codes!C$1:D$475,2,FALSE),\"\")","v":""}]
[{"$nulls":6},{"$f":"IF(H1552<>\"\",VLOOKUP(H1552,Codes!C$1:D$475,2,FALSE),\"\")","v":""}]
[{"$nulls":6},{"$f":"IF(H1553<>\"\",VLOOKUP(H1553,Codes!C$1:D$475,2,FALSE),\"\")","v":""}]
[{"$nulls":6},{"$f":"IF(H1554<>\"\",VLOOKUP(H1554,Codes!C$1:D$475,2,FALSE),\"\")","v":""}]
[{"$nulls":6},{"$f":"IF(H1555<>\"\",VLOOKUP(H1555,Codes!C$1:D$475,2,FALSE),\"\")","v":""}]
[{"$nulls":6},{"$f":"IF(H1556<>\"\",VLOOKUP(H1556,Codes!C$1:D$475,2,FALSE),\"\")","v":""}]
[{"$nulls":6},{"$f":"IF(H1557<>\"\",VLOOKUP(H1557,Codes!C$1:D$475,2,FALSE),\"\")","v":""}]
[{"$nulls":6},{"$f":"IF(H1558<>\"\",VLOOKUP(H1558,Codes!C$1:D$475,2,FALSE),\"\")","v":""}]
[{"$nulls":6},{"$f":"IF(H1559<>\"\",VLOOKUP(H1559,Codes!C$1:D$475,2,FALSE),\"\")","v":""}]
[{"$nulls":6},{"$f":"IF(H1560<>\"\",VLOOKUP(H1560,Codes!C$1:D$475,2,FALSE),\"\")","v":""}]
[{"$nulls":6},{"$f":"IF(H1561<>\"\",VLOOKUP(H1561,Codes!C$1:D$475,2,FALSE),\"\")","v":""}]
[{"$nulls":6},{"$f":"IF(H1562<>\"\",VLOOKUP(H1562,Codes!C$1:D$475,2,FALSE),\"\")","v":""}]
[{"$nulls":6},{"$f":"IF(H1563<>\"\",VLOOKUP(H1563,Codes!C$1:D$475,2,FALSE),\"\")","v":""}]
[{"$nulls":6},{"$f":"IF(H1564<>\"\",VLOOKUP(H1564,Codes!C$1:D$475,2,FALSE),\"\")","v":""}]
[{"$nulls":6},{"$f":"IF(H1565<>\"\",VLOOKUP(H1565,Codes!C$1:D$475,2,FALSE),\"\")","v":""}]
[{"$nulls":6},{"$f":"IF(H1566<>\"\",VLOOKUP(H1566,Codes!C$1:D$475,2,FALSE),\"\")","v":""}]
[{"$nulls":6},{"$f":"IF(H1567<>\"\",VLOOKUP(H1567,Codes!C$1:D$475,2,FALSE),\"\")","v":""}]
[{"$nulls":6},{"$f":"IF(H1568<>\"\",VLOOKUP(H1568,Codes!C$1:D$475,2,FALSE),\"\")","v":""}]
[{"$nulls":6},{"$f":"IF(H1569<>\"\",VLOOKUP(H1569,Codes!C$1:D$475,2,FALSE),\"\")","v":""}]
[{"$nulls":6},{"$f":"IF(H1570<>\"\",VLOOKUP(H1570,Codes!C$1:D$475,2,FALSE),\"\")","v":""}]
[{"$nulls":6},{"$f":"IF(H1571<>\"\",VLOOKUP(H1571,Codes!C$1:D$475,2,FALSE),\"\")","v":""}]
[{"$nulls":6},{"$f":"IF(H1572<>\"\",VLOOKUP(H1572,Codes!C$1:D$475,2,FALSE),\"\")","v":""}]
[{"$nulls":6},{"$f":"IF(H1573<>\"\",VLOOKUP(H1573,Codes!C$1:D$475,2,FALSE),\"\")","v":""}]
[{"$nulls":6},{"$f":"IF(H1574<>\"\",VLOOKUP(H1574,Codes!C$1:D$475,2,FALSE),\"\")","v":""}]
[{"$nulls":6},{"$f":"IF(H1575<>\"\",VLOOKUP(H1575,Codes!C$1:D$475,2,FALSE),\"\")","v":""}]
[{"$nulls":6},{"$f":"IF(H1576<>\"\",VLOOKUP(H1576,Codes!C$1:D$475,2,FALSE),\"\")","v":""}]
[{"$nulls":6},{"$f":"IF(H1577<>\"\",VLOOKUP(H1577,Codes!C$1:D$475,2,FALSE),\"\")","v":""}]
[{"$nulls":6},{"$f":"IF(H1578<>\"\",VLOOKUP(H1578,Codes!C$1:D$475,2,FALSE),\"\")","v":""}]
[{"$nulls":6},{"$f":"IF(H1579<>\"\",VLOOKUP(H1579,Codes!C$1:D$475,2,FALSE),\"\")","v":""}]
[{"$nulls":6},{"$f":"IF(H1580<>\"\",VLOOKUP(H1580,Codes!C$1:D$475,2,FALSE),\"\")","v":""}]
[{"$nulls":6},{"$f":"IF(H1581<>\"\",VLOOKUP(H1581,Codes!C$1:D$475,2,FALSE),\"\")","v":""}]
[{"$nulls":6},{"$f":"IF(H1582<>\"\",VLOOKUP(H1582,Codes!C$1:D$475,2,FALSE),\"\")","v":""}]
[{"$nulls":6},{"$f":"IF(H1583<>\"\",VLOOKUP(H1583,Codes!C$1:D$475,2,FALSE),\"\")","v":""}]
[{"$nulls":6},{"$f":"IF(H1584<>\"\",VLOOKUP(H1584,Codes!C$1:D$475,2,FALSE),\"\")","v":""}]
[{"$nulls":6},{"$f":"IF(H1585<>\"\",VLOOKUP(H1585,Codes!C$1:D$475,2,FALSE),\"\")","v":""}]
[{"$nulls":6},{"$f":"IF(H1586<>\"\",VLOOKUP(H1586,Codes!C$1:D$475,2,FALSE),\"\")","v":""}]
[{"$nulls":6},{"$f":"IF(H1587<>\"\",VLOOKUP(H1587,Codes!C$1:D$475,2,FALSE),\"\")","v":""}]
[{"$nulls":6},{"$f":"IF(H1588<>\"\",VLOOKUP(H1588,Codes!C$1:D$475,2,FALSE),\"\")","v":""}]
[{"$nulls":6},{"$f":"IF(H1589<>\"\",VLOOKUP(H1589,Codes!C$1:D$475,2,FALSE),\"\")","v":""}]
[{"$nulls":6},{"$f":"IF(H1590<>\"\",VLOOKUP(H1590,Codes!C$1:D$475,2,FALSE),\"\")","v":""}]
[{"$nulls":6},{"$f":"IF(H1591<>\"\",VLOOKUP(H1591,Codes!C$1:D$475,2,FALSE),\"\")","v":""}]
[{"$nulls":6},{"$f":"IF(H1592<>\"\",VLOOKUP(H1592,Codes!C$1:D$475,2,FALSE),\"\")","v":""}]
[{"$nulls":6},{"$f":"IF(H1593<>\"\",VLOOKUP(H1593,Codes!C$1:D$475,2,FALSE),\"\")","v":""}]
[{"$nulls":6},{"$f":"IF(H1594<>\"\",VLOOKUP(H1594,Codes!C$1:D$475,2,FALSE),\"\")","v":""}]
[{"$nulls":6},{"$f":"IF(H1595<>\"\",VLOOKUP(H1595,Codes!C$1:D$475,2,FALSE),\"\")","v":""}]
[{"$nulls":6},{"$f":"IF(H1596<>\"\",VLOOKUP(H1596,Codes!C$1:D$475,2,FALSE),\"\")","v":""}]
[{"$nulls":6},{"$f":"IF(H1597<>\"\",VLOOKUP(H1597,Codes!C$1:D$475,2,FALSE),\"\")","v":""}]
[{"$nulls":6},{"$f":"IF(H1598<>\"\",VLOOKUP(H1598,Codes!C$1:D$475,2,FALSE),\"\")","v":""}]
[{"$nulls":6},{"$f":"IF(H1599<>\"\",VLOOKUP(H1599,Codes!C$1:D$475,2,FALSE),\"\")","v":""}]
[{"$nulls":6},{"$f":"IF(H1600<>\"\",VLOOKUP(H1600,Codes!C$1:D$475,2,FALSE),\"\")","v":""}]
[{"$nulls":6},{"$f":"IF(H1601<>\"\",VLOOKUP(H1601,Codes!C$1:D$475,2,FALSE),\"\")","v":""}]
[{"$nulls":6},{"$f":"IF(H1602<>\"\",VLOOKUP(H1602,Codes!C$1:D$475,2,FALSE),\"\")","v":""}]
[{"$nulls":6},{"$f":"IF(H1603<>\"\",VLOOKUP(H1603,Codes!C$1:D$475,2,FALSE),\"\")","v":""}]
[{"$nulls":6},{"$f":"IF(H1604<>\"\",VLOOKUP(H1604,Codes!C$1:D$475,2,FALSE),\"\")","v":""}]
[{"$nulls":6},{"$f":"IF(H1605<>\"\",VLOOKUP(H1605,Codes!C$1:D$475,2,FALSE),\"\")","v":""}]
[{"$nulls":6},{"$f":"IF(H1606<>\"\",VLOOKUP(H1606,Codes!C$1:D$475,2,FALSE),\"\")","v":""}]
[{"$nulls":6},{"$f":"IF(H1607<>\"\",VLOOKUP(H1607,Codes!C$1:D$475,2,FALSE),\"\")","v":""}]
[{"$nulls":6},{"$f":"IF(H1608<>\"\",VLOOKUP(H1608,Codes!C$1:D$475,2,FALSE),\"\")","v":""}]
[{"$nulls":6},{"$f":"IF(H1609<>\"\",VLOOKUP(H1609,Codes!C$1:D$475,2,FALSE),\"\")","v":""}]
[{"$nulls":6},{"$f":"IF(H1610<>\"\",VLOOKUP(H1610,Codes!C$1:D$475,2,FALSE),\"\")","v":""}]
[{"$nulls":6},{"$f":"IF(H1611<>\"\",VLOOKUP(H1611,Codes!C$1:D$475,2,FALSE),\"\")","v":""}]
[{"$nulls":6},{"$f":"IF(H1612<>\"\",VLOOKUP(H1612,Codes!C$1:D$475,2,FALSE),\"\")","v":""}]
[{"$nulls":6},{"$f":"IF(H1613<>\"\",VLOOKUP(H1613,Codes!C$1:D$475,2,FALSE),\"\")","v":""}]
[{"$nulls":6},{"$f":"IF(H1614<>\"\",VLOOKUP(H1614,Codes!C$1:D$475,2,FALSE),\"\")","v":""}]
[{"$nulls":6},{"$f":"IF(H1615<>\"\",VLOOKUP(H1615,Codes!C$1:D$475,2,FALSE),\"\")","v":""}]
[{"$nulls":6},{"$f":"IF(H1616<>\"\",VLOOKUP(H1616,Codes!C$1:D$475,2,FALSE),\"\")","v":""}]
[{"$nulls":6},{"$f":"IF(H1617<>\"\",VLOOKUP(H1617,Codes!C$1:D$475,2,FALSE),\"\")","v":""}]
[{"$nulls":6},{"$f":"IF(H1618<>\"\",VLOOKUP(H1618,Codes!C$1:D$475,2,FALSE),\"\")","v":""}]
[{"$nulls":6},{"$f":"IF(H1619<>\"\",VLOOKUP(H1619,Codes!C$1:D$475,2,FALSE),\"\")","v":""}]
[{"$nulls":6},{"$f":"IF(H1620<>\"\",VLOOKUP(H1620,Codes!C$1:D$475,2,FALSE),\"\")","v":""}]
[{"$nulls":6},{"$f":"IF(H1621<>\"\",VLOOKUP(H1621,Codes!C$1:D$475,2,FALSE),\"\")","v":""}]
[{"$nulls":6},{"$f":"IF(H1622<>\"\",VLOOKUP(H1622,Codes!C$1:D$475,2,FALSE),\"\")","v":""}]
[{"$nulls":6},{"$f":"IF(H1623<>\"\",VLOOKUP(H1623,Codes!C$1:D$475,2,FALSE),\"\")","v":""}]
[{"$nulls":6},{"$f":"IF(H1624<>\"\",VLOOKUP(H1624,Codes!C$1:D$475,2,FALSE),\"\")","v":""}]
[{"$nulls":6},{"$f":"IF(H1625<>\"\",VLOOKUP(H1625,Codes!C$1:D$475,2,FALSE),\"\")","v":""}]
[{"$nulls":6},{"$f":"IF(H1626<>\"\",VLOOKUP(H1626,Codes!C$1:D$475,2,FALSE),\"\")","v":""}]
[{"$nulls":6},{"$f":"IF(H1627<>\"\",VLOOKUP(H1627,Codes!C$1:D$475,2,FALSE),\"\")","v":""}]
[{"$nulls":6},{"$f":"IF(H1628<>\"\",VLOOKUP(H1628,Codes!C$1:D$475,2,FALSE),\"\")","v":""}]
[{"$nulls":6},{"$f":"IF(H1629<>\"\",VLOOKUP(H1629,Codes!C$1:D$475,2,FALSE),\"\")","v":""}]
[{"$nulls":6},{"$f":"IF(H1630<>\"\",VLOOKUP(H1630,Codes!C$1:D$475,2,FALSE),\"\")","v":""}]
[{"$nulls":6},{"$f":"IF(H1631<>\"\",VLOOKUP(H1631,Codes!C$1:D$475,2,FALSE),\"\")","v":""}]
[{"$nulls":6},{"$f":"IF(H1632<>\"\",VLOOKUP(H1632,Codes!C$1:D$475,2,FALSE),\"\")","v":""}]
[{"$nulls":6},{"$f":"IF(H1633<>\"\",VLOOKUP(H1633,Codes!C$1:D$475,2,FALSE),\"\")","v":""}]
[{"$nulls":6},{"$f":"IF(H1634<>\"\",VLOOKUP(H1634,Codes!C$1:D$475,2,FALSE),\"\")","v":""}]
[{"$nulls":6},{"$f":"IF(H1635<>\"\",VLOOKUP(H1635,Codes!C$1:D$475,2,FALSE),\"\")","v":""}]
[{"$nulls":6},{"$f":"IF(H1636<>\"\",VLOOKUP(H1636,Codes!C$1:D$475,2,FALSE),\"\")","v":""}]
[{"$nulls":6},{"$f":"IF(H1637<>\"\",VLOOKUP(H1637,Codes!C$1:D$475,2,FALSE),\"\")","v":""}]
[{"$nulls":6},{"$f":"IF(H1638<>\"\",VLOOKUP(H1638,Codes!C$1:D$475,2,FALSE),\"\")","v":""}]
[{"$nulls":6},{"$f":"IF(H1639<>\"\",VLOOKUP(H1639,Codes!C$1:D$475,2,FALSE),\"\")","v":""}]
[{"$nulls":6},{"$f":"IF(H1640<>\"\",VLOOKUP(H1640,Codes!C$1:D$475,2,FALSE),\"\")","v":""}]
[{"$nulls":6},{"$f":"IF(H1641<>\"\",VLOOKUP(H1641,Codes!C$1:D$475,2,FALSE),\"\")","v":""}]
[{"$nulls":6},{"$f":"IF(H1642<>\"\",VLOOKUP(H1642,Codes!C$1:D$475,2,FALSE),\"\")","v":""}]
[{"$nulls":6},{"$f":"IF(H1643<>\"\",VLOOKUP(H1643,Codes!C$1:D$475,2,FALSE),\"\")","v":""}]
[{"$nulls":6},{"$f":"IF(H1644<>\"\",VLOOKUP(H1644,Codes!C$1:D$475,2,FALSE),\"\")","v":""}]
[{"$nulls":6},{"$f":"IF(H1645<>\"\",VLOOKUP(H1645,Codes!C$1:D$475,2,FALSE),\"\")","v":""}]
[{"$nulls":6},{"$f":"IF(H1646<>\"\",VLOOKUP(H1646,Codes!C$1:D$475,2,FALSE),\"\")","v":""}]
[{"$nulls":6},{"$f":"IF(H1647<>\"\",VLOOKUP(H1647,Codes!C$1:D$475,2,FALSE),\"\")","v":""}]
[{"$nulls":6},{"$f":"IF(H1648<>\"\",VLOOKUP(H1648,Codes!C$1:D$475,2,FALSE),\"\")","v":""}]
[{"$nulls":6},{"$f":"IF(H1649<>\"\",VLOOKUP(H1649,Codes!C$1:D$475,2,FALSE),\"\")","v":""}]
[{"$nulls":6},{"$f":"IF(H1650<>\"\",VLOOKUP(H1650,Codes!C$1:D$475,2,FALSE),\"\")","v":""}]
[{"$nulls":6},{"$f":"IF(H1651<>\"\",VLOOKUP(H1651,Codes!C$1:D$475,2,FALSE),\"\")","v":""}]
[{"$nulls":6},{"$f":"IF(H1652<>\"\",VLOOKUP(H1652,Codes!C$1:D$475,2,FALSE),\"\")","v":""}]
[{"$nulls":6},{"$f":"IF(H1653<>\"\",VLOOKUP(H1653,Codes!C$1:D$475,2,FALSE),\"\")","v":""}]
[{"$nulls":6},{"$f":"IF(H1654<>\"\",VLOOKUP(H1654,Codes!C$1:D$475,2,FALSE),\"\")","v":""}]
[{"$nulls":6},{"$f":"IF(H1655<>\"\",VLOOKUP(H1655,Codes!C$1:D$475,2,FALSE),\"\")","v":""}]
[{"$nulls":6},{"$f":"IF(H1656<>\"\",VLOOKUP(H1656,Codes!C$1:D$475,2,FALSE),\"\")","v":""},{"$nulls":3},{"$f":"IF(J1656>0,VLOOKUP(J1656,' code comptes '!$A$1:$C$148,3),\"\")","v":""},"ok",{"$f":"D1474","v":{"v":0,"d":"0.00"}},{"$f":"+CONCATENATE(G1474,H1474)","v":""}]
[{"$nulls":6},{"$f":"IF(H1657<>\"\",VLOOKUP(H1657,Codes!C$1:D$475,2,FALSE),\"\")","v":""},{"$nulls":3},{"$f":"IF(J1657>0,VLOOKUP(J1657,' code comptes '!$A$1:$C$148,3),\"\")","v":""},"Erreur",{"$f":"D1656","v":{"v":0,"d":"0.00"}},{"$f":"+CONCATENATE(G1656,H1656)","v":""}]
[{"$nulls":6},{"$f":"IF(H1658<>\"\",VLOOKUP(H1658,Codes!C$1:D$475,2,FALSE),\"\")","v":""},{"$nulls":3},{"$f":"IF(J1658>0,VLOOKUP(J1658,' code comptes '!$A$1:$C$148,3),\"\")","v":""},null,{"v":0,"d":"0.00"},""]
[{"$nulls":6},{"$f":"IF(H1659<>\"\",VLOOKUP(H1659,Codes!C$1:D$475,2,FALSE),\"\")","v":""},{"$nulls":3},{"$f":"IF(J1659>0,VLOOKUP(J1659,' code comptes '!$A$1:$C$148,3),\"\")","v":""},null,{"v":0,"d":"0.00"},""]
[{"$nulls":6},{"$f":"IF(H1660<>\"\",VLOOKUP(H1660,Codes!C$1:D$475,2,FALSE),\"\")","v":""},{"$nulls":3},{"$f":"IF(J1660>0,VLOOKUP(J1660,' code comptes '!$A$1:$C$148,3),\"\")","v":""},null,{"v":0,"d":"0.00"},""]
[{"$nulls":6},{"$f":"IF(H1661<>\"\",VLOOKUP(H1661,Codes!C$1:D$475,2,FALSE),\"\")","v":""},{"$nulls":3},{"$f":"IF(J1661>0,VLOOKUP(J1661,' code comptes '!$A$1:$C$148,3),\"\")","v":""},null,{"v":0,"d":"0.00"},""]
[{"$nulls":6},{"$f":"IF(H1662<>\"\",VLOOKUP(H1662,Codes!C$1:D$475,2,FALSE),\"\")","v":""},{"$nulls":3},{"$f":"IF(J1662>0,VLOOKUP(J1662,' code comptes '!$A$1:$C$148,3),\"\")","v":""},null,{"v":0,"d":"0.00"},""]
[{"$nulls":6},{"$f":"IF(H1663<>\"\",VLOOKUP(H1663,Codes!C$1:D$475,2,FALSE),\"\")","v":""},{"$nulls":3},{"$f":"IF(J1663>0,VLOOKUP(J1663,' code comptes '!$A$1:$C$148,3),\"\")","v":""},null,{"v":0,"d":"0.00"},""]
[{"$nulls":6},{"$f":"IF(H1664<>\"\",VLOOKUP(H1664,Codes!C$1:D$475,2,FALSE),\"\")","v":""},{"$nulls":3},{"$f":"IF(J1664>0,VLOOKUP(J1664,' code comptes '!$A$1:$C$148,3),\"\")","v":""},null,{"v":0,"d":"0.00"},""]
[{"$nulls":6},{"$f":"IF(H1665<>\"\",VLOOKUP(H1665,Codes!C$1:D$475,2,FALSE),\"\")","v":""},{"$nulls":3},{"$f":"IF(J1665>0,VLOOKUP(J1665,' code comptes '!$A$1:$C$148,3),\"\")","v":""},null,{"v":0,"d":"0.00"},""]
[{"$nulls":6},{"$f":"IF(H1666<>\"\",VLOOKUP(H1666,Codes!C$1:D$475,2,FALSE),\"\")","v":""},{"$nulls":3},{"$f":"IF(J1666>0,VLOOKUP(J1666,' code comptes '!$A$1:$C$148,3),\"\")","v":""},null,{"v":0,"d":"0.00"},""]
[{"$nulls":6},{"$f":"IF(H1667<>\"\",VLOOKUP(H1667,Codes!C$1:D$475,2,FALSE),\"\")","v":""},{"$nulls":3},{"$f":"IF(J1667>0,VLOOKUP(J1667,' code comptes '!$A$1:$C$148,3),\"\")","v":""},null,{"v":0,"d":"0.00"},""]
[{"$nulls":6},{"$f":"IF(H1668<>\"\",VLOOKUP(H1668,Codes!C$1:D$475,2,FALSE),\"\")","v":""},{"$nulls":3},{"$f":"IF(J1668>0,VLOOKUP(J1668,' code comptes '!$A$1:$C$148,3),\"\")","v":""},null,{"v":0,"d":"0.00"},""]
[{"$nulls":6},{"$f":"IF(H1669<>\"\",VLOOKUP(H1669,Codes!C$1:D$475,2,FALSE),\"\")","v":""},{"$nulls":3},{"$f":"IF(J1669>0,VLOOKUP(J1669,' code comptes '!$A$1:$C$148,3),\"\")","v":""},null,{"v":0,"d":"0.00"},""]
[{"$nulls":6},{"$f":"IF(H1670<>\"\",VLOOKUP(H1670,Codes!C$1:D$475,2,FALSE),\"\")","v":""},{"$nulls":3},{"$f":"IF(J1670>0,VLOOKUP(J1670,' code comptes '!$A$1:$C$148,3),\"\")","v":""},null,{"v":0,"d":"0.00"},""]
[{"$nulls":6},{"$f":"IF(H1671<>\"\",VLOOKUP(H1671,Codes!C$1:D$475,2,FALSE),\"\")","v":""},{"$nulls":3},{"$f":"IF(J1671>0,VLOOKUP(J1671,' code comptes '!$A$1:$C$148,3),\"\")","v":""},null,{"v":0,"d":"0.00"},""]
[{"$nulls":6},{"$f":"IF(H1672<>\"\",VLOOKUP(H1672,Codes!C$1:D$475,2,FALSE),\"\")","v":""},{"$nulls":3},{"$f":"IF(J1672>0,VLOOKUP(J1672,' code comptes '!$A$1:$C$148,3),\"\")","v":""},null,{"v":0,"d":"0.00"},""]
[{"$nulls":6},{"$f":"IF(H1673<>\"\",VLOOKUP(H1673,Codes!C$1:D$475,2,FALSE),\"\")","v":""},{"$nulls":3},{"$f":"IF(J1673>0,VLOOKUP(J1673,' code comptes '!$A$1:$C$148,3),\"\")","v":""},null,{"v":0,"d":"0.00"},""]
[{"$nulls":6},{"$f":"IF(H1674<>\"\",VLOOKUP(H1674,Codes!C$1:D$475,2,FALSE),\"\")","v":""},{"$nulls":3},{"$f":"IF(J1674>0,VLOOKUP(J1674,' code comptes '!$A$1:$C$148,3),\"\")","v":""},null,{"v":0,"d":"0.00"},""]
[{"$nulls":6},{"$f":"IF(H1675<>\"\",VLOOKUP(H1675,Codes!C$1:D$475,2,FALSE),\"\")","v":""},{"$nulls":3},{"$f":"IF(J1675>0,VLOOKUP(J1675,' code comptes '!$A$1:$C$148,3),\"\")","v":""},null,{"v":0,"d":"0.00"},""]
[{"$nulls":6},{"$f":"IF(H1676<>\"\",VLOOKUP(H1676,Codes!C$1:D$475,2,FALSE),\"\")","v":""},{"$nulls":3},{"$f":"IF(J1676>0,VLOOKUP(J1676,' code comptes '!$A$1:$C$148,3),\"\")","v":""},null,{"v":0,"d":"0.00"},""]
[{"$nulls":6},{"$f":"IF(H1677<>\"\",VLOOKUP(H1677,Codes!C$1:D$475,2,FALSE),\"\")","v":""},{"$nulls":3},{"$f":"IF(J1677>0,VLOOKUP(J1677,' code comptes '!$A$1:$C$148,3),\"\")","v":""},null,{"v":0,"d":"0.00"},""]
[{"$nulls":6},{"$f":"IF(H1678<>\"\",VLOOKUP(H1678,Codes!C$1:D$475,2,FALSE),\"\")","v":""},{"$nulls":3},{"$f":"IF(J1678>0,VLOOKUP(J1678,' code comptes '!$A$1:$C$148,3),\"\")","v":""},null,{"v":0,"d":"0.00"},""]
[{"$nulls":6},{"$f":"IF(H1679<>\"\",VLOOKUP(H1679,Codes!C$1:D$475,2,FALSE),\"\")","v":""},{"$nulls":3},{"$f":"IF(J1679>0,VLOOKUP(J1679,' code comptes '!$A$1:$C$148,3),\"\")","v":""},null,{"v":0,"d":"0.00"},""]
[{"$nulls":6},{"$f":"IF(H1680<>\"\",VLOOKUP(H1680,Codes!C$1:D$475,2,FALSE),\"\")","v":""},{"$nulls":3},{"$f":"IF(J1680>0,VLOOKUP(J1680,' code comptes '!$A$1:$C$148,3),\"\")","v":""},null,{"v":0,"d":"0.00"},""]
[{"$nulls":6},{"$f":"IF(H1681<>\"\",VLOOKUP(H1681,Codes!C$1:D$475,2,FALSE),\"\")","v":""},{"$nulls":3},{"$f":"IF(J1681>0,VLOOKUP(J1681,' code comptes '!$A$1:$C$148,3),\"\")","v":""},null,{"v":0,"d":"0.00"},""]
[{"$nulls":6},{"$f":"IF(H1682<>\"\",VLOOKUP(H1682,Codes!C$1:D$475,2,FALSE),\"\")","v":""},{"$nulls":3},{"$f":"IF(J1682>0,VLOOKUP(J1682,' code comptes '!$A$1:$C$148,3),\"\")","v":""},null,{"v":0,"d":"0.00"},""]
[{"$nulls":6},{"$f":"IF(H1683<>\"\",VLOOKUP(H1683,Codes!C$1:D$475,2,FALSE),\"\")","v":""},{"$nulls":3},{"$f":"IF(J1683>0,VLOOKUP(J1683,' code comptes '!$A$1:$C$148,3),\"\")","v":""},null,{"v":0,"d":"0.00"},""]
[{"$nulls":6},{"$f":"IF(H1684<>\"\",VLOOKUP(H1684,Codes!C$1:D$475,2,FALSE),\"\")","v":""},{"$nulls":3},{"$f":"IF(J1684>0,VLOOKUP(J1684,' code comptes '!$A$1:$C$148,3),\"\")","v":""},null,{"v":0,"d":"0.00"},""]
[{"$nulls":6},{"$f":"IF(H1685<>\"\",VLOOKUP(H1685,Codes!C$1:D$475,2,FALSE),\"\")","v":""},{"$nulls":3},{"$f":"IF(J1685>0,VLOOKUP(J1685,' code comptes '!$A$1:$C$148,3),\"\")","v":""},null,{"v":0,"d":"0.00"},""]
[{"$nulls":6},{"$f":"IF(H1686<>\"\",VLOOKUP(H1686,Codes!C$1:D$475,2,FALSE),\"\")","v":""},{"$nulls":3},{"$f":"IF(J1686>0,VLOOKUP(J1686,' code comptes '!$A$1:$C$148,3),\"\")","v":""},null,{"v":0,"d":"0.00"},""]
[{"$nulls":6},{"$f":"IF(H1687<>\"\",VLOOKUP(H1687,Codes!C$1:D$475,2,FALSE),\"\")","v":""},{"$nulls":3},{"$f":"IF(J1687>0,VLOOKUP(J1687,' code comptes '!$A$1:$C$148,3),\"\")","v":""},null,{"v":0,"d":"0.00"},""]
[{"$nulls":6},{"$f":"IF(H1688<>\"\",VLOOKUP(H1688,Codes!C$1:D$475,2,FALSE),\"\")","v":""},{"$nulls":3},{"$f":"IF(J1688>0,VLOOKUP(J1688,' code comptes '!$A$1:$C$148,3),\"\")","v":""},null,{"v":0,"d":"0.00"},""]
[{"$nulls":6},{"$f":"IF(H1689<>\"\",VLOOKUP(H1689,Codes!C$1:D$475,2,FALSE),\"\")","v":""},{"$nulls":3},{"$f":"IF(J1689>0,VLOOKUP(J1689,' code comptes '!$A$1:$C$148,3),\"\")","v":""},null,{"v":0,"d":"0.00"},""]
[{"$nulls":6},{"$f":"IF(H1690<>\"\",VLOOKUP(H1690,Codes!C$1:D$475,2,FALSE),\"\")","v":""},{"$nulls":3},{"$f":"IF(J1690>0,VLOOKUP(J1690,' code comptes '!$A$1:$C$148,3),\"\")","v":""},null,{"v":0,"d":"0.00"},""]
[{"$nulls":6},{"$f":"IF(H1691<>\"\",VLOOKUP(H1691,Codes!C$1:D$475,2,FALSE),\"\")","v":""},{"$nulls":3},{"$f":"IF(J1691>0,VLOOKUP(J1691,' code comptes '!$A$1:$C$148,3),\"\")","v":""},null,{"v":0,"d":"0.00"},""]
[{"$nulls":6},{"$f":"IF(H1692<>\"\",VLOOKUP(H1692,Codes!C$1:D$475,2,FALSE),\"\")","v":""},{"$nulls":3},{"$f":"IF(J1692>0,VLOOKUP(J1692,' code comptes '!$A$1:$C$148,3),\"\")","v":""},null,{"v":0,"d":"0.00"},""]
[{"$nulls":6},{"$f":"IF(H1693<>\"\",VLOOKUP(H1693,Codes!C$1:D$475,2,FALSE),\"\")","v":""},{"$nulls":3},{"$f":"IF(J1693>0,VLOOKUP(J1693,' code comptes '!$A$1:$C$148,3),\"\")","v":""},null,{"v":0,"d":"0.00"},""]
[{"$nulls":6},{"$f":"IF(H1694<>\"\",VLOOKUP(H1694,Codes!C$1:D$475,2,FALSE),\"\")","v":""},{"$nulls":3},{"$f":"IF(J1694>0,VLOOKUP(J1694,' code comptes '!$A$1:$C$148,3),\"\")","v":""},null,{"v":0,"d":"0.00"},""]
[{"$nulls":6},{"$f":"IF(H1695<>\"\",VLOOKUP(H1695,Codes!C$1:D$475,2,FALSE),\"\")","v":""},{"$nulls":3},{"$f":"IF(J1695>0,VLOOKUP(J1695,' code comptes '!$A$1:$C$148,3),\"\")","v":""},null,{"v":0,"d":"0.00"},""]
[{"$nulls":6},{"$f":"IF(H1696<>\"\",VLOOKUP(H1696,Codes!C$1:D$475,2,FALSE),\"\")","v":""},{"$nulls":3},{"$f":"IF(J1696>0,VLOOKUP(J1696,' code comptes '!$A$1:$C$148,3),\"\")","v":""},null,{"v":0,"d":"0.00"},""]
[{"$nulls":6},{"$f":"IF(H1697<>\"\",VLOOKUP(H1697,Codes!C$1:D$475,2,FALSE),\"\")","v":""},{"$nulls":3},{"$f":"IF(J1697>0,VLOOKUP(J1697,' code comptes '!$A$1:$C$148,3),\"\")","v":""},null,{"v":0,"d":"0.00"},""]
[{"$nulls":6},{"$f":"IF(H1698<>\"\",VLOOKUP(H1698,Codes!C$1:D$475,2,FALSE),\"\")","v":""},{"$nulls":3},{"$f":"IF(J1698>0,VLOOKUP(J1698,' code comptes '!$A$1:$C$148,3),\"\")","v":""},null,{"v":0,"d":"0.00"},""]
[{"$nulls":6},{"$f":"IF(H1699<>\"\",VLOOKUP(H1699,Codes!C$1:D$475,2,FALSE),\"\")","v":""},{"$nulls":3},{"$f":"IF(J1699>0,VLOOKUP(J1699,' code comptes '!$A$1:$C$148,3),\"\")","v":""},null,{"v":0,"d":"0.00"},""]
[{"$nulls":6},{"$f":"IF(H1700<>\"\",VLOOKUP(H1700,Codes!C$1:D$475,2,FALSE),\"\")","v":""},{"$nulls":3},{"$f":"IF(J1700>0,VLOOKUP(J1700,' code comptes '!$A$1:$C$148,3),\"\")","v":""},null,{"v":0,"d":"0.00"},""]
[{"$nulls":6},{"$f":"IF(H1701<>\"\",VLOOKUP(H1701,Codes!C$1:D$475,2,FALSE),\"\")","v":""},{"$nulls":3},{"$f":"IF(J1701>0,VLOOKUP(J1701,' code comptes '!$A$1:$C$148,3),\"\")","v":""},null,{"v":0,"d":"0.00"},""]
[{"$nulls":6},{"$f":"IF(H1702<>\"\",VLOOKUP(H1702,Codes!C$1:D$475,2,FALSE),\"\")","v":""},{"$nulls":3},{"$f":"IF(J1702>0,VLOOKUP(J1702,' code comptes '!$A$1:$C$148,3),\"\")","v":""},null,{"v":0,"d":"0.00"},""]
[{"$nulls":6},{"$f":"IF(H1703<>\"\",VLOOKUP(H1703,Codes!C$1:D$475,2,FALSE),\"\")","v":""},{"$nulls":3},{"$f":"IF(J1703>0,VLOOKUP(J1703,' code comptes '!$A$1:$C$148,3),\"\")","v":""},null,{"v":0,"d":"0.00"},""]
[{"$nulls":6},{"$f":"IF(H1704<>\"\",VLOOKUP(H1704,Codes!C$1:D$475,2,FALSE),\"\")","v":""},{"$nulls":3},{"$f":"IF(J1704>0,VLOOKUP(J1704,' code comptes '!$A$1:$C$148,3),\"\")","v":""},null,{"v":0,"d":"0.00"},""]
[{"$nulls":6},{"$f":"IF(H1705<>\"\",VLOOKUP(H1705,Codes!C$1:D$475,2,FALSE),\"\")","v":""},{"$nulls":3},{"$f":"IF(J1705>0,VLOOKUP(J1705,' code comptes '!$A$1:$C$148,3),\"\")","v":""},null,{"v":0,"d":"0.00"},""]
[{"$nulls":6},{"$f":"IF(H1706<>\"\",VLOOKUP(H1706,Codes!C$1:D$475,2,FALSE),\"\")","v":""},{"$nulls":3},{"$f":"IF(J1706>0,VLOOKUP(J1706,' code comptes '!$A$1:$C$148,3),\"\")","v":""},null,{"v":0,"d":"0.00"},""]
[{"$nulls":6},{"$f":"IF(H1707<>\"\",VLOOKUP(H1707,Codes!C$1:D$475,2,FALSE),\"\")","v":""},{"$nulls":3},{"$f":"IF(J1707>0,VLOOKUP(J1707,' code comptes '!$A$1:$C$148,3),\"\")","v":""},null,{"v":0,"d":"0.00"},""]
[{"$nulls":6},{"$f":"IF(H1708<>\"\",VLOOKUP(H1708,Codes!C$1:D$475,2,FALSE),\"\")","v":""},{"$nulls":3},{"$f":"IF(J1708>0,VLOOKUP(J1708,' code comptes '!$A$1:$C$148,3),\"\")","v":""},null,{"v":0,"d":"0.00"},""]
[{"$nulls":6},{"$f":"IF(H1709<>\"\",VLOOKUP(H1709,Codes!C$1:D$475,2,FALSE),\"\")","v":""},{"$nulls":3},{"$f":"IF(J1709>0,VLOOKUP(J1709,' code comptes '!$A$1:$C$148,3),\"\")","v":""},null,{"v":0,"d":"0.00"},""]
[{"$nulls":6},{"$f":"IF(H1710<>\"\",VLOOKUP(H1710,Codes!C$1:D$475,2,FALSE),\"\")","v":""},{"$nulls":3},{"$f":"IF(J1710>0,VLOOKUP(J1710,' code comptes '!$A$1:$C$148,3),\"\")","v":""},null,{"v":0,"d":"0.00"},""]
[{"$nulls":6},{"$f":"IF(H1711<>\"\",VLOOKUP(H1711,Codes!C$1:D$475,2,FALSE),\"\")","v":""},{"$nulls":3},{"$f":"IF(J1711>0,VLOOKUP(J1711,' code comptes '!$A$1:$C$148,3),\"\")","v":""},null,{"v":0,"d":"0.00"},""]
[{"$nulls":6},{"$f":"IF(H1712<>\"\",VLOOKUP(H1712,Codes!C$1:D$475,2,FALSE),\"\")","v":""},{"$nulls":3},{"$f":"IF(J1712>0,VLOOKUP(J1712,' code comptes '!$A$1:$C$148,3),\"\")","v":""},null,{"v":0,"d":"0.00"},""]
[{"$nulls":6},{"$f":"IF(H1713<>\"\",VLOOKUP(H1713,Codes!C$1:D$475,2,FALSE),\"\")","v":""},{"$nulls":3},{"$f":"IF(J1713>0,VLOOKUP(J1713,' code comptes '!$A$1:$C$148,3),\"\")","v":""},null,{"v":0,"d":"0.00"},""]
[{"$nulls":6},{"$f":"IF(H1714<>\"\",VLOOKUP(H1714,Codes!C$1:D$475,2,FALSE),\"\")","v":""},{"$nulls":3},{"$f":"IF(J1714>0,VLOOKUP(J1714,' code comptes '!$A$1:$C$148,3),\"\")","v":""},null,{"v":0,"d":"0.00"},""]
[{"$nulls":6},{"$f":"IF(H1715<>\"\",VLOOKUP(H1715,Codes!C$1:D$475,2,FALSE),\"\")","v":""},{"$nulls":3},{"$f":"IF(J1715>0,VLOOKUP(J1715,' code comptes '!$A$1:$C$148,3),\"\")","v":""},null,{"v":0,"d":"0.00"},""]
[{"$nulls":6},{"$f":"IF(H1716<>\"\",VLOOKUP(H1716,Codes!C$1:D$475,2,FALSE),\"\")","v":""},{"$nulls":3},{"$f":"IF(J1716>0,VLOOKUP(J1716,' code comptes '!$A$1:$C$148,3),\"\")","v":""},null,{"v":0,"d":"0.00"},""]
[{"$nulls":6},{"$f":"IF(H1717<>\"\",VLOOKUP(H1717,Codes!C$1:D$475,2,FALSE),\"\")","v":""},{"$nulls":3},{"$f":"IF(J1717>0,VLOOKUP(J1717,' code comptes '!$A$1:$C$148,3),\"\")","v":""},null,{"v":0,"d":"0.00"},""]
[{"$nulls":6},{"$f":"IF(H1718<>\"\",VLOOKUP(H1718,Codes!C$1:D$475,2,FALSE),\"\")","v":""},{"$nulls":3},{"$f":"IF(J1718>0,VLOOKUP(J1718,' code comptes '!$A$1:$C$148,3),\"\")","v":""},null,{"v":0,"d":"0.00"},""]
[{"$nulls":6},{"$f":"IF(H1719<>\"\",VLOOKUP(H1719,Codes!C$1:D$475,2,FALSE),\"\")","v":""},{"$nulls":3},{"$f":"IF(J1719>0,VLOOKUP(J1719,' code comptes '!$A$1:$C$148,3),\"\")","v":""},null,{"v":0,"d":"0.00"},""]
[{"$nulls":6},{"$f":"IF(H1720<>\"\",VLOOKUP(H1720,Codes!C$1:D$475,2,FALSE),\"\")","v":""},{"$nulls":3},{"$f":"IF(J1720>0,VLOOKUP(J1720,' code comptes '!$A$1:$C$148,3),\"\")","v":""},null,{"v":0,"d":"0.00"},""]
[{"$nulls":6},{"$f":"IF(H1721<>\"\",VLOOKUP(H1721,Codes!C$1:D$475,2,FALSE),\"\")","v":""},{"$nulls":3},{"$f":"IF(J1721>0,VLOOKUP(J1721,' code comptes '!$A$1:$C$148,3),\"\")","v":""},null,{"v":0,"d":"0.00"},""]
[{"$nulls":6},{"$f":"IF(H1722<>\"\",VLOOKUP(H1722,Codes!C$1:D$475,2,FALSE),\"\")","v":""},{"$nulls":3},{"$f":"IF(J1722>0,VLOOKUP(J1722,' code comptes '!$A$1:$C$148,3),\"\")","v":""},null,{"v":0,"d":"0.00"},""]
[{"$nulls":6},{"$f":"IF(H1723<>\"\",VLOOKUP(H1723,Codes!C$1:D$475,2,FALSE),\"\")","v":""},{"$nulls":3},{"$f":"IF(J1723>0,VLOOKUP(J1723,' code comptes '!$A$1:$C$148,3),\"\")","v":""},null,{"v":0,"d":"0.00"},""]
[{"$nulls":6},{"$f":"IF(H1724<>\"\",VLOOKUP(H1724,Codes!C$1:D$475,2,FALSE),\"\")","v":""},{"$nulls":3},{"$f":"IF(J1724>0,VLOOKUP(J1724,' code comptes '!$A$1:$C$148,3),\"\")","v":""},null,{"v":0,"d":"0.00"},""]
[{"$nulls":6},{"$f":"IF(H1725<>\"\",VLOOKUP(H1725,Codes!C$1:D$475,2,FALSE),\"\")","v":""},{"$nulls":3},{"$f":"IF(J1725>0,VLOOKUP(J1725,' code comptes '!$A$1:$C$148,3),\"\")","v":""},null,{"v":0,"d":"0.00"},""]
[{"$nulls":6},{"$f":"IF(H1726<>\"\",VLOOKUP(H1726,Codes!C$1:D$475,2,FALSE),\"\")","v":""},{"$nulls":3},{"$f":"IF(J1726>0,VLOOKUP(J1726,' code comptes '!$A$1:$C$148,3),\"\")","v":""},null,{"v":0,"d":"0.00"},""]
[{"$nulls":6},{"$f":"IF(H1727<>\"\",VLOOKUP(H1727,Codes!C$1:D$475,2,FALSE),\"\")","v":""},{"$nulls":3},{"$f":"IF(J1727>0,VLOOKUP(J1727,' code comptes '!$A$1:$C$148,3),\"\")","v":""},null,{"v":0,"d":"0.00"},""]
[{"$nulls":6},{"$f":"IF(H1728<>\"\",VLOOKUP(H1728,Codes!C$1:D$475,2,FALSE),\"\")","v":""},{"$nulls":3},{"$f":"IF(J1728>0,VLOOKUP(J1728,' code comptes '!$A$1:$C$148,3),\"\")","v":""},null,{"v":0,"d":"0.00"},""]
[{"$nulls":6},{"$f":"IF(H1729<>\"\",VLOOKUP(H1729,Codes!C$1:D$475,2,FALSE),\"\")","v":""},{"$nulls":3},{"$f":"IF(J1729>0,VLOOKUP(J1729,' code comptes '!$A$1:$C$148,3),\"\")","v":""},null,{"v":0,"d":"0.00"},""]
[{"$nulls":6},{"$f":"IF(H1730<>\"\",VLOOKUP(H1730,Codes!C$1:D$475,2,FALSE),\"\")","v":""},{"$nulls":3},{"$f":"IF(J1730>0,VLOOKUP(J1730,' code comptes '!$A$1:$C$148,3),\"\")","v":""},null,{"v":0,"d":"0.00"},""]
[{"$nulls":6},{"$f":"IF(H1731<>\"\",VLOOKUP(H1731,Codes!C$1:D$475,2,FALSE),\"\")","v":""},{"$nulls":3},{"$f":"IF(J1731>0,VLOOKUP(J1731,' code comptes '!$A$1:$C$148,3),\"\")","v":""},null,{"v":0,"d":"0.00"},""]
[{"$nulls":6},{"$f":"IF(H1732<>\"\",VLOOKUP(H1732,Codes!C$1:D$475,2,FALSE),\"\")","v":""},{"$nulls":3},{"$f":"IF(J1732>0,VLOOKUP(J1732,' code comptes '!$A$1:$C$148,3),\"\")","v":""},null,{"v":0,"d":"0.00"},""]
[{"$nulls":6},{"$f":"IF(H1733<>\"\",VLOOKUP(H1733,Codes!C$1:D$475,2,FALSE),\"\")","v":""},{"$nulls":3},{"$f":"IF(J1733>0,VLOOKUP(J1733,' code comptes '!$A$1:$C$148,3),\"\")","v":""},null,{"v":0,"d":"0.00"},""]
[{"$nulls":6},{"$f":"IF(H1734<>\"\",VLOOKUP(H1734,Codes!C$1:D$475,2,FALSE),\"\")","v":""},{"$nulls":3},{"$f":"IF(J1734>0,VLOOKUP(J1734,' code comptes '!$A$1:$C$148,3),\"\")","v":""},null,{"v":0,"d":"0.00"},""]
[{"$nulls":6},{"$f":"IF(H1735<>\"\",VLOOKUP(H1735,Codes!C$1:D$475,2,FALSE),\"\")","v":""},{"$nulls":3},{"$f":"IF(J1735>0,VLOOKUP(J1735,' code comptes '!$A$1:$C$148,3),\"\")","v":""},null,{"v":0,"d":"0.00"},""]
[{"$nulls":6},{"$f":"IF(H1736<>\"\",VLOOKUP(H1736,Codes!C$1:D$475,2,FALSE),\"\")","v":""},{"$nulls":3},{"$f":"IF(J1736>0,VLOOKUP(J1736,' code comptes '!$A$1:$C$148,3),\"\")","v":""},null,{"v":0,"d":"0.00"},""]
[{"$nulls":6},{"$f":"IF(H1737<>\"\",VLOOKUP(H1737,Codes!C$1:D$475,2,FALSE),\"\")","v":""},{"$nulls":3},{"$f":"IF(J1737>0,VLOOKUP(J1737,' code comptes '!$A$1:$C$148,3),\"\")","v":""},null,{"v":0,"d":"0.00"},""]
[{"$nulls":6},{"$f":"IF(H1738<>\"\",VLOOKUP(H1738,Codes!C$1:D$475,2,FALSE),\"\")","v":""},{"$nulls":3},{"$f":"IF(J1738>0,VLOOKUP(J1738,' code comptes '!$A$1:$C$148,3),\"\")","v":""},null,{"v":0,"d":"0.00"},""]
[{"$nulls":6},{"$f":"IF(H1739<>\"\",VLOOKUP(H1739,Codes!C$1:D$475,2,FALSE),\"\")","v":""},{"$nulls":3},{"$f":"IF(J1739>0,VLOOKUP(J1739,' code comptes '!$A$1:$C$148,3),\"\")","v":""},null,{"v":0,"d":"0.00"},""]
[{"$nulls":6},{"$f":"IF(H1740<>\"\",VLOOKUP(H1740,Codes!C$1:D$475,2,FALSE),\"\")","v":""},{"$nulls":3},{"$f":"IF(J1740>0,VLOOKUP(J1740,' code comptes '!$A$1:$C$148,3),\"\")","v":""},null,{"v":0,"d":"0.00"},""]
[{"$nulls":6},{"$f":"IF(H1741<>\"\",VLOOKUP(H1741,Codes!C$1:D$475,2,FALSE),\"\")","v":""},{"$nulls":3},{"$f":"IF(J1741>0,VLOOKUP(J1741,' code comptes '!$A$1:$C$148,3),\"\")","v":""},null,{"v":0,"d":"0.00"},""]
[{"$nulls":6},{"$f":"IF(H1742<>\"\",VLOOKUP(H1742,Codes!C$1:D$475,2,FALSE),\"\")","v":""}]
[{"$nulls":6},{"$f":"IF(H1743<>\"\",VLOOKUP(H1743,Codes!C$1:D$475,2,FALSE),\"\")","v":""}]
[{"$nulls":6},{"$f":"IF(H1744<>\"\",VLOOKUP(H1744,Codes!C$1:D$475,2,FALSE),\"\")","v":""}]
[{"$nulls":6},{"$f":"IF(H1745<>\"\",VLOOKUP(H1745,Codes!C$1:D$475,2,FALSE),\"\")","v":""}]
[{"$nulls":6},{"$f":"IF(H1746<>\"\",VLOOKUP(H1746,Codes!C$1:D$475,2,FALSE),\"\")","v":""}]
[{"$nulls":6},{"$f":"IF(H1747<>\"\",VLOOKUP(H1747,Codes!C$1:D$475,2,FALSE),\"\")","v":""}]
[{"$nulls":6},{"$f":"IF(H1748<>\"\",VLOOKUP(H1748,Codes!C$1:D$475,2,FALSE),\"\")","v":""}]
[{"$nulls":6},{"$f":"IF(H1749<>\"\",VLOOKUP(H1749,Codes!C$1:D$475,2,FALSE),\"\")","v":""}]
[{"$nulls":6},{"$f":"IF(H1750<>\"\",VLOOKUP(H1750,Codes!C$1:D$475,2,FALSE),\"\")","v":""}]
[{"$nulls":6},{"$f":"IF(H1751<>\"\",VLOOKUP(H1751,Codes!C$1:D$475,2,FALSE),\"\")","v":""}]
[{"$nulls":6},{"$f":"IF(H1752<>\"\",VLOOKUP(H1752,Codes!C$1:D$475,2,FALSE),\"\")","v":""}]
[{"$nulls":6},{"$f":"IF(H1753<>\"\",VLOOKUP(H1753,Codes!C$1:D$475,2,FALSE),\"\")","v":""}]
[{"$nulls":6},{"$f":"IF(H1754<>\"\",VLOOKUP(H1754,Codes!C$1:D$475,2,FALSE),\"\")","v":""}]
[{"$nulls":6},{"$f":"IF(H1755<>\"\",VLOOKUP(H1755,Codes!C$1:D$475,2,FALSE),\"\")","v":""}]
[{"$nulls":6},{"$f":"IF(H1756<>\"\",VLOOKUP(H1756,Codes!C$1:D$475,2,FALSE),\"\")","v":""}]
[{"$nulls":6},{"$f":"IF(H1757<>\"\",VLOOKUP(H1757,Codes!C$1:D$475,2,FALSE),\"\")","v":""}]
[{"$nulls":6},{"$f":"IF(H1758<>\"\",VLOOKUP(H1758,Codes!C$1:D$475,2,FALSE),\"\")","v":""}]
[{"$nulls":6},{"$f":"IF(H1759<>\"\",VLOOKUP(H1759,Codes!C$1:D$475,2,FALSE),\"\")","v":""}]
[{"$nulls":6},{"$f":"IF(H1760<>\"\",VLOOKUP(H1760,Codes!C$1:D$475,2,FALSE),\"\")","v":""}]
[{"$nulls":6},{"$f":"IF(H1761<>\"\",VLOOKUP(H1761,Codes!C$1:D$475,2,FALSE),\"\")","v":""}]
[{"$nulls":6},{"$f":"IF(H1762<>\"\",VLOOKUP(H1762,Codes!C$1:D$475,2,FALSE),\"\")","v":""}]
[{"$nulls":6},{"$f":"IF(H1763<>\"\",VLOOKUP(H1763,Codes!C$1:D$475,2,FALSE),\"\")","v":""}]
[{"$nulls":6},{"$f":"IF(H1764<>\"\",VLOOKUP(H1764,Codes!C$1:D$475,2,FALSE),\"\")","v":""}]
[{"$nulls":6},{"$f":"IF(H1765<>\"\",VLOOKUP(H1765,Codes!C$1:D$475,2,FALSE),\"\")","v":""}]
[{"$nulls":6},{"$f":"IF(H1766<>\"\",VLOOKUP(H1766,Codes!C$1:D$475,2,FALSE),\"\")","v":""}]
[{"$nulls":6},{"$f":"IF(H1767<>\"\",VLOOKUP(H1767,Codes!C$1:D$475,2,FALSE),\"\")","v":""}]
[{"$nulls":6},{"$f":"IF(H1768<>\"\",VLOOKUP(H1768,Codes!C$1:D$475,2,FALSE),\"\")","v":""}]
[{"$nulls":6},{"$f":"IF(H1769<>\"\",VLOOKUP(H1769,Codes!C$1:D$475,2,FALSE),\"\")","v":""}]
[{"$nulls":6},{"$f":"IF(H1770<>\"\",VLOOKUP(H1770,Codes!C$1:D$475,2,FALSE),\"\")","v":""}]
[{"$nulls":6},{"$f":"IF(H1771<>\"\",VLOOKUP(H1771,Codes!C$1:D$475,2,FALSE),\"\")","v":""}]
[{"$nulls":6},{"$f":"IF(H1772<>\"\",VLOOKUP(H1772,Codes!C$1:D$475,2,FALSE),\"\")","v":""}]
[{"$nulls":6},{"$f":"IF(H1773<>\"\",VLOOKUP(H1773,Codes!C$1:D$475,2,FALSE),\"\")","v":""}]
[{"$nulls":6},{"$f":"IF(H1774<>\"\",VLOOKUP(H1774,Codes!C$1:D$475,2,FALSE),\"\")","v":""}]
[{"$nulls":6},{"$f":"IF(H1775<>\"\",VLOOKUP(H1775,Codes!C$1:D$475,2,FALSE),\"\")","v":""}]
[{"$nulls":6},{"$f":"IF(H1776<>\"\",VLOOKUP(H1776,Codes!C$1:D$475,2,FALSE),\"\")","v":""}]
[{"$nulls":6},{"$f":"IF(H1777<>\"\",VLOOKUP(H1777,Codes!C$1:D$475,2,FALSE),\"\")","v":""}]
[{"$nulls":6},{"$f":"IF(H1778<>\"\",VLOOKUP(H1778,Codes!C$1:D$475,2,FALSE),\"\")","v":""}]
[{"$nulls":6},{"$f":"IF(H1779<>\"\",VLOOKUP(H1779,Codes!C$1:D$475,2,FALSE),\"\")","v":""}]
[{"$nulls":6},{"$f":"IF(H1780<>\"\",VLOOKUP(H1780,Codes!C$1:D$475,2,FALSE),\"\")","v":""}]
[{"$nulls":6},{"$f":"IF(H1781<>\"\",VLOOKUP(H1781,Codes!C$1:D$475,2,FALSE),\"\")","v":""}]
[{"$nulls":6},{"$f":"IF(H1782<>\"\",VLOOKUP(H1782,Codes!C$1:D$475,2,FALSE),\"\")","v":""}]
[{"$nulls":6},{"$f":"IF(H1783<>\"\",VLOOKUP(H1783,Codes!C$1:D$475,2,FALSE),\"\")","v":""}]
[{"$nulls":6},{"$f":"IF(H1784<>\"\",VLOOKUP(H1784,Codes!C$1:D$475,2,FALSE),\"\")","v":""}]
[{"$nulls":6},{"$f":"IF(H1785<>\"\",VLOOKUP(H1785,Codes!C$1:D$475,2,FALSE),\"\")","v":""}]
[{"$nulls":6},{"$f":"IF(H1786<>\"\",VLOOKUP(H1786,Codes!C$1:D$475,2,FALSE),\"\")","v":""}]
[{"$nulls":6},{"$f":"IF(H1787<>\"\",VLOOKUP(H1787,Codes!C$1:D$475,2,FALSE),\"\")","v":""}]
[{"$nulls":6},{"$f":"IF(H1788<>\"\",VLOOKUP(H1788,Codes!C$1:D$475,2,FALSE),\"\")","v":""}]
[{"$nulls":6},{"$f":"IF(H1789<>\"\",VLOOKUP(H1789,Codes!C$1:D$475,2,FALSE),\"\")","v":""}]
[{"$nulls":6},{"$f":"IF(H1790<>\"\",VLOOKUP(H1790,Codes!C$1:D$475,2,FALSE),\"\")","v":""}]
[{"$nulls":6},{"$f":"IF(H1791<>\"\",VLOOKUP(H1791,Codes!C$1:D$475,2,FALSE),\"\")","v":""}]
[{"$nulls":6},{"$f":"IF(H1792<>\"\",VLOOKUP(H1792,Codes!C$1:D$475,2,FALSE),\"\")","v":""}]
[{"$nulls":6},{"$f":"IF(H1793<>\"\",VLOOKUP(H1793,Codes!C$1:D$475,2,FALSE),\"\")","v":""}]
[{"$nulls":6},{"$f":"IF(H1794<>\"\",VLOOKUP(H1794,Codes!C$1:D$475,2,FALSE),\"\")","v":""}]
[{"$nulls":6},{"$f":"IF(H1795<>\"\",VLOOKUP(H1795,Codes!C$1:D$475,2,FALSE),\"\")","v":""}]
[{"$nulls":6},{"$f":"IF(H1796<>\"\",VLOOKUP(H1796,Codes!C$1:D$475,2,FALSE),\"\")","v":""}]
[{"$nulls":6},{"$f":"IF(H1797<>\"\",VLOOKUP(H1797,Codes!C$1:D$475,2,FALSE),\"\")","v":""}]
[{"$nulls":6},{"$f":"IF(H1798<>\"\",VLOOKUP(H1798,Codes!C$1:D$475,2,FALSE),\"\")","v":""}]
[{"$nulls":6},{"$f":"IF(H1799<>\"\",VLOOKUP(H1799,Codes!C$1:D$475,2,FALSE),\"\")","v":""}]
[{"$nulls":6},{"$f":"IF(H1800<>\"\",VLOOKUP(H1800,Codes!C$1:D$475,2,FALSE),\"\")","v":""}]
[{"$nulls":6},{"$f":"IF(H1801<>\"\",VLOOKUP(H1801,Codes!C$1:D$475,2,FALSE),\"\")","v":""}]
[{"$nulls":6},{"$f":"IF(H1802<>\"\",VLOOKUP(H1802,Codes!C$1:D$475,2,FALSE),\"\")","v":""}]
[{"$nulls":6},{"$f":"IF(H1803<>\"\",VLOOKUP(H1803,Codes!C$1:D$475,2,FALSE),\"\")","v":""}]
[{"$nulls":6},{"$f":"IF(H1804<>\"\",VLOOKUP(H1804,Codes!C$1:D$475,2,FALSE),\"\")","v":""}]
[{"$nulls":6},{"$f":"IF(H1805<>\"\",VLOOKUP(H1805,Codes!C$1:D$475,2,FALSE),\"\")","v":""}]
[{"$nulls":6},{"$f":"IF(H1806<>\"\",VLOOKUP(H1806,Codes!C$1:D$475,2,FALSE),\"\")","v":""}]
[{"$nulls":6},{"$f":"IF(H1807<>\"\",VLOOKUP(H1807,Codes!C$1:D$475,2,FALSE),\"\")","v":""}]
[{"$nulls":6},{"$f":"IF(H1808<>\"\",VLOOKUP(H1808,Codes!C$1:D$475,2,FALSE),\"\")","v":""}]
[{"$nulls":6},{"$f":"IF(H1809<>\"\",VLOOKUP(H1809,Codes!C$1:D$475,2,FALSE),\"\")","v":""}]
[{"$nulls":6},{"$f":"IF(H1810<>\"\",VLOOKUP(H1810,Codes!C$1:D$475,2,FALSE),\"\")","v":""}]
[{"$nulls":6},{"$f":"IF(H1811<>\"\",VLOOKUP(H1811,Codes!C$1:D$475,2,FALSE),\"\")","v":""}]
[{"$nulls":6},{"$f":"IF(H1812<>\"\",VLOOKUP(H1812,Codes!C$1:D$475,2,FALSE),\"\")","v":""}]
[{"$nulls":6},{"$f":"IF(H1813<>\"\",VLOOKUP(H1813,Codes!C$1:D$475,2,FALSE),\"\")","v":""}]
[{"$nulls":6},{"$f":"IF(H1814<>\"\",VLOOKUP(H1814,Codes!C$1:D$475,2,FALSE),\"\")","v":""}]
[{"$nulls":6},{"$f":"IF(H1815<>\"\",VLOOKUP(H1815,Codes!C$1:D$475,2,FALSE),\"\")","v":""}]
[{"$nulls":6},{"$f":"IF(H1816<>\"\",VLOOKUP(H1816,Codes!C$1:D$475,2,FALSE),\"\")","v":""}]
[{"$nulls":6},{"$f":"IF(H1817<>\"\",VLOOKUP(H1817,Codes!C$1:D$475,2,FALSE),\"\")","v":""}]
[{"$nulls":6},{"$f":"IF(H1818<>\"\",VLOOKUP(H1818,Codes!C$1:D$475,2,FALSE),\"\")","v":""}]
[{"$nulls":6},{"$f":"IF(H1819<>\"\",VLOOKUP(H1819,Codes!C$1:D$475,2,FALSE),\"\")","v":""}]
[{"$nulls":6},{"$f":"IF(H1820<>\"\",VLOOKUP(H1820,Codes!C$1:D$475,2,FALSE),\"\")","v":""}]
[{"$nulls":6},{"$f":"IF(H1821<>\"\",VLOOKUP(H1821,Codes!C$1:D$475,2,FALSE),\"\")","v":""}]
[{"$nulls":6},{"$f":"IF(H1822<>\"\",VLOOKUP(H1822,Codes!C$1:D$475,2,FALSE),\"\")","v":""}]
[{"$nulls":6},{"$f":"IF(H1823<>\"\",VLOOKUP(H1823,Codes!C$1:D$475,2,FALSE),\"\")","v":""}]
[{"$nulls":6},{"$f":"IF(H1824<>\"\",VLOOKUP(H1824,Codes!C$1:D$475,2,FALSE),\"\")","v":""}]
[{"$nulls":6},{"$f":"IF(H1825<>\"\",VLOOKUP(H1825,Codes!C$1:D$475,2,FALSE),\"\")","v":""}]
[{"$nulls":6},{"$f":"IF(H1826<>\"\",VLOOKUP(H1826,Codes!C$1:D$475,2,FALSE),\"\")","v":""}]
[{"$nulls":6},{"$f":"IF(H1827<>\"\",VLOOKUP(H1827,Codes!C$1:D$475,2,FALSE),\"\")","v":""}]
[{"$nulls":6},{"$f":"IF(H1828<>\"\",VLOOKUP(H1828,Codes!C$1:D$475,2,FALSE),\"\")","v":""}]
[{"$nulls":6},{"$f":"IF(H1829<>\"\",VLOOKUP(H1829,Codes!C$1:D$475,2,FALSE),\"\")","v":""}]
[{"$nulls":6},{"$f":"IF(H1830<>\"\",VLOOKUP(H1830,Codes!C$1:D$475,2,FALSE),\"\")","v":""}]
[{"$nulls":6},{"$f":"IF(H1831<>\"\",VLOOKUP(H1831,Codes!C$1:D$475,2,FALSE),\"\")","v":""}]
[{"$nulls":6},{"$f":"IF(H1832<>\"\",VLOOKUP(H1832,Codes!C$1:D$475,2,FALSE),\"\")","v":""}]
[{"$nulls":6},{"$f":"IF(H1833<>\"\",VLOOKUP(H1833,Codes!C$1:D$475,2,FALSE),\"\")","v":""}]
[{"$nulls":6},{"$f":"IF(H1834<>\"\",VLOOKUP(H1834,Codes!C$1:D$475,2,FALSE),\"\")","v":""}]
[{"$nulls":6},{"$f":"IF(H1835<>\"\",VLOOKUP(H1835,Codes!C$1:D$475,2,FALSE),\"\")","v":""}]
[{"$nulls":6},{"$f":"IF(H1836<>\"\",VLOOKUP(H1836,Codes!C$1:D$475,2,FALSE),\"\")","v":""}]
[{"$nulls":6},{"$f":"IF(H1837<>\"\",VLOOKUP(H1837,Codes!C$1:D$475,2,FALSE),\"\")","v":""}]
[{"$nulls":6},{"$f":"IF(H1838<>\"\",VLOOKUP(H1838,Codes!C$1:D$475,2,FALSE),\"\")","v":""}]
[{"$nulls":6},{"$f":"IF(H1839<>\"\",VLOOKUP(H1839,Codes!C$1:D$475,2,FALSE),\"\")","v":""}]
[{"$nulls":6},{"$f":"IF(H1840<>\"\",VLOOKUP(H1840,Codes!C$1:D$475,2,FALSE),\"\")","v":""}]
[{"$nulls":6},{"$f":"IF(H1841<>\"\",VLOOKUP(H1841,Codes!C$1:D$475,2,FALSE),\"\")","v":""}]
[{"$nulls":6},{"$f":"IF(H1842<>\"\",VLOOKUP(H1842,Codes!C$1:D$475,2,FALSE),\"\")","v":""}]
[{"$nulls":6},{"$f":"IF(H1843<>\"\",VLOOKUP(H1843,Codes!C$1:D$475,2,FALSE),\"\")","v":""}]
[{"$nulls":6},{"$f":"IF(H1844<>\"\",VLOOKUP(H1844,Codes!C$1:D$475,2,FALSE),\"\")","v":""}]
[{"$nulls":6},{"$f":"IF(H1845<>\"\",VLOOKUP(H1845,Codes!C$1:D$475,2,FALSE),\"\")","v":""}]
[{"$nulls":6},{"$f":"IF(H1846<>\"\",VLOOKUP(H1846,Codes!C$1:D$475,2,FALSE),\"\")","v":""}]
[{"$nulls":6},{"$f":"IF(H1847<>\"\",VLOOKUP(H1847,Codes!C$1:D$475,2,FALSE),\"\")","v":""}]
[{"$nulls":6},{"$f":"IF(H1848<>\"\",VLOOKUP(H1848,Codes!C$1:D$475,2,FALSE),\"\")","v":""},{"$nulls":3},{"$f":"IF(J1848>0,VLOOKUP(J1848,' code comptes '!$A$1:$C$148,3),\"\")","v":""},null,{"$f":"D1741","v":{"v":0,"d":"0.00"}},{"$f":"+CONCATENATE(G1741,H1741)","v":""}]
[{"$nulls":6},{"$f":"IF(H1849<>\"\",VLOOKUP(H1849,Codes!C$1:D$475,2,FALSE),\"\")","v":""},{"$nulls":3},{"$f":"IF(J1849>0,VLOOKUP(J1849,' code comptes '!$A$1:$C$148,3),\"\")","v":""},null,{"$f":"D1848","v":{"v":0,"d":"0.00"}},{"$f":"+CONCATENATE(G1848,H1848)","v":""}]
[{"$nulls":6},{"$f":"IF(H1850<>\"\",VLOOKUP(H1850,Codes!C$1:D$475,2,FALSE),\"\")","v":""},{"$nulls":3},{"$f":"IF(J1850>0,VLOOKUP(J1850,' code comptes '!$A$1:$C$148,3),\"\")","v":""},null,{"v":0,"d":"0.00"},""]
[{"$nulls":6},{"$f":"IF(H1851<>\"\",VLOOKUP(H1851,Codes!C$1:D$475,2,FALSE),\"\")","v":""},{"$nulls":3},{"$f":"IF(J1851>0,VLOOKUP(J1851,' code comptes '!$A$1:$C$148,3),\"\")","v":""},null,{"v":0,"d":"0.00"},""]
[{"$nulls":6},{"$f":"IF(H1852<>\"\",VLOOKUP(H1852,Codes!C$1:D$475,2,FALSE),\"\")","v":""},{"$nulls":3},{"$f":"IF(J1852>0,VLOOKUP(J1852,' code comptes '!$A$1:$C$148,3),\"\")","v":""},null,{"v":0,"d":"0.00"},""]
[{"$nulls":6},{"$f":"IF(H1853<>\"\",VLOOKUP(H1853,Codes!C$1:D$475,2,FALSE),\"\")","v":""},{"$nulls":3},{"$f":"IF(J1853>0,VLOOKUP(J1853,' code comptes '!$A$1:$C$148,3),\"\")","v":""},null,{"v":0,"d":"0.00"},""]
[{"$nulls":6},{"$f":"IF(H1854<>\"\",VLOOKUP(H1854,Codes!C$1:D$475,2,FALSE),\"\")","v":""},{"$nulls":3},{"$f":"IF(J1854>0,VLOOKUP(J1854,' code comptes '!$A$1:$C$148,3),\"\")","v":""},null,{"v":0,"d":"0.00"},""]
[{"$nulls":6},{"$f":"IF(H1855<>\"\",VLOOKUP(H1855,Codes!C$1:D$475,2,FALSE),\"\")","v":""},{"$nulls":3},{"$f":"IF(J1855>0,VLOOKUP(J1855,' code comptes '!$A$1:$C$148,3),\"\")","v":""},null,{"v":0,"d":"0.00"},""]
[{"$nulls":6},{"$f":"IF(H1856<>\"\",VLOOKUP(H1856,Codes!C$1:D$475,2,FALSE),\"\")","v":""},{"$nulls":3},{"$f":"IF(J1856>0,VLOOKUP(J1856,' code comptes '!$A$1:$C$148,3),\"\")","v":""},null,{"v":0,"d":"0.00"},""]
[{"$nulls":6},{"$f":"IF(H1857<>\"\",VLOOKUP(H1857,Codes!C$1:D$475,2,FALSE),\"\")","v":""},{"$nulls":3},{"$f":"IF(J1857>0,VLOOKUP(J1857,' code comptes '!$A$1:$C$148,3),\"\")","v":""},null,{"v":0,"d":"0.00"},""]
[{"$nulls":6},{"$f":"IF(H1858<>\"\",VLOOKUP(H1858,Codes!C$1:D$475,2,FALSE),\"\")","v":""},{"$nulls":3},{"$f":"IF(J1858>0,VLOOKUP(J1858,' code comptes '!$A$1:$C$148,3),\"\")","v":""},null,{"v":0,"d":"0.00"},""]
[{"$nulls":6},{"$f":"IF(H1859<>\"\",VLOOKUP(H1859,Codes!C$1:D$475,2,FALSE),\"\")","v":""},{"$nulls":3},{"$f":"IF(J1859>0,VLOOKUP(J1859,' code comptes '!$A$1:$C$148,3),\"\")","v":""},null,{"v":0,"d":"0.00"},""]
[{"$nulls":6},{"$f":"IF(H1860<>\"\",VLOOKUP(H1860,Codes!C$1:D$475,2,FALSE),\"\")","v":""},{"$nulls":3},{"$f":"IF(J1860>0,VLOOKUP(J1860,' code comptes '!$A$1:$C$148,3),\"\")","v":""},null,{"v":0,"d":"0.00"},""]
[{"$nulls":6},{"$f":"IF(H1861<>\"\",VLOOKUP(H1861,Codes!C$1:D$475,2,FALSE),\"\")","v":""},{"$nulls":3},{"$f":"IF(J1861>0,VLOOKUP(J1861,' code comptes '!$A$1:$C$148,3),\"\")","v":""},null,{"v":0,"d":"0.00"},""]
[{"$nulls":6},{"$f":"IF(H1862<>\"\",VLOOKUP(H1862,Codes!C$1:D$475,2,FALSE),\"\")","v":""},{"$nulls":3},{"$f":"IF(J1862>0,VLOOKUP(J1862,' code comptes '!$A$1:$C$148,3),\"\")","v":""},null,{"v":0,"d":"0.00"},""]
[{"$nulls":6},{"$f":"IF(H1863<>\"\",VLOOKUP(H1863,Codes!C$1:D$475,2,FALSE),\"\")","v":""},{"$nulls":3},{"$f":"IF(J1863>0,VLOOKUP(J1863,' code comptes '!$A$1:$C$148,3),\"\")","v":""},null,{"v":0,"d":"0.00"},""]
[{"$nulls":6},{"$f":"IF(H1864<>\"\",VLOOKUP(H1864,Codes!C$1:D$475,2,FALSE),\"\")","v":""},{"$nulls":3},{"$f":"IF(J1864>0,VLOOKUP(J1864,' code comptes '!$A$1:$C$148,3),\"\")","v":""},null,{"v":0,"d":"0.00"},""]
[{"$nulls":6},{"$f":"IF(H1865<>\"\",VLOOKUP(H1865,Codes!C$1:D$475,2,FALSE),\"\")","v":""},{"$nulls":3},{"$f":"IF(J1865>0,VLOOKUP(J1865,' code comptes '!$A$1:$C$148,3),\"\")","v":""},null,{"v":0,"d":"0.00"},""]
[{"$nulls":6},{"$f":"IF(H1866<>\"\",VLOOKUP(H1866,Codes!C$1:D$475,2,FALSE),\"\")","v":""},{"$nulls":3},{"$f":"IF(J1866>0,VLOOKUP(J1866,' code comptes '!$A$1:$C$148,3),\"\")","v":""},null,{"v":0,"d":"0.00"},""]
[{"$nulls":6},{"$f":"IF(H1867<>\"\",VLOOKUP(H1867,Codes!C$1:D$475,2,FALSE),\"\")","v":""},{"$nulls":3},{"$f":"IF(J1867>0,VLOOKUP(J1867,' code comptes '!$A$1:$C$148,3),\"\")","v":""},null,{"v":0,"d":"0.00"},""]
[{"$nulls":6},{"$f":"IF(H1868<>\"\",VLOOKUP(H1868,Codes!C$1:D$475,2,FALSE),\"\")","v":""},{"$nulls":3},{"$f":"IF(J1868>0,VLOOKUP(J1868,' code comptes '!$A$1:$C$148,3),\"\")","v":""},null,{"v":0,"d":"0.00"},""]
[{"$nulls":6},{"$f":"IF(H1869<>\"\",VLOOKUP(H1869,Codes!C$1:D$475,2,FALSE),\"\")","v":""},{"$nulls":3},{"$f":"IF(J1869>0,VLOOKUP(J1869,' code comptes '!$A$1:$C$148,3),\"\")","v":""},null,{"v":0,"d":"0.00"},""]
[{"$nulls":6},{"$f":"IF(H1870<>\"\",VLOOKUP(H1870,Codes!C$1:D$475,2,FALSE),\"\")","v":""},{"$nulls":3},{"$f":"IF(J1870>0,VLOOKUP(J1870,' code comptes '!$A$1:$C$148,3),\"\")","v":""},null,{"v":0,"d":"0.00"},""]
[{"$nulls":6},{"$f":"IF(H1871<>\"\",VLOOKUP(H1871,Codes!C$1:D$475,2,FALSE),\"\")","v":""},{"$nulls":3},{"$f":"IF(J1871>0,VLOOKUP(J1871,' code comptes '!$A$1:$C$148,3),\"\")","v":""},null,{"v":0,"d":"0.00"},""]
[{"$nulls":6},{"$f":"IF(H1872<>\"\",VLOOKUP(H1872,Codes!C$1:D$475,2,FALSE),\"\")","v":""},{"$nulls":3},{"$f":"IF(J1872>0,VLOOKUP(J1872,' code comptes '!$A$1:$C$148,3),\"\")","v":""},null,{"v":0,"d":"0.00"},""]
[{"$nulls":6},{"$f":"IF(H1873<>\"\",VLOOKUP(H1873,Codes!C$1:D$475,2,FALSE),\"\")","v":""},{"$nulls":3},{"$f":"IF(J1873>0,VLOOKUP(J1873,' code comptes '!$A$1:$C$148,3),\"\")","v":""},null,{"v":0,"d":"0.00"},""]
[{"$nulls":6},{"$f":"IF(H1874<>\"\",VLOOKUP(H1874,Codes!C$1:D$475,2,FALSE),\"\")","v":""},{"$nulls":3},{"$f":"IF(J1874>0,VLOOKUP(J1874,' code comptes '!$A$1:$C$148,3),\"\")","v":""},null,{"v":0,"d":"0.00"},""]
[{"$nulls":6},{"$f":"IF(H1875<>\"\",VLOOKUP(H1875,Codes!C$1:D$475,2,FALSE),\"\")","v":""},{"$nulls":3},{"$f":"IF(J1875>0,VLOOKUP(J1875,' code comptes '!$A$1:$C$148,3),\"\")","v":""},null,{"v":0,"d":"0.00"},""]
[{"$nulls":6},{"$f":"IF(H1876<>\"\",VLOOKUP(H1876,Codes!C$1:D$475,2,FALSE),\"\")","v":""},{"$nulls":3},{"$f":"IF(J1876>0,VLOOKUP(J1876,' code comptes '!$A$1:$C$148,3),\"\")","v":""},null,{"v":0,"d":"0.00"},""]
[{"$nulls":6},{"$f":"IF(H1877<>\"\",VLOOKUP(H1877,Codes!C$1:D$475,2,FALSE),\"\")","v":""},{"$nulls":3},{"$f":"IF(J1877>0,VLOOKUP(J1877,' code comptes '!$A$1:$C$148,3),\"\")","v":""},null,{"v":0,"d":"0.00"},""]
[{"$nulls":6},{"$f":"IF(H1878<>\"\",VLOOKUP(H1878,Codes!C$1:D$475,2,FALSE),\"\")","v":""},{"$nulls":3},{"$f":"IF(J1878>0,VLOOKUP(J1878,' code comptes '!$A$1:$C$148,3),\"\")","v":""},null,{"v":0,"d":"0.00"},""]
[{"$nulls":6},{"$f":"IF(H1879<>\"\",VLOOKUP(H1879,Codes!C$1:D$475,2,FALSE),\"\")","v":""},{"$nulls":3},{"$f":"IF(J1879>0,VLOOKUP(J1879,' code comptes '!$A$1:$C$148,3),\"\")","v":""},null,{"v":0,"d":"0.00"},""]
[{"$nulls":6},{"$f":"IF(H1880<>\"\",VLOOKUP(H1880,Codes!C$1:D$475,2,FALSE),\"\")","v":""},{"$nulls":3},{"$f":"IF(J1880>0,VLOOKUP(J1880,' code comptes '!$A$1:$C$148,3),\"\")","v":""},null,{"v":0,"d":"0.00"},""]
[{"$nulls":6},{"$f":"IF(H1881<>\"\",VLOOKUP(H1881,Codes!C$1:D$475,2,FALSE),\"\")","v":""},{"$nulls":3},{"$f":"IF(J1881>0,VLOOKUP(J1881,' code comptes '!$A$1:$C$148,3),\"\")","v":""},null,{"v":0,"d":"0.00"},""]
[{"$nulls":6},{"$f":"IF(H1882<>\"\",VLOOKUP(H1882,Codes!C$1:D$475,2,FALSE),\"\")","v":""},{"$nulls":3},{"$f":"IF(J1882>0,VLOOKUP(J1882,' code comptes '!$A$1:$C$148,3),\"\")","v":""},null,{"v":0,"d":"0.00"},""]
[{"$nulls":6},{"$f":"IF(H1883<>\"\",VLOOKUP(H1883,Codes!C$1:D$475,2,FALSE),\"\")","v":""},{"$nulls":3},{"$f":"IF(J1883>0,VLOOKUP(J1883,' code comptes '!$A$1:$C$148,3),\"\")","v":""},null,{"v":0,"d":"0.00"},""]
[{"$nulls":6},{"$f":"IF(H1884<>\"\",VLOOKUP(H1884,Codes!C$1:D$475,2,FALSE),\"\")","v":""},{"$nulls":3},{"$f":"IF(J1884>0,VLOOKUP(J1884,' code comptes '!$A$1:$C$148,3),\"\")","v":""},null,{"v":0,"d":"0.00"},""]
[{"$nulls":6},{"$f":"IF(H1885<>\"\",VLOOKUP(H1885,Codes!C$1:D$475,2,FALSE),\"\")","v":""},{"$nulls":3},{"$f":"IF(J1885>0,VLOOKUP(J1885,' code comptes '!$A$1:$C$148,3),\"\")","v":""},null,{"v":0,"d":"0.00"},""]
[{"$nulls":6},{"$f":"IF(H1886<>\"\",VLOOKUP(H1886,Codes!C$1:D$475,2,FALSE),\"\")","v":""},{"$nulls":3},{"$f":"IF(J1886>0,VLOOKUP(J1886,' code comptes '!$A$1:$C$148,3),\"\")","v":""},null,{"v":0,"d":"0.00"},""]
[{"$nulls":6},{"$f":"IF(H1887<>\"\",VLOOKUP(H1887,Codes!C$1:D$475,2,FALSE),\"\")","v":""},{"$nulls":3},{"$f":"IF(J1887>0,VLOOKUP(J1887,' code comptes '!$A$1:$C$148,3),\"\")","v":""},null,{"v":0,"d":"0.00"},""]
[{"$nulls":6},{"$f":"IF(H1888<>\"\",VLOOKUP(H1888,Codes!C$1:D$475,2,FALSE),\"\")","v":""},{"$nulls":3},{"$f":"IF(J1888>0,VLOOKUP(J1888,' code comptes '!$A$1:$C$148,3),\"\")","v":""},null,{"v":0,"d":"0.00"},""]
[{"$nulls":6},{"$f":"IF(H1889<>\"\",VLOOKUP(H1889,Codes!C$1:D$475,2,FALSE),\"\")","v":""},{"$nulls":3},{"$f":"IF(J1889>0,VLOOKUP(J1889,' code comptes '!$A$1:$C$148,3),\"\")","v":""},null,{"v":0,"d":"0.00"},""]
[{"$nulls":6},{"$f":"IF(H1890<>\"\",VLOOKUP(H1890,Codes!C$1:D$475,2,FALSE),\"\")","v":""},{"$nulls":3},{"$f":"IF(J1890>0,VLOOKUP(J1890,' code comptes '!$A$1:$C$148,3),\"\")","v":""},null,{"v":0,"d":"0.00"},""]
[{"$nulls":6},{"$f":"IF(H1891<>\"\",VLOOKUP(H1891,Codes!C$1:D$475,2,FALSE),\"\")","v":""},{"$nulls":3},{"$f":"IF(J1891>0,VLOOKUP(J1891,' code comptes '!$A$1:$C$148,3),\"\")","v":""},null,{"v":0,"d":"0.00"},""]
[{"$nulls":6},{"$f":"IF(H1892<>\"\",VLOOKUP(H1892,Codes!C$1:D$475,2,FALSE),\"\")","v":""},{"$nulls":3},{"$f":"IF(J1892>0,VLOOKUP(J1892,' code comptes '!$A$1:$C$148,3),\"\")","v":""},null,{"v":0,"d":"0.00"},""]
[{"$nulls":6},{"$f":"IF(H1893<>\"\",VLOOKUP(H1893,Codes!C$1:D$475,2,FALSE),\"\")","v":""},{"$nulls":3},{"$f":"IF(J1893>0,VLOOKUP(J1893,' code comptes '!$A$1:$C$148,3),\"\")","v":""},null,{"v":0,"d":"0.00"},""]
[{"$nulls":6},{"$f":"IF(H1894<>\"\",VLOOKUP(H1894,Codes!C$1:D$475,2,FALSE),\"\")","v":""},{"$nulls":3},{"$f":"IF(J1894>0,VLOOKUP(J1894,' code comptes '!$A$1:$C$148,3),\"\")","v":""},null,{"v":0,"d":"0.00"},""]
[{"$nulls":6},{"$f":"IF(H1895<>\"\",VLOOKUP(H1895,Codes!C$1:D$475,2,FALSE),\"\")","v":""},{"$nulls":3},{"$f":"IF(J1895>0,VLOOKUP(J1895,' code comptes '!$A$1:$C$148,3),\"\")","v":""},null,{"v":0,"d":"0.00"},""]
[{"$nulls":6},{"$f":"IF(H1896<>\"\",VLOOKUP(H1896,Codes!C$1:D$475,2,FALSE),\"\")","v":""},{"$nulls":3},{"$f":"IF(J1896>0,VLOOKUP(J1896,' code comptes '!$A$1:$C$148,3),\"\")","v":""},null,{"v":0,"d":"0.00"},""]
[{"$nulls":6},{"$f":"IF(H1897<>\"\",VLOOKUP(H1897,Codes!C$1:D$475,2,FALSE),\"\")","v":""},{"$nulls":3},{"$f":"IF(J1897>0,VLOOKUP(J1897,' code comptes '!$A$1:$C$148,3),\"\")","v":""},null,{"v":0,"d":"0.00"},""]
[{"$nulls":6},{"$f":"IF(H1898<>\"\",VLOOKUP(H1898,Codes!C$1:D$475,2,FALSE),\"\")","v":""},{"$nulls":3},{"$f":"IF(J1898>0,VLOOKUP(J1898,' code comptes '!$A$1:$C$148,3),\"\")","v":""},null,{"v":0,"d":"0.00"},""]
[{"$nulls":6},{"$f":"IF(H1899<>\"\",VLOOKUP(H1899,Codes!C$1:D$475,2,FALSE),\"\")","v":""},{"$nulls":3},{"$f":"IF(J1899>0,VLOOKUP(J1899,' code comptes '!$A$1:$C$148,3),\"\")","v":""},null,{"v":0,"d":"0.00"},""]
[{"$nulls":6},{"$f":"IF(H1900<>\"\",VLOOKUP(H1900,Codes!C$1:D$475,2,FALSE),\"\")","v":""},{"$nulls":3},{"$f":"IF(J1900>0,VLOOKUP(J1900,' code comptes '!$A$1:$C$148,3),\"\")","v":""},null,{"v":0,"d":"0.00"},""]
[{"$nulls":6},{"$f":"IF(H1901<>\"\",VLOOKUP(H1901,Codes!C$1:D$475,2,FALSE),\"\")","v":""},{"$nulls":3},{"$f":"IF(J1901>0,VLOOKUP(J1901,' code comptes '!$A$1:$C$148,3),\"\")","v":""},null,{"v":0,"d":"0.00"},""]
[{"$nulls":6},{"$f":"IF(H1902<>\"\",VLOOKUP(H1902,Codes!C$1:D$475,2,FALSE),\"\")","v":""},{"$nulls":3},{"$f":"IF(J1902>0,VLOOKUP(J1902,' code comptes '!$A$1:$C$148,3),\"\")","v":""},null,{"v":0,"d":"0.00"},""]
[{"$nulls":6},{"$f":"IF(H1903<>\"\",VLOOKUP(H1903,Codes!C$1:D$475,2,FALSE),\"\")","v":""},{"$nulls":3},{"$f":"IF(J1903>0,VLOOKUP(J1903,' code comptes '!$A$1:$C$148,3),\"\")","v":""},null,{"v":0,"d":"0.00"},""]
[{"$nulls":6},{"$f":"IF(H1904<>\"\",VLOOKUP(H1904,Codes!C$1:D$475,2,FALSE),\"\")","v":""},{"$nulls":3},{"$f":"IF(J1904>0,VLOOKUP(J1904,' code comptes '!$A$1:$C$148,3),\"\")","v":""},null,{"v":0,"d":"0.00"},""]
[{"$nulls":6},{"$f":"IF(H1905<>\"\",VLOOKUP(H1905,Codes!C$1:D$475,2,FALSE),\"\")","v":""},{"$nulls":3},{"$f":"IF(J1905>0,VLOOKUP(J1905,' code comptes '!$A$1:$C$148,3),\"\")","v":""},null,{"v":0,"d":"0.00"},""]
[{"$nulls":6},{"$f":"IF(H1906<>\"\",VLOOKUP(H1906,Codes!C$1:D$475,2,FALSE),\"\")","v":""},{"$nulls":3},{"$f":"IF(J1906>0,VLOOKUP(J1906,' code comptes '!$A$1:$C$148,3),\"\")","v":""},null,{"v":0,"d":"0.00"},""]
[{"$nulls":6},{"$f":"IF(H1907<>\"\",VLOOKUP(H1907,Codes!C$1:D$475,2,FALSE),\"\")","v":""},{"$nulls":3},{"$f":"IF(J1907>0,VLOOKUP(J1907,' code comptes '!$A$1:$C$148,3),\"\")","v":""},null,{"v":0,"d":"0.00"},""]
[{"$nulls":6},{"$f":"IF(H1908<>\"\",VLOOKUP(H1908,Codes!C$1:D$475,2,FALSE),\"\")","v":""},{"$nulls":3},{"$f":"IF(J1908>0,VLOOKUP(J1908,' code comptes '!$A$1:$C$148,3),\"\")","v":""},null,{"v":0,"d":"0.00"},""]
[{"$nulls":6},{"$f":"IF(H1909<>\"\",VLOOKUP(H1909,Codes!C$1:D$475,2,FALSE),\"\")","v":""},{"$nulls":3},{"$f":"IF(J1909>0,VLOOKUP(J1909,' code comptes '!$A$1:$C$148,3),\"\")","v":""},null,{"v":0,"d":"0.00"},""]
[{"$nulls":6},{"$f":"IF(H1910<>\"\",VLOOKUP(H1910,Codes!C$1:D$475,2,FALSE),\"\")","v":""},{"$nulls":3},{"$f":"IF(J1910>0,VLOOKUP(J1910,' code comptes '!$A$1:$C$148,3),\"\")","v":""},null,{"v":0,"d":"0.00"},""]
[{"$nulls":6},{"$f":"IF(H1911<>\"\",VLOOKUP(H1911,Codes!C$1:D$475,2,FALSE),\"\")","v":""},{"$nulls":3},{"$f":"IF(J1911>0,VLOOKUP(J1911,' code comptes '!$A$1:$C$148,3),\"\")","v":""},null,{"v":0,"d":"0.00"},""]
[{"$nulls":6},{"$f":"IF(H1912<>\"\",VLOOKUP(H1912,Codes!C$1:D$475,2,FALSE),\"\")","v":""},{"$nulls":3},{"$f":"IF(J1912>0,VLOOKUP(J1912,' code comptes '!$A$1:$C$148,3),\"\")","v":""},null,{"v":0,"d":"0.00"},""]
[{"$nulls":6},{"$f":"IF(H1913<>\"\",VLOOKUP(H1913,Codes!C$1:D$475,2,FALSE),\"\")","v":""},{"$nulls":3},{"$f":"IF(J1913>0,VLOOKUP(J1913,' code comptes '!$A$1:$C$148,3),\"\")","v":""},null,{"v":0,"d":"0.00"},""]
[{"$nulls":6},{"$f":"IF(H1914<>\"\",VLOOKUP(H1914,Codes!C$1:D$475,2,FALSE),\"\")","v":""},{"$nulls":3},{"$f":"IF(J1914>0,VLOOKUP(J1914,' code comptes '!$A$1:$C$148,3),\"\")","v":""},null,{"v":0,"d":"0.00"},""]
[{"$nulls":6},{"$f":"IF(H1915<>\"\",VLOOKUP(H1915,Codes!C$1:D$475,2,FALSE),\"\")","v":""},{"$nulls":3},{"$f":"IF(J1915>0,VLOOKUP(J1915,' code comptes '!$A$1:$C$148,3),\"\")","v":""},null,{"v":0,"d":"0.00"},""]
[{"$nulls":6},{"$f":"IF(H1916<>\"\",VLOOKUP(H1916,Codes!C$1:D$475,2,FALSE),\"\")","v":""},{"$nulls":3},{"$f":"IF(J1916>0,VLOOKUP(J1916,' code comptes '!$A$1:$C$148,3),\"\")","v":""},null,{"v":0,"d":"0.00"},""]
[{"$nulls":6},{"$f":"IF(H1917<>\"\",VLOOKUP(H1917,Codes!C$1:D$475,2,FALSE),\"\")","v":""},{"$nulls":3},{"$f":"IF(J1917>0,VLOOKUP(J1917,' code comptes '!$A$1:$C$148,3),\"\")","v":""},null,{"v":0,"d":"0.00"},""]
[{"$nulls":6},{"$f":"IF(H1918<>\"\",VLOOKUP(H1918,Codes!C$1:D$475,2,FALSE),\"\")","v":""},{"$nulls":3},{"$f":"IF(J1918>0,VLOOKUP(J1918,' code comptes '!$A$1:$C$148,3),\"\")","v":""},null,{"v":0,"d":"0.00"},""]
[{"$nulls":6},{"$f":"IF(H1919<>\"\",VLOOKUP(H1919,Codes!C$1:D$475,2,FALSE),\"\")","v":""},{"$nulls":3},{"$f":"IF(J1919>0,VLOOKUP(J1919,' code comptes '!$A$1:$C$148,3),\"\")","v":""},null,{"v":0,"d":"0.00"},""]
[{"$nulls":6},{"$f":"IF(H1920<>\"\",VLOOKUP(H1920,Codes!C$1:D$475,2,FALSE),\"\")","v":""},{"$nulls":3},{"$f":"IF(J1920>0,VLOOKUP(J1920,' code comptes '!$A$1:$C$148,3),\"\")","v":""},null,{"v":0,"d":"0.00"},""]
[{"$nulls":6},{"$f":"IF(H1921<>\"\",VLOOKUP(H1921,Codes!C$1:D$475,2,FALSE),\"\")","v":""},{"$nulls":3},{"$f":"IF(J1921>0,VLOOKUP(J1921,' code comptes '!$A$1:$C$148,3),\"\")","v":""},null,{"v":0,"d":"0.00"},""]
[{"$nulls":6},{"$f":"IF(H1922<>\"\",VLOOKUP(H1922,Codes!C$1:D$475,2,FALSE),\"\")","v":""},{"$nulls":3},{"$f":"IF(J1922>0,VLOOKUP(J1922,' code comptes '!$A$1:$C$148,3),\"\")","v":""},null,{"v":0,"d":"0.00"},""]
[{"$nulls":6},{"$f":"IF(H1923<>\"\",VLOOKUP(H1923,Codes!C$1:D$475,2,FALSE),\"\")","v":""},{"$nulls":3},{"$f":"IF(J1923>0,VLOOKUP(J1923,' code comptes '!$A$1:$C$148,3),\"\")","v":""},null,{"v":0,"d":"0.00"},""]
[{"$nulls":6},{"$f":"IF(H1924<>\"\",VLOOKUP(H1924,Codes!C$1:D$475,2,FALSE),\"\")","v":""},{"$nulls":3},{"$f":"IF(J1924>0,VLOOKUP(J1924,' code comptes '!$A$1:$C$148,3),\"\")","v":""},null,{"v":0,"d":"0.00"},""]
[{"$nulls":6},{"$f":"IF(H1925<>\"\",VLOOKUP(H1925,Codes!C$1:D$475,2,FALSE),\"\")","v":""},{"$nulls":3},{"$f":"IF(J1925>0,VLOOKUP(J1925,' code comptes '!$A$1:$C$148,3),\"\")","v":""},null,{"v":0,"d":"0.00"},""]
[{"$nulls":6},{"$f":"IF(H1926<>\"\",VLOOKUP(H1926,Codes!C$1:D$475,2,FALSE),\"\")","v":""},{"$nulls":3},{"$f":"IF(J1926>0,VLOOKUP(J1926,' code comptes '!$A$1:$C$148,3),\"\")","v":""},null,{"v":0,"d":"0.00"},""]
[{"$nulls":6},{"$f":"IF(H1927<>\"\",VLOOKUP(H1927,Codes!C$1:D$475,2,FALSE),\"\")","v":""},{"$nulls":3},{"$f":"IF(J1927>0,VLOOKUP(J1927,' code comptes '!$A$1:$C$148,3),\"\")","v":""},null,{"v":0,"d":"0.00"},""]
[{"$nulls":6},{"$f":"IF(H1928<>\"\",VLOOKUP(H1928,Codes!C$1:D$475,2,FALSE),\"\")","v":""},{"$nulls":3},{"$f":"IF(J1928>0,VLOOKUP(J1928,' code comptes '!$A$1:$C$148,3),\"\")","v":""},null,{"v":0,"d":"0.00"},""]
[{"$nulls":6},{"$f":"IF(H1929<>\"\",VLOOKUP(H1929,Codes!C$1:D$475,2,FALSE),\"\")","v":""},{"$nulls":3},{"$f":"IF(J1929>0,VLOOKUP(J1929,' code comptes '!$A$1:$C$148,3),\"\")","v":""},null,{"v":0,"d":"0.00"},""]
[{"$nulls":6},{"$f":"IF(H1930<>\"\",VLOOKUP(H1930,Codes!C$1:D$475,2,FALSE),\"\")","v":""},{"$nulls":3},{"$f":"IF(J1930>0,VLOOKUP(J1930,' code comptes '!$A$1:$C$148,3),\"\")","v":""},null,{"v":0,"d":"0.00"},""]
[{"$nulls":6},{"$f":"IF(H1931<>\"\",VLOOKUP(H1931,Codes!C$1:D$475,2,FALSE),\"\")","v":""},{"$nulls":3},{"$f":"IF(J1931>0,VLOOKUP(J1931,' code comptes '!$A$1:$C$148,3),\"\")","v":""},null,{"v":0,"d":"0.00"},""]
[{"$nulls":6},{"$f":"IF(H1932<>\"\",VLOOKUP(H1932,Codes!C$1:D$475,2,FALSE),\"\")","v":""},{"$nulls":3},{"$f":"IF(J1932>0,VLOOKUP(J1932,' code comptes '!$A$1:$C$148,3),\"\")","v":""},null,{"v":0,"d":"0.00"},""]
[{"$nulls":6},{"$f":"IF(H1933<>\"\",VLOOKUP(H1933,Codes!C$1:D$475,2,FALSE),\"\")","v":""},{"$nulls":3},{"$f":"IF(J1933>0,VLOOKUP(J1933,' code comptes '!$A$1:$C$148,3),\"\")","v":""},null,{"v":0,"d":"0.00"},""]
[{"$nulls":6},{"$f":"IF(H1934<>\"\",VLOOKUP(H1934,Codes!C$1:D$475,2,FALSE),\"\")","v":""},{"$nulls":3},{"$f":"IF(J1934>0,VLOOKUP(J1934,' code comptes '!$A$1:$C$148,3),\"\")","v":""},null,{"v":0,"d":"0.00"},""]
[{"$nulls":6},{"$f":"IF(H1935<>\"\",VLOOKUP(H1935,Codes!C$1:D$475,2,FALSE),\"\")","v":""},{"$nulls":3},{"$f":"IF(J1935>0,VLOOKUP(J1935,' code comptes '!$A$1:$C$148,3),\"\")","v":""},null,{"v":0,"d":"0.00"},""]
[{"$nulls":6},{"$f":"IF(H1936<>\"\",VLOOKUP(H1936,Codes!C$1:D$475,2,FALSE),\"\")","v":""},{"$nulls":3},{"$f":"IF(J1936>0,VLOOKUP(J1936,' code comptes '!$A$1:$C$148,3),\"\")","v":""},null,{"v":0,"d":"0.00"},""]
[{"$nulls":6},{"$f":"IF(H1937<>\"\",VLOOKUP(H1937,Codes!C$1:D$475,2,FALSE),\"\")","v":""},{"$nulls":3},{"$f":"IF(J1937>0,VLOOKUP(J1937,' code comptes '!$A$1:$C$148,3),\"\")","v":""},null,{"v":0,"d":"0.00"},""]
[{"$nulls":6},{"$f":"IF(H1938<>\"\",VLOOKUP(H1938,Codes!C$1:D$475,2,FALSE),\"\")","v":""},{"$nulls":3},{"$f":"IF(J1938>0,VLOOKUP(J1938,' code comptes '!$A$1:$C$148,3),\"\")","v":""},null,{"v":0,"d":"0.00"},""]
[{"$nulls":6},{"$f":"IF(H1939<>\"\",VLOOKUP(H1939,Codes!C$1:D$475,2,FALSE),\"\")","v":""},{"$nulls":3},{"$f":"IF(J1939>0,VLOOKUP(J1939,' code comptes '!$A$1:$C$148,3),\"\")","v":""},null,{"v":0,"d":"0.00"},""]
[{"$nulls":6},{"$f":"IF(H1940<>\"\",VLOOKUP(H1940,Codes!C$1:D$475,2,FALSE),\"\")","v":""},{"$nulls":3},{"$f":"IF(J1940>0,VLOOKUP(J1940,' code comptes '!$A$1:$C$148,3),\"\")","v":""},null,{"v":0,"d":"0.00"},""]
[{"$nulls":6},{"$f":"IF(H1941<>\"\",VLOOKUP(H1941,Codes!C$1:D$475,2,FALSE),\"\")","v":""},{"$nulls":3},{"$f":"IF(J1941>0,VLOOKUP(J1941,' code comptes '!$A$1:$C$148,3),\"\")","v":""},null,{"v":0,"d":"0.00"},""]
[{"$nulls":6},{"$f":"IF(H1942<>\"\",VLOOKUP(H1942,Codes!C$1:D$475,2,FALSE),\"\")","v":""},{"$nulls":3},{"$f":"IF(J1942>0,VLOOKUP(J1942,' code comptes '!$A$1:$C$148,3),\"\")","v":""},null,{"v":0,"d":"0.00"},""]
[{"$nulls":6},{"$f":"IF(H1943<>\"\",VLOOKUP(H1943,Codes!C$1:D$475,2,FALSE),\"\")","v":""},{"$nulls":3},{"$f":"IF(J1943>0,VLOOKUP(J1943,' code comptes '!$A$1:$C$148,3),\"\")","v":""},null,{"v":0,"d":"0.00"},""]
[{"$nulls":6},{"$f":"IF(H1944<>\"\",VLOOKUP(H1944,Codes!C$1:D$475,2,FALSE),\"\")","v":""},{"$nulls":3},{"$f":"IF(J1944>0,VLOOKUP(J1944,' code comptes '!$A$1:$C$148,3),\"\")","v":""},null,{"v":0,"d":"0.00"},""]
[{"$nulls":6},{"$f":"IF(H1945<>\"\",VLOOKUP(H1945,Codes!C$1:D$475,2,FALSE),\"\")","v":""},{"$nulls":3},{"$f":"IF(J1945>0,VLOOKUP(J1945,' code comptes '!$A$1:$C$148,3),\"\")","v":""},null,{"v":0,"d":"0.00"},""]
[{"$nulls":6},{"$f":"IF(H1946<>\"\",VLOOKUP(H1946,Codes!C$1:D$475,2,FALSE),\"\")","v":""},{"$nulls":3},{"$f":"IF(J1946>0,VLOOKUP(J1946,' code comptes '!$A$1:$C$148,3),\"\")","v":""},null,{"v":0,"d":"0.00"},""]
[{"$nulls":6},{"$f":"IF(H1947<>\"\",VLOOKUP(H1947,Codes!C$1:D$475,2,FALSE),\"\")","v":""},{"$nulls":3},{"$f":"IF(J1947>0,VLOOKUP(J1947,' code comptes '!$A$1:$C$148,3),\"\")","v":""},null,{"v":0,"d":"0.00"},""]
[{"$nulls":6},{"$f":"IF(H1948<>\"\",VLOOKUP(H1948,Codes!C$1:D$475,2,FALSE),\"\")","v":""},{"$nulls":3},{"$f":"IF(J1948>0,VLOOKUP(J1948,' code comptes '!$A$1:$C$148,3),\"\")","v":""},null,{"v":0,"d":"0.00"},""]
[{"$nulls":6},{"$f":"IF(H1949<>\"\",VLOOKUP(H1949,Codes!C$1:D$475,2,FALSE),\"\")","v":""},{"$nulls":3},{"$f":"IF(J1949>0,VLOOKUP(J1949,' code comptes '!$A$1:$C$148,3),\"\")","v":""},null,{"v":0,"d":"0.00"},""]
[{"$nulls":6},{"$f":"IF(H1950<>\"\",VLOOKUP(H1950,Codes!C$1:D$475,2,FALSE),\"\")","v":""},{"$nulls":3},{"$f":"IF(J1950>0,VLOOKUP(J1950,' code comptes '!$A$1:$C$148,3),\"\")","v":""},null,{"v":0,"d":"0.00"},""]
[{"$nulls":6},{"$f":"IF(H1951<>\"\",VLOOKUP(H1951,Codes!C$1:D$475,2,FALSE),\"\")","v":""},{"$nulls":3},{"$f":"IF(J1951>0,VLOOKUP(J1951,' code comptes '!$A$1:$C$148,3),\"\")","v":""},null,{"v":0,"d":"0.00"},""]
[{"$nulls":6},{"$f":"IF(H1952<>\"\",VLOOKUP(H1952,Codes!C$1:D$475,2,FALSE),\"\")","v":""}]
[{"$nulls":6},{"$f":"IF(H1953<>\"\",VLOOKUP(H1953,Codes!C$1:D$475,2,FALSE),\"\")","v":""}]
[{"$nulls":6},{"$f":"IF(H1954<>\"\",VLOOKUP(H1954,Codes!C$1:D$475,2,FALSE),\"\")","v":""}]
[{"$nulls":6},{"$f":"IF(H1955<>\"\",VLOOKUP(H1955,Codes!C$1:D$475,2,FALSE),\"\")","v":""},{"$nulls":3},{"$f":"IF(J1955>0,VLOOKUP(J1955,' code comptes '!$A$1:$C$148,3),\"\")","v":""},null,{"$f":"D1951","v":{"v":0,"d":"0.00"}},{"$f":"+CONCATENATE(G1951,H1951)","v":""}]
[{"$nulls":6},{"$f":"IF(H1956<>\"\",VLOOKUP(H1956,Codes!C$1:D$475,2,FALSE),\"\")","v":""},{"$nulls":3},{"$f":"IF(J1956>0,VLOOKUP(J1956,' code comptes '!$A$1:$C$148,3),\"\")","v":""},null,{"$f":"D1955","v":{"v":0,"d":"0.00"}},{"$f":"+CONCATENATE(G1955,H1955)","v":""}]
[{"$nulls":6},{"$f":"IF(H1957<>\"\",VLOOKUP(H1957,Codes!C$1:D$475,2,FALSE),\"\")","v":""},{"$nulls":3},{"$f":"IF(J1957>0,VLOOKUP(J1957,' code comptes '!$A$1:$C$148,3),\"\")","v":""},null,{"v":0,"d":"0.00"},""]
[{"$nulls":6},{"$f":"IF(H1958<>\"\",VLOOKUP(H1958,Codes!C$1:D$475,2,FALSE),\"\")","v":""},{"$nulls":3},{"$f":"IF(J1958>0,VLOOKUP(J1958,' code comptes '!$A$1:$C$148,3),\"\")","v":""},null,{"v":0,"d":"0.00"},""]
[{"$nulls":6},{"$f":"IF(H1959<>\"\",VLOOKUP(H1959,Codes!C$1:D$475,2,FALSE),\"\")","v":""},{"$nulls":3},{"$f":"IF(J1959>0,VLOOKUP(J1959,' code comptes '!$A$1:$C$148,3),\"\")","v":""},null,{"v":0,"d":"0.00"},""]
[{"$nulls":6},{"$f":"IF(H1960<>\"\",VLOOKUP(H1960,Codes!C$1:D$475,2,FALSE),\"\")","v":""},{"$nulls":3},{"$f":"IF(J1960>0,VLOOKUP(J1960,' code comptes '!$A$1:$C$148,3),\"\")","v":""},null,{"v":0,"d":"0.00"},""]
[{"$nulls":6},{"$f":"IF(H1961<>\"\",VLOOKUP(H1961,Codes!C$1:D$475,2,FALSE),\"\")","v":""},{"$nulls":3},{"$f":"IF(J1961>0,VLOOKUP(J1961,' code comptes '!$A$1:$C$148,3),\"\")","v":""},null,{"v":0,"d":"0.00"},""]
[{"$nulls":6},{"$f":"IF(H1962<>\"\",VLOOKUP(H1962,Codes!C$1:D$475,2,FALSE),\"\")","v":""},{"$nulls":3},{"$f":"IF(J1962>0,VLOOKUP(J1962,' code comptes '!$A$1:$C$148,3),\"\")","v":""},null,{"v":0,"d":"0.00"},""]
[{"$nulls":6},{"$f":"IF(H1963<>\"\",VLOOKUP(H1963,Codes!C$1:D$475,2,FALSE),\"\")","v":""},{"$nulls":3},{"$f":"IF(J1963>0,VLOOKUP(J1963,' code comptes '!$A$1:$C$148,3),\"\")","v":""},null,{"v":0,"d":"0.00"},""]
[{"$nulls":6},{"$f":"IF(H1964<>\"\",VLOOKUP(H1964,Codes!C$1:D$475,2,FALSE),\"\")","v":""},{"$nulls":3},{"$f":"IF(J1964>0,VLOOKUP(J1964,' code comptes '!$A$1:$C$148,3),\"\")","v":""},null,{"v":0,"d":"0.00"},""]
[{"$nulls":6},{"$f":"IF(H1965<>\"\",VLOOKUP(H1965,Codes!C$1:D$475,2,FALSE),\"\")","v":""},{"$nulls":3},{"$f":"IF(J1965>0,VLOOKUP(J1965,' code comptes '!$A$1:$C$148,3),\"\")","v":""},null,{"v":0,"d":"0.00"},""]
[{"$nulls":6},{"$f":"IF(H1966<>\"\",VLOOKUP(H1966,Codes!C$1:D$475,2,FALSE),\"\")","v":""},{"$nulls":3},{"$f":"IF(J1966>0,VLOOKUP(J1966,' code comptes '!$A$1:$C$148,3),\"\")","v":""},null,{"v":0,"d":"0.00"},""]
[{"$nulls":6},{"$f":"IF(H1967<>\"\",VLOOKUP(H1967,Codes!C$1:D$475,2,FALSE),\"\")","v":""},{"$nulls":3},{"$f":"IF(J1967>0,VLOOKUP(J1967,' code comptes '!$A$1:$C$148,3),\"\")","v":""},null,{"v":0,"d":"0.00"},""]
[{"$nulls":6},{"$f":"IF(H1968<>\"\",VLOOKUP(H1968,Codes!C$1:D$475,2,FALSE),\"\")","v":""},{"$nulls":3},{"$f":"IF(J1968>0,VLOOKUP(J1968,' code comptes '!$A$1:$C$148,3),\"\")","v":""},null,{"v":0,"d":"0.00"},""]
[{"$nulls":6},{"$f":"IF(H1969<>\"\",VLOOKUP(H1969,Codes!C$1:D$475,2,FALSE),\"\")","v":""}]
[{"$nulls":6},{"$f":"IF(H1970<>\"\",VLOOKUP(H1970,Codes!C$1:D$475,2,FALSE),\"\")","v":""}]
[{"$nulls":6},{"$f":"IF(H1971<>\"\",VLOOKUP(H1971,Codes!C$1:D$475,2,FALSE),\"\")","v":""},{"$nulls":3},{"$f":"IF(J1971>0,VLOOKUP(J1971,' code comptes '!$A$1:$C$148,3),\"\")","v":""},null,{"$f":"D1970","v":{"v":0,"d":"0.00"}},{"$f":"+CONCATENATE(G1970,H1970)","v":""}]
[{"$nulls":6},{"$f":"IF(H1972<>\"\",VLOOKUP(H1972,Codes!C$1:D$475,2,FALSE),\"\")","v":""},{"$nulls":3},{"$f":"IF(J1972>0,VLOOKUP(J1972,' code comptes '!$A$1:$C$148,3),\"\")","v":""},null,{"v":0,"d":"0.00"},""]
[{"$nulls":6},{"$f":"IF(H1973<>\"\",VLOOKUP(H1973,Codes!C$1:D$475,2,FALSE),\"\")","v":""}]
[{"$nulls":6},{"$f":"IF(H1974<>\"\",VLOOKUP(H1974,Codes!C$1:D$475,2,FALSE),\"\")","v":""}]
[{"$nulls":6},{"$f":"IF(H1975<>\"\",VLOOKUP(H1975,Codes!C$1:D$475,2,FALSE),\"\")","v":""}]
[{"$nulls":6},{"$f":"IF(H1976<>\"\",VLOOKUP(H1976,Codes!C$1:D$475,2,FALSE),\"\")","v":""},{"$nulls":3},{"$f":"IF(J1976>0,VLOOKUP(J1976,' code comptes '!$A$1:$C$148,3),\"\")","v":""},null,{"$f":"D1972","v":{"v":0,"d":"0.00"}},{"$f":"+CONCATENATE(G1972,H1972)","v":""}]
[{"$nulls":6},{"$f":"IF(H1977<>\"\",VLOOKUP(H1977,Codes!C$1:D$475,2,FALSE),\"\")","v":""},{"$nulls":3},{"$f":"IF(J1977>0,VLOOKUP(J1977,' code comptes '!$A$1:$C$148,3),\"\")","v":""},null,{"$f":"D1976","v":{"v":0,"d":"0.00"}},{"$f":"+CONCATENATE(G1976,H1976)","v":""}]
[{"$nulls":6},{"$f":"IF(H1978<>\"\",VLOOKUP(H1978,Codes!C$1:D$475,2,FALSE),\"\")","v":""},{"$nulls":3},{"$f":"IF(J1978>0,VLOOKUP(J1978,' code comptes '!$A$1:$C$148,3),\"\")","v":""},null,{"v":0,"d":"0.00"},""]
[{"$nulls":6},{"$f":"IF(H1979<>\"\",VLOOKUP(H1979,Codes!C$1:D$475,2,FALSE),\"\")","v":""},{"$nulls":3},{"$f":"IF(J1979>0,VLOOKUP(J1979,' code comptes '!$A$1:$C$148,3),\"\")","v":""},null,{"v":0,"d":"0.00"},""]
[{"$nulls":6},{"$f":"IF(H1980<>\"\",VLOOKUP(H1980,Codes!C$1:D$475,2,FALSE),\"\")","v":""},{"$nulls":3},{"$f":"IF(J1980>0,VLOOKUP(J1980,' code comptes '!$A$1:$C$148,3),\"\")","v":""},null,{"v":0,"d":"0.00"},""]
[{"$nulls":6},{"$f":"IF(H1981<>\"\",VLOOKUP(H1981,Codes!C$1:D$475,2,FALSE),\"\")","v":""},{"$nulls":3},{"$f":"IF(J1981>0,VLOOKUP(J1981,' code comptes '!$A$1:$C$148,3),\"\")","v":""},null,{"v":0,"d":"0.00"},""]
[{"$nulls":6},{"$f":"IF(H1982<>\"\",VLOOKUP(H1982,Codes!C$1:D$475,2,FALSE),\"\")","v":""},{"$nulls":3},{"$f":"IF(J1982>0,VLOOKUP(J1982,' code comptes '!$A$1:$C$148,3),\"\")","v":""},null,{"v":0,"d":"0.00"},""]
[{"$nulls":6},{"$f":"IF(H1983<>\"\",VLOOKUP(H1983,Codes!C$1:D$475,2,FALSE),\"\")","v":""},{"$nulls":3},{"$f":"IF(J1983>0,VLOOKUP(J1983,' code comptes '!$A$1:$C$148,3),\"\")","v":""},null,{"v":0,"d":"0.00"},""]
[{"$nulls":6},{"$f":"IF(H1984<>\"\",VLOOKUP(H1984,Codes!C$1:D$475,2,FALSE),\"\")","v":""},{"$nulls":3},{"$f":"IF(J1984>0,VLOOKUP(J1984,' code comptes '!$A$1:$C$148,3),\"\")","v":""},null,{"v":0,"d":"0.00"},""]
[{"$nulls":6},{"$f":"IF(H1985<>\"\",VLOOKUP(H1985,Codes!C$1:D$475,2,FALSE),\"\")","v":""},{"$nulls":3},{"$f":"IF(J1985>0,VLOOKUP(J1985,' code comptes '!$A$1:$C$148,3),\"\")","v":""},null,{"v":0,"d":"0.00"},""]
[{"$nulls":6},{"$f":"IF(H1986<>\"\",VLOOKUP(H1986,Codes!C$1:D$475,2,FALSE),\"\")","v":""},{"$nulls":3},{"$f":"IF(J1986>0,VLOOKUP(J1986,' code comptes '!$A$1:$C$148,3),\"\")","v":""},null,{"v":0,"d":"0.00"},""]
[{"$nulls":6},{"$f":"IF(H1987<>\"\",VLOOKUP(H1987,Codes!C$1:D$475,2,FALSE),\"\")","v":""},{"$nulls":3},{"$f":"IF(J1987>0,VLOOKUP(J1987,' code comptes '!$A$1:$C$148,3),\"\")","v":""},null,{"v":0,"d":"0.00"},""]
[{"$nulls":6},{"$f":"IF(H1988<>\"\",VLOOKUP(H1988,Codes!C$1:D$475,2,FALSE),\"\")","v":""},{"$nulls":3},{"$f":"IF(J1988>0,VLOOKUP(J1988,' code comptes '!$A$1:$C$148,3),\"\")","v":""},null,{"v":0,"d":"0.00"},""]
[{"$nulls":6},{"$f":"IF(H1989<>\"\",VLOOKUP(H1989,Codes!C$1:D$475,2,FALSE),\"\")","v":""},{"$nulls":3},{"$f":"IF(J1989>0,VLOOKUP(J1989,' code comptes '!$A$1:$C$148,3),\"\")","v":""},null,{"v":0,"d":"0.00"},""]
[{"$nulls":6},{"$f":"IF(H1990<>\"\",VLOOKUP(H1990,Codes!C$1:D$475,2,FALSE),\"\")","v":""}]
[{"$nulls":6},{"$f":"IF(H1991<>\"\",VLOOKUP(H1991,Codes!C$1:D$475,2,FALSE),\"\")","v":""}]
[{"$nulls":6},{"$f":"IF(H1992<>\"\",VLOOKUP(H1992,Codes!C$1:D$475,2,FALSE),\"\")","v":""}]
[{"$nulls":6},{"$f":"IF(H1993<>\"\",VLOOKUP(H1993,Codes!C$1:D$475,2,FALSE),\"\")","v":""},{"$nulls":3},{"$f":"IF(J1993>0,VLOOKUP(J1993,' code comptes '!$A$1:$C$148,3),\"\")","v":""},null,{"$f":"D1968","v":{"v":0,"d":"0.00"}},{"$f":"+CONCATENATE(G1968,H1968)","v":""}]
[{"$nulls":6},{"$f":"IF(H1994<>\"\",VLOOKUP(H1994,Codes!C$1:D$475,2,FALSE),\"\")","v":""},{"$nulls":3},{"$f":"IF(J1994>0,VLOOKUP(J1994,' code comptes '!$A$1:$C$148,3),\"\")","v":""},null,{"$f":"D1993","v":{"v":0,"d":"0.00"}},{"$f":"+CONCATENATE(G1993,H1993)","v":""}]
[{"$nulls":6},{"$f":"IF(H1995<>\"\",VLOOKUP(H1995,Codes!C$1:D$475,2,FALSE),\"\")","v":""},{"$nulls":3},{"$f":"IF(J1995>0,VLOOKUP(J1995,' code comptes '!$A$1:$C$148,3),\"\")","v":""},null,{"$f":"D1994","v":{"v":0,"d":"0.00"}},{"$f":"+CONCATENATE(G1994,H1994)","v":""}]
[{"$nulls":6},{"$f":"IF(H1996<>\"\",VLOOKUP(H1996,Codes!C$1:D$475,2,FALSE),\"\")","v":""},{"$nulls":3},{"$f":"IF(J1996>0,VLOOKUP(J1996,' code comptes '!$A$1:$C$148,3),\"\")","v":""},null,{"$f":"D1994","v":{"v":0,"d":"0.00"}},{"$f":"+CONCATENATE(G1994,H1994)","v":""}]
[{"$nulls":6},{"$f":"IF(H1997<>\"\",VLOOKUP(H1997,Codes!C$1:D$475,2,FALSE),\"\")","v":""},{"$nulls":3},{"$f":"IF(J1997>0,VLOOKUP(J1997,' code comptes '!$A$1:$C$148,3),\"\")","v":""},null,{"v":0,"d":"0.00"},""]
[{"$nulls":6},{"$f":"IF(H1998<>\"\",VLOOKUP(H1998,Codes!C$1:D$475,2,FALSE),\"\")","v":""},{"$nulls":3},{"$f":"IF(J1998>0,VLOOKUP(J1998,' code comptes '!$A$1:$C$148,3),\"\")","v":""},null,{"v":0,"d":"0.00"},""]
[{"$nulls":6},{"$f":"IF(H1999<>\"\",VLOOKUP(H1999,Codes!C$1:D$475,2,FALSE),\"\")","v":""},{"$nulls":3},{"$f":"IF(J1999>0,VLOOKUP(J1999,' code comptes '!$A$1:$C$148,3),\"\")","v":""},null,{"v":0,"d":"0.00"},""]
[{"$nulls":6},{"$f":"IF(H2000<>\"\",VLOOKUP(H2000,Codes!C$1:D$475,2,FALSE),\"\")","v":""},{"$nulls":3},{"$f":"IF(J2000>0,VLOOKUP(J2000,' code comptes '!$A$1:$C$148,3),\"\")","v":""},null,{"$f":"D499","v":{"v":0,"d":"0.00"}},{"$f":"+CONCATENATE(G499,H499)","v":""}]
[{"$nulls":10},{"$f":"IF(J2001>0,VLOOKUP(J2001,' code comptes '!$A$1:$C$148,3),\"\")","v":""},null,null,""]

{"sheet":"Regroupement banque1","index":2,"n_rows":3,"n_cols":2,"rows_kept":3,"hidden":true}
["Étiquettes de lignes","Somme de Montant"]
[null,0]
["Total général",0]

{"sheet":"BANQUE 2","index":3,"n_rows":2001,"n_cols":14,"rows_kept":2001,"hidden":true,"merged":[[1,2,1,4],[2,3,2,4]]}
[]
[null,"Eglise :"]
[null,"N°  Compte Bancaire :"]
[{"$nulls":4},"Date","Montant"]
[null,"Solde initial",null,null,"2013-01-01",{"$nulls":4},"ok"]
[null,"Solde final selon extrait à encoder",{"$nulls":7},"Erreur"]
[null,"Solde total colonne",{"$nulls":3},{"$f":"+SUM(D11:D20291)","v":{"v":0,"d":"0.00"}}]
[null,"Contrôle:  si ok = rien; sinon  Erreur !!!",{"$nulls":3},{"$f":"+IF(F6=F7,\"ok\",\"Erreur\")","v":"ok"}]
[null,"Mouvements bancaires  B2",null,null,"Mouvements bancaires  B2","Mouvements bancaires  B2","Mouvements bancaires  B2","Mouvements bancaires  B2"]
[null,"Date","N° Extrait","Montant","Description","Commentaire","Compte comptable","Libellé compte comptable",null,null,{"$f":"D10","v":"Montant"},{"$f":"H10","v":"Libellé compte comptable"},{"$f":"D10","v":"Montant"},{"$f":"CONCATENATE(G10,H10)","v":"Compte comptableLibellé compte comptable"}]
[null,{"$f":"+E5","v":"2013-01-01"},null,{"$f":"+F5","v":{"v":0,"d":"0.00"}},"Solde initial",null,{"$f":"IF(H11<>\"\",VLOOKUP(H11,Codes!C$1:D$475,2,FALSE),\"\")","v":""},{"$nulls":3},{"$f":"D11","v":0},{"$f":"H11","v":0},{"$f":"D11","v":{"v":0,"d":"0.00"}},{"$f":"CONCATENATE(G11,H11)","v":""}]
[{"$nulls":6},{"$f":"IF(H12<>\"\",VLOOKUP(H12,Codes!C$1:D$475,2,FALSE),\"\")","v":""},null,null,{"$f":"+L6","v":{"v":0,"d":"0.00   "}},{"$f":"IF(J12>0,VLOOKUP(J12,' code comptes '!$A$1:$C$148,3),\"\")","v":""},null,{"$f":"D11","v":{"v":0,"d":"0.00"}},{"$f":"+CONCATENATE(G11,H11)","v":""}]
[{"$nulls":6},{"$f":"IF(H13<>\"\",VLOOKUP(H13,Codes!C$1:D$475,2,FALSE),\"\")","v":""},{"$nulls":3},{"$f":"IF(J13>0,VLOOKUP(J13,' code comptes '!$A$1:$C$148,3),\"\")","v":""},null,{"v":0,"d":"0.00"},""]
[{"$nulls":6},{"$f":"IF(H14<>\"\",VLOOKUP(H14,Codes!C$1:D$475,2,FALSE),\"\")","v":""}]
[{"$nulls":6},{"$f":"IF(H15<>\"\",VLOOKUP(H15,Codes!C$1:D$475,2,FALSE),\"\")","v":""}]
[{"$nulls":6},{"$f":"IF(H16<>\"\",VLOOKUP(H16,Codes!C$1:D$475,2,FALSE),\"\")","v":""}]
[{"$nulls":6},{"$f":"IF(H17<>\"\",VLOOKUP(H17,Codes!C$1:D$475,2,FALSE),\"\")","v":""}]
[{"$nulls":6},{"$f":"IF(H18<>\"\",VLOOKUP(H18,Codes!C$1:D$475,2,FALSE),\"\")","v":""}]
[{"$nulls":6},{"$f":"IF(H19<>\"\",VLOOKUP(H19,Codes!C$1:D$475,2,FALSE),\"\")","v":""}]
[{"$nulls":6},{"$f":"IF(H20<>\"\",VLOOKUP(H20,Codes!C$1:D$475,2,FALSE),\"\")","v":""}]
[{"$nulls":6},{"$f":"IF(H21<>\"\",VLOOKUP(H21,Codes!C$1:D$475,2,FALSE),\"\")","v":""}]
[{"$nulls":6},{"$f":"IF(H22<>\"\",VLOOKUP(H22,Codes!C$1:D$475,2,FALSE),\"\")","v":""}]
[{"$nulls":6},{"$f":"IF(H23<>\"\",VLOOKUP(H23,Codes!C$1:D$475,2,FALSE),\"\")","v":""}]
[{"$nulls":6},{"$f":"IF(H24<>\"\",VLOOKUP(H24,Codes!C$1:D$475,2,FALSE),\"\")","v":""}]
[{"$nulls":6},{"$f":"IF(H25<>\"\",VLOOKUP(H25,Codes!C$1:D$475,2,FALSE),\"\")","v":""}]
[{"$nulls":6},{"$f":"IF(H26<>\"\",VLOOKUP(H26,Codes!C$1:D$475,2,FALSE),\"\")","v":""}]
[{"$nulls":6},{"$f":"IF(H27<>\"\",VLOOKUP(H27,Codes!C$1:D$475,2,FALSE),\"\")","v":""}]
[{"$nulls":6},{"$f":"IF(H28<>\"\",VLOOKUP(H28,Codes!C$1:D$475,2,FALSE),\"\")","v":""}]
[{"$nulls":6},{"$f":"IF(H29<>\"\",VLOOKUP(H29,Codes!C$1:D$475,2,FALSE),\"\")","v":""}]
[{"$nulls":6},{"$f":"IF(H30<>\"\",VLOOKUP(H30,Codes!C$1:D$475,2,FALSE),\"\")","v":""}]
[{"$nulls":6},{"$f":"IF(H31<>\"\",VLOOKUP(H31,Codes!C$1:D$475,2,FALSE),\"\")","v":""}]
[{"$nulls":6},{"$f":"IF(H32<>\"\",VLOOKUP(H32,Codes!C$1:D$475,2,FALSE),\"\")","v":""}]
[{"$nulls":6},{"$f":"IF(H33<>\"\",VLOOKUP(H33,Codes!C$1:D$475,2,FALSE),\"\")","v":""}]
[{"$nulls":6},{"$f":"IF(H34<>\"\",VLOOKUP(H34,Codes!C$1:D$475,2,FALSE),\"\")","v":""}]
[{"$nulls":6},{"$f":"IF(H35<>\"\",VLOOKUP(H35,Codes!C$1:D$475,2,FALSE),\"\")","v":""}]
[{"$nulls":6},{"$f":"IF(H36<>\"\",VLOOKUP(H36,Codes!C$1:D$475,2,FALSE),\"\")","v":""}]
[{"$nulls":6},{"$f":"IF(H37<>\"\",VLOOKUP(H37,Codes!C$1:D$475,2,FALSE),\"\")","v":""}]
[{"$nulls":6},{"$f":"IF(H38<>\"\",VLOOKUP(H38,Codes!C$1:D$475,2,FALSE),\"\")","v":""}]
[{"$nulls":6},{"$f":"IF(H39<>\"\",VLOOKUP(H39,Codes!C$1:D$475,2,FALSE),\"\")","v":""}]
[{"$nulls":6},{"$f":"IF(H40<>\"\",VLOOKUP(H40,Codes!C$1:D$475,2,FALSE),\"\")","v":""}]
[{"$nulls":6},{"$f":"IF(H41<>\"\",VLOOKUP(H41,Codes!C$1:D$475,2,FALSE),\"\")","v":""}]
[{"$nulls":6},{"$f":"IF(H42<>\"\",VLOOKUP(H42,Codes!C$1:D$475,2,FALSE),\"\")","v":""}]
[{"$nulls":6},{"$f":"IF(H43<>\"\",VLOOKUP(H43,Codes!C$1:D$475,2,FALSE),\"\")","v":""}]
[{"$nulls":6},{"$f":"IF(H44<>\"\",VLOOKUP(H44,Codes!C$1:D$475,2,FALSE),\"\")","v":""}]
[{"$nulls":6},{"$f":"IF(H45<>\"\",VLOOKUP(H45,Codes!C$1:D$475,2,FALSE),\"\")","v":""}]
[{"$nulls":6},{"$f":"IF(H46<>\"\",VLOOKUP(H46,Codes!C$1:D$475,2,FALSE),\"\")","v":""}]
[{"$nulls":6},{"$f":"IF(H47<>\"\",VLOOKUP(H47,Codes!C$1:D$475,2,FALSE),\"\")","v":""}]
[{"$nulls":6},{"$f":"IF(H48<>\"\",VLOOKUP(H48,Codes!C$1:D$475,2,FALSE),\"\")","v":""}]
[{"$nulls":6},{"$f":"IF(H49<>\"\",VLOOKUP(H49,Codes!C$1:D$475,2,FALSE),\"\")","v":""}]
[{"$nulls":6},{"$f":"IF(H50<>\"\",VLOOKUP(H50,Codes!C$1:D$475,2,FALSE),\"\")","v":""}]
[{"$nulls":6},{"$f":"IF(H51<>\"\",VLOOKUP(H51,Codes!C$1:D$475,2,FALSE),\"\")","v":""}]
[{"$nulls":6},{"$f":"IF(H52<>\"\",VLOOKUP(H52,Codes!C$1:D$475,2,FALSE),\"\")","v":""}]
[{"$nulls":6},{"$f":"IF(H53<>\"\",VLOOKUP(H53,Codes!C$1:D$475,2,FALSE),\"\")","v":""}]
[{"$nulls":6},{"$f":"IF(H54<>\"\",VLOOKUP(H54,Codes!C$1:D$475,2,FALSE),\"\")","v":""}]
[{"$nulls":6},{"$f":"IF(H55<>\"\",VLOOKUP(H55,Codes!C$1:D$475,2,FALSE),\"\")","v":""}]
[{"$nulls":6},{"$f":"IF(H56<>\"\",VLOOKUP(H56,Codes!C$1:D$475,2,FALSE),\"\")","v":""}]
[{"$nulls":6},{"$f":"IF(H57<>\"\",VLOOKUP(H57,Codes!C$1:D$475,2,FALSE),\"\")","v":""}]
[{"$nulls":6},{"$f":"IF(H58<>\"\",VLOOKUP(H58,Codes!C$1:D$475,2,FALSE),\"\")","v":""}]
[{"$nulls":6},{"$f":"IF(H59<>\"\",VLOOKUP(H59,Codes!C$1:D$475,2,FALSE),\"\")","v":""}]
[{"$nulls":6},{"$f":"IF(H60<>\"\",VLOOKUP(H60,Codes!C$1:D$475,2,FALSE),\"\")","v":""}]
[{"$nulls":6},{"$f":"IF(H61<>\"\",VLOOKUP(H61,Codes!C$1:D$475,2,FALSE),\"\")","v":""}]
[{"$nulls":6},{"$f":"IF(H62<>\"\",VLOOKUP(H62,Codes!C$1:D$475,2,FALSE),\"\")","v":""}]
[{"$nulls":6},{"$f":"IF(H63<>\"\",VLOOKUP(H63,Codes!C$1:D$475,2,FALSE),\"\")","v":""}]
[{"$nulls":6},{"$f":"IF(H64<>\"\",VLOOKUP(H64,Codes!C$1:D$475,2,FALSE),\"\")","v":""}]
[{"$nulls":6},{"$f":"IF(H65<>\"\",VLOOKUP(H65,Codes!C$1:D$475,2,FALSE),\"\")","v":""}]
[{"$nulls":6},{"$f":"IF(H66<>\"\",VLOOKUP(H66,Codes!C$1:D$475,2,FALSE),\"\")","v":""}]
[{"$nulls":6},{"$f":"IF(H67<>\"\",VLOOKUP(H67,Codes!C$1:D$475,2,FALSE),\"\")","v":""}]
[{"$nulls":6},{"$f":"IF(H68<>\"\",VLOOKUP(H68,Codes!C$1:D$475,2,FALSE),\"\")","v":""}]
[{"$nulls":6},{"$f":"IF(H69<>\"\",VLOOKUP(H69,Codes!C$1:D$475,2,FALSE),\"\")","v":""}]
[{"$nulls":6},{"$f":"IF(H70<>\"\",VLOOKUP(H70,Codes!C$1:D$475,2,FALSE),\"\")","v":""}]
[{"$nulls":6},{"$f":"IF(H71<>\"\",VLOOKUP(H71,Codes!C$1:D$475,2,FALSE),\"\")","v":""}]
[{"$nulls":6},{"$f":"IF(H72<>\"\",VLOOKUP(H72,Codes!C$1:D$475,2,FALSE),\"\")","v":""}]
[{"$nulls":6},{"$f":"IF(H73<>\"\",VLOOKUP(H73,Codes!C$1:D$475,2,FALSE),\"\")","v":""}]
[{"$nulls":6},{"$f":"IF(H74<>\"\",VLOOKUP(H74,Codes!C$1:D$475,2,FALSE),\"\")","v":""}]
[{"$nulls":6},{"$f":"IF(H75<>\"\",VLOOKUP(H75,Codes!C$1:D$475,2,FALSE),\"\")","v":""}]
[{"$nulls":6},{"$f":"IF(H76<>\"\",VLOOKUP(H76,Codes!C$1:D$475,2,FALSE),\"\")","v":""}]
[{"$nulls":6},{"$f":"IF(H77<>\"\",VLOOKUP(H77,Codes!C$1:D$475,2,FALSE),\"\")","v":""}]
[{"$nulls":6},{"$f":"IF(H78<>\"\",VLOOKUP(H78,Codes!C$1:D$475,2,FALSE),\"\")","v":""}]
[{"$nulls":6},{"$f":"IF(H79<>\"\",VLOOKUP(H79,Codes!C$1:D$475,2,FALSE),\"\")","v":""}]
[{"$nulls":6},{"$f":"IF(H80<>\"\",VLOOKUP(H80,Codes!C$1:D$475,2,FALSE),\"\")","v":""}]
[{"$nulls":6},{"$f":"IF(H81<>\"\",VLOOKUP(H81,Codes!C$1:D$475,2,FALSE),\"\")","v":""}]
[{"$nulls":6},{"$f":"IF(H82<>\"\",VLOOKUP(H82,Codes!C$1:D$475,2,FALSE),\"\")","v":""}]
[{"$nulls":6},{"$f":"IF(H83<>\"\",VLOOKUP(H83,Codes!C$1:D$475,2,FALSE),\"\")","v":""}]
[{"$nulls":6},{"$f":"IF(H84<>\"\",VLOOKUP(H84,Codes!C$1:D$475,2,FALSE),\"\")","v":""}]
[{"$nulls":6},{"$f":"IF(H85<>\"\",VLOOKUP(H85,Codes!C$1:D$475,2,FALSE),\"\")","v":""}]
[{"$nulls":6},{"$f":"IF(H86<>\"\",VLOOKUP(H86,Codes!C$1:D$475,2,FALSE),\"\")","v":""}]
[{"$nulls":6},{"$f":"IF(H87<>\"\",VLOOKUP(H87,Codes!C$1:D$475,2,FALSE),\"\")","v":""}]
[{"$nulls":6},{"$f":"IF(H88<>\"\",VLOOKUP(H88,Codes!C$1:D$475,2,FALSE),\"\")","v":""}]
[{"$nulls":6},{"$f":"IF(H89<>\"\",VLOOKUP(H89,Codes!C$1:D$475,2,FALSE),\"\")","v":""}]
[{"$nulls":6},{"$f":"IF(H90<>\"\",VLOOKUP(H90,Codes!C$1:D$475,2,FALSE),\"\")","v":""}]
[{"$nulls":6},{"$f":"IF(H91<>\"\",VLOOKUP(H91,Codes!C$1:D$475,2,FALSE),\"\")","v":""}]
[{"$nulls":6},{"$f":"IF(H92<>\"\",VLOOKUP(H92,Codes!C$1:D$475,2,FALSE),\"\")","v":""}]
[{"$nulls":6},{"$f":"IF(H93<>\"\",VLOOKUP(H93,Codes!C$1:D$475,2,FALSE),\"\")","v":""}]
[{"$nulls":6},{"$f":"IF(H94<>\"\",VLOOKUP(H94,Codes!C$1:D$475,2,FALSE),\"\")","v":""}]
[{"$nulls":6},{"$f":"IF(H95<>\"\",VLOOKUP(H95,Codes!C$1:D$475,2,FALSE),\"\")","v":""}]
[{"$nulls":6},{"$f":"IF(H96<>\"\",VLOOKUP(H96,Codes!C$1:D$475,2,FALSE),\"\")","v":""}]
[{"$nulls":6},{"$f":"IF(H97<>\"\",VLOOKUP(H97,Codes!C$1:D$475,2,FALSE),\"\")","v":""}]
[{"$nulls":6},{"$f":"IF(H98<>\"\",VLOOKUP(H98,Codes!C$1:D$475,2,FALSE),\"\")","v":""}]
[{"$nulls":6},{"$f":"IF(H99<>\"\",VLOOKUP(H99,Codes!C$1:D$475,2,FALSE),\"\")","v":""}]
[{"$nulls":6},{"$f":"IF(H100<>\"\",VLOOKUP(H100,Codes!C$1:D$475,2,FALSE),\"\")","v":""}]
[{"$nulls":6},{"$f":"IF(H101<>\"\",VLOOKUP(H101,Codes!C$1:D$475,2,FALSE),\"\")","v":""}]
[{"$nulls":6},{"$f":"IF(H102<>\"\",VLOOKUP(H102,Codes!C$1:D$475,2,FALSE),\"\")","v":""}]
[{"$nulls":6},{"$f":"IF(H103<>\"\",VLOOKUP(H103,Codes!C$1:D$475,2,FALSE),\"\")","v":""}]
[{"$nulls":6},{"$f":"IF(H104<>\"\",VLOOKUP(H104,Codes!C$1:D$475,2,FALSE),\"\")","v":""}]
[{"$nulls":6},{"$f":"IF(H105<>\"\",VLOOKUP(H105,Codes!C$1:D$475,2,FALSE),\"\")","v":""}]
[{"$nulls":6},{"$f":"IF(H106<>\"\",VLOOKUP(H106,Codes!C$1:D$475,2,FALSE),\"\")","v":""}]
[{"$nulls":6},{"$f":"IF(H107<>\"\",VLOOKUP(H107,Codes!C$1:D$475,2,FALSE),\"\")","v":""}]
[{"$nulls":6},{"$f":"IF(H108<>\"\",VLOOKUP(H108,Codes!C$1:D$475,2,FALSE),\"\")","v":""}]
[{"$nulls":6},{"$f":"IF(H109<>\"\",VLOOKUP(H109,Codes!C$1:D$475,2,FALSE),\"\")","v":""}]
[{"$nulls":6},{"$f":"IF(H110<>\"\",VLOOKUP(H110,Codes!C$1:D$475,2,FALSE),\"\")","v":""}]
[{"$nulls":6},{"$f":"IF(H111<>\"\",VLOOKUP(H111,Codes!C$1:D$475,2,FALSE),\"\")","v":""}]
[{"$nulls":6},{"$f":"IF(H112<>\"\",VLOOKUP(H112,Codes!C$1:D$475,2,FALSE),\"\")","v":""}]
[{"$nulls":6},{"$f":"IF(H113<>\"\",VLOOKUP(H113,Codes!C$1:D$475,2,FALSE),\"\")","v":""}]
[{"$nulls":6},{"$f":"IF(H114<>\"\",VLOOKUP(H114,Codes!C$1:D$475,2,FALSE),\"\")","v":""}]
[{"$nulls":6},{"$f":"IF(H115<>\"\",VLOOKUP(H115,Codes!C$1:D$475,2,FALSE),\"\")","v":""}]
[{"$nulls":6},{"$f":"IF(H116<>\"\",VLOOKUP(H116,Codes!C$1:D$475,2,FALSE),\"\")","v":""}]
[{"$nulls":6},{"$f":"IF(H117<>\"\",VLOOKUP(H117,Codes!C$1:D$475,2,FALSE),\"\")","v":""}]
[{"$nulls":6},{"$f":"IF(H118<>\"\",VLOOKUP(H118,Codes!C$1:D$475,2,FALSE),\"\")","v":""}]
[{"$nulls":6},{"$f":"IF(H119<>\"\",VLOOKUP(H119,Codes!C$1:D$475,2,FALSE),\"\")","v":""}]
[{"$nulls":6},{"$f":"IF(H120<>\"\",VLOOKUP(H120,Codes!C$1:D$475,2,FALSE),\"\")","v":""}]
[{"$nulls":6},{"$f":"IF(H121<>\"\",VLOOKUP(H121,Codes!C$1:D$475,2,FALSE),\"\")","v":""}]
[{"$nulls":6},{"$f":"IF(H122<>\"\",VLOOKUP(H122,Codes!C$1:D$475,2,FALSE),\"\")","v":""}]
[{"$nulls":6},{"$f":"IF(H123<>\"\",VLOOKUP(H123,Codes!C$1:D$475,2,FALSE),\"\")","v":""}]
[{"$nulls":6},{"$f":"IF(H124<>\"\",VLOOKUP(H124,Codes!C$1:D$475,2,FALSE),\"\")","v":""}]
[{"$nulls":6},{"$f":"IF(H125<>\"\",VLOOKUP(H125,Codes!C$1:D$475,2,FALSE),\"\")","v":""}]
[{"$nulls":6},{"$f":"IF(H126<>\"\",VLOOKUP(H126,Codes!C$1:D$475,2,FALSE),\"\")","v":""}]
[{"$nulls":6},{"$f":"IF(H127<>\"\",VLOOKUP(H127,Codes!C$1:D$475,2,FALSE),\"\")","v":""}]
[{"$nulls":6},{"$f":"IF(H128<>\"\",VLOOKUP(H128,Codes!C$1:D$475,2,FALSE),\"\")","v":""}]
[{"$nulls":6},{"$f":"IF(H129<>\"\",VLOOKUP(H129,Codes!C$1:D$475,2,FALSE),\"\")","v":""}]
[{"$nulls":6},{"$f":"IF(H130<>\"\",VLOOKUP(H130,Codes!C$1:D$475,2,FALSE),\"\")","v":""}]
[{"$nulls":6},{"$f":"IF(H131<>\"\",VLOOKUP(H131,Codes!C$1:D$475,2,FALSE),\"\")","v":""}]
[{"$nulls":6},{"$f":"IF(H132<>\"\",VLOOKUP(H132,Codes!C$1:D$475,2,FALSE),\"\")","v":""}]
[{"$nulls":6},{"$f":"IF(H133<>\"\",VLOOKUP(H133,Codes!C$1:D$475,2,FALSE),\"\")","v":""}]
[{"$nulls":6},{"$f":"IF(H134<>\"\",VLOOKUP(H134,Codes!C$1:D$475,2,FALSE),\"\")","v":""}]
[{"$nulls":6},{"$f":"IF(H135<>\"\",VLOOKUP(H135,Codes!C$1:D$475,2,FALSE),\"\")","v":""}]
[{"$nulls":6},{"$f":"IF(H136<>\"\",VLOOKUP(H136,Codes!C$1:D$475,2,FALSE),\"\")","v":""}]
[{"$nulls":6},{"$f":"IF(H137<>\"\",VLOOKUP(H137,Codes!C$1:D$475,2,FALSE),\"\")","v":""}]
[{"$nulls":6},{"$f":"IF(H138<>\"\",VLOOKUP(H138,Codes!C$1:D$475,2,FALSE),\"\")","v":""}]
[{"$nulls":6},{"$f":"IF(H139<>\"\",VLOOKUP(H139,Codes!C$1:D$475,2,FALSE),\"\")","v":""}]
[{"$nulls":6},{"$f":"IF(H140<>\"\",VLOOKUP(H140,Codes!C$1:D$475,2,FALSE),\"\")","v":""}]
[{"$nulls":6},{"$f":"IF(H141<>\"\",VLOOKUP(H141,Codes!C$1:D$475,2,FALSE),\"\")","v":""}]
[{"$nulls":6},{"$f":"IF(H142<>\"\",VLOOKUP(H142,Codes!C$1:D$475,2,FALSE),\"\")","v":""}]
[{"$nulls":6},{"$f":"IF(H143<>\"\",VLOOKUP(H143,Codes!C$1:D$475,2,FALSE),\"\")","v":""}]
[{"$nulls":6},{"$f":"IF(H144<>\"\",VLOOKUP(H144,Codes!C$1:D$475,2,FALSE),\"\")","v":""}]
[{"$nulls":6},{"$f":"IF(H145<>\"\",VLOOKUP(H145,Codes!C$1:D$475,2,FALSE),\"\")","v":""}]
[{"$nulls":6},{"$f":"IF(H146<>\"\",VLOOKUP(H146,Codes!C$1:D$475,2,FALSE),\"\")","v":""}]
[{"$nulls":6},{"$f":"IF(H147<>\"\",VLOOKUP(H147,Codes!C$1:D$475,2,FALSE),\"\")","v":""}]
[{"$nulls":6},{"$f":"IF(H148<>\"\",VLOOKUP(H148,Codes!C$1:D$475,2,FALSE),\"\")","v":""}]
[{"$nulls":6},{"$f":"IF(H149<>\"\",VLOOKUP(H149,Codes!C$1:D$475,2,FALSE),\"\")","v":""}]
[{"$nulls":6},{"$f":"IF(H150<>\"\",VLOOKUP(H150,Codes!C$1:D$475,2,FALSE),\"\")","v":""}]
[{"$nulls":6},{"$f":"IF(H151<>\"\",VLOOKUP(H151,Codes!C$1:D$475,2,FALSE),\"\")","v":""}]
[{"$nulls":6},{"$f":"IF(H152<>\"\",VLOOKUP(H152,Codes!C$1:D$475,2,FALSE),\"\")","v":""}]
[{"$nulls":6},{"$f":"IF(H153<>\"\",VLOOKUP(H153,Codes!C$1:D$475,2,FALSE),\"\")","v":""}]
[{"$nulls":6},{"$f":"IF(H154<>\"\",VLOOKUP(H154,Codes!C$1:D$475,2,FALSE),\"\")","v":""}]
[{"$nulls":6},{"$f":"IF(H155<>\"\",VLOOKUP(H155,Codes!C$1:D$475,2,FALSE),\"\")","v":""}]
[{"$nulls":6},{"$f":"IF(H156<>\"\",VLOOKUP(H156,Codes!C$1:D$475,2,FALSE),\"\")","v":""}]
[{"$nulls":6},{"$f":"IF(H157<>\"\",VLOOKUP(H157,Codes!C$1:D$475,2,FALSE),\"\")","v":""}]
[{"$nulls":6},{"$f":"IF(H158<>\"\",VLOOKUP(H158,Codes!C$1:D$475,2,FALSE),\"\")","v":""}]
[{"$nulls":6},{"$f":"IF(H159<>\"\",VLOOKUP(H159,Codes!C$1:D$475,2,FALSE),\"\")","v":""}]
[{"$nulls":6},{"$f":"IF(H160<>\"\",VLOOKUP(H160,Codes!C$1:D$475,2,FALSE),\"\")","v":""}]
[{"$nulls":6},{"$f":"IF(H161<>\"\",VLOOKUP(H161,Codes!C$1:D$475,2,FALSE),\"\")","v":""}]
[{"$nulls":6},{"$f":"IF(H162<>\"\",VLOOKUP(H162,Codes!C$1:D$475,2,FALSE),\"\")","v":""}]
[{"$nulls":6},{"$f":"IF(H163<>\"\",VLOOKUP(H163,Codes!C$1:D$475,2,FALSE),\"\")","v":""}]
[{"$nulls":6},{"$f":"IF(H164<>\"\",VLOOKUP(H164,Codes!C$1:D$475,2,FALSE),\"\")","v":""}]
[{"$nulls":6},{"$f":"IF(H165<>\"\",VLOOKUP(H165,Codes!C$1:D$475,2,FALSE),\"\")","v":""}]
[{"$nulls":6},{"$f":"IF(H166<>\"\",VLOOKUP(H166,Codes!C$1:D$475,2,FALSE),\"\")","v":""}]
[{"$nulls":6},{"$f":"IF(H167<>\"\",VLOOKUP(H167,Codes!C$1:D$475,2,FALSE),\"\")","v":""}]
[{"$nulls":6},{"$f":"IF(H168<>\"\",VLOOKUP(H168,Codes!C$1:D$475,2,FALSE),\"\")","v":""}]
[{"$nulls":6},{"$f":"IF(H169<>\"\",VLOOKUP(H169,Codes!C$1:D$475,2,FALSE),\"\")","v":""}]
[{"$nulls":6},{"$f":"IF(H170<>\"\",VLOOKUP(H170,Codes!C$1:D$475,2,FALSE),\"\")","v":""}]
[{"$nulls":6},{"$f":"IF(H171<>\"\",VLOOKUP(H171,Codes!C$1:D$475,2,FALSE),\"\")","v":""}]
[{"$nulls":6},{"$f":"IF(H172<>\"\",VLOOKUP(H172,Codes!C$1:D$475,2,FALSE),\"\")","v":""}]
[{"$nulls":6},{"$f":"IF(H173<>\"\",VLOOKUP(H173,Codes!C$1:D$475,2,FALSE),\"\")","v":""}]
[{"$nulls":6},{"$f":"IF(H174<>\"\",VLOOKUP(H174,Codes!C$1:D$475,2,FALSE),\"\")","v":""}]
[{"$nulls":6},{"$f":"IF(H175<>\"\",VLOOKUP(H175,Codes!C$1:D$475,2,FALSE),\"\")","v":""}]
[{"$nulls":6},{"$f":"IF(H176<>\"\",VLOOKUP(H176,Codes!C$1:D$475,2,FALSE),\"\")","v":""}]
[{"$nulls":6},{"$f":"IF(H177<>\"\",VLOOKUP(H177,Codes!C$1:D$475,2,FALSE),\"\")","v":""}]
[{"$nulls":6},{"$f":"IF(H178<>\"\",VLOOKUP(H178,Codes!C$1:D$475,2,FALSE),\"\")","v":""}]
[{"$nulls":6},{"$f":"IF(H179<>\"\",VLOOKUP(H179,Codes!C$1:D$475,2,FALSE),\"\")","v":""}]
[{"$nulls":6},{"$f":"IF(H180<>\"\",VLOOKUP(H180,Codes!C$1:D$475,2,FALSE),\"\")","v":""}]
[{"$nulls":6},{"$f":"IF(H181<>\"\",VLOOKUP(H181,Codes!C$1:D$475,2,FALSE),\"\")","v":""}]
[{"$nulls":6},{"$f":"IF(H182<>\"\",VLOOKUP(H182,Codes!C$1:D$475,2,FALSE),\"\")","v":""}]
[{"$nulls":6},{"$f":"IF(H183<>\"\",VLOOKUP(H183,Codes!C$1:D$475,2,FALSE),\"\")","v":""}]
[{"$nulls":6},{"$f":"IF(H184<>\"\",VLOOKUP(H184,Codes!C$1:D$475,2,FALSE),\"\")","v":""}]
[{"$nulls":6},{"$f":"IF(H185<>\"\",VLOOKUP(H185,Codes!C$1:D$475,2,FALSE),\"\")","v":""}]
[{"$nulls":6},{"$f":"IF(H186<>\"\",VLOOKUP(H186,Codes!C$1:D$475,2,FALSE),\"\")","v":""}]
[{"$nulls":6},{"$f":"IF(H187<>\"\",VLOOKUP(H187,Codes!C$1:D$475,2,FALSE),\"\")","v":""}]
[{"$nulls":6},{"$f":"IF(H188<>\"\",VLOOKUP(H188,Codes!C$1:D$475,2,FALSE),\"\")","v":""}]
[{"$nulls":6},{"$f":"IF(H189<>\"\",VLOOKUP(H189,Codes!C$1:D$475,2,FALSE),\"\")","v":""}]
[{"$nulls":6},{"$f":"IF(H190<>\"\",VLOOKUP(H190,Codes!C$1:D$475,2,FALSE),\"\")","v":""}]
[{"$nulls":6},{"$f":"IF(H191<>\"\",VLOOKUP(H191,Codes!C$1:D$475,2,FALSE),\"\")","v":""}]
[{"$nulls":6},{"$f":"IF(H192<>\"\",VLOOKUP(H192,Codes!C$1:D$475,2,FALSE),\"\")","v":""}]
[{"$nulls":6},{"$f":"IF(H193<>\"\",VLOOKUP(H193,Codes!C$1:D$475,2,FALSE),\"\")","v":""}]
[{"$nulls":6},{"$f":"IF(H194<>\"\",VLOOKUP(H194,Codes!C$1:D$475,2,FALSE),\"\")","v":""}]
[{"$nulls":6},{"$f":"IF(H195<>\"\",VLOOKUP(H195,Codes!C$1:D$475,2,FALSE),\"\")","v":""},{"$nulls":3},{"$f":"IF(J195>0,VLOOKUP(J195,' code comptes '!$A$1:$C$148,3),\"\")","v":""},"ok",{"$f":"D13","v":{"v":0,"d":"0.00"}},{"$f":"+CONCATENATE(G13,H13)","v":""}]
[{"$nulls":6},{"$f":"IF(H196<>\"\",VLOOKUP(H196,Codes!C$1:D$475,2,FALSE),\"\")","v":""},{"$nulls":3},{"$f":"IF(J196>0,VLOOKUP(J196,' code comptes '!$A$1:$C$148,3),\"\")","v":""},"Erreur",{"v":0,"d":"0.00"},""]
[{"$nulls":6},{"$f":"IF(H197<>\"\",VLOOKUP(H197,Codes!C$1:D$475,2,FALSE),\"\")","v":""},{"$nulls":3},{"$f":"IF(J197>0,VLOOKUP(J197,' code comptes '!$A$1:$C$148,3),\"\")","v":""},null,{"v":0,"d":"0.00"},""]
[{"$nulls":6},{"$f":"IF(H198<>\"\",VLOOKUP(H198,Codes!C$1:D$475,2,FALSE),\"\")","v":""},{"$nulls":3},{"$f":"IF(J198>0,VLOOKUP(J198,' code comptes '!$A$1:$C$148,3),\"\")","v":""},null,{"v":0,"d":"0.00"},""]
[{"$nulls":6},{"$f":"IF(H199<>\"\",VLOOKUP(H199,Codes!C$1:D$475,2,FALSE),\"\")","v":""},{"$nulls":3},{"$f":"IF(J199>0,VLOOKUP(J199,' code comptes '!$A$1:$C$148,3),\"\")","v":""},null,{"v":0,"d":"0.00"},""]
[{"$nulls":6},{"$f":"IF(H200<>\"\",VLOOKUP(H200,Codes!C$1:D$475,2,FALSE),\"\")","v":""},{"$nulls":3},{"$f":"IF(J200>0,VLOOKUP(J200,' code comptes '!$A$1:$C$148,3),\"\")","v":""},null,{"v":0,"d":"0.00"},""]
[{"$nulls":6},{"$f":"IF(H201<>\"\",VLOOKUP(H201,Codes!C$1:D$475,2,FALSE),\"\")","v":""},{"$nulls":3},{"$f":"IF(J201>0,VLOOKUP(J201,' code comptes '!$A$1:$C$148,3),\"\")","v":""},null,{"v":0,"d":"0.00"},""]
[{"$nulls":6},{"$f":"IF(H202<>\"\",VLOOKUP(H202,Codes!C$1:D$475,2,FALSE),\"\")","v":""},{"$nulls":3},{"$f":"IF(J202>0,VLOOKUP(J202,' code comptes '!$A$1:$C$148,3),\"\")","v":""},null,{"v":0,"d":"0.00"},""]
[{"$nulls":6},{"$f":"IF(H203<>\"\",VLOOKUP(H203,Codes!C$1:D$475,2,FALSE),\"\")","v":""},{"$nulls":3},{"$f":"IF(J203>0,VLOOKUP(J203,' code comptes '!$A$1:$C$148,3),\"\")","v":""},null,{"v":0,"d":"0.00"},""]
[{"$nulls":6},{"$f":"IF(H204<>\"\",VLOOKUP(H204,Codes!C$1:D$475,2,FALSE),\"\")","v":""},{"$nulls":3},{"$f":"IF(J204>0,VLOOKUP(J204,' code comptes '!$A$1:$C$148,3),\"\")","v":""},null,{"v":0,"d":"0.00"},""]
[{"$nulls":6},{"$f":"IF(H205<>\"\",VLOOKUP(H205,Codes!C$1:D$475,2,FALSE),\"\")","v":""},{"$nulls":3},{"$f":"IF(J205>0,VLOOKUP(J205,' code comptes '!$A$1:$C$148,3),\"\")","v":""},null,{"v":0,"d":"0.00"},""]
[{"$nulls":6},{"$f":"IF(H206<>\"\",VLOOKUP(H206,Codes!C$1:D$475,2,FALSE),\"\")","v":""},{"$nulls":3},{"$f":"IF(J206>0,VLOOKUP(J206,' code comptes '!$A$1:$C$148,3),\"\")","v":""},null,{"v":0,"d":"0.00"},""]
[{"$nulls":6},{"$f":"IF(H207<>\"\",VLOOKUP(H207,Codes!C$1:D$475,2,FALSE),\"\")","v":""},{"$nulls":3},{"$f":"IF(J207>0,VLOOKUP(J207,' code comptes '!$A$1:$C$148,3),\"\")","v":""},null,{"v":0,"d":"0.00"},""]
[{"$nulls":6},{"$f":"IF(H208<>\"\",VLOOKUP(H208,Codes!C$1:D$475,2,FALSE),\"\")","v":""},{"$nulls":3},{"$f":"IF(J208>0,VLOOKUP(J208,' code comptes '!$A$1:$C$148,3),\"\")","v":""},null,{"v":0,"d":"0.00"},""]
[{"$nulls":6},{"$f":"IF(H209<>\"\",VLOOKUP(H209,Codes!C$1:D$475,2,FALSE),\"\")","v":""},{"$nulls":3},{"$f":"IF(J209>0,VLOOKUP(J209,' code comptes '!$A$1:$C$148,3),\"\")","v":""},null,{"v":0,"d":"0.00"},""]
[{"$nulls":6},{"$f":"IF(H210<>\"\",VLOOKUP(H210,Codes!C$1:D$475,2,FALSE),\"\")","v":""},{"$nulls":3},{"$f":"IF(J210>0,VLOOKUP(J210,' code comptes '!$A$1:$C$148,3),\"\")","v":""},null,{"v":0,"d":"0.00"},""]
[{"$nulls":6},{"$f":"IF(H211<>\"\",VLOOKUP(H211,Codes!C$1:D$475,2,FALSE),\"\")","v":""},{"$nulls":3},{"$f":"IF(J211>0,VLOOKUP(J211,' code comptes '!$A$1:$C$148,3),\"\")","v":""},null,{"v":0,"d":"0.00"},""]
[{"$nulls":6},{"$f":"IF(H212<>\"\",VLOOKUP(H212,Codes!C$1:D$475,2,FALSE),\"\")","v":""},{"$nulls":3},{"$f":"IF(J212>0,VLOOKUP(J212,' code comptes '!$A$1:$C$148,3),\"\")","v":""},null,{"v":0,"d":"0.00"},""]
[{"$nulls":6},{"$f":"IF(H213<>\"\",VLOOKUP(H213,Codes!C$1:D$475,2,FALSE),\"\")","v":""},{"$nulls":3},{"$f":"IF(J213>0,VLOOKUP(J213,' code comptes '!$A$1:$C$148,3),\"\")","v":""},null,{"v":0,"d":"0.00"},""]
[{"$nulls":6},{"$f":"IF(H214<>\"\",VLOOKUP(H214,Codes!C$1:D$475,2,FALSE),\"\")","v":""},{"$nulls":3},{"$f":"IF(J214>0,VLOOKUP(J214,' code comptes '!$A$1:$C$148,3),\"\")","v":""},null,{"v":0,"d":"0.00"},""]
[{"$nulls":6},{"$f":"IF(H215<>\"\",VLOOKUP(H215,Codes!C$1:D$475,2,FALSE),\"\")","v":""},{"$nulls":3},{"$f":"IF(J215>0,VLOOKUP(J215,' code comptes '!$A$1:$C$148,3),\"\")","v":""},null,{"v":0,"d":"0.00"},""]
[{"$nulls":6},{"$f":"IF(H216<>\"\",VLOOKUP(H216,Codes!C$1:D$475,2,FALSE),\"\")","v":""},{"$nulls":3},{"$f":"IF(J216>0,VLOOKUP(J216,' code comptes '!$A$1:$C$148,3),\"\")","v":""},null,{"v":0,"d":"0.00"},""]
[{"$nulls":6},{"$f":"IF(H217<>\"\",VLOOKUP(H217,Codes!C$1:D$475,2,FALSE),\"\")","v":""},{"$nulls":3},{"$f":"IF(J217>0,VLOOKUP(J217,' code comptes '!$A$1:$C$148,3),\"\")","v":""},null,{"v":0,"d":"0.00"},""]
[{"$nulls":6},{"$f":"IF(H218<>\"\",VLOOKUP(H218,Codes!C$1:D$475,2,FALSE),\"\")","v":""},{"$nulls":3},{"$f":"IF(J218>0,VLOOKUP(J218,' code comptes '!$A$1:$C$148,3),\"\")","v":""},null,{"v":0,"d":"0.00"},""]
[{"$nulls":6},{"$f":"IF(H219<>\"\",VLOOKUP(H219,Codes!C$1:D$475,2,FALSE),\"\")","v":""},{"$nulls":3},{"$f":"IF(J219>0,VLOOKUP(J219,' code comptes '!$A$1:$C$148,3),\"\")","v":""},null,{"v":0,"d":"0.00"},""]
[{"$nulls":6},{"$f":"IF(H220<>\"\",VLOOKUP(H220,Codes!C$1:D$475,2,FALSE),\"\")","v":""},{"$nulls":3},{"$f":"IF(J220>0,VLOOKUP(J220,' code comptes '!$A$1:$C$148,3),\"\")","v":""},null,{"v":0,"d":"0.00"},""]
[{"$nulls":6},{"$f":"IF(H221<>\"\",VLOOKUP(H221,Codes!C$1:D$475,2,FALSE),\"\")","v":""},{"$nulls":3},{"$f":"IF(J221>0,VLOOKUP(J221,' code comptes '!$A$1:$C$148,3),\"\")","v":""},null,{"v":0,"d":"0.00"},""]
[{"$nulls":6},{"$f":"IF(H222<>\"\",VLOOKUP(H222,Codes!C$1:D$475,2,FALSE),\"\")","v":""},{"$nulls":3},{"$f":"IF(J222>0,VLOOKUP(J222,' code comptes '!$A$1:$C$148,3),\"\")","v":""},null,{"v":0,"d":"0.00"},""]
[{"$nulls":6},{"$f":"IF(H223<>\"\",VLOOKUP(H223,Codes!C$1:D$475,2,FALSE),\"\")","v":""},{"$nulls":3},{"$f":"IF(J223>0,VLOOKUP(J223,' code comptes '!$A$1:$C$148,3),\"\")","v":""},null,{"v":0,"d":"0.00"},""]
[{"$nulls":6},{"$f":"IF(H224<>\"\",VLOOKUP(H224,Codes!C$1:D$475,2,FALSE),\"\")","v":""},{"$nulls":3},{"$f":"IF(J224>0,VLOOKUP(J224,' code comptes '!$A$1:$C$148,3),\"\")","v":""},null,{"v":0,"d":"0.00"},""]
[{"$nulls":6},{"$f":"IF(H225<>\"\",VLOOKUP(H225,Codes!C$1:D$475,2,FALSE),\"\")","v":""},{"$nulls":3},{"$f":"IF(J225>0,VLOOKUP(J225,' code comptes '!$A$1:$C$148,3),\"\")","v":""},null,{"v":0,"d":"0.00"},""]
[{"$nulls":6},{"$f":"IF(H226<>\"\",VLOOKUP(H226,Codes!C$1:D$475,2,FALSE),\"\")","v":""},{"$nulls":3},{"$f":"IF(J226>0,VLOOKUP(J226,' code comptes '!$A$1:$C$148,3),\"\")","v":""},null,{"v":0,"d":"0.00"},""]
[{"$nulls":6},{"$f":"IF(H227<>\"\",VLOOKUP(H227,Codes!C$1:D$475,2,FALSE),\"\")","v":""},{"$nulls":3},{"$f":"IF(J227>0,VLOOKUP(J227,' code comptes '!$A$1:$C$148,3),\"\")","v":""},null,{"v":0,"d":"0.00"},""]
[{"$nulls":6},{"$f":"IF(H228<>\"\",VLOOKUP(H228,Codes!C$1:D$475,2,FALSE),\"\")","v":""},{"$nulls":3},{"$f":"IF(J228>0,VLOOKUP(J228,' code comptes '!$A$1:$C$148,3),\"\")","v":""},null,{"v":0,"d":"0.00"},""]
[{"$nulls":6},{"$f":"IF(H229<>\"\",VLOOKUP(H229,Codes!C$1:D$475,2,FALSE),\"\")","v":""},{"$nulls":3},{"$f":"IF(J229>0,VLOOKUP(J229,' code comptes '!$A$1:$C$148,3),\"\")","v":""},null,{"v":0,"d":"0.00"},""]
[{"$nulls":6},{"$f":"IF(H230<>\"\",VLOOKUP(H230,Codes!C$1:D$475,2,FALSE),\"\")","v":""},{"$nulls":3},{"$f":"IF(J230>0,VLOOKUP(J230,' code comptes '!$A$1:$C$148,3),\"\")","v":""},null,{"v":0,"d":"0.00"},""]
[{"$nulls":6},{"$f":"IF(H231<>\"\",VLOOKUP(H231,Codes!C$1:D$475,2,FALSE),\"\")","v":""},{"$nulls":3},{"$f":"IF(J231>0,VLOOKUP(J231,' code comptes '!$A$1:$C$148,3),\"\")","v":""},null,{"v":0,"d":"0.00"},""]
[{"$nulls":6},{"$f":"IF(H232<>\"\",VLOOKUP(H232,Codes!C$1:D$475,2,FALSE),\"\")","v":""},{"$nulls":3},{"$f":"IF(J232>0,VLOOKUP(J232,' code comptes '!$A$1:$C$148,3),\"\")","v":""},null,{"v":0,"d":"0.00"},""]
[{"$nulls":6},{"$f":"IF(H233<>\"\",VLOOKUP(H233,Codes!C$1:D$475,2,FALSE),\"\")","v":""},{"$nulls":3},{"$f":"IF(J233>0,VLOOKUP(J233,' code comptes '!$A$1:$C$148,3),\"\")","v":""},null,{"v":0,"d":"0.00"},""]
[{"$nulls":6},{"$f":"IF(H234<>\"\",VLOOKUP(H234,Codes!C$1:D$475,2,FALSE),\"\")","v":""},{"$nulls":3},{"$f":"IF(J234>0,VLOOKUP(J234,' code comptes '!$A$1:$C$148,3),\"\")","v":""},null,{"v":0,"d":"0.00"},""]
[{"$nulls":6},{"$f":"IF(H235<>\"\",VLOOKUP(H235,Codes!C$1:D$475,2,FALSE),\"\")","v":""},{"$nulls":3},{"$f":"IF(J235>0,VLOOKUP(J235,' code comptes '!$A$1:$C$148,3),\"\")","v":""},null,{"v":0,"d":"0.00"},""]
[{"$nulls":6},{"$f":"IF(H236<>\"\",VLOOKUP(H236,Codes!C$1:D$475,2,FALSE),\"\")","v":""},{"$nulls":3},{"$f":"IF(J236>0,VLOOKUP(J236,' code comptes '!$A$1:$C$148,3),\"\")","v":""},null,{"v":0,"d":"0.00"},""]
[{"$nulls":6},{"$f":"IF(H237<>\"\",VLOOKUP(H237,Codes!C$1:D$475,2,FALSE),\"\")","v":""},{"$nulls":3},{"$f":"IF(J237>0,VLOOKUP(J237,' code comptes '!$A$1:$C$148,3),\"\")","v":""},null,{"v":0,"d":"0.00"},""]
[{"$nulls":6},{"$f":"IF(H238<>\"\",VLOOKUP(H238,Codes!C$1:D$475,2,FALSE),\"\")","v":""},{"$nulls":3},{"$f":"IF(J238>0,VLOOKUP(J238,' code comptes '!$A$1:$C$148,3),\"\")","v":""},null,{"v":0,"d":"0.00"},""]
[{"$nulls":6},{"$f":"IF(H239<>\"\",VLOOKUP(H239,Codes!C$1:D$475,2,FALSE),\"\")","v":""},{"$nulls":3},{"$f":"IF(J239>0,VLOOKUP(J239,' code comptes '!$A$1:$C$148,3),\"\")","v":""},null,{"v":0,"d":"0.00"},""]
[{"$nulls":6},{"$f":"IF(H240<>\"\",VLOOKUP(H240,Codes!C$1:D$475,2,FALSE),\"\")","v":""},{"$nulls":3},{"$f":"IF(J240>0,VLOOKUP(J240,' code comptes '!$A$1:$C$148,3),\"\")","v":""},null,{"v":0,"d":"0.00"},""]
[{"$nulls":6},{"$f":"IF(H241<>\"\",VLOOKUP(H241,Codes!C$1:D$475,2,FALSE),\"\")","v":""},{"$nulls":3},{"$f":"IF(J241>0,VLOOKUP(J241,' code comptes '!$A$1:$C$148,3),\"\")","v":""},null,{"v":0,"d":"0.00"},""]
[{"$nulls":6},{"$f":"IF(H242<>\"\",VLOOKUP(H242,Codes!C$1:D$475,2,FALSE),\"\")","v":""},{"$nulls":3},{"$f":"IF(J242>0,VLOOKUP(J242,' code comptes '!$A$1:$C$148,3),\"\")","v":""},null,{"v":0,"d":"0.00"},""]
[{"$nulls":6},{"$f":"IF(H243<>\"\",VLOOKUP(H243,Codes!C$1:D$475,2,FALSE),\"\")","v":""},{"$nulls":3},{"$f":"IF(J243>0,VLOOKUP(J243,' code comptes '!$A$1:$C$148,3),\"\")","v":""},null,{"v":0,"d":"0.00"},""]
[{"$nulls":6},{"$f":"IF(H244<>\"\",VLOOKUP(H244,Codes!C$1:D$475,2,FALSE),\"\")","v":""},{"$nulls":3},{"$f":"IF(J244>0,VLOOKUP(J244,' code comptes '!$A$1:$C$148,3),\"\")","v":""},null,{"v":0,"d":"0.00"},""]
[{"$nulls":6},{"$f":"IF(H245<>\"\",VLOOKUP(H245,Codes!C$1:D$475,2,FALSE),\"\")","v":""},{"$nulls":3},{"$f":"IF(J245>0,VLOOKUP(J245,' code comptes '!$A$1:$C$148,3),\"\")","v":""},null,{"v":0,"d":"0.00"},""]
[{"$nulls":6},{"$f":"IF(H246<>\"\",VLOOKUP(H246,Codes!C$1:D$475,2,FALSE),\"\")","v":""},{"$nulls":3},{"$f":"IF(J246>0,VLOOKUP(J246,' code comptes '!$A$1:$C$148,3),\"\")","v":""},null,{"v":0,"d":"0.00"},""]
[{"$nulls":6},{"$f":"IF(H247<>\"\",VLOOKUP(H247,Codes!C$1:D$475,2,FALSE),\"\")","v":""},{"$nulls":3},{"$f":"IF(J247>0,VLOOKUP(J247,' code comptes '!$A$1:$C$148,3),\"\")","v":""},null,{"v":0,"d":"0.00"},""]
[{"$nulls":6},{"$f":"IF(H248<>\"\",VLOOKUP(H248,Codes!C$1:D$475,2,FALSE),\"\")","v":""},{"$nulls":3},{"$f":"IF(J248>0,VLOOKUP(J248,' code comptes '!$A$1:$C$148,3),\"\")","v":""},null,{"v":0,"d":"0.00"},""]
[{"$nulls":6},{"$f":"IF(H249<>\"\",VLOOKUP(H249,Codes!C$1:D$475,2,FALSE),\"\")","v":""},{"$nulls":3},{"$f":"IF(J249>0,VLOOKUP(J249,' code comptes '!$A$1:$C$148,3),\"\")","v":""},null,{"v":0,"d":"0.00"},""]
[{"$nulls":6},{"$f":"IF(H250<>\"\",VLOOKUP(H250,Codes!C$1:D$475,2,FALSE),\"\")","v":""},{"$nulls":3},{"$f":"IF(J250>0,VLOOKUP(J250,' code comptes '!$A$1:$C$148,3),\"\")","v":""},null,{"v":0,"d":"0.00"},""]
[{"$nulls":6},{"$f":"IF(H251<>\"\",VLOOKUP(H251,Codes!C$1:D$475,2,FALSE),\"\")","v":""},{"$nulls":3},{"$f":"IF(J251>0,VLOOKUP(J251,' code comptes '!$A$1:$C$148,3),\"\")","v":""},null,{"v":0,"d":"0.00"},""]
[{"$nulls":6},{"$f":"IF(H252<>\"\",VLOOKUP(H252,Codes!C$1:D$475,2,FALSE),\"\")","v":""},{"$nulls":3},{"$f":"IF(J252>0,VLOOKUP(J252,' code comptes '!$A$1:$C$148,3),\"\")","v":""},null,{"v":0,"d":"0.00"},""]
[{"$nulls":6},{"$f":"IF(H253<>\"\",VLOOKUP(H253,Codes!C$1:D$475,2,FALSE),\"\")","v":""},{"$nulls":3},{"$f":"IF(J253>0,VLOOKUP(J253,' code comptes '!$A$1:$C$148,3),\"\")","v":""},null,{"v":0,"d":"0.00"},""]
[{"$nulls":6},{"$f":"IF(H254<>\"\",VLOOKUP(H254,Codes!C$1:D$475,2,FALSE),\"\")","v":""},{"$nulls":3},{"$f":"IF(J254>0,VLOOKUP(J254,' code comptes '!$A$1:$C$148,3),\"\")","v":""},null,{"v":0,"d":"0.00"},""]
[{"$nulls":6},{"$f":"IF(H255<>\"\",VLOOKUP(H255,Codes!C$1:D$475,2,FALSE),\"\")","v":""},{"$nulls":3},{"$f":"IF(J255>0,VLOOKUP(J255,' code comptes '!$A$1:$C$148,3),\"\")","v":""},null,{"v":0,"d":"0.00"},""]
[{"$nulls":6},{"$f":"IF(H256<>\"\",VLOOKUP(H256,Codes!C$1:D$475,2,FALSE),\"\")","v":""},{"$nulls":3},{"$f":"IF(J256>0,VLOOKUP(J256,' code comptes '!$A$1:$C$148,3),\"\")","v":""},null,{"v":0,"d":"0.00"},""]
[{"$nulls":6},{"$f":"IF(H257<>\"\",VLOOKUP(H257,Codes!C$1:D$475,2,FALSE),\"\")","v":""},{"$nulls":3},{"$f":"IF(J257>0,VLOOKUP(J257,' code comptes '!$A$1:$C$148,3),\"\")","v":""},null,{"$f":"D256","v":{"v":0,"d":"0.00"}},{"$f":"+CONCATENATE(G256,H256)","v":""}]
[{"$nulls":6},{"$f":"IF(H258<>\"\",VLOOKUP(H258,Codes!C$1:D$475,2,FALSE),\"\")","v":""},{"$nulls":3},{"$f":"IF(J258>0,VLOOKUP(J258,' code comptes '!$A$1:$C$148,3),\"\")","v":""},null,{"v":0,"d":"0.00"},""]
[{"$nulls":6},{"$f":"IF(H259<>\"\",VLOOKUP(H259,Codes!C$1:D$475,2,FALSE),\"\")","v":""},{"$nulls":3},{"$f":"IF(J259>0,VLOOKUP(J259,' code comptes '!$A$1:$C$148,3),\"\")","v":""},null,{"v":0,"d":"0.00"},""]
[{"$nulls":6},{"$f":"IF(H260<>\"\",VLOOKUP(H260,Codes!C$1:D$475,2,FALSE),\"\")","v":""},{"$nulls":3},{"$f":"IF(J260>0,VLOOKUP(J260,' code comptes '!$A$1:$C$148,3),\"\")","v":""},null,{"v":0,"d":"0.00"},""]
[{"$nulls":6},{"$f":"IF(H261<>\"\",VLOOKUP(H261,Codes!C$1:D$475,2,FALSE),\"\")","v":""},{"$nulls":3},{"$f":"IF(J261>0,VLOOKUP(J261,' code comptes '!$A$1:$C$148,3),\"\")","v":""},null,{"v":0,"d":"0.00"},""]
[{"$nulls":6},{"$f":"IF(H262<>\"\",VLOOKUP(H262,Codes!C$1:D$475,2,FALSE),\"\")","v":""},{"$nulls":3},{"$f":"IF(J262>0,VLOOKUP(J262,' code comptes '!$A$1:$C$148,3),\"\")","v":""},null,{"v":0,"d":"0.00"},""]
[{"$nulls":6},{"$f":"IF(H263<>\"\",VLOOKUP(H263,Codes!C$1:D$475,2,FALSE),\"\")","v":""},{"$nulls":3},{"$f":"IF(J263>0,VLOOKUP(J263,' code comptes '!$A$1:$C$148,3),\"\")","v":""},null,{"v":0,"d":"0.00"},""]
[{"$nulls":6},{"$f":"IF(H264<>\"\",VLOOKUP(H264,Codes!C$1:D$475,2,FALSE),\"\")","v":""},{"$nulls":3},{"$f":"IF(J264>0,VLOOKUP(J264,' code comptes '!$A$1:$C$148,3),\"\")","v":""},null,{"v":0,"d":"0.00"},""]
[{"$nulls":6},{"$f":"IF(H265<>\"\",VLOOKUP(H265,Codes!C$1:D$475,2,FALSE),\"\")","v":""},{"$nulls":3},{"$f":"IF(J265>0,VLOOKUP(J265,' code comptes '!$A$1:$C$148,3),\"\")","v":""},null,{"v":0,"d":"0.00"},""]
[{"$nulls":6},{"$f":"IF(H266<>\"\",VLOOKUP(H266,Codes!C$1:D$475,2,FALSE),\"\")","v":""},{"$nulls":3},{"$f":"IF(J266>0,VLOOKUP(J266,' code comptes '!$A$1:$C$148,3),\"\")","v":""},null,{"v":0,"d":"0.00"},""]
[{"$nulls":6},{"$f":"IF(H267<>\"\",VLOOKUP(H267,Codes!C$1:D$475,2,FALSE),\"\")","v":""},{"$nulls":3},{"$f":"IF(J267>0,VLOOKUP(J267,' code comptes '!$A$1:$C$148,3),\"\")","v":""},null,{"v":0,"d":"0.00"},""]
[{"$nulls":6},{"$f":"IF(H268<>\"\",VLOOKUP(H268,Codes!C$1:D$475,2,FALSE),\"\")","v":""},{"$nulls":3},{"$f":"IF(J268>0,VLOOKUP(J268,' code comptes '!$A$1:$C$148,3),\"\")","v":""},null,{"v":0,"d":"0.00"},""]
[{"$nulls":6},{"$f":"IF(H269<>\"\",VLOOKUP(H269,Codes!C$1:D$475,2,FALSE),\"\")","v":""},{"$nulls":3},{"$f":"IF(J269>0,VLOOKUP(J269,' code comptes '!$A$1:$C$148,3),\"\")","v":""},null,{"v":0,"d":"0.00"},""]
[{"$nulls":6},{"$f":"IF(H270<>\"\",VLOOKUP(H270,Codes!C$1:D$475,2,FALSE),\"\")","v":""},{"$nulls":3},{"$f":"IF(J270>0,VLOOKUP(J270,' code comptes '!$A$1:$C$148,3),\"\")","v":""},null,{"v":0,"d":"0.00"},""]
[{"$nulls":6},{"$f":"IF(H271<>\"\",VLOOKUP(H271,Codes!C$1:D$475,2,FALSE),\"\")","v":""},{"$nulls":3},{"$f":"IF(J271>0,VLOOKUP(J271,' code comptes '!$A$1:$C$148,3),\"\")","v":""},null,{"v":0,"d":"0.00"},""]
[{"$nulls":6},{"$f":"IF(H272<>\"\",VLOOKUP(H272,Codes!C$1:D$475,2,FALSE),\"\")","v":""},{"$nulls":3},{"$f":"IF(J272>0,VLOOKUP(J272,' code comptes '!$A$1:$C$148,3),\"\")","v":""},null,{"v":0,"d":"0.00"},""]
[{"$nulls":6},{"$f":"IF(H273<>\"\",VLOOKUP(H273,Codes!C$1:D$475,2,FALSE),\"\")","v":""},{"$nulls":3},{"$f":"IF(J273>0,VLOOKUP(J273,' code comptes '!$A$1:$C$148,3),\"\")","v":""},null,{"v":0,"d":"0.00"},""]
[{"$nulls":6},{"$f":"IF(H274<>\"\",VLOOKUP(H274,Codes!C$1:D$475,2,FALSE),\"\")","v":""},{"$nulls":3},{"$f":"IF(J274>0,VLOOKUP(J274,' code comptes '!$A$1:$C$148,3),\"\")","v":""},null,{"v":0,"d":"0.00"},""]
[{"$nulls":6},{"$f":"IF(H275<>\"\",VLOOKUP(H275,Codes!C$1:D$475,2,FALSE),\"\")","v":""},{"$nulls":3},{"$f":"IF(J275>0,VLOOKUP(J275,' code comptes '!$A$1:$C$148,3),\"\")","v":""},null,{"v":0,"d":"0.00"},""]
[{"$nulls":6},{"$f":"IF(H276<>\"\",VLOOKUP(H276,Codes!C$1:D$475,2,FALSE),\"\")","v":""},{"$nulls":3},{"$f":"IF(J276>0,VLOOKUP(J276,' code comptes '!$A$1:$C$148,3),\"\")","v":""},null,{"v":0,"d":"0.00"},""]
[{"$nulls":6},{"$f":"IF(H277<>\"\",VLOOKUP(H277,Codes!C$1:D$475,2,FALSE),\"\")","v":""},{"$nulls":3},{"$f":"IF(J277>0,VLOOKUP(J277,' code comptes '!$A$1:$C$148,3),\"\")","v":""},null,{"v":0,"d":"0.00"},""]
[{"$nulls":6},{"$f":"IF(H278<>\"\",VLOOKUP(H278,Codes!C$1:D$475,2,FALSE),\"\")","v":""},{"$nulls":3},{"$f":"IF(J278>0,VLOOKUP(J278,' code comptes '!$A$1:$C$148,3),\"\")","v":""},null,{"v":0,"d":"0.00"},""]
[{"$nulls":6},{"$f":"IF(H279<>\"\",VLOOKUP(H279,Codes!C$1:D$475,2,FALSE),\"\")","v":""},{"$nulls":3},{"$f":"IF(J279>0,VLOOKUP(J279,' code comptes '!$A$1:$C$148,3),\"\")","v":""},null,{"v":0,"d":"0.00"},""]
[{"$nulls":6},{"$f":"IF(H280<>\"\",VLOOKUP(H280,Codes!C$1:D$475,2,FALSE),\"\")","v":""},{"$nulls":3},{"$f":"IF(J280>0,VLOOKUP(J280,' code comptes '!$A$1:$C$148,3),\"\")","v":""},null,{"v":0,"d":"0.00"},""]
[{"$nulls":6},{"$f":"IF(H281<>\"\",VLOOKUP(H281,Codes!C$1:D$475,2,FALSE),\"\")","v":""}]
[{"$nulls":6},{"$f":"IF(H282<>\"\",VLOOKUP(H282,Codes!C$1:D$475,2,FALSE),\"\")","v":""}]
[{"$nulls":6},{"$f":"IF(H283<>\"\",VLOOKUP(H283,Codes!C$1:D$475,2,FALSE),\"\")","v":""}]
[{"$nulls":6},{"$f":"IF(H284<>\"\",VLOOKUP(H284,Codes!C$1:D$475,2,FALSE),\"\")","v":""}]
[{"$nulls":6},{"$f":"IF(H285<>\"\",VLOOKUP(H285,Codes!C$1:D$475,2,FALSE),\"\")","v":""}]
[{"$nulls":6},{"$f":"IF(H286<>\"\",VLOOKUP(H286,Codes!C$1:D$475,2,FALSE),\"\")","v":""}]
[{"$nulls":6},{"$f":"IF(H287<>\"\",VLOOKUP(H287,Codes!C$1:D$475,2,FALSE),\"\")","v":""}]
[{"$nulls":6},{"$f":"IF(H288<>\"\",VLOOKUP(H288,Codes!C$1:D$475,2,FALSE),\"\")","v":""}]
[{"$nulls":6},{"$f":"IF(H289<>\"\",VLOOKUP(H289,Codes!C$1:D$475,2,FALSE),\"\")","v":""}]
[{"$nulls":6},{"$f":"IF(H290<>\"\",VLOOKUP(H290,Codes!C$1:D$475,2,FALSE),\"\")","v":""}]
[{"$nulls":6},{"$f":"IF(H291<>\"\",VLOOKUP(H291,Codes!C$1:D$475,2,FALSE),\"\")","v":""}]
[{"$nulls":6},{"$f":"IF(H292<>\"\",VLOOKUP(H292,Codes!C$1:D$475,2,FALSE),\"\")","v":""}]
[{"$nulls":6},{"$f":"IF(H293<>\"\",VLOOKUP(H293,Codes!C$1:D$475,2,FALSE),\"\")","v":""}]
[{"$nulls":6},{"$f":"IF(H294<>\"\",VLOOKUP(H294,Codes!C$1:D$475,2,FALSE),\"\")","v":""}]
[{"$nulls":6},{"$f":"IF(H295<>\"\",VLOOKUP(H295,Codes!C$1:D$475,2,FALSE),\"\")","v":""}]
[{"$nulls":6},{"$f":"IF(H296<>\"\",VLOOKUP(H296,Codes!C$1:D$475,2,FALSE),\"\")","v":""}]
[{"$nulls":6},{"$f":"IF(H297<>\"\",VLOOKUP(H297,Codes!C$1:D$475,2,FALSE),\"\")","v":""}]
[{"$nulls":6},{"$f":"IF(H298<>\"\",VLOOKUP(H298,Codes!C$1:D$475,2,FALSE),\"\")","v":""}]
[{"$nulls":6},{"$f":"IF(H299<>\"\",VLOOKUP(H299,Codes!C$1:D$475,2,FALSE),\"\")","v":""}]
[{"$nulls":6},{"$f":"IF(H300<>\"\",VLOOKUP(H300,Codes!C$1:D$475,2,FALSE),\"\")","v":""}]
[{"$nulls":6},{"$f":"IF(H301<>\"\",VLOOKUP(H301,Codes!C$1:D$475,2,FALSE),\"\")","v":""}]
[{"$nulls":6},{"$f":"IF(H302<>\"\",VLOOKUP(H302,Codes!C$1:D$475,2,FALSE),\"\")","v":""}]
[{"$nulls":6},{"$f":"IF(H303<>\"\",VLOOKUP(H303,Codes!C$1:D$475,2,FALSE),\"\")","v":""}]
[{"$nulls":6},{"$f":"IF(H304<>\"\",VLOOKUP(H304,Codes!C$1:D$475,2,FALSE),\"\")","v":""}]
[{"$nulls":6},{"$f":"IF(H305<>\"\",VLOOKUP(H305,Codes!C$1:D$475,2,FALSE),\"\")","v":""}]
[{"$nulls":6},{"$f":"IF(H306<>\"\",VLOOKUP(H306,Codes!C$1:D$475,2,FALSE),\"\")","v":""}]
[{"$nulls":6},{"$f":"IF(H307<>\"\",VLOOKUP(H307,Codes!C$1:D$475,2,FALSE),\"\")","v":""}]
[{"$nulls":6},{"$f":"IF(H308<>\"\",VLOOKUP(H308,Codes!C$1:D$475,2,FALSE),\"\")","v":""}]
[{"$nulls":6},{"$f":"IF(H309<>\"\",VLOOKUP(H309,Codes!C$1:D$475,2,FALSE),\"\")","v":""}]
[{"$nulls":6},{"$f":"IF(H310<>\"\",VLOOKUP(H310,Codes!C$1:D$475,2,FALSE),\"\")","v":""}]
[{"$nulls":6},{"$f":"IF(H311<>\"\",VLOOKUP(H311,Codes!C$1:D$475,2,FALSE),\"\")","v":""}]
[{"$nulls":6},{"$f":"IF(H312<>\"\",VLOOKUP(H312,Codes!C$1:D$475,2,FALSE),\"\")","v":""}]
[{"$nulls":6},{"$f":"IF(H313<>\"\",VLOOKUP(H313,Codes!C$1:D$475,2,FALSE),\"\")","v":""}]
[{"$nulls":6},{"$f":"IF(H314<>\"\",VLOOKUP(H314,Codes!C$1:D$475,2,FALSE),\"\")","v":""}]
[{"$nulls":6},{"$f":"IF(H315<>\"\",VLOOKUP(H315,Codes!C$1:D$475,2,FALSE),\"\")","v":""}]
[{"$nulls":6},{"$f":"IF(H316<>\"\",VLOOKUP(H316,Codes!C$1:D$475,2,FALSE),\"\")","v":""}]
[{"$nulls":6},{"$f":"IF(H317<>\"\",VLOOKUP(H317,Codes!C$1:D$475,2,FALSE),\"\")","v":""}]
[{"$nulls":6},{"$f":"IF(H318<>\"\",VLOOKUP(H318,Codes!C$1:D$475,2,FALSE),\"\")","v":""}]
[{"$nulls":6},{"$f":"IF(H319<>\"\",VLOOKUP(H319,Codes!C$1:D$475,2,FALSE),\"\")","v":""}]
[{"$nulls":6},{"$f":"IF(H320<>\"\",VLOOKUP(H320,Codes!C$1:D$475,2,FALSE),\"\")","v":""}]
[{"$nulls":6},{"$f":"IF(H321<>\"\",VLOOKUP(H321,Codes!C$1:D$475,2,FALSE),\"\")","v":""}]
[{"$nulls":6},{"$f":"IF(H322<>\"\",VLOOKUP(H322,Codes!C$1:D$475,2,FALSE),\"\")","v":""}]
[{"$nulls":6},{"$f":"IF(H323<>\"\",VLOOKUP(H323,Codes!C$1:D$475,2,FALSE),\"\")","v":""}]
[{"$nulls":6},{"$f":"IF(H324<>\"\",VLOOKUP(H324,Codes!C$1:D$475,2,FALSE),\"\")","v":""}]
[{"$nulls":6},{"$f":"IF(H325<>\"\",VLOOKUP(H325,Codes!C$1:D$475,2,FALSE),\"\")","v":""}]
[{"$nulls":6},{"$f":"IF(H326<>\"\",VLOOKUP(H326,Codes!C$1:D$475,2,FALSE),\"\")","v":""}]
[{"$nulls":6},{"$f":"IF(H327<>\"\",VLOOKUP(H327,Codes!C$1:D$475,2,FALSE),\"\")","v":""}]
[{"$nulls":6},{"$f":"IF(H328<>\"\",VLOOKUP(H328,Codes!C$1:D$475,2,FALSE),\"\")","v":""}]
[{"$nulls":6},{"$f":"IF(H329<>\"\",VLOOKUP(H329,Codes!C$1:D$475,2,FALSE),\"\")","v":""}]
[{"$nulls":6},{"$f":"IF(H330<>\"\",VLOOKUP(H330,Codes!C$1:D$475,2,FALSE),\"\")","v":""}]
[{"$nulls":6},{"$f":"IF(H331<>\"\",VLOOKUP(H331,Codes!C$1:D$475,2,FALSE),\"\")","v":""}]
[{"$nulls":6},{"$f":"IF(H332<>\"\",VLOOKUP(H332,Codes!C$1:D$475,2,FALSE),\"\")","v":""}]
[{"$nulls":6},{"$f":"IF(H333<>\"\",VLOOKUP(H333,Codes!C$1:D$475,2,FALSE),\"\")","v":""}]
[{"$nulls":6},{"$f":"IF(H334<>\"\",VLOOKUP(H334,Codes!C$1:D$475,2,FALSE),\"\")","v":""}]
[{"$nulls":6},{"$f":"IF(H335<>\"\",VLOOKUP(H335,Codes!C$1:D$475,2,FALSE),\"\")","v":""}]
[{"$nulls":6},{"$f":"IF(H336<>\"\",VLOOKUP(H336,Codes!C$1:D$475,2,FALSE),\"\")","v":""}]
[{"$nulls":6},{"$f":"IF(H337<>\"\",VLOOKUP(H337,Codes!C$1:D$475,2,FALSE),\"\")","v":""}]
[{"$nulls":6},{"$f":"IF(H338<>\"\",VLOOKUP(H338,Codes!C$1:D$475,2,FALSE),\"\")","v":""}]
[{"$nulls":6},{"$f":"IF(H339<>\"\",VLOOKUP(H339,Codes!C$1:D$475,2,FALSE),\"\")","v":""}]
[{"$nulls":6},{"$f":"IF(H340<>\"\",VLOOKUP(H340,Codes!C$1:D$475,2,FALSE),\"\")","v":""}]
[{"$nulls":6},{"$f":"IF(H341<>\"\",VLOOKUP(H341,Codes!C$1:D$475,2,FALSE),\"\")","v":""}]
[{"$nulls":6},{"$f":"IF(H342<>\"\",VLOOKUP(H342,Codes!C$1:D$475,2,FALSE),\"\")","v":""}]
[{"$nulls":6},{"$f":"IF(H343<>\"\",VLOOKUP(H343,Codes!C$1:D$475,2,FALSE),\"\")","v":""}]
[{"$nulls":6},{"$f":"IF(H344<>\"\",VLOOKUP(H344,Codes!C$1:D$475,2,FALSE),\"\")","v":""}]
[{"$nulls":6},{"$f":"IF(H345<>\"\",VLOOKUP(H345,Codes!C$1:D$475,2,FALSE),\"\")","v":""}]
[{"$nulls":6},{"$f":"IF(H346<>\"\",VLOOKUP(H346,Codes!C$1:D$475,2,FALSE),\"\")","v":""}]
[{"$nulls":6},{"$f":"IF(H347<>\"\",VLOOKUP(H347,Codes!C$1:D$475,2,FALSE),\"\")","v":""}]
[{"$nulls":6},{"$f":"IF(H348<>\"\",VLOOKUP(H348,Codes!C$1:D$475,2,FALSE),\"\")","v":""}]
[{"$nulls":6},{"$f":"IF(H349<>\"\",VLOOKUP(H349,Codes!C$1:D$475,2,FALSE),\"\")","v":""}]
[{"$nulls":6},{"$f":"IF(H350<>\"\",VLOOKUP(H350,Codes!C$1:D$475,2,FALSE),\"\")","v":""}]
[{"$nulls":6},{"$f":"IF(H351<>\"\",VLOOKUP(H351,Codes!C$1:D$475,2,FALSE),\"\")","v":""}]
[{"$nulls":6},{"$f":"IF(H352<>\"\",VLOOKUP(H352,Codes!C$1:D$475,2,FALSE),\"\")","v":""}]
[{"$nulls":6},{"$f":"IF(H353<>\"\",VLOOKUP(H353,Codes!C$1:D$475,2,FALSE),\"\")","v":""}]
[{"$nulls":6},{"$f":"IF(H354<>\"\",VLOOKUP(H354,Codes!C$1:D$475,2,FALSE),\"\")","v":""}]
[{"$nulls":6},{"$f":"IF(H355<>\"\",VLOOKUP(H355,Codes!C$1:D$475,2,FALSE),\"\")","v":""}]
[{"$nulls":6},{"$f":"IF(H356<>\"\",VLOOKUP(H356,Codes!C$1:D$475,2,FALSE),\"\")","v":""}]
[{"$nulls":6},{"$f":"IF(H357<>\"\",VLOOKUP(H357,Codes!C$1:D$475,2,FALSE),\"\")","v":""}]
[{"$nulls":6},{"$f":"IF(H358<>\"\",VLOOKUP(H358,Codes!C$1:D$475,2,FALSE),\"\")","v":""}]
[{"$nulls":6},{"$f":"IF(H359<>\"\",VLOOKUP(H359,Codes!C$1:D$475,2,FALSE),\"\")","v":""}]
[{"$nulls":6},{"$f":"IF(H360<>\"\",VLOOKUP(H360,Codes!C$1:D$475,2,FALSE),\"\")","v":""}]
[{"$nulls":6},{"$f":"IF(H361<>\"\",VLOOKUP(H361,Codes!C$1:D$475,2,FALSE),\"\")","v":""}]
[{"$nulls":6},{"$f":"IF(H362<>\"\",VLOOKUP(H362,Codes!C$1:D$475,2,FALSE),\"\")","v":""}]
[{"$nulls":6},{"$f":"IF(H363<>\"\",VLOOKUP(H363,Codes!C$1:D$475,2,FALSE),\"\")","v":""}]
[{"$nulls":6},{"$f":"IF(H364<>\"\",VLOOKUP(H364,Codes!C$1:D$475,2,FALSE),\"\")","v":""}]
[{"$nulls":6},{"$f":"IF(H365<>\"\",VLOOKUP(H365,Codes!C$1:D$475,2,FALSE),\"\")","v":""}]
[{"$nulls":6},{"$f":"IF(H366<>\"\",VLOOKUP(H366,Codes!C$1:D$475,2,FALSE),\"\")","v":""}]
[{"$nulls":6},{"$f":"IF(H367<>\"\",VLOOKUP(H367,Codes!C$1:D$475,2,FALSE),\"\")","v":""}]
[{"$nulls":6},{"$f":"IF(H368<>\"\",VLOOKUP(H368,Codes!C$1:D$475,2,FALSE),\"\")","v":""}]
[{"$nulls":6},{"$f":"IF(H369<>\"\",VLOOKUP(H369,Codes!C$1:D$475,2,FALSE),\"\")","v":""}]
[{"$nulls":6},{"$f":"IF(H370<>\"\",VLOOKUP(H370,Codes!C$1:D$475,2,FALSE),\"\")","v":""}]
[{"$nulls":6},{"$f":"IF(H371<>\"\",VLOOKUP(H371,Codes!C$1:D$475,2,FALSE),\"\")","v":""}]
[{"$nulls":6},{"$f":"IF(H372<>\"\",VLOOKUP(H372,Codes!C$1:D$475,2,FALSE),\"\")","v":""}]
[{"$nulls":6},{"$f":"IF(H373<>\"\",VLOOKUP(H373,Codes!C$1:D$475,2,FALSE),\"\")","v":""}]
[{"$nulls":6},{"$f":"IF(H374<>\"\",VLOOKUP(H374,Codes!C$1:D$475,2,FALSE),\"\")","v":""}]
[{"$nulls":6},{"$f":"IF(H375<>\"\",VLOOKUP(H375,Codes!C$1:D$475,2,FALSE),\"\")","v":""}]
[{"$nulls":6},{"$f":"IF(H376<>\"\",VLOOKUP(H376,Codes!C$1:D$475,2,FALSE),\"\")","v":""}]
[{"$nulls":6},{"$f":"IF(H377<>\"\",VLOOKUP(H377,Codes!C$1:D$475,2,FALSE),\"\")","v":""}]
[{"$nulls":6},{"$f":"IF(H378<>\"\",VLOOKUP(H378,Codes!C$1:D$475,2,FALSE),\"\")","v":""}]
[{"$nulls":6},{"$f":"IF(H379<>\"\",VLOOKUP(H379,Codes!C$1:D$475,2,FALSE),\"\")","v":""}]
[{"$nulls":6},{"$f":"IF(H380<>\"\",VLOOKUP(H380,Codes!C$1:D$475,2,FALSE),\"\")","v":""}]
[{"$nulls":6},{"$f":"IF(H381<>\"\",VLOOKUP(H381,Codes!C$1:D$475,2,FALSE),\"\")","v":""}]
[{"$nulls":6},{"$f":"IF(H382<>\"\",VLOOKUP(H382,Codes!C$1:D$475,2,FALSE),\"\")","v":""}]
[{"$nulls":6},{"$f":"IF(H383<>\"\",VLOOKUP(H383,Codes!C$1:D$475,2,FALSE),\"\")","v":""}]
[{"$nulls":6},{"$f":"IF(H384<>\"\",VLOOKUP(H384,Codes!C$1:D$475,2,FALSE),\"\")","v":""}]
[{"$nulls":6},{"$f":"IF(H385<>\"\",VLOOKUP(H385,Codes!C$1:D$475,2,FALSE),\"\")","v":""}]
[{"$nulls":6},{"$f":"IF(H386<>\"\",VLOOKUP(H386,Codes!C$1:D$475,2,FALSE),\"\")","v":""}]
[{"$nulls":6},{"$f":"IF(H387<>\"\",VLOOKUP(H387,Codes!C$1:D$475,2,FALSE),\"\")","v":""},{"$nulls":3},{"$f":"IF(J387>0,VLOOKUP(J387,' code comptes '!$A$1:$C$148,3),\"\")","v":""},null,{"$f":"D280","v":{"v":0,"d":"0.00"}},{"$f":"+CONCATENATE(G280,H280)","v":""}]
[{"$nulls":6},{"$f":"IF(H388<>\"\",VLOOKUP(H388,Codes!C$1:D$475,2,FALSE),\"\")","v":""},{"$nulls":3},{"$f":"IF(J388>0,VLOOKUP(J388,' code comptes '!$A$1:$C$148,3),\"\")","v":""},null,{"v":0,"d":"0.00"},""]
[{"$nulls":6},{"$f":"IF(H389<>\"\",VLOOKUP(H389,Codes!C$1:D$475,2,FALSE),\"\")","v":""},{"$nulls":3},{"$f":"IF(J389>0,VLOOKUP(J389,' code comptes '!$A$1:$C$148,3),\"\")","v":""},null,{"v":0,"d":"0.00"},""]
[{"$nulls":6},{"$f":"IF(H390<>\"\",VLOOKUP(H390,Codes!C$1:D$475,2,FALSE),\"\")","v":""},{"$nulls":3},{"$f":"IF(J390>0,VLOOKUP(J390,' code comptes '!$A$1:$C$148,3),\"\")","v":""},null,{"v":0,"d":"0.00"},""]
[{"$nulls":6},{"$f":"IF(H391<>\"\",VLOOKUP(H391,Codes!C$1:D$475,2,FALSE),\"\")","v":""},{"$nulls":3},{"$f":"IF(J391>0,VLOOKUP(J391,' code comptes '!$A$1:$C$148,3),\"\")","v":""},null,{"v":0,"d":"0.00"},""]
[{"$nulls":6},{"$f":"IF(H392<>\"\",VLOOKUP(H392,Codes!C$1:D$475,2,FALSE),\"\")","v":""},{"$nulls":3},{"$f":"IF(J392>0,VLOOKUP(J392,' code comptes '!$A$1:$C$148,3),\"\")","v":""},null,{"v":0,"d":"0.00"},""]
[{"$nulls":6},{"$f":"IF(H393<>\"\",VLOOKUP(H393,Codes!C$1:D$475,2,FALSE),\"\")","v":""},{"$nulls":3},{"$f":"IF(J393>0,VLOOKUP(J393,' code comptes '!$A$1:$C$148,3),\"\")","v":""},null,{"v":0,"d":"0.00"},""]
[{"$nulls":6},{"$f":"IF(H394<>\"\",VLOOKUP(H394,Codes!C$1:D$475,2,FALSE),\"\")","v":""},{"$nulls":3},{"$f":"IF(J394>0,VLOOKUP(J394,' code comptes '!$A$1:$C$148,3),\"\")","v":""},null,{"v":0,"d":"0.00"},""]
[{"$nulls":6},{"$f":"IF(H395<>\"\",VLOOKUP(H395,Codes!C$1:D$475,2,FALSE),\"\")","v":""},{"$nulls":3},{"$f":"IF(J395>0,VLOOKUP(J395,' code comptes '!$A$1:$C$148,3),\"\")","v":""},null,{"v":0,"d":"0.00"},""]
[{"$nulls":6},{"$f":"IF(H396<>\"\",VLOOKUP(H396,Codes!C$1:D$475,2,FALSE),\"\")","v":""},{"$nulls":3},{"$f":"IF(J396>0,VLOOKUP(J396,' code comptes '!$A$1:$C$148,3),\"\")","v":""},null,{"v":0,"d":"0.00"},""]
[{"$nulls":6},{"$f":"IF(H397<>\"\",VLOOKUP(H397,Codes!C$1:D$475,2,FALSE),\"\")","v":""},{"$nulls":3},{"$f":"IF(J397>0,VLOOKUP(J397,' code comptes '!$A$1:$C$148,3),\"\")","v":""},null,{"v":0,"d":"0.00"},""]
[{"$nulls":6},{"$f":"IF(H398<>\"\",VLOOKUP(H398,Codes!C$1:D$475,2,FALSE),\"\")","v":""},{"$nulls":3},{"$f":"IF(J398>0,VLOOKUP(J398,' code comptes '!$A$1:$C$148,3),\"\")","v":""},null,{"v":0,"d":"0.00"},""]
[{"$nulls":6},{"$f":"IF(H399<>\"\",VLOOKUP(H399,Codes!C$1:D$475,2,FALSE),\"\")","v":""},{"$nulls":3},{"$f":"IF(J399>0,VLOOKUP(J399,' code comptes '!$A$1:$C$148,3),\"\")","v":""},null,{"v":0,"d":"0.00"},""]
[{"$nulls":6},{"$f":"IF(H400<>\"\",VLOOKUP(H400,Codes!C$1:D$475,2,FALSE),\"\")","v":""},{"$nulls":3},{"$f":"IF(J400>0,VLOOKUP(J400,' code comptes '!$A$1:$C$148,3),\"\")","v":""},null,{"v":0,"d":"0.00"},""]
[{"$nulls":6},{"$f":"IF(H401<>\"\",VLOOKUP(H401,Codes!C$1:D$475,2,FALSE),\"\")","v":""},{"$nulls":3},{"$f":"IF(J401>0,VLOOKUP(J401,' code comptes '!$A$1:$C$148,3),\"\")","v":""},null,{"v":0,"d":"0.00"},""]
[{"$nulls":6},{"$f":"IF(H402<>\"\",VLOOKUP(H402,Codes!C$1:D$475,2,FALSE),\"\")","v":""},{"$nulls":3},{"$f":"IF(J402>0,VLOOKUP(J402,' code comptes '!$A$1:$C$148,3),\"\")","v":""},null,{"v":0,"d":"0.00"},""]
[{"$nulls":6},{"$f":"IF(H403<>\"\",VLOOKUP(H403,Codes!C$1:D$475,2,FALSE),\"\")","v":""},{"$nulls":3},{"$f":"IF(J403>0,VLOOKUP(J403,' code comptes '!$A$1:$C$148,3),\"\")","v":""},null,{"v":0,"d":"0.00"},""]
[{"$nulls":6},{"$f":"IF(H404<>\"\",VLOOKUP(H404,Codes!C$1:D$475,2,FALSE),\"\")","v":""},{"$nulls":3},{"$f":"IF(J404>0,VLOOKUP(J404,' code comptes '!$A$1:$C$148,3),\"\")","v":""},null,{"v":0,"d":"0.00"},""]
[{"$nulls":6},{"$f":"IF(H405<>\"\",VLOOKUP(H405,Codes!C$1:D$475,2,FALSE),\"\")","v":""},{"$nulls":3},{"$f":"IF(J405>0,VLOOKUP(J405,' code comptes '!$A$1:$C$148,3),\"\")","v":""},null,{"v":0,"d":"0.00"},""]
[{"$nulls":6},{"$f":"IF(H406<>\"\",VLOOKUP(H406,Codes!C$1:D$475,2,FALSE),\"\")","v":""},{"$nulls":3},{"$f":"IF(J406>0,VLOOKUP(J406,' code comptes '!$A$1:$C$148,3),\"\")","v":""},null,{"v":0,"d":"0.00"},""]
[{"$nulls":6},{"$f":"IF(H407<>\"\",VLOOKUP(H407,Codes!C$1:D$475,2,FALSE),\"\")","v":""},{"$nulls":3},{"$f":"IF(J407>0,VLOOKUP(J407,' code comptes '!$A$1:$C$148,3),\"\")","v":""},null,{"v":0,"d":"0.00"},""]
[{"$nulls":6},{"$f":"IF(H408<>\"\",VLOOKUP(H408,Codes!C$1:D$475,2,FALSE),\"\")","v":""},{"$nulls":3},{"$f":"IF(J408>0,VLOOKUP(J408,' code comptes '!$A$1:$C$148,3),\"\")","v":""},null,{"v":0,"d":"0.00"},""]
[{"$nulls":6},{"$f":"IF(H409<>\"\",VLOOKUP(H409,Codes!C$1:D$475,2,FALSE),\"\")","v":""},{"$nulls":3},{"$f":"IF(J409>0,VLOOKUP(J409,' code comptes '!$A$1:$C$148,3),\"\")","v":""},null,{"v":0,"d":"0.00"},""]
[{"$nulls":6},{"$f":"IF(H410<>\"\",VLOOKUP(H410,Codes!C$1:D$475,2,FALSE),\"\")","v":""},{"$nulls":3},{"$f":"IF(J410>0,VLOOKUP(J410,' code comptes '!$A$1:$C$148,3),\"\")","v":""},null,{"v":0,"d":"0.00"},""]
[{"$nulls":6},{"$f":"IF(H411<>\"\",VLOOKUP(H411,Codes!C$1:D$475,2,FALSE),\"\")","v":""},{"$nulls":3},{"$f":"IF(J411>0,VLOOKUP(J411,' code comptes '!$A$1:$C$148,3),\"\")","v":""},null,{"v":0,"d":"0.00"},""]
[{"$nulls":6},{"$f":"IF(H412<>\"\",VLOOKUP(H412,Codes!C$1:D$475,2,FALSE),\"\")","v":""},{"$nulls":3},{"$f":"IF(J412>0,VLOOKUP(J412,' code comptes '!$A$1:$C$148,3),\"\")","v":""},null,{"v":0,"d":"0.00"},""]
[{"$nulls":6},{"$f":"IF(H413<>\"\",VLOOKUP(H413,Codes!C$1:D$475,2,FALSE),\"\")","v":""},{"$nulls":3},{"$f":"IF(J413>0,VLOOKUP(J413,' code comptes '!$A$1:$C$148,3),\"\")","v":""},null,{"v":0,"d":"0.00"},""]
[{"$nulls":6},{"$f":"IF(H414<>\"\",VLOOKUP(H414,Codes!C$1:D$475,2,FALSE),\"\")","v":""},{"$nulls":3},{"$f":"IF(J414>0,VLOOKUP(J414,' code comptes '!$A$1:$C$148,3),\"\")","v":""},null,{"v":0,"d":"0.00"},""]
[{"$nulls":6},{"$f":"IF(H415<>\"\",VLOOKUP(H415,Codes!C$1:D$475,2,FALSE),\"\")","v":""},{"$nulls":3},{"$f":"IF(J415>0,VLOOKUP(J415,' code comptes '!$A$1:$C$148,3),\"\")","v":""},null,{"v":0,"d":"0.00"},""]
[{"$nulls":6},{"$f":"IF(H416<>\"\",VLOOKUP(H416,Codes!C$1:D$475,2,FALSE),\"\")","v":""},{"$nulls":3},{"$f":"IF(J416>0,VLOOKUP(J416,' code comptes '!$A$1:$C$148,3),\"\")","v":""},null,{"v":0,"d":"0.00"},""]
[{"$nulls":6},{"$f":"IF(H417<>\"\",VLOOKUP(H417,Codes!C$1:D$475,2,FALSE),\"\")","v":""},{"$nulls":3},{"$f":"IF(J417>0,VLOOKUP(J417,' code comptes '!$A$1:$C$148,3),\"\")","v":""},null,{"v":0,"d":"0.00"},""]
[{"$nulls":6},{"$f":"IF(H418<>\"\",VLOOKUP(H418,Codes!C$1:D$475,2,FALSE),\"\")","v":""},{"$nulls":3},{"$f":"IF(J418>0,VLOOKUP(J418,' code comptes '!$A$1:$C$148,3),\"\")","v":""},null,{"v":0,"d":"0.00"},""]
[{"$nulls":6},{"$f":"IF(H419<>\"\",VLOOKUP(H419,Codes!C$1:D$475,2,FALSE),\"\")","v":""},{"$nulls":3},{"$f":"IF(J419>0,VLOOKUP(J419,' code comptes '!$A$1:$C$148,3),\"\")","v":""},null,{"v":0,"d":"0.00"},""]
[{"$nulls":6},{"$f":"IF(H420<>\"\",VLOOKUP(H420,Codes!C$1:D$475,2,FALSE),\"\")","v":""},{"$nulls":3},{"$f":"IF(J420>0,VLOOKUP(J420,' code comptes '!$A$1:$C$148,3),\"\")","v":""},null,{"v":0,"d":"0.00"},""]
[{"$nulls":6},{"$f":"IF(H421<>\"\",VLOOKUP(H421,Codes!C$1:D$475,2,FALSE),\"\")","v":""},{"$nulls":3},{"$f":"IF(J421>0,VLOOKUP(J421,' code comptes '!$A$1:$C$148,3),\"\")","v":""},null,{"v":0,"d":"0.00"},""]
[{"$nulls":6},{"$f":"IF(H422<>\"\",VLOOKUP(H422,Codes!C$1:D$475,2,FALSE),\"\")","v":""},{"$nulls":3},{"$f":"IF(J422>0,VLOOKUP(J422,' code comptes '!$A$1:$C$148,3),\"\")","v":""},null,{"v":0,"d":"0.00"},""]
[{"$nulls":6},{"$f":"IF(H423<>\"\",VLOOKUP(H423,Codes!C$1:D$475,2,FALSE),\"\")","v":""},{"$nulls":3},{"$f":"IF(J423>0,VLOOKUP(J423,' code comptes '!$A$1:$C$148,3),\"\")","v":""},null,{"v":0,"d":"0.00"},""]
[{"$nulls":6},{"$f":"IF(H424<>\"\",VLOOKUP(H424,Codes!C$1:D$475,2,FALSE),\"\")","v":""},{"$nulls":3},{"$f":"IF(J424>0,VLOOKUP(J424,' code comptes '!$A$1:$C$148,3),\"\")","v":""},null,{"v":0,"d":"0.00"},""]
[{"$nulls":6},{"$f":"IF(H425<>\"\",VLOOKUP(H425,Codes!C$1:D$475,2,FALSE),\"\")","v":""},{"$nulls":3},{"$f":"IF(J425>0,VLOOKUP(J425,' code comptes '!$A$1:$C$148,3),\"\")","v":""},null,{"v":0,"d":"0.00"},""]
[{"$nulls":6},{"$f":"IF(H426<>\"\",VLOOKUP(H426,Codes!C$1:D$475,2,FALSE),\"\")","v":""},{"$nulls":3},{"$f":"IF(J426>0,VLOOKUP(J426,' code comptes '!$A$1:$C$148,3),\"\")","v":""},null,{"v":0,"d":"0.00"},""]
[{"$nulls":6},{"$f":"IF(H427<>\"\",VLOOKUP(H427,Codes!C$1:D$475,2,FALSE),\"\")","v":""},{"$nulls":3},{"$f":"IF(J427>0,VLOOKUP(J427,' code comptes '!$A$1:$C$148,3),\"\")","v":""},null,{"$f":"D426","v":{"v":0,"d":"0.00"}},{"$f":"+CONCATENATE(G426,H426)","v":""}]
[{"$nulls":6},{"$f":"IF(H428<>\"\",VLOOKUP(H428,Codes!C$1:D$475,2,FALSE),\"\")","v":""},{"$nulls":3},{"$f":"IF(J428>0,VLOOKUP(J428,' code comptes '!$A$1:$C$148,3),\"\")","v":""},null,{"v":0,"d":"0.00"},""]
[{"$nulls":6},{"$f":"IF(H429<>\"\",VLOOKUP(H429,Codes!C$1:D$475,2,FALSE),\"\")","v":""},{"$nulls":3},{"$f":"IF(J429>0,VLOOKUP(J429,' code comptes '!$A$1:$C$148,3),\"\")","v":""},null,{"v":0,"d":"0.00"},""]
[{"$nulls":6},{"$f":"IF(H430<>\"\",VLOOKUP(H430,Codes!C$1:D$475,2,FALSE),\"\")","v":""},{"$nulls":3},{"$f":"IF(J430>0,VLOOKUP(J430,' code comptes '!$A$1:$C$148,3),\"\")","v":""},null,{"v":0,"d":"0.00"},""]
[{"$nulls":6},{"$f":"IF(H431<>\"\",VLOOKUP(H431,Codes!C$1:D$475,2,FALSE),\"\")","v":""},{"$nulls":3},{"$f":"IF(J431>0,VLOOKUP(J431,' code comptes '!$A$1:$C$148,3),\"\")","v":""},null,{"v":0,"d":"0.00"},""]
[{"$nulls":6},{"$f":"IF(H432<>\"\",VLOOKUP(H432,Codes!C$1:D$475,2,FALSE),\"\")","v":""},{"$nulls":3},{"$f":"IF(J432>0,VLOOKUP(J432,' code comptes '!$A$1:$C$148,3),\"\")","v":""},null,{"v":0,"d":"0.00"},""]
[{"$nulls":6},{"$f":"IF(H433<>\"\",VLOOKUP(H433,Codes!C$1:D$475,2,FALSE),\"\")","v":""},{"$nulls":3},{"$f":"IF(J433>0,VLOOKUP(J433,' code comptes '!$A$1:$C$148,3),\"\")","v":""},null,{"v":0,"d":"0.00"},""]
[{"$nulls":6},{"$f":"IF(H434<>\"\",VLOOKUP(H434,Codes!C$1:D$475,2,FALSE),\"\")","v":""},{"$nulls":3},{"$f":"IF(J434>0,VLOOKUP(J434,' code comptes '!$A$1:$C$148,3),\"\")","v":""},null,{"v":0,"d":"0.00"},""]
[{"$nulls":6},{"$f":"IF(H435<>\"\",VLOOKUP(H435,Codes!C$1:D$475,2,FALSE),\"\")","v":""},{"$nulls":3},{"$f":"IF(J435>0,VLOOKUP(J435,' code comptes '!$A$1:$C$148,3),\"\")","v":""},null,{"v":0,"d":"0.00"},""]
[{"$nulls":6},{"$f":"IF(H436<>\"\",VLOOKUP(H436,Codes!C$1:D$475,2,FALSE),\"\")","v":""},{"$nulls":3},{"$f":"IF(J436>0,VLOOKUP(J436,' code comptes '!$A$1:$C$148,3),\"\")","v":""},null,{"v":0,"d":"0.00"},""]
[{"$nulls":6},{"$f":"IF(H437<>\"\",VLOOKUP(H437,Codes!C$1:D$475,2,FALSE),\"\")","v":""},{"$nulls":3},{"$f":"IF(J437>0,VLOOKUP(J437,' code comptes '!$A$1:$C$148,3),\"\")","v":""},null,{"v":0,"d":"0.00"},""]
[{"$nulls":6},{"$f":"IF(H438<>\"\",VLOOKUP(H438,Codes!C$1:D$475,2,FALSE),\"\")","v":""},{"$nulls":3},{"$f":"IF(J438>0,VLOOKUP(J438,' code comptes '!$A$1:$C$148,3),\"\")","v":""},null,{"v":0,"d":"0.00"},""]
[{"$nulls":6},{"$f":"IF(H439<>\"\",VLOOKUP(H439,Codes!C$1:D$475,2,FALSE),\"\")","v":""},{"$nulls":3},{"$f":"IF(J439>0,VLOOKUP(J439,' code comptes '!$A$1:$C$148,3),\"\")","v":""},null,{"v":0,"d":"0.00"},""]
[{"$nulls":6},{"$f":"IF(H440<>\"\",VLOOKUP(H440,Codes!C$1:D$475,2,FALSE),\"\")","v":""},{"$nulls":3},{"$f":"IF(J440>0,VLOOKUP(J440,' code comptes '!$A$1:$C$148,3),\"\")","v":""},null,{"v":0,"d":"0.00"},""]
[{"$nulls":6},{"$f":"IF(H441<>\"\",VLOOKUP(H441,Codes!C$1:D$475,2,FALSE),\"\")","v":""},{"$nulls":3},{"$f":"IF(J441>0,VLOOKUP(J441,' code comptes '!$A$1:$C$148,3),\"\")","v":""},null,{"v":0,"d":"0.00"},""]
[{"$nulls":6},{"$f":"IF(H442<>\"\",VLOOKUP(H442,Codes!C$1:D$475,2,FALSE),\"\")","v":""},{"$nulls":3},{"$f":"IF(J442>0,VLOOKUP(J442,' code comptes '!$A$1:$C$148,3),\"\")","v":""},null,{"v":0,"d":"0.00"},""]
[{"$nulls":6},{"$f":"IF(H443<>\"\",VLOOKUP(H443,Codes!C$1:D$475,2,FALSE),\"\")","v":""},{"$nulls":3},{"$f":"IF(J443>0,VLOOKUP(J443,' code comptes '!$A$1:$C$148,3),\"\")","v":""},null,{"v":0,"d":"0.00"},""]
[{"$nulls":6},{"$f":"IF(H444<>\"\",VLOOKUP(H444,Codes!C$1:D$475,2,FALSE),\"\")","v":""},{"$nulls":3},{"$f":"IF(J444>0,VLOOKUP(J444,' code comptes '!$A$1:$C$148,3),\"\")","v":""},null,{"v":0,"d":"0.00"},""]
[{"$nulls":6},{"$f":"IF(H445<>\"\",VLOOKUP(H445,Codes!C$1:D$475,2,FALSE),\"\")","v":""},{"$nulls":3},{"$f":"IF(J445>0,VLOOKUP(J445,' code comptes '!$A$1:$C$148,3),\"\")","v":""},null,{"v":0,"d":"0.00"},""]
[{"$nulls":6},{"$f":"IF(H446<>\"\",VLOOKUP(H446,Codes!C$1:D$475,2,FALSE),\"\")","v":""},{"$nulls":3},{"$f":"IF(J446>0,VLOOKUP(J446,' code comptes '!$A$1:$C$148,3),\"\")","v":""},null,{"v":0,"d":"0.00"},""]
[{"$nulls":6},{"$f":"IF(H447<>\"\",VLOOKUP(H447,Codes!C$1:D$475,2,FALSE),\"\")","v":""},{"$nulls":3},{"$f":"IF(J447>0,VLOOKUP(J447,' code comptes '!$A$1:$C$148,3),\"\")","v":""},null,{"v":0,"d":"0.00"},""]
[{"$nulls":6},{"$f":"IF(H448<>\"\",VLOOKUP(H448,Codes!C$1:D$475,2,FALSE),\"\")","v":""},{"$nulls":3},{"$f":"IF(J448>0,VLOOKUP(J448,' code comptes '!$A$1:$C$148,3),\"\")","v":""},null,{"v":0,"d":"0.00"},""]
[{"$nulls":6},{"$f":"IF(H449<>\"\",VLOOKUP(H449,Codes!C$1:D$475,2,FALSE),\"\")","v":""},{"$nulls":3},{"$f":"IF(J449>0,VLOOKUP(J449,' code comptes '!$A$1:$C$148,3),\"\")","v":""},null,{"v":0,"d":"0.00"},""]
[{"$nulls":6},{"$f":"IF(H450<>\"\",VLOOKUP(H450,Codes!C$1:D$475,2,FALSE),\"\")","v":""},{"$nulls":3},{"$f":"IF(J450>0,VLOOKUP(J450,' code comptes '!$A$1:$C$148,3),\"\")","v":""},null,{"v":0,"d":"0.00"},""]
[{"$nulls":6},{"$f":"IF(H451<>\"\",VLOOKUP(H451,Codes!C$1:D$475,2,FALSE),\"\")","v":""},{"$nulls":3},{"$f":"IF(J451>0,VLOOKUP(J451,' code comptes '!$A$1:$C$148,3),\"\")","v":""},null,{"v":0,"d":"0.00"},""]
[{"$nulls":6},{"$f":"IF(H452<>\"\",VLOOKUP(H452,Codes!C$1:D$475,2,FALSE),\"\")","v":""},{"$nulls":3},{"$f":"IF(J452>0,VLOOKUP(J452,' code comptes '!$A$1:$C$148,3),\"\")","v":""},null,{"v":0,"d":"0.00"},""]
[{"$nulls":6},{"$f":"IF(H453<>\"\",VLOOKUP(H453,Codes!C$1:D$475,2,FALSE),\"\")","v":""},{"$nulls":3},{"$f":"IF(J453>0,VLOOKUP(J453,' code comptes '!$A$1:$C$148,3),\"\")","v":""},null,{"v":0,"d":"0.00"},""]
[{"$nulls":6},{"$f":"IF(H454<>\"\",VLOOKUP(H454,Codes!C$1:D$475,2,FALSE),\"\")","v":""},{"$nulls":3},{"$f":"IF(J454>0,VLOOKUP(J454,' code comptes '!$A$1:$C$148,3),\"\")","v":""},null,{"v":0,"d":"0.00"},""]
[{"$nulls":6},{"$f":"IF(H455<>\"\",VLOOKUP(H455,Codes!C$1:D$475,2,FALSE),\"\")","v":""},{"$nulls":3},{"$f":"IF(J455>0,VLOOKUP(J455,' code comptes '!$A$1:$C$148,3),\"\")","v":""},null,{"v":0,"d":"0.00"},""]
[{"$nulls":6},{"$f":"IF(H456<>\"\",VLOOKUP(H456,Codes!C$1:D$475,2,FALSE),\"\")","v":""},{"$nulls":3},{"$f":"IF(J456>0,VLOOKUP(J456,' code comptes '!$A$1:$C$148,3),\"\")","v":""},null,{"v":0,"d":"0.00"},""]
[{"$nulls":6},{"$f":"IF(H457<>\"\",VLOOKUP(H457,Codes!C$1:D$475,2,FALSE),\"\")","v":""},{"$nulls":3},{"$f":"IF(J457>0,VLOOKUP(J457,' code comptes '!$A$1:$C$148,3),\"\")","v":""},null,{"v":0,"d":"0.00"},""]
[{"$nulls":6},{"$f":"IF(H458<>\"\",VLOOKUP(H458,Codes!C$1:D$475,2,FALSE),\"\")","v":""},{"$nulls":3},{"$f":"IF(J458>0,VLOOKUP(J458,' code comptes '!$A$1:$C$148,3),\"\")","v":""},null,{"v":0,"d":"0.00"},""]
[{"$nulls":6},{"$f":"IF(H459<>\"\",VLOOKUP(H459,Codes!C$1:D$475,2,FALSE),\"\")","v":""},{"$nulls":3},{"$f":"IF(J459>0,VLOOKUP(J459,' code comptes '!$A$1:$C$148,3),\"\")","v":""},null,{"v":0,"d":"0.00"},""]
[{"$nulls":6},{"$f":"IF(H460<>\"\",VLOOKUP(H460,Codes!C$1:D$475,2,FALSE),\"\")","v":""},{"$nulls":3},{"$f":"IF(J460>0,VLOOKUP(J460,' code comptes '!$A$1:$C$148,3),\"\")","v":""},null,{"v":0,"d":"0.00"},""]
[{"$nulls":6},{"$f":"IF(H461<>\"\",VLOOKUP(H461,Codes!C$1:D$475,2,FALSE),\"\")","v":""},{"$nulls":3},{"$f":"IF(J461>0,VLOOKUP(J461,' code comptes '!$A$1:$C$148,3),\"\")","v":""},null,{"v":0,"d":"0.00"},""]
[{"$nulls":6},{"$f":"IF(H462<>\"\",VLOOKUP(H462,Codes!C$1:D$475,2,FALSE),\"\")","v":""},{"$nulls":3},{"$f":"IF(J462>0,VLOOKUP(J462,' code comptes '!$A$1:$C$148,3),\"\")","v":""},null,{"v":0,"d":"0.00"},""]
[{"$nulls":6},{"$f":"IF(H463<>\"\",VLOOKUP(H463,Codes!C$1:D$475,2,FALSE),\"\")","v":""},{"$nulls":3},{"$f":"IF(J463>0,VLOOKUP(J463,' code comptes '!$A$1:$C$148,3),\"\")","v":""},null,{"v":0,"d":"0.00"},""]
[{"$nulls":6},{"$f":"IF(H464<>\"\",VLOOKUP(H464,Codes!C$1:D$475,2,FALSE),\"\")","v":""},{"$nulls":3},{"$f":"IF(J464>0,VLOOKUP(J464,' code comptes '!$A$1:$C$148,3),\"\")","v":""},null,{"v":0,"d":"0.00"},""]
[{"$nulls":6},{"$f":"IF(H465<>\"\",VLOOKUP(H465,Codes!C$1:D$475,2,FALSE),\"\")","v":""},{"$nulls":3},{"$f":"IF(J465>0,VLOOKUP(J465,' code comptes '!$A$1:$C$148,3),\"\")","v":""},null,{"v":0,"d":"0.00"},""]
[{"$nulls":6},{"$f":"IF(H466<>\"\",VLOOKUP(H466,Codes!C$1:D$475,2,FALSE),\"\")","v":""},{"$nulls":3},{"$f":"IF(J466>0,VLOOKUP(J466,' code comptes '!$A$1:$C$148,3),\"\")","v":""},null,{"v":0,"d":"0.00"},""]
[{"$nulls":6},{"$f":"IF(H467<>\"\",VLOOKUP(H467,Codes!C$1:D$475,2,FALSE),\"\")","v":""},{"$nulls":3},{"$f":"IF(J467>0,VLOOKUP(J467,' code comptes '!$A$1:$C$148,3),\"\")","v":""},null,{"v":0,"d":"0.00"},""]
[{"$nulls":6},{"$f":"IF(H468<>\"\",VLOOKUP(H468,Codes!C$1:D$475,2,FALSE),\"\")","v":""},{"$nulls":3},{"$f":"IF(J468>0,VLOOKUP(J468,' code comptes '!$A$1:$C$148,3),\"\")","v":""},null,{"v":0,"d":"0.00"},""]
[{"$nulls":6},{"$f":"IF(H469<>\"\",VLOOKUP(H469,Codes!C$1:D$475,2,FALSE),\"\")","v":""},{"$nulls":3},{"$f":"IF(J469>0,VLOOKUP(J469,' code comptes '!$A$1:$C$148,3),\"\")","v":""},null,{"v":0,"d":"0.00"},""]
[{"$nulls":6},{"$f":"IF(H470<>\"\",VLOOKUP(H470,Codes!C$1:D$475,2,FALSE),\"\")","v":""},{"$nulls":3},{"$f":"IF(J470>0,VLOOKUP(J470,' code comptes '!$A$1:$C$148,3),\"\")","v":""},null,{"v":0,"d":"0.00"},""]
[{"$nulls":6},{"$f":"IF(H471<>\"\",VLOOKUP(H471,Codes!C$1:D$475,2,FALSE),\"\")","v":""},{"$nulls":3},{"$f":"IF(J471>0,VLOOKUP(J471,' code comptes '!$A$1:$C$148,3),\"\")","v":""},null,{"v":0,"d":"0.00"},""]
[{"$nulls":6},{"$f":"IF(H472<>\"\",VLOOKUP(H472,Codes!C$1:D$475,2,FALSE),\"\")","v":""},{"$nulls":3},{"$f":"IF(J472>0,VLOOKUP(J472,' code comptes '!$A$1:$C$148,3),\"\")","v":""},null,{"v":0,"d":"0.00"},""]
[{"$nulls":6},{"$f":"IF(H473<>\"\",VLOOKUP(H473,Codes!C$1:D$475,2,FALSE),\"\")","v":""},{"$nulls":3},{"$f":"IF(J473>0,VLOOKUP(J473,' code comptes '!$A$1:$C$148,3),\"\")","v":""},null,{"v":0,"d":"0.00"},""]
[{"$nulls":6},{"$f":"IF(H474<>\"\",VLOOKUP(H474,Codes!C$1:D$475,2,FALSE),\"\")","v":""},{"$nulls":3},{"$f":"IF(J474>0,VLOOKUP(J474,' code comptes '!$A$1:$C$148,3),\"\")","v":""},null,{"v":0,"d":"0.00"},""]
[{"$nulls":6},{"$f":"IF(H475<>\"\",VLOOKUP(H475,Codes!C$1:D$475,2,FALSE),\"\")","v":""},{"$nulls":3},{"$f":"IF(J475>0,VLOOKUP(J475,' code comptes '!$A$1:$C$148,3),\"\")","v":""},null,{"v":0,"d":"0.00"},""]
[{"$nulls":6},{"$f":"IF(H476<>\"\",VLOOKUP(H476,Codes!C$1:D$475,2,FALSE),\"\")","v":""},{"$nulls":3},{"$f":"IF(J476>0,VLOOKUP(J476,' code comptes '!$A$1:$C$148,3),\"\")","v":""},null,{"v":0,"d":"0.00"},""]
[{"$nulls":6},{"$f":"IF(H477<>\"\",VLOOKUP(H477,Codes!C$1:D$475,2,FALSE),\"\")","v":""},{"$nulls":3},{"$f":"IF(J477>0,VLOOKUP(J477,' code comptes '!$A$1:$C$148,3),\"\")","v":""},null,{"v":0,"d":"0.00"},""]
[{"$nulls":6},{"$f":"IF(H478<>\"\",VLOOKUP(H478,Codes!C$1:D$475,2,FALSE),\"\")","v":""},{"$nulls":3},{"$f":"IF(J478>0,VLOOKUP(J478,' code comptes '!$A$1:$C$148,3),\"\")","v":""},null,{"v":0,"d":"0.00"},""]
[{"$nulls":6},{"$f":"IF(H479<>\"\",VLOOKUP(H479,Codes!C$1:D$475,2,FALSE),\"\")","v":""},{"$nulls":3},{"$f":"IF(J479>0,VLOOKUP(J479,' code comptes '!$A$1:$C$148,3),\"\")","v":""},null,{"v":0,"d":"0.00"},""]
[{"$nulls":6},{"$f":"IF(H480<>\"\",VLOOKUP(H480,Codes!C$1:D$475,2,FALSE),\"\")","v":""},{"$nulls":3},{"$f":"IF(J480>0,VLOOKUP(J480,' code comptes '!$A$1:$C$148,3),\"\")","v":""},null,{"v":0,"d":"0.00"},""]
[{"$nulls":6},{"$f":"IF(H481<>\"\",VLOOKUP(H481,Codes!C$1:D$475,2,FALSE),\"\")","v":""},{"$nulls":3},{"$f":"IF(J481>0,VLOOKUP(J481,' code comptes '!$A$1:$C$148,3),\"\")","v":""},null,{"v":0,"d":"0.00"},""]
[{"$nulls":6},{"$f":"IF(H482<>\"\",VLOOKUP(H482,Codes!C$1:D$475,2,FALSE),\"\")","v":""},{"$nulls":3},{"$f":"IF(J482>0,VLOOKUP(J482,' code comptes '!$A$1:$C$148,3),\"\")","v":""},null,{"v":0,"d":"0.00"},""]
[{"$nulls":6},{"$f":"IF(H483<>\"\",VLOOKUP(H483,Codes!C$1:D$475,2,FALSE),\"\")","v":""},{"$nulls":3},{"$f":"IF(J483>0,VLOOKUP(J483,' code comptes '!$A$1:$C$148,3),\"\")","v":""},null,{"v":0,"d":"0.00"},""]
[{"$nulls":6},{"$f":"IF(H484<>\"\",VLOOKUP(H484,Codes!C$1:D$475,2,FALSE),\"\")","v":""},{"$nulls":3},{"$f":"IF(J484>0,VLOOKUP(J484,' code comptes '!$A$1:$C$148,3),\"\")","v":""},null,{"v":0,"d":"0.00"},""]
[{"$nulls":6},{"$f":"IF(H485<>\"\",VLOOKUP(H485,Codes!C$1:D$475,2,FALSE),\"\")","v":""},{"$nulls":3},{"$f":"IF(J485>0,VLOOKUP(J485,' code comptes '!$A$1:$C$148,3),\"\")","v":""},null,{"v":0,"d":"0.00"},""]
[{"$nulls":6},{"$f":"IF(H486<>\"\",VLOOKUP(H486,Codes!C$1:D$475,2,FALSE),\"\")","v":""},{"$nulls":3},{"$f":"IF(J486>0,VLOOKUP(J486,' code comptes '!$A$1:$C$148,3),\"\")","v":""},null,{"v":0,"d":"0.00"},""]
[{"$nulls":6},{"$f":"IF(H487<>\"\",VLOOKUP(H487,Codes!C$1:D$475,2,FALSE),\"\")","v":""},{"$nulls":3},{"$f":"IF(J487>0,VLOOKUP(J487,' code comptes '!$A$1:$C$148,3),\"\")","v":""},null,{"v":0,"d":"0.00"},""]
[{"$nulls":6},{"$f":"IF(H488<>\"\",VLOOKUP(H488,Codes!C$1:D$475,2,FALSE),\"\")","v":""},{"$nulls":3},{"$f":"IF(J488>0,VLOOKUP(J488,' code comptes '!$A$1:$C$148,3),\"\")","v":""},null,{"v":0,"d":"0.00"},""]
[{"$nulls":6},{"$f":"IF(H489<>\"\",VLOOKUP(H489,Codes!C$1:D$475,2,FALSE),\"\")","v":""},{"$nulls":3},{"$f":"IF(J489>0,VLOOKUP(J489,' code comptes '!$A$1:$C$148,3),\"\")","v":""},null,{"v":0,"d":"0.00"},""]
[{"$nulls":6},{"$f":"IF(H490<>\"\",VLOOKUP(H490,Codes!C$1:D$475,2,FALSE),\"\")","v":""},{"$nulls":3},{"$f":"IF(J490>0,VLOOKUP(J490,' code comptes '!$A$1:$C$148,3),\"\")","v":""},null,{"v":0,"d":"0.00"},""]
[{"$nulls":6},{"$f":"IF(H491<>\"\",VLOOKUP(H491,Codes!C$1:D$475,2,FALSE),\"\")","v":""}]
[{"$nulls":6},{"$f":"IF(H492<>\"\",VLOOKUP(H492,Codes!C$1:D$475,2,FALSE),\"\")","v":""}]
[{"$nulls":6},{"$f":"IF(H493<>\"\",VLOOKUP(H493,Codes!C$1:D$475,2,FALSE),\"\")","v":""}]
[{"$nulls":6},{"$f":"IF(H494<>\"\",VLOOKUP(H494,Codes!C$1:D$475,2,FALSE),\"\")","v":""},{"$nulls":3},{"$f":"IF(J494>0,VLOOKUP(J494,' code comptes '!$A$1:$C$148,3),\"\")","v":""},null,{"$f":"D490","v":{"v":0,"d":"0.00"}},{"$f":"+CONCATENATE(G490,H490)","v":""}]
[{"$nulls":6},{"$f":"IF(H495<>\"\",VLOOKUP(H495,Codes!C$1:D$475,2,FALSE),\"\")","v":""},{"$nulls":3},{"$f":"IF(J495>0,VLOOKUP(J495,' code comptes '!$A$1:$C$148,3),\"\")","v":""},null,{"$f":"D494","v":{"v":0,"d":"0.00"}},{"$f":"+CONCATENATE(G494,H494)","v":""}]
[{"$nulls":6},{"$f":"IF(H496<>\"\",VLOOKUP(H496,Codes!C$1:D$475,2,FALSE),\"\")","v":""},{"$nulls":3},{"$f":"IF(J496>0,VLOOKUP(J496,' code comptes '!$A$1:$C$148,3),\"\")","v":""},null,{"v":0,"d":"0.00"},""]
[{"$nulls":6},{"$f":"IF(H497<>\"\",VLOOKUP(H497,Codes!C$1:D$475,2,FALSE),\"\")","v":""},{"$nulls":3},{"$f":"IF(J497>0,VLOOKUP(J497,' code comptes '!$A$1:$C$148,3),\"\")","v":""},null,{"v":0,"d":"0.00"},""]
[{"$nulls":6},{"$f":"IF(H498<>\"\",VLOOKUP(H498,Codes!C$1:D$475,2,FALSE),\"\")","v":""},{"$nulls":3},{"$f":"IF(J498>0,VLOOKUP(J498,' code comptes '!$A$1:$C$148,3),\"\")","v":""},null,{"v":0,"d":"0.00"},""]
[{"$nulls":6},{"$f":"IF(H499<>\"\",VLOOKUP(H499,Codes!C$1:D$475,2,FALSE),\"\")","v":""},{"$nulls":3},{"$f":"IF(J499>0,VLOOKUP(J499,' code comptes '!$A$1:$C$148,3),\"\")","v":""},null,{"v":0,"d":"0.00"},""]
[{"$nulls":6},{"$f":"IF(H500<>\"\",VLOOKUP(H500,Codes!C$1:D$475,2,FALSE),\"\")","v":""},{"$nulls":3},{"$f":"IF(J500>0,VLOOKUP(J500,' code comptes '!$A$1:$C$148,3),\"\")","v":""},null,{"v":0,"d":"0.00"},""]
[{"$nulls":6},{"$f":"IF(H501<>\"\",VLOOKUP(H501,Codes!C$1:D$475,2,FALSE),\"\")","v":""}]
[{"$nulls":6},{"$f":"IF(H502<>\"\",VLOOKUP(H502,Codes!C$1:D$475,2,FALSE),\"\")","v":""}]
[{"$nulls":6},{"$f":"IF(H503<>\"\",VLOOKUP(H503,Codes!C$1:D$475,2,FALSE),\"\")","v":""}]
[{"$nulls":6},{"$f":"IF(H504<>\"\",VLOOKUP(H504,Codes!C$1:D$475,2,FALSE),\"\")","v":""}]
[{"$nulls":6},{"$f":"IF(H505<>\"\",VLOOKUP(H505,Codes!C$1:D$475,2,FALSE),\"\")","v":""}]
[{"$nulls":6},{"$f":"IF(H506<>\"\",VLOOKUP(H506,Codes!C$1:D$475,2,FALSE),\"\")","v":""}]
[{"$nulls":6},{"$f":"IF(H507<>\"\",VLOOKUP(H507,Codes!C$1:D$475,2,FALSE),\"\")","v":""}]
[{"$nulls":6},{"$f":"IF(H508<>\"\",VLOOKUP(H508,Codes!C$1:D$475,2,FALSE),\"\")","v":""}]
[{"$nulls":6},{"$f":"IF(H509<>\"\",VLOOKUP(H509,Codes!C$1:D$475,2,FALSE),\"\")","v":""}]
[{"$nulls":6},{"$f":"IF(H510<>\"\",VLOOKUP(H510,Codes!C$1:D$475,2,FALSE),\"\")","v":""}]
[{"$nulls":6},{"$f":"IF(H511<>\"\",VLOOKUP(H511,Codes!C$1:D$475,2,FALSE),\"\")","v":""}]
[{"$nulls":6},{"$f":"IF(H512<>\"\",VLOOKUP(H512,Codes!C$1:D$475,2,FALSE),\"\")","v":""}]
[{"$nulls":6},{"$f":"IF(H513<>\"\",VLOOKUP(H513,Codes!C$1:D$475,2,FALSE),\"\")","v":""}]
[{"$nulls":6},{"$f":"IF(H514<>\"\",VLOOKUP(H514,Codes!C$1:D$475,2,FALSE),\"\")","v":""}]
[{"$nulls":6},{"$f":"IF(H515<>\"\",VLOOKUP(H515,Codes!C$1:D$475,2,FALSE),\"\")","v":""}]
[{"$nulls":6},{"$f":"IF(H516<>\"\",VLOOKUP(H516,Codes!C$1:D$475,2,FALSE),\"\")","v":""}]
[{"$nulls":6},{"$f":"IF(H517<>\"\",VLOOKUP(H517,Codes!C$1:D$475,2,FALSE),\"\")","v":""}]
[{"$nulls":6},{"$f":"IF(H518<>\"\",VLOOKUP(H518,Codes!C$1:D$475,2,FALSE),\"\")","v":""}]
[{"$nulls":6},{"$f":"IF(H519<>\"\",VLOOKUP(H519,Codes!C$1:D$475,2,FALSE),\"\")","v":""}]
[{"$nulls":6},{"$f":"IF(H520<>\"\",VLOOKUP(H520,Codes!C$1:D$475,2,FALSE),\"\")","v":""}]
[{"$nulls":6},{"$f":"IF(H521<>\"\",VLOOKUP(H521,Codes!C$1:D$475,2,FALSE),\"\")","v":""}]
[{"$nulls":6},{"$f":"IF(H522<>\"\",VLOOKUP(H522,Codes!C$1:D$475,2,FALSE),\"\")","v":""}]
[{"$nulls":6},{"$f":"IF(H523<>\"\",VLOOKUP(H523,Codes!C$1:D$475,2,FALSE),\"\")","v":""}]
[{"$nulls":6},{"$f":"IF(H524<>\"\",VLOOKUP(H524,Codes!C$1:D$475,2,FALSE),\"\")","v":""}]
[{"$nulls":6},{"$f":"IF(H525<>\"\",VLOOKUP(H525,Codes!C$1:D$475,2,FALSE),\"\")","v":""}]
[{"$nulls":6},{"$f":"IF(H526<>\"\",VLOOKUP(H526,Codes!C$1:D$475,2,FALSE),\"\")","v":""}]
[{"$nulls":6},{"$f":"IF(H527<>\"\",VLOOKUP(H527,Codes!C$1:D$475,2,FALSE),\"\")","v":""}]
[{"$nulls":6},{"$f":"IF(H528<>\"\",VLOOKUP(H528,Codes!C$1:D$475,2,FALSE),\"\")","v":""}]
[{"$nulls":6},{"$f":"IF(H529<>\"\",VLOOKUP(H529,Codes!C$1:D$475,2,FALSE),\"\")","v":""}]
[{"$nulls":6},{"$f":"IF(H530<>\"\",VLOOKUP(H530,Codes!C$1:D$475,2,FALSE),\"\")","v":""}]
[{"$nulls":6},{"$f":"IF(H531<>\"\",VLOOKUP(H531,Codes!C$1:D$475,2,FALSE),\"\")","v":""}]
[{"$nulls":6},{"$f":"IF(H532<>\"\",VLOOKUP(H532,Codes!C$1:D$475,2,FALSE),\"\")","v":""}]
[{"$nulls":6},{"$f":"IF(H533<>\"\",VLOOKUP(H533,Codes!C$1:D$475,2,FALSE),\"\")","v":""}]
[{"$nulls":6},{"$f":"IF(H534<>\"\",VLOOKUP(H534,Codes!C$1:D$475,2,FALSE),\"\")","v":""}]
[{"$nulls":6},{"$f":"IF(H535<>\"\",VLOOKUP(H535,Codes!C$1:D$475,2,FALSE),\"\")","v":""}]
[{"$nulls":6},{"$f":"IF(H536<>\"\",VLOOKUP(H536,Codes!C$1:D$475,2,FALSE),\"\")","v":""}]
[{"$nulls":6},{"$f":"IF(H537<>\"\",VLOOKUP(H537,Codes!C$1:D$475,2,FALSE),\"\")","v":""}]
[{"$nulls":6},{"$f":"IF(H538<>\"\",VLOOKUP(H538,Codes!C$1:D$475,2,FALSE),\"\")","v":""}]
[{"$nulls":6},{"$f":"IF(H539<>\"\",VLOOKUP(H539,Codes!C$1:D$475,2,FALSE),\"\")","v":""}]
[{"$nulls":6},{"$f":"IF(H540<>\"\",VLOOKUP(H540,Codes!C$1:D$475,2,FALSE),\"\")","v":""}]
[{"$nulls":6},{"$f":"IF(H541<>\"\",VLOOKUP(H541,Codes!C$1:D$475,2,FALSE),\"\")","v":""}]
[{"$nulls":6},{"$f":"IF(H542<>\"\",VLOOKUP(H542,Codes!C$1:D$475,2,FALSE),\"\")","v":""}]
[{"$nulls":6},{"$f":"IF(H543<>\"\",VLOOKUP(H543,Codes!C$1:D$475,2,FALSE),\"\")","v":""}]
[{"$nulls":6},{"$f":"IF(H544<>\"\",VLOOKUP(H544,Codes!C$1:D$475,2,FALSE),\"\")","v":""}]
[{"$nulls":6},{"$f":"IF(H545<>\"\",VLOOKUP(H545,Codes!C$1:D$475,2,FALSE),\"\")","v":""}]
[{"$nulls":6},{"$f":"IF(H546<>\"\",VLOOKUP(H546,Codes!C$1:D$475,2,FALSE),\"\")","v":""}]
[{"$nulls":6},{"$f":"IF(H547<>\"\",VLOOKUP(H547,Codes!C$1:D$475,2,FALSE),\"\")","v":""}]
[{"$nulls":6},{"$f":"IF(H548<>\"\",VLOOKUP(H548,Codes!C$1:D$475,2,FALSE),\"\")","v":""}]
[{"$nulls":6},{"$f":"IF(H549<>\"\",VLOOKUP(H549,Codes!C$1:D$475,2,FALSE),\"\")","v":""}]
[{"$nulls":6},{"$f":"IF(H550<>\"\",VLOOKUP(H550,Codes!C$1:D$475,2,FALSE),\"\")","v":""}]
[{"$nulls":6},{"$f":"IF(H551<>\"\",VLOOKUP(H551,Codes!C$1:D$475,2,FALSE),\"\")","v":""}]
[{"$nulls":6},{"$f":"IF(H552<>\"\",VLOOKUP(H552,Codes!C$1:D$475,2,FALSE),\"\")","v":""}]
[{"$nulls":6},{"$f":"IF(H553<>\"\",VLOOKUP(H553,Codes!C$1:D$475,2,FALSE),\"\")","v":""}]
[{"$nulls":6},{"$f":"IF(H554<>\"\",VLOOKUP(H554,Codes!C$1:D$475,2,FALSE),\"\")","v":""}]
[{"$nulls":6},{"$f":"IF(H555<>\"\",VLOOKUP(H555,Codes!C$1:D$475,2,FALSE),\"\")","v":""}]
[{"$nulls":6},{"$f":"IF(H556<>\"\",VLOOKUP(H556,Codes!C$1:D$475,2,FALSE),\"\")","v":""}]
[{"$nulls":6},{"$f":"IF(H557<>\"\",VLOOKUP(H557,Codes!C$1:D$475,2,FALSE),\"\")","v":""}]
[{"$nulls":6},{"$f":"IF(H558<>\"\",VLOOKUP(H558,Codes!C$1:D$475,2,FALSE),\"\")","v":""}]
[{"$nulls":6},{"$f":"IF(H559<>\"\",VLOOKUP(H559,Codes!C$1:D$475,2,FALSE),\"\")","v":""}]
[{"$nulls":6},{"$f":"IF(H560<>\"\",VLOOKUP(H560,Codes!C$1:D$475,2,FALSE),\"\")","v":""}]
[{"$nulls":6},{"$f":"IF(H561<>\"\",VLOOKUP(H561,Codes!C$1:D$475,2,FALSE),\"\")","v":""}]
[{"$nulls":6},{"$f":"IF(H562<>\"\",VLOOKUP(H562,Codes!C$1:D$475,2,FALSE),\"\")","v":""}]
[{"$nulls":6},{"$f":"IF(H563<>\"\",VLOOKUP(H563,Codes!C$1:D$475,2,FALSE),\"\")","v":""}]
[{"$nulls":6},{"$f":"IF(H564<>\"\",VLOOKUP(H564,Codes!C$1:D$475,2,FALSE),\"\")","v":""}]
[{"$nulls":6},{"$f":"IF(H565<>\"\",VLOOKUP(H565,Codes!C$1:D$475,2,FALSE),\"\")","v":""}]
[{"$nulls":6},{"$f":"IF(H566<>\"\",VLOOKUP(H566,Codes!C$1:D$475,2,FALSE),\"\")","v":""}]
[{"$nulls":6},{"$f":"IF(H567<>\"\",VLOOKUP(H567,Codes!C$1:D$475,2,FALSE),\"\")","v":""}]
[{"$nulls":6},{"$f":"IF(H568<>\"\",VLOOKUP(H568,Codes!C$1:D$475,2,FALSE),\"\")","v":""}]
[{"$nulls":6},{"$f":"IF(H569<>\"\",VLOOKUP(H569,Codes!C$1:D$475,2,FALSE),\"\")","v":""}]
[{"$nulls":6},{"$f":"IF(H570<>\"\",VLOOKUP(H570,Codes!C$1:D$475,2,FALSE),\"\")","v":""}]
[{"$nulls":6},{"$f":"IF(H571<>\"\",VLOOKUP(H571,Codes!C$1:D$475,2,FALSE),\"\")","v":""}]
[{"$nulls":6},{"$f":"IF(H572<>\"\",VLOOKUP(H572,Codes!C$1:D$475,2,FALSE),\"\")","v":""}]
[{"$nulls":6},{"$f":"IF(H573<>\"\",VLOOKUP(H573,Codes!C$1:D$475,2,FALSE),\"\")","v":""}]
[{"$nulls":6},{"$f":"IF(H574<>\"\",VLOOKUP(H574,Codes!C$1:D$475,2,FALSE),\"\")","v":""}]
[{"$nulls":6},{"$f":"IF(H575<>\"\",VLOOKUP(H575,Codes!C$1:D$475,2,FALSE),\"\")","v":""}]
[{"$nulls":6},{"$f":"IF(H576<>\"\",VLOOKUP(H576,Codes!C$1:D$475,2,FALSE),\"\")","v":""}]
[{"$nulls":6},{"$f":"IF(H577<>\"\",VLOOKUP(H577,Codes!C$1:D$475,2,FALSE),\"\")","v":""}]
[{"$nulls":6},{"$f":"IF(H578<>\"\",VLOOKUP(H578,Codes!C$1:D$475,2,FALSE),\"\")","v":""}]
[{"$nulls":6},{"$f":"IF(H579<>\"\",VLOOKUP(H579,Codes!C$1:D$475,2,FALSE),\"\")","v":""}]
[{"$nulls":6},{"$f":"IF(H580<>\"\",VLOOKUP(H580,Codes!C$1:D$475,2,FALSE),\"\")","v":""}]
[{"$nulls":6},{"$f":"IF(H581<>\"\",VLOOKUP(H581,Codes!C$1:D$475,2,FALSE),\"\")","v":""}]
[{"$nulls":6},{"$f":"IF(H582<>\"\",VLOOKUP(H582,Codes!C$1:D$475,2,FALSE),\"\")","v":""}]
[{"$nulls":6},{"$f":"IF(H583<>\"\",VLOOKUP(H583,Codes!C$1:D$475,2,FALSE),\"\")","v":""}]
[{"$nulls":6},{"$f":"IF(H584<>\"\",VLOOKUP(H584,Codes!C$1:D$475,2,FALSE),\"\")","v":""}]
[{"$nulls":6},{"$f":"IF(H585<>\"\",VLOOKUP(H585,Codes!C$1:D$475,2,FALSE),\"\")","v":""}]
[{"$nulls":6},{"$f":"IF(H586<>\"\",VLOOKUP(H586,Codes!C$1:D$475,2,FALSE),\"\")","v":""}]
[{"$nulls":6},{"$f":"IF(H587<>\"\",VLOOKUP(H587,Codes!C$1:D$475,2,FALSE),\"\")","v":""}]
[{"$nulls":6},{"$f":"IF(H588<>\"\",VLOOKUP(H588,Codes!C$1:D$475,2,FALSE),\"\")","v":""}]
[{"$nulls":6},{"$f":"IF(H589<>\"\",VLOOKUP(H589,Codes!C$1:D$475,2,FALSE),\"\")","v":""}]
[{"$nulls":6},{"$f":"IF(H590<>\"\",VLOOKUP(H590,Codes!C$1:D$475,2,FALSE),\"\")","v":""}]
[{"$nulls":6},{"$f":"IF(H591<>\"\",VLOOKUP(H591,Codes!C$1:D$475,2,FALSE),\"\")","v":""}]
[{"$nulls":6},{"$f":"IF(H592<>\"\",VLOOKUP(H592,Codes!C$1:D$475,2,FALSE),\"\")","v":""}]
[{"$nulls":6},{"$f":"IF(H593<>\"\",VLOOKUP(H593,Codes!C$1:D$475,2,FALSE),\"\")","v":""}]
[{"$nulls":6},{"$f":"IF(H594<>\"\",VLOOKUP(H594,Codes!C$1:D$475,2,FALSE),\"\")","v":""}]
[{"$nulls":6},{"$f":"IF(H595<>\"\",VLOOKUP(H595,Codes!C$1:D$475,2,FALSE),\"\")","v":""}]
[{"$nulls":6},{"$f":"IF(H596<>\"\",VLOOKUP(H596,Codes!C$1:D$475,2,FALSE),\"\")","v":""}]
[{"$nulls":6},{"$f":"IF(H597<>\"\",VLOOKUP(H597,Codes!C$1:D$475,2,FALSE),\"\")","v":""}]
[{"$nulls":6},{"$f":"IF(H598<>\"\",VLOOKUP(H598,Codes!C$1:D$475,2,FALSE),\"\")","v":""}]
[{"$nulls":6},{"$f":"IF(H599<>\"\",VLOOKUP(H599,Codes!C$1:D$475,2,FALSE),\"\")","v":""}]
[{"$nulls":6},{"$f":"IF(H600<>\"\",VLOOKUP(H600,Codes!C$1:D$475,2,FALSE),\"\")","v":""}]
[{"$nulls":6},{"$f":"IF(H601<>\"\",VLOOKUP(H601,Codes!C$1:D$475,2,FALSE),\"\")","v":""}]
[{"$nulls":6},{"$f":"IF(H602<>\"\",VLOOKUP(H602,Codes!C$1:D$475,2,FALSE),\"\")","v":""}]
[{"$nulls":6},{"$f":"IF(H603<>\"\",VLOOKUP(H603,Codes!C$1:D$475,2,FALSE),\"\")","v":""}]
[{"$nulls":6},{"$f":"IF(H604<>\"\",VLOOKUP(H604,Codes!C$1:D$475,2,FALSE),\"\")","v":""}]
[{"$nulls":6},{"$f":"IF(H605<>\"\",VLOOKUP(H605,Codes!C$1:D$475,2,FALSE),\"\")","v":""}]
[{"$nulls":6},{"$f":"IF(H606<>\"\",VLOOKUP(H606,Codes!C$1:D$475,2,FALSE),\"\")","v":""}]
[{"$nulls":6},{"$f":"IF(H607<>\"\",VLOOKUP(H607,Codes!C$1:D$475,2,FALSE),\"\")","v":""}]
[{"$nulls":6},{"$f":"IF(H608<>\"\",VLOOKUP(H608,Codes!C$1:D$475,2,FALSE),\"\")","v":""}]
[{"$nulls":6},{"$f":"IF(H609<>\"\",VLOOKUP(H609,Codes!C$1:D$475,2,FALSE),\"\")","v":""}]
[{"$nulls":6},{"$f":"IF(H610<>\"\",VLOOKUP(H610,Codes!C$1:D$475,2,FALSE),\"\")","v":""}]
[{"$nulls":6},{"$f":"IF(H611<>\"\",VLOOKUP(H611,Codes!C$1:D$475,2,FALSE),\"\")","v":""}]
[{"$nulls":6},{"$f":"IF(H612<>\"\",VLOOKUP(H612,Codes!C$1:D$475,2,FALSE),\"\")","v":""}]
[{"$nulls":6},{"$f":"IF(H613<>\"\",VLOOKUP(H613,Codes!C$1:D$475,2,FALSE),\"\")","v":""}]
[{"$nulls":6},{"$f":"IF(H614<>\"\",VLOOKUP(H614,Codes!C$1:D$475,2,FALSE),\"\")","v":""}]
[{"$nulls":6},{"$f":"IF(H615<>\"\",VLOOKUP(H615,Codes!C$1:D$475,2,FALSE),\"\")","v":""}]
[{"$nulls":6},{"$f":"IF(H616<>\"\",VLOOKUP(H616,Codes!C$1:D$475,2,FALSE),\"\")","v":""}]
[{"$nulls":6},{"$f":"IF(H617<>\"\",VLOOKUP(H617,Codes!C$1:D$475,2,FALSE),\"\")","v":""}]
[{"$nulls":6},{"$f":"IF(H618<>\"\",VLOOKUP(H618,Codes!C$1:D$475,2,FALSE),\"\")","v":""}]
[{"$nulls":6},{"$f":"IF(H619<>\"\",VLOOKUP(H619,Codes!C$1:D$475,2,FALSE),\"\")","v":""}]
[{"$nulls":6},{"$f":"IF(H620<>\"\",VLOOKUP(H620,Codes!C$1:D$475,2,FALSE),\"\")","v":""}]
[{"$nulls":6},{"$f":"IF(H621<>\"\",VLOOKUP(H621,Codes!C$1:D$475,2,FALSE),\"\")","v":""}]
[{"$nulls":6},{"$f":"IF(H622<>\"\",VLOOKUP(H622,Codes!C$1:D$475,2,FALSE),\"\")","v":""}]
[{"$nulls":6},{"$f":"IF(H623<>\"\",VLOOKUP(H623,Codes!C$1:D$475,2,FALSE),\"\")","v":""}]
[{"$nulls":6},{"$f":"IF(H624<>\"\",VLOOKUP(H624,Codes!C$1:D$475,2,FALSE),\"\")","v":""}]
[{"$nulls":6},{"$f":"IF(H625<>\"\",VLOOKUP(H625,Codes!C$1:D$475,2,FALSE),\"\")","v":""}]
[{"$nulls":6},{"$f":"IF(H626<>\"\",VLOOKUP(H626,Codes!C$1:D$475,2,FALSE),\"\")","v":""}]
[{"$nulls":6},{"$f":"IF(H627<>\"\",VLOOKUP(H627,Codes!C$1:D$475,2,FALSE),\"\")","v":""}]
[{"$nulls":6},{"$f":"IF(H628<>\"\",VLOOKUP(H628,Codes!C$1:D$475,2,FALSE),\"\")","v":""}]
[{"$nulls":6},{"$f":"IF(H629<>\"\",VLOOKUP(H629,Codes!C$1:D$475,2,FALSE),\"\")","v":""}]
[{"$nulls":6},{"$f":"IF(H630<>\"\",VLOOKUP(H630,Codes!C$1:D$475,2,FALSE),\"\")","v":""}]
[{"$nulls":6},{"$f":"IF(H631<>\"\",VLOOKUP(H631,Codes!C$1:D$475,2,FALSE),\"\")","v":""}]
[{"$nulls":6},{"$f":"IF(H632<>\"\",VLOOKUP(H632,Codes!C$1:D$475,2,FALSE),\"\")","v":""}]
[{"$nulls":6},{"$f":"IF(H633<>\"\",VLOOKUP(H633,Codes!C$1:D$475,2,FALSE),\"\")","v":""}]
[{"$nulls":6},{"$f":"IF(H634<>\"\",VLOOKUP(H634,Codes!C$1:D$475,2,FALSE),\"\")","v":""}]
[{"$nulls":6},{"$f":"IF(H635<>\"\",VLOOKUP(H635,Codes!C$1:D$475,2,FALSE),\"\")","v":""}]
[{"$nulls":6},{"$f":"IF(H636<>\"\",VLOOKUP(H636,Codes!C$1:D$475,2,FALSE),\"\")","v":""}]
[{"$nulls":6},{"$f":"IF(H637<>\"\",VLOOKUP(H637,Codes!C$1:D$475,2,FALSE),\"\")","v":""}]
[{"$nulls":6},{"$f":"IF(H638<>\"\",VLOOKUP(H638,Codes!C$1:D$475,2,FALSE),\"\")","v":""}]
[{"$nulls":6},{"$f":"IF(H639<>\"\",VLOOKUP(H639,Codes!C$1:D$475,2,FALSE),\"\")","v":""}]
[{"$nulls":6},{"$f":"IF(H640<>\"\",VLOOKUP(H640,Codes!C$1:D$475,2,FALSE),\"\")","v":""}]
[{"$nulls":6},{"$f":"IF(H641<>\"\",VLOOKUP(H641,Codes!C$1:D$475,2,FALSE),\"\")","v":""}]
[{"$nulls":6},{"$f":"IF(H642<>\"\",VLOOKUP(H642,Codes!C$1:D$475,2,FALSE),\"\")","v":""}]
[{"$nulls":6},{"$f":"IF(H643<>\"\",VLOOKUP(H643,Codes!C$1:D$475,2,FALSE),\"\")","v":""}]
[{"$nulls":6},{"$f":"IF(H644<>\"\",VLOOKUP(H644,Codes!C$1:D$475,2,FALSE),\"\")","v":""}]
[{"$nulls":6},{"$f":"IF(H645<>\"\",VLOOKUP(H645,Codes!C$1:D$475,2,FALSE),\"\")","v":""}]
[{"$nulls":6},{"$f":"IF(H646<>\"\",VLOOKUP(H646,Codes!C$1:D$475,2,FALSE),\"\")","v":""}]
[{"$nulls":6},{"$f":"IF(H647<>\"\",VLOOKUP(H647,Codes!C$1:D$475,2,FALSE),\"\")","v":""}]
[{"$nulls":6},{"$f":"IF(H648<>\"\",VLOOKUP(H648,Codes!C$1:D$475,2,FALSE),\"\")","v":""}]
[{"$nulls":6},{"$f":"IF(H649<>\"\",VLOOKUP(H649,Codes!C$1:D$475,2,FALSE),\"\")","v":""}]
[{"$nulls":6},{"$f":"IF(H650<>\"\",VLOOKUP(H650,Codes!C$1:D$475,2,FALSE),\"\")","v":""}]
[{"$nulls":6},{"$f":"IF(H651<>\"\",VLOOKUP(H651,Codes!C$1:D$475,2,FALSE),\"\")","v":""}]
[{"$nulls":6},{"$f":"IF(H652<>\"\",VLOOKUP(H652,Codes!C$1:D$475,2,FALSE),\"\")","v":""}]
[{"$nulls":6},{"$f":"IF(H653<>\"\",VLOOKUP(H653,Codes!C$1:D$475,2,FALSE),\"\")","v":""}]
[{"$nulls":6},{"$f":"IF(H654<>\"\",VLOOKUP(H654,Codes!C$1:D$475,2,FALSE),\"\")","v":""}]
[{"$nulls":6},{"$f":"IF(H655<>\"\",VLOOKUP(H655,Codes!C$1:D$475,2,FALSE),\"\")","v":""}]
[{"$nulls":6},{"$f":"IF(H656<>\"\",VLOOKUP(H656,Codes!C$1:D$475,2,FALSE),\"\")","v":""}]
[{"$nulls":6},{"$f":"IF(H657<>\"\",VLOOKUP(H657,Codes!C$1:D$475,2,FALSE),\"\")","v":""}]
[{"$nulls":6},{"$f":"IF(H658<>\"\",VLOOKUP(H658,Codes!C$1:D$475,2,FALSE),\"\")","v":""}]
[{"$nulls":6},{"$f":"IF(H659<>\"\",VLOOKUP(H659,Codes!C$1:D$475,2,FALSE),\"\")","v":""}]
[{"$nulls":6},{"$f":"IF(H660<>\"\",VLOOKUP(H660,Codes!C$1:D$475,2,FALSE),\"\")","v":""}]
[{"$nulls":6},{"$f":"IF(H661<>\"\",VLOOKUP(H661,Codes!C$1:D$475,2,FALSE),\"\")","v":""}]
[{"$nulls":6},{"$f":"IF(H662<>\"\",VLOOKUP(H662,Codes!C$1:D$475,2,FALSE),\"\")","v":""}]
[{"$nulls":6},{"$f":"IF(H663<>\"\",VLOOKUP(H663,Codes!C$1:D$475,2,FALSE),\"\")","v":""}]
[{"$nulls":6},{"$f":"IF(H664<>\"\",VLOOKUP(H664,Codes!C$1:D$475,2,FALSE),\"\")","v":""}]
[{"$nulls":6},{"$f":"IF(H665<>\"\",VLOOKUP(H665,Codes!C$1:D$475,2,FALSE),\"\")","v":""}]
[{"$nulls":6},{"$f":"IF(H666<>\"\",VLOOKUP(H666,Codes!C$1:D$475,2,FALSE),\"\")","v":""}]
[{"$nulls":6},{"$f":"IF(H667<>\"\",VLOOKUP(H667,Codes!C$1:D$475,2,FALSE),\"\")","v":""}]
[{"$nulls":6},{"$f":"IF(H668<>\"\",VLOOKUP(H668,Codes!C$1:D$475,2,FALSE),\"\")","v":""}]
[{"$nulls":6},{"$f":"IF(H669<>\"\",VLOOKUP(H669,Codes!C$1:D$475,2,FALSE),\"\")","v":""}]
[{"$nulls":6},{"$f":"IF(H670<>\"\",VLOOKUP(H670,Codes!C$1:D$475,2,FALSE),\"\")","v":""}]
[{"$nulls":6},{"$f":"IF(H671<>\"\",VLOOKUP(H671,Codes!C$1:D$475,2,FALSE),\"\")","v":""}]
[{"$nulls":6},{"$f":"IF(H672<>\"\",VLOOKUP(H672,Codes!C$1:D$475,2,FALSE),\"\")","v":""}]
[{"$nulls":6},{"$f":"IF(H673<>\"\",VLOOKUP(H673,Codes!C$1:D$475,2,FALSE),\"\")","v":""}]
[{"$nulls":6},{"$f":"IF(H674<>\"\",VLOOKUP(H674,Codes!C$1:D$475,2,FALSE),\"\")","v":""}]
[{"$nulls":6},{"$f":"IF(H675<>\"\",VLOOKUP(H675,Codes!C$1:D$475,2,FALSE),\"\")","v":""}]
[{"$nulls":6},{"$f":"IF(H676<>\"\",VLOOKUP(H676,Codes!C$1:D$475,2,FALSE),\"\")","v":""}]
[{"$nulls":6},{"$f":"IF(H677<>\"\",VLOOKUP(H677,Codes!C$1:D$475,2,FALSE),\"\")","v":""}]
[{"$nulls":6},{"$f":"IF(H678<>\"\",VLOOKUP(H678,Codes!C$1:D$475,2,FALSE),\"\")","v":""}]
[{"$nulls":6},{"$f":"IF(H679<>\"\",VLOOKUP(H679,Codes!C$1:D$475,2,FALSE),\"\")","v":""}]
[{"$nulls":6},{"$f":"IF(H680<>\"\",VLOOKUP(H680,Codes!C$1:D$475,2,FALSE),\"\")","v":""}]
[{"$nulls":6},{"$f":"IF(H681<>\"\",VLOOKUP(H681,Codes!C$1:D$475,2,FALSE),\"\")","v":""}]
[{"$nulls":6},{"$f":"IF(H682<>\"\",VLOOKUP(H682,Codes!C$1:D$475,2,FALSE),\"\")","v":""},{"$nulls":3},{"$f":"IF(J682>0,VLOOKUP(J682,' code comptes '!$A$1:$C$148,3),\"\")","v":""},"ok",{"$f":"D500","v":{"v":0,"d":"0.00"}},{"$f":"+CONCATENATE(G500,H500)","v":""}]
[{"$nulls":6},{"$f":"IF(H683<>\"\",VLOOKUP(H683,Codes!C$1:D$475,2,FALSE),\"\")","v":""},{"$nulls":3},{"$f":"IF(J683>0,VLOOKUP(J683,' code comptes '!$A$1:$C$148,3),\"\")","v":""},"Erreur",{"$f":"D682","v":{"v":0,"d":"0.00"}},{"$f":"+CONCATENATE(G682,H682)","v":""}]
[{"$nulls":6},{"$f":"IF(H684<>\"\",VLOOKUP(H684,Codes!C$1:D$475,2,FALSE),\"\")","v":""},{"$nulls":3},{"$f":"IF(J684>0,VLOOKUP(J684,' code comptes '!$A$1:$C$148,3),\"\")","v":""},null,{"v":0,"d":"0.00"},""]
[{"$nulls":6},{"$f":"IF(H685<>\"\",VLOOKUP(H685,Codes!C$1:D$475,2,FALSE),\"\")","v":""},{"$nulls":3},{"$f":"IF(J685>0,VLOOKUP(J685,' code comptes '!$A$1:$C$148,3),\"\")","v":""},null,{"v":0,"d":"0.00"},""]
[{"$nulls":6},{"$f":"IF(H686<>\"\",VLOOKUP(H686,Codes!C$1:D$475,2,FALSE),\"\")","v":""},{"$nulls":3},{"$f":"IF(J686>0,VLOOKUP(J686,' code comptes '!$A$1:$C$148,3),\"\")","v":""},null,{"v":0,"d":"0.00"},""]
[{"$nulls":6},{"$f":"IF(H687<>\"\",VLOOKUP(H687,Codes!C$1:D$475,2,FALSE),\"\")","v":""},{"$nulls":3},{"$f":"IF(J687>0,VLOOKUP(J687,' code comptes '!$A$1:$C$148,3),\"\")","v":""},null,{"v":0,"d":"0.00"},""]
[{"$nulls":6},{"$f":"IF(H688<>\"\",VLOOKUP(H688,Codes!C$1:D$475,2,FALSE),\"\")","v":""},{"$nulls":3},{"$f":"IF(J688>0,VLOOKUP(J688,' code comptes '!$A$1:$C$148,3),\"\")","v":""},null,{"v":0,"d":"0.00"},""]
[{"$nulls":6},{"$f":"IF(H689<>\"\",VLOOKUP(H689,Codes!C$1:D$475,2,FALSE),\"\")","v":""},{"$nulls":3},{"$f":"IF(J689>0,VLOOKUP(J689,' code comptes '!$A$1:$C$148,3),\"\")","v":""},null,{"v":0,"d":"0.00"},""]
[{"$nulls":6},{"$f":"IF(H690<>\"\",VLOOKUP(H690,Codes!C$1:D$475,2,FALSE),\"\")","v":""},{"$nulls":3},{"$f":"IF(J690>0,VLOOKUP(J690,' code comptes '!$A$1:$C$148,3),\"\")","v":""},null,{"v":0,"d":"0.00"},""]
[{"$nulls":6},{"$f":"IF(H691<>\"\",VLOOKUP(H691,Codes!C$1:D$475,2,FALSE),\"\")","v":""},{"$nulls":3},{"$f":"IF(J691>0,VLOOKUP(J691,' code comptes '!$A$1:$C$148,3),\"\")","v":""},null,{"v":0,"d":"0.00"},""]
[{"$nulls":6},{"$f":"IF(H692<>\"\",VLOOKUP(H692,Codes!C$1:D$475,2,FALSE),\"\")","v":""},{"$nulls":3},{"$f":"IF(J692>0,VLOOKUP(J692,' code comptes '!$A$1:$C$148,3),\"\")","v":""},null,{"v":0,"d":"0.00"},""]
[{"$nulls":6},{"$f":"IF(H693<>\"\",VLOOKUP(H693,Codes!C$1:D$475,2,FALSE),\"\")","v":""},{"$nulls":3},{"$f":"IF(J693>0,VLOOKUP(J693,' code comptes '!$A$1:$C$148,3),\"\")","v":""},null,{"v":0,"d":"0.00"},""]
[{"$nulls":6},{"$f":"IF(H694<>\"\",VLOOKUP(H694,Codes!C$1:D$475,2,FALSE),\"\")","v":""},{"$nulls":3},{"$f":"IF(J694>0,VLOOKUP(J694,' code comptes '!$A$1:$C$148,3),\"\")","v":""},null,{"v":0,"d":"0.00"},""]
[{"$nulls":6},{"$f":"IF(H695<>\"\",VLOOKUP(H695,Codes!C$1:D$475,2,FALSE),\"\")","v":""},{"$nulls":3},{"$f":"IF(J695>0,VLOOKUP(J695,' code comptes '!$A$1:$C$148,3),\"\")","v":""},null,{"v":0,"d":"0.00"},""]
[{"$nulls":6},{"$f":"IF(H696<>\"\",VLOOKUP(H696,Codes!C$1:D$475,2,FALSE),\"\")","v":""},{"$nulls":3},{"$f":"IF(J696>0,VLOOKUP(J696,' code comptes '!$A$1:$C$148,3),\"\")","v":""},null,{"v":0,"d":"0.00"},""]
[{"$nulls":6},{"$f":"IF(H697<>\"\",VLOOKUP(H697,Codes!C$1:D$475,2,FALSE),\"\")","v":""},{"$nulls":3},{"$f":"IF(J697>0,VLOOKUP(J697,' code comptes '!$A$1:$C$148,3),\"\")","v":""},null,{"v":0,"d":"0.00"},""]
[{"$nulls":6},{"$f":"IF(H698<>\"\",VLOOKUP(H698,Codes!C$1:D$475,2,FALSE),\"\")","v":""},{"$nulls":3},{"$f":"IF(J698>0,VLOOKUP(J698,' code comptes '!$A$1:$C$148,3),\"\")","v":""},null,{"v":0,"d":"0.00"},""]
[{"$nulls":6},{"$f":"IF(H699<>\"\",VLOOKUP(H699,Codes!C$1:D$475,2,FALSE),\"\")","v":""},{"$nulls":3},{"$f":"IF(J699>0,VLOOKUP(J699,' code comptes '!$A$1:$C$148,3),\"\")","v":""},null,{"v":0,"d":"0.00"},""]
[{"$nulls":6},{"$f":"IF(H700<>\"\",VLOOKUP(H700,Codes!C$1:D$475,2,FALSE),\"\")","v":""},{"$nulls":3},{"$f":"IF(J700>0,VLOOKUP(J700,' code comptes '!$A$1:$C$148,3),\"\")","v":""},null,{"v":0,"d":"0.00"},""]
[{"$nulls":6},{"$f":"IF(H701<>\"\",VLOOKUP(H701,Codes!C$1:D$475,2,FALSE),\"\")","v":""},{"$nulls":3},{"$f":"IF(J701>0,VLOOKUP(J701,' code comptes '!$A$1:$C$148,3),\"\")","v":""},null,{"v":0,"d":"0.00"},""]
[{"$nulls":6},{"$f":"IF(H702<>\"\",VLOOKUP(H702,Codes!C$1:D$475,2,FALSE),\"\")","v":""},{"$nulls":3},{"$f":"IF(J702>0,VLOOKUP(J702,' code comptes '!$A$1:$C$148,3),\"\")","v":""},null,{"v":0,"d":"0.00"},""]
[{"$nulls":6},{"$f":"IF(H703<>\"\",VLOOKUP(H703,Codes!C$1:D$475,2,FALSE),\"\")","v":""},{"$nulls":3},{"$f":"IF(J703>0,VLOOKUP(J703,' code comptes '!$A$1:$C$148,3),\"\")","v":""},null,{"v":0,"d":"0.00"},""]
[{"$nulls":6},{"$f":"IF(H704<>\"\",VLOOKUP(H704,Codes!C$1:D$475,2,FALSE),\"\")","v":""},{"$nulls":3},{"$f":"IF(J704>0,VLOOKUP(J704,' code comptes '!$A$1:$C$148,3),\"\")","v":""},null,{"v":0,"d":"0.00"},""]
[{"$nulls":6},{"$f":"IF(H705<>\"\",VLOOKUP(H705,Codes!C$1:D$475,2,FALSE),\"\")","v":""},{"$nulls":3},{"$f":"IF(J705>0,VLOOKUP(J705,' code comptes '!$A$1:$C$148,3),\"\")","v":""},null,{"v":0,"d":"0.00"},""]
[{"$nulls":6},{"$f":"IF(H706<>\"\",VLOOKUP(H706,Codes!C$1:D$475,2,FALSE),\"\")","v":""},{"$nulls":3},{"$f":"IF(J706>0,VLOOKUP(J706,' code comptes '!$A$1:$C$148,3),\"\")","v":""},null,{"v":0,"d":"0.00"},""]
[{"$nulls":6},{"$f":"IF(H707<>\"\",VLOOKUP(H707,Codes!C$1:D$475,2,FALSE),\"\")","v":""},{"$nulls":3},{"$f":"IF(J707>0,VLOOKUP(J707,' code comptes '!$A$1:$C$148,3),\"\")","v":""},null,{"v":0,"d":"0.00"},""]
[{"$nulls":6},{"$f":"IF(H708<>\"\",VLOOKUP(H708,Codes!C$1:D$475,2,FALSE),\"\")","v":""},{"$nulls":3},{"$f":"IF(J708>0,VLOOKUP(J708,' code comptes '!$A$1:$C$148,3),\"\")","v":""},null,{"v":0,"d":"0.00"},""]
[{"$nulls":6},{"$f":"IF(H709<>\"\",VLOOKUP(H709,Codes!C$1:D$475,2,FALSE),\"\")","v":""},{"$nulls":3},{"$f":"IF(J709>0,VLOOKUP(J709,' code comptes '!$A$1:$C$148,3),\"\")","v":""},null,{"v":0,"d":"0.00"},""]
[{"$nulls":6},{"$f":"IF(H710<>\"\",VLOOKUP(H710,Codes!C$1:D$475,2,FALSE),\"\")","v":""},{"$nulls":3},{"$f":"IF(J710>0,VLOOKUP(J710,' code comptes '!$A$1:$C$148,3),\"\")","v":""},null,{"v":0,"d":"0.00"},""]
[{"$nulls":6},{"$f":"IF(H711<>\"\",VLOOKUP(H711,Codes!C$1:D$475,2,FALSE),\"\")","v":""},{"$nulls":3},{"$f":"IF(J711>0,VLOOKUP(J711,' code comptes '!$A$1:$C$148,3),\"\")","v":""},null,{"v":0,"d":"0.00"},""]
[{"$nulls":6},{"$f":"IF(H712<>\"\",VLOOKUP(H712,Codes!C$1:D$475,2,FALSE),\"\")","v":""},{"$nulls":3},{"$f":"IF(J712>0,VLOOKUP(J712,' code comptes '!$A$1:$C$148,3),\"\")","v":""},null,{"v":0,"d":"0.00"},""]
[{"$nulls":6},{"$f":"IF(H713<>\"\",VLOOKUP(H713,Codes!C$1:D$475,2,FALSE),\"\")","v":""},{"$nulls":3},{"$f":"IF(J713>0,VLOOKUP(J713,' code comptes '!$A$1:$C$148,3),\"\")","v":""},null,{"v":0,"d":"0.00"},""]
[{"$nulls":6},{"$f":"IF(H714<>\"\",VLOOKUP(H714,Codes!C$1:D$475,2,FALSE),\"\")","v":""},{"$nulls":3},{"$f":"IF(J714>0,VLOOKUP(J714,' code comptes '!$A$1:$C$148,3),\"\")","v":""},null,{"v":0,"d":"0.00"},""]
[{"$nulls":6},{"$f":"IF(H715<>\"\",VLOOKUP(H715,Codes!C$1:D$475,2,FALSE),\"\")","v":""},{"$nulls":3},{"$f":"IF(J715>0,VLOOKUP(J715,' code comptes '!$A$1:$C$148,3),\"\")","v":""},null,{"v":0,"d":"0.00"},""]
[{"$nulls":6},{"$f":"IF(H716<>\"\",VLOOKUP(H716,Codes!C$1:D$475,2,FALSE),\"\")","v":""},{"$nulls":3},{"$f":"IF(J716>0,VLOOKUP(J716,' code comptes '!$A$1:$C$148,3),\"\")","v":""},null,{"v":0,"d":"0.00"},""]
[{"$nulls":6},{"$f":"IF(H717<>\"\",VLOOKUP(H717,Codes!C$1:D$475,2,FALSE),\"\")","v":""},{"$nulls":3},{"$f":"IF(J717>0,VLOOKUP(J717,' code comptes '!$A$1:$C$148,3),\"\")","v":""},null,{"v":0,"d":"0.00"},""]
[{"$nulls":6},{"$f":"IF(H718<>\"\",VLOOKUP(H718,Codes!C$1:D$475,2,FALSE),\"\")","v":""},{"$nulls":3},{"$f":"IF(J718>0,VLOOKUP(J718,' code comptes '!$A$1:$C$148,3),\"\")","v":""},null,{"v":0,"d":"0.00"},""]
[{"$nulls":6},{"$f":"IF(H719<>\"\",VLOOKUP(H719,Codes!C$1:D$475,2,FALSE),\"\")","v":""},{"$nulls":3},{"$f":"IF(J719>0,VLOOKUP(J719,' code comptes '!$A$1:$C$148,3),\"\")","v":""},null,{"v":0,"d":"0.00"},""]
[{"$nulls":6},{"$f":"IF(H720<>\"\",VLOOKUP(H720,Codes!C$1:D$475,2,FALSE),\"\")","v":""},{"$nulls":3},{"$f":"IF(J720>0,VLOOKUP(J720,' code comptes '!$A$1:$C$148,3),\"\")","v":""},null,{"v":0,"d":"0.00"},""]
[{"$nulls":6},{"$f":"IF(H721<>\"\",VLOOKUP(H721,Codes!C$1:D$475,2,FALSE),\"\")","v":""},{"$nulls":3},{"$f":"IF(J721>0,VLOOKUP(J721,' code comptes '!$A$1:$C$148,3),\"\")","v":""},null,{"v":0,"d":"0.00"},""]
[{"$nulls":6},{"$f":"IF(H722<>\"\",VLOOKUP(H722,Codes!C$1:D$475,2,FALSE),\"\")","v":""},{"$nulls":3},{"$f":"IF(J722>0,VLOOKUP(J722,' code comptes '!$A$1:$C$148,3),\"\")","v":""},null,{"v":0,"d":"0.00"},""]
[{"$nulls":6},{"$f":"IF(H723<>\"\",VLOOKUP(H723,Codes!C$1:D$475,2,FALSE),\"\")","v":""},{"$nulls":3},{"$f":"IF(J723>0,VLOOKUP(J723,' code comptes '!$A$1:$C$148,3),\"\")","v":""},null,{"v":0,"d":"0.00"},""]
[{"$nulls":6},{"$f":"IF(H724<>\"\",VLOOKUP(H724,Codes!C$1:D$475,2,FALSE),\"\")","v":""},{"$nulls":3},{"$f":"IF(J724>0,VLOOKUP(J724,' code comptes '!$A$1:$C$148,3),\"\")","v":""},null,{"v":0,"d":"0.00"},""]
[{"$nulls":6},{"$f":"IF(H725<>\"\",VLOOKUP(H725,Codes!C$1:D$475,2,FALSE),\"\")","v":""},{"$nulls":3},{"$f":"IF(J725>0,VLOOKUP(J725,' code comptes '!$A$1:$C$148,3),\"\")","v":""},null,{"v":0,"d":"0.00"},""]
[{"$nulls":6},{"$f":"IF(H726<>\"\",VLOOKUP(H726,Codes!C$1:D$475,2,FALSE),\"\")","v":""},{"$nulls":3},{"$f":"IF(J726>0,VLOOKUP(J726,' code comptes '!$A$1:$C$148,3),\"\")","v":""},null,{"v":0,"d":"0.00"},""]
[{"$nulls":6},{"$f":"IF(H727<>\"\",VLOOKUP(H727,Codes!C$1:D$475,2,FALSE),\"\")","v":""},{"$nulls":3},{"$f":"IF(J727>0,VLOOKUP(J727,' code comptes '!$A$1:$C$148,3),\"\")","v":""},null,{"v":0,"d":"0.00"},""]
[{"$nulls":6},{"$f":"IF(H728<>\"\",VLOOKUP(H728,Codes!C$1:D$475,2,FALSE),\"\")","v":""},{"$nulls":3},{"$f":"IF(J728>0,VLOOKUP(J728,' code comptes '!$A$1:$C$148,3),\"\")","v":""},null,{"v":0,"d":"0.00"},""]
[{"$nulls":6},{"$f":"IF(H729<>\"\",VLOOKUP(H729,Codes!C$1:D$475,2,FALSE),\"\")","v":""},{"$nulls":3},{"$f":"IF(J729>0,VLOOKUP(J729,' code comptes '!$A$1:$C$148,3),\"\")","v":""},null,{"v":0,"d":"0.00"},""]
[{"$nulls":6},{"$f":"IF(H730<>\"\",VLOOKUP(H730,Codes!C$1:D$475,2,FALSE),\"\")","v":""},{"$nulls":3},{"$f":"IF(J730>0,VLOOKUP(J730,' code comptes '!$A$1:$C$148,3),\"\")","v":""},null,{"v":0,"d":"0.00"},""]
[{"$nulls":6},{"$f":"IF(H731<>\"\",VLOOKUP(H731,Codes!C$1:D$475,2,FALSE),\"\")","v":""},{"$nulls":3},{"$f":"IF(J731>0,VLOOKUP(J731,' code comptes '!$A$1:$C$148,3),\"\")","v":""},null,{"v":0,"d":"0.00"},""]
[{"$nulls":6},{"$f":"IF(H732<>\"\",VLOOKUP(H732,Codes!C$1:D$475,2,FALSE),\"\")","v":""},{"$nulls":3},{"$f":"IF(J732>0,VLOOKUP(J732,' code comptes '!$A$1:$C$148,3),\"\")","v":""},null,{"v":0,"d":"0.00"},""]
[{"$nulls":6},{"$f":"IF(H733<>\"\",VLOOKUP(H733,Codes!C$1:D$475,2,FALSE),\"\")","v":""},{"$nulls":3},{"$f":"IF(J733>0,VLOOKUP(J733,' code comptes '!$A$1:$C$148,3),\"\")","v":""},null,{"v":0,"d":"0.00"},""]
[{"$nulls":6},{"$f":"IF(H734<>\"\",VLOOKUP(H734,Codes!C$1:D$475,2,FALSE),\"\")","v":""},{"$nulls":3},{"$f":"IF(J734>0,VLOOKUP(J734,' code comptes '!$A$1:$C$148,3),\"\")","v":""},null,{"v":0,"d":"0.00"},""]
[{"$nulls":6},{"$f":"IF(H735<>\"\",VLOOKUP(H735,Codes!C$1:D$475,2,FALSE),\"\")","v":""},{"$nulls":3},{"$f":"IF(J735>0,VLOOKUP(J735,' code comptes '!$A$1:$C$148,3),\"\")","v":""},null,{"v":0,"d":"0.00"},""]
[{"$nulls":6},{"$f":"IF(H736<>\"\",VLOOKUP(H736,Codes!C$1:D$475,2,FALSE),\"\")","v":""},{"$nulls":3},{"$f":"IF(J736>0,VLOOKUP(J736,' code comptes '!$A$1:$C$148,3),\"\")","v":""},null,{"v":0,"d":"0.00"},""]
[{"$nulls":6},{"$f":"IF(H737<>\"\",VLOOKUP(H737,Codes!C$1:D$475,2,FALSE),\"\")","v":""},{"$nulls":3},{"$f":"IF(J737>0,VLOOKUP(J737,' code comptes '!$A$1:$C$148,3),\"\")","v":""},null,{"v":0,"d":"0.00"},""]
[{"$nulls":6},{"$f":"IF(H738<>\"\",VLOOKUP(H738,Codes!C$1:D$475,2,FALSE),\"\")","v":""},{"$nulls":3},{"$f":"IF(J738>0,VLOOKUP(J738,' code comptes '!$A$1:$C$148,3),\"\")","v":""},null,{"v":0,"d":"0.00"},""]
[{"$nulls":6},{"$f":"IF(H739<>\"\",VLOOKUP(H739,Codes!C$1:D$475,2,FALSE),\"\")","v":""},{"$nulls":3},{"$f":"IF(J739>0,VLOOKUP(J739,' code comptes '!$A$1:$C$148,3),\"\")","v":""},null,{"v":0,"d":"0.00"},""]
[{"$nulls":6},{"$f":"IF(H740<>\"\",VLOOKUP(H740,Codes!C$1:D$475,2,FALSE),\"\")","v":""},{"$nulls":3},{"$f":"IF(J740>0,VLOOKUP(J740,' code comptes '!$A$1:$C$148,3),\"\")","v":""},null,{"v":0,"d":"0.00"},""]
[{"$nulls":6},{"$f":"IF(H741<>\"\",VLOOKUP(H741,Codes!C$1:D$475,2,FALSE),\"\")","v":""},{"$nulls":3},{"$f":"IF(J741>0,VLOOKUP(J741,' code comptes '!$A$1:$C$148,3),\"\")","v":""},null,{"v":0,"d":"0.00"},""]
[{"$nulls":6},{"$f":"IF(H742<>\"\",VLOOKUP(H742,Codes!C$1:D$475,2,FALSE),\"\")","v":""},{"$nulls":3},{"$f":"IF(J742>0,VLOOKUP(J742,' code comptes '!$A$1:$C$148,3),\"\")","v":""},null,{"v":0,"d":"0.00"},""]
[{"$nulls":6},{"$f":"IF(H743<>\"\",VLOOKUP(H743,Codes!C$1:D$475,2,FALSE),\"\")","v":""},{"$nulls":3},{"$f":"IF(J743>0,VLOOKUP(J743,' code comptes '!$A$1:$C$148,3),\"\")","v":""},null,{"v":0,"d":"0.00"},""]
[{"$nulls":6},{"$f":"IF(H744<>\"\",VLOOKUP(H744,Codes!C$1:D$475,2,FALSE),\"\")","v":""},{"$nulls":3},{"$f":"IF(J744>0,VLOOKUP(J744,' code comptes '!$A$1:$C$148,3),\"\")","v":""},null,{"v":0,"d":"0.00"},""]
[{"$nulls":6},{"$f":"IF(H745<>\"\",VLOOKUP(H745,Codes!C$1:D$475,2,FALSE),\"\")","v":""},{"$nulls":3},{"$f":"IF(J745>0,VLOOKUP(J745,' code comptes '!$A$1:$C$148,3),\"\")","v":""},null,{"v":0,"d":"0.00"},""]
[{"$nulls":6},{"$f":"IF(H746<>\"\",VLOOKUP(H746,Codes!C$1:D$475,2,FALSE),\"\")","v":""},{"$nulls":3},{"$f":"IF(J746>0,VLOOKUP(J746,' code comptes '!$A$1:$C$148,3),\"\")","v":""},null,{"v":0,"d":"0.00"},""]
[{"$nulls":6},{"$f":"IF(H747<>\"\",VLOOKUP(H747,Codes!C$1:D$475,2,FALSE),\"\")","v":""},{"$nulls":3},{"$f":"IF(J747>0,VLOOKUP(J747,' code comptes '!$A$1:$C$148,3),\"\")","v":""},null,{"v":0,"d":"0.00"},""]
[{"$nulls":6},{"$f":"IF(H748<>\"\",VLOOKUP(H748,Codes!C$1:D$475,2,FALSE),\"\")","v":""},{"$nulls":3},{"$f":"IF(J748>0,VLOOKUP(J748,' code comptes '!$A$1:$C$148,3),\"\")","v":""},null,{"v":0,"d":"0.00"},""]
[{"$nulls":6},{"$f":"IF(H749<>\"\",VLOOKUP(H749,Codes!C$1:D$475,2,FALSE),\"\")","v":""},{"$nulls":3},{"$f":"IF(J749>0,VLOOKUP(J749,' code comptes '!$A$1:$C$148,3),\"\")","v":""},null,{"v":0,"d":"0.00"},""]
[{"$nulls":6},{"$f":"IF(H750<>\"\",VLOOKUP(H750,Codes!C$1:D$475,2,FALSE),\"\")","v":""},{"$nulls":3},{"$f":"IF(J750>0,VLOOKUP(J750,' code comptes '!$A$1:$C$148,3),\"\")","v":""},null,{"v":0,"d":"0.00"},""]
[{"$nulls":6},{"$f":"IF(H751<>\"\",VLOOKUP(H751,Codes!C$1:D$475,2,FALSE),\"\")","v":""},{"$nulls":3},{"$f":"IF(J751>0,VLOOKUP(J751,' code comptes '!$A$1:$C$148,3),\"\")","v":""},null,{"v":0,"d":"0.00"},""]
[{"$nulls":6},{"$f":"IF(H752<>\"\",VLOOKUP(H752,Codes!C$1:D$475,2,FALSE),\"\")","v":""},{"$nulls":3},{"$f":"IF(J752>0,VLOOKUP(J752,' code comptes '!$A$1:$C$148,3),\"\")","v":""},null,{"v":0,"d":"0.00"},""]
[{"$nulls":6},{"$f":"IF(H753<>\"\",VLOOKUP(H753,Codes!C$1:D$475,2,FALSE),\"\")","v":""},{"$nulls":3},{"$f":"IF(J753>0,VLOOKUP(J753,' code comptes '!$A$1:$C$148,3),\"\")","v":""},null,{"v":0,"d":"0.00"},""]
[{"$nulls":6},{"$f":"IF(H754<>\"\",VLOOKUP(H754,Codes!C$1:D$475,2,FALSE),\"\")","v":""},{"$nulls":3},{"$f":"IF(J754>0,VLOOKUP(J754,' code comptes '!$A$1:$C$148,3),\"\")","v":""},null,{"v":0,"d":"0.00"},""]
[{"$nulls":6},{"$f":"IF(H755<>\"\",VLOOKUP(H755,Codes!C$1:D$475,2,FALSE),\"\")","v":""},{"$nulls":3},{"$f":"IF(J755>0,VLOOKUP(J755,' code comptes '!$A$1:$C$148,3),\"\")","v":""},null,{"v":0,"d":"0.00"},""]
[{"$nulls":6},{"$f":"IF(H756<>\"\",VLOOKUP(H756,Codes!C$1:D$475,2,FALSE),\"\")","v":""},{"$nulls":3},{"$f":"IF(J756>0,VLOOKUP(J756,' code comptes '!$A$1:$C$148,3),\"\")","v":""},null,{"v":0,"d":"0.00"},""]
[{"$nulls":6},{"$f":"IF(H757<>\"\",VLOOKUP(H757,Codes!C$1:D$475,2,FALSE),\"\")","v":""},{"$nulls":3},{"$f":"IF(J757>0,VLOOKUP(J757,' code comptes '!$A$1:$C$148,3),\"\")","v":""},null,{"v":0,"d":"0.00"},""]
[{"$nulls":6},{"$f":"IF(H758<>\"\",VLOOKUP(H758,Codes!C$1:D$475,2,FALSE),\"\")","v":""},{"$nulls":3},{"$f":"IF(J758>0,VLOOKUP(J758,' code comptes '!$A$1:$C$148,3),\"\")","v":""},null,{"v":0,"d":"0.00"},""]
[{"$nulls":6},{"$f":"IF(H759<>\"\",VLOOKUP(H759,Codes!C$1:D$475,2,FALSE),\"\")","v":""},{"$nulls":3},{"$f":"IF(J759>0,VLOOKUP(J759,' code comptes '!$A$1:$C$148,3),\"\")","v":""},null,{"v":0,"d":"0.00"},""]
[{"$nulls":6},{"$f":"IF(H760<>\"\",VLOOKUP(H760,Codes!C$1:D$475,2,FALSE),\"\")","v":""},{"$nulls":3},{"$f":"IF(J760>0,VLOOKUP(J760,' code comptes '!$A$1:$C$148,3),\"\")","v":""},null,{"v":0,"d":"0.00"},""]
[{"$nulls":6},{"$f":"IF(H761<>\"\",VLOOKUP(H761,Codes!C$1:D$475,2,FALSE),\"\")","v":""},{"$nulls":3},{"$f":"IF(J761>0,VLOOKUP(J761,' code comptes '!$A$1:$C$148,3),\"\")","v":""},null,{"v":0,"d":"0.00"},""]
[{"$nulls":6},{"$f":"IF(H762<>\"\",VLOOKUP(H762,Codes!C$1:D$475,2,FALSE),\"\")","v":""},{"$nulls":3},{"$f":"IF(J762>0,VLOOKUP(J762,' code comptes '!$A$1:$C$148,3),\"\")","v":""},null,{"v":0,"d":"0.00"},""]
[{"$nulls":6},{"$f":"IF(H763<>\"\",VLOOKUP(H763,Codes!C$1:D$475,2,FALSE),\"\")","v":""},{"$nulls":3},{"$f":"IF(J763>0,VLOOKUP(J763,' code comptes '!$A$1:$C$148,3),\"\")","v":""},null,{"v":0,"d":"0.00"},""]
[{"$nulls":6},{"$f":"IF(H764<>\"\",VLOOKUP(H764,Codes!C$1:D$475,2,FALSE),\"\")","v":""},{"$nulls":3},{"$f":"IF(J764>0,VLOOKUP(J764,' code comptes '!$A$1:$C$148,3),\"\")","v":""},null,{"v":0,"d":"0.00"},""]
[{"$nulls":6},{"$f":"IF(H765<>\"\",VLOOKUP(H765,Codes!C$1:D$475,2,FALSE),\"\")","v":""},{"$nulls":3},{"$f":"IF(J765>0,VLOOKUP(J765,' code comptes '!$A$1:$C$148,3),\"\")","v":""},null,{"v":0,"d":"0.00"},""]
[{"$nulls":6},{"$f":"IF(H766<>\"\",VLOOKUP(H766,Codes!C$1:D$475,2,FALSE),\"\")","v":""},{"$nulls":3},{"$f":"IF(J766>0,VLOOKUP(J766,' code comptes '!$A$1:$C$148,3),\"\")","v":""},null,{"v":0,"d":"0.00"},""]
[{"$nulls":6},{"$f":"IF(H767<>\"\",VLOOKUP(H767,Codes!C$1:D$475,2,FALSE),\"\")","v":""},{"$nulls":3},{"$f":"IF(J767>0,VLOOKUP(J767,' code comptes '!$A$1:$C$148,3),\"\")","v":""},null,{"v":0,"d":"0.00"},""]
[{"$nulls":6},{"$f":"IF(H768<>\"\",VLOOKUP(H768,Codes!C$1:D$475,2,FALSE),\"\")","v":""}]
[{"$nulls":6},{"$f":"IF(H769<>\"\",VLOOKUP(H769,Codes!C$1:D$475,2,FALSE),\"\")","v":""}]
[{"$nulls":6},{"$f":"IF(H770<>\"\",VLOOKUP(H770,Codes!C$1:D$475,2,FALSE),\"\")","v":""}]
[{"$nulls":6},{"$f":"IF(H771<>\"\",VLOOKUP(H771,Codes!C$1:D$475,2,FALSE),\"\")","v":""}]
[{"$nulls":6},{"$f":"IF(H772<>\"\",VLOOKUP(H772,Codes!C$1:D$475,2,FALSE),\"\")","v":""}]
[{"$nulls":6},{"$f":"IF(H773<>\"\",VLOOKUP(H773,Codes!C$1:D$475,2,FALSE),\"\")","v":""}]
[{"$nulls":6},{"$f":"IF(H774<>\"\",VLOOKUP(H774,Codes!C$1:D$475,2,FALSE),\"\")","v":""}]
[{"$nulls":6},{"$f":"IF(H775<>\"\",VLOOKUP(H775,Codes!C$1:D$475,2,FALSE),\"\")","v":""}]
[{"$nulls":6},{"$f":"IF(H776<>\"\",VLOOKUP(H776,Codes!C$1:D$475,2,FALSE),\"\")","v":""}]
[{"$nulls":6},{"$f":"IF(H777<>\"\",VLOOKUP(H777,Codes!C$1:D$475,2,FALSE),\"\")","v":""}]
[{"$nulls":6},{"$f":"IF(H778<>\"\",VLOOKUP(H778,Codes!C$1:D$475,2,FALSE),\"\")","v":""}]
[{"$nulls":6},{"$f":"IF(H779<>\"\",VLOOKUP(H779,Codes!C$1:D$475,2,FALSE),\"\")","v":""}]
[{"$nulls":6},{"$f":"IF(H780<>\"\",VLOOKUP(H780,Codes!C$1:D$475,2,FALSE),\"\")","v":""}]
[{"$nulls":6},{"$f":"IF(H781<>\"\",VLOOKUP(H781,Codes!C$1:D$475,2,FALSE),\"\")","v":""}]
[{"$nulls":6},{"$f":"IF(H782<>\"\",VLOOKUP(H782,Codes!C$1:D$475,2,FALSE),\"\")","v":""}]
[{"$nulls":6},{"$f":"IF(H783<>\"\",VLOOKUP(H783,Codes!C$1:D$475,2,FALSE),\"\")","v":""}]
[{"$nulls":6},{"$f":"IF(H784<>\"\",VLOOKUP(H784,Codes!C$1:D$475,2,FALSE),\"\")","v":""}]
[{"$nulls":6},{"$f":"IF(H785<>\"\",VLOOKUP(H785,Codes!C$1:D$475,2,FALSE),\"\")","v":""}]
[{"$nulls":6},{"$f":"IF(H786<>\"\",VLOOKUP(H786,Codes!C$1:D$475,2,FALSE),\"\")","v":""}]
[{"$nulls":6},{"$f":"IF(H787<>\"\",VLOOKUP(H787,Codes!C$1:D$475,2,FALSE),\"\")","v":""}]
[{"$nulls":6},{"$f":"IF(H788<>\"\",VLOOKUP(H788,Codes!C$1:D$475,2,FALSE),\"\")","v":""}]
[{"$nulls":6},{"$f":"IF(H789<>\"\",VLOOKUP(H789,Codes!C$1:D$475,2,FALSE),\"\")","v":""}]
[{"$nulls":6},{"$f":"IF(H790<>\"\",VLOOKUP(H790,Codes!C$1:D$475,2,FALSE),\"\")","v":""}]
[{"$nulls":6},{"$f":"IF(H791<>\"\",VLOOKUP(H791,Codes!C$1:D$475,2,FALSE),\"\")","v":""}]
[{"$nulls":6},{"$f":"IF(H792<>\"\",VLOOKUP(H792,Codes!C$1:D$475,2,FALSE),\"\")","v":""}]
[{"$nulls":6},{"$f":"IF(H793<>\"\",VLOOKUP(H793,Codes!C$1:D$475,2,FALSE),\"\")","v":""}]
[{"$nulls":6},{"$f":"IF(H794<>\"\",VLOOKUP(H794,Codes!C$1:D$475,2,FALSE),\"\")","v":""}]
[{"$nulls":6},{"$f":"IF(H795<>\"\",VLOOKUP(H795,Codes!C$1:D$475,2,FALSE),\"\")","v":""}]
[{"$nulls":6},{"$f":"IF(H796<>\"\",VLOOKUP(H796,Codes!C$1:D$475,2,FALSE),\"\")","v":""}]
[{"$nulls":6},{"$f":"IF(H797<>\"\",VLOOKUP(H797,Codes!C$1:D$475,2,FALSE),\"\")","v":""}]
[{"$nulls":6},{"$f":"IF(H798<>\"\",VLOOKUP(H798,Codes!C$1:D$475,2,FALSE),\"\")","v":""}]
[{"$nulls":6},{"$f":"IF(H799<>\"\",VLOOKUP(H799,Codes!C$1:D$475,2,FALSE),\"\")","v":""}]
[{"$nulls":6},{"$f":"IF(H800<>\"\",VLOOKUP(H800,Codes!C$1:D$475,2,FALSE),\"\")","v":""}]
[{"$nulls":6},{"$f":"IF(H801<>\"\",VLOOKUP(H801,Codes!C$1:D$475,2,FALSE),\"\")","v":""}]
[{"$nulls":6},{"$f":"IF(H802<>\"\",VLOOKUP(H802,Codes!C$1:D$475,2,FALSE),\"\")","v":""}]
[{"$nulls":6},{"$f":"IF(H803<>\"\",VLOOKUP(H803,Codes!C$1:D$475,2,FALSE),\"\")","v":""}]
[{"$nulls":6},{"$f":"IF(H804<>\"\",VLOOKUP(H804,Codes!C$1:D$475,2,FALSE),\"\")","v":""}]
[{"$nulls":6},{"$f":"IF(H805<>\"\",VLOOKUP(H805,Codes!C$1:D$475,2,FALSE),\"\")","v":""}]
[{"$nulls":6},{"$f":"IF(H806<>\"\",VLOOKUP(H806,Codes!C$1:D$475,2,FALSE),\"\")","v":""}]
[{"$nulls":6},{"$f":"IF(H807<>\"\",VLOOKUP(H807,Codes!C$1:D$475,2,FALSE),\"\")","v":""}]
[{"$nulls":6},{"$f":"IF(H808<>\"\",VLOOKUP(H808,Codes!C$1:D$475,2,FALSE),\"\")","v":""}]
[{"$nulls":6},{"$f":"IF(H809<>\"\",VLOOKUP(H809,Codes!C$1:D$475,2,FALSE),\"\")","v":""}]
[{"$nulls":6},{"$f":"IF(H810<>\"\",VLOOKUP(H810,Codes!C$1:D$475,2,FALSE),\"\")","v":""}]
[{"$nulls":6},{"$f":"IF(H811<>\"\",VLOOKUP(H811,Codes!C$1:D$475,2,FALSE),\"\")","v":""}]
[{"$nulls":6},{"$f":"IF(H812<>\"\",VLOOKUP(H812,Codes!C$1:D$475,2,FALSE),\"\")","v":""}]
[{"$nulls":6},{"$f":"IF(H813<>\"\",VLOOKUP(H813,Codes!C$1:D$475,2,FALSE),\"\")","v":""}]
[{"$nulls":6},{"$f":"IF(H814<>\"\",VLOOKUP(H814,Codes!C$1:D$475,2,FALSE),\"\")","v":""}]
[{"$nulls":6},{"$f":"IF(H815<>\"\",VLOOKUP(H815,Codes!C$1:D$475,2,FALSE),\"\")","v":""}]
[{"$nulls":6},{"$f":"IF(H816<>\"\",VLOOKUP(H816,Codes!C$1:D$475,2,FALSE),\"\")","v":""}]
[{"$nulls":6},{"$f":"IF(H817<>\"\",VLOOKUP(H817,Codes!C$1:D$475,2,FALSE),\"\")","v":""}]
[{"$nulls":6},{"$f":"IF(H818<>\"\",VLOOKUP(H818,Codes!C$1:D$475,2,FALSE),\"\")","v":""}]
[{"$nulls":6},{"$f":"IF(H819<>\"\",VLOOKUP(H819,Codes!C$1:D$475,2,FALSE),\"\")","v":""}]
[{"$nulls":6},{"$f":"IF(H820<>\"\",VLOOKUP(H820,Codes!C$1:D$475,2,FALSE),\"\")","v":""}]
[{"$nulls":6},{"$f":"IF(H821<>\"\",VLOOKUP(H821,Codes!C$1:D$475,2,FALSE),\"\")","v":""}]
[{"$nulls":6},{"$f":"IF(H822<>\"\",VLOOKUP(H822,Codes!C$1:D$475,2,FALSE),\"\")","v":""}]
[{"$nulls":6},{"$f":"IF(H823<>\"\",VLOOKUP(H823,Codes!C$1:D$475,2,FALSE),\"\")","v":""}]
[{"$nulls":6},{"$f":"IF(H824<>\"\",VLOOKUP(H824,Codes!C$1:D$475,2,FALSE),\"\")","v":""}]
[{"$nulls":6},{"$f":"IF(H825<>\"\",VLOOKUP(H825,Codes!C$1:D$475,2,FALSE),\"\")","v":""}]
[{"$nulls":6},{"$f":"IF(H826<>\"\",VLOOKUP(H826,Codes!C$1:D$475,2,FALSE),\"\")","v":""}]
[{"$nulls":6},{"$f":"IF(H827<>\"\",VLOOKUP(H827,Codes!C$1:D$475,2,FALSE),\"\")","v":""}]
[{"$nulls":6},{"$f":"IF(H828<>\"\",VLOOKUP(H828,Codes!C$1:D$475,2,FALSE),\"\")","v":""}]
[{"$nulls":6},{"$f":"IF(H829<>\"\",VLOOKUP(H829,Codes!C$1:D$475,2,FALSE),\"\")","v":""}]
[{"$nulls":6},{"$f":"IF(H830<>\"\",VLOOKUP(H830,Codes!C$1:D$475,2,FALSE),\"\")","v":""}]
[{"$nulls":6},{"$f":"IF(H831<>\"\",VLOOKUP(H831,Codes!C$1:D$475,2,FALSE),\"\")","v":""}]
[{"$nulls":6},{"$f":"IF(H832<>\"\",VLOOKUP(H832,Codes!C$1:D$475,2,FALSE),\"\")","v":""}]
[{"$nulls":6},{"$f":"IF(H833<>\"\",VLOOKUP(H833,Codes!C$1:D$475,2,FALSE),\"\")","v":""}]
[{"$nulls":6},{"$f":"IF(H834<>\"\",VLOOKUP(H834,Codes!C$1:D$475,2,FALSE),\"\")","v":""}]
[{"$nulls":6},{"$f":"IF(H835<>\"\",VLOOKUP(H835,Codes!C$1:D$475,2,FALSE),\"\")","v":""}]
[{"$nulls":6},{"$f":"IF(H836<>\"\",VLOOKUP(H836,Codes!C$1:D$475,2,FALSE),\"\")","v":""}]
[{"$nulls":6},{"$f":"IF(H837<>\"\",VLOOKUP(H837,Codes!C$1:D$475,2,FALSE),\"\")","v":""}]
[{"$nulls":6},{"$f":"IF(H838<>\"\",VLOOKUP(H838,Codes!C$1:D$475,2,FALSE),\"\")","v":""}]
[{"$nulls":6},{"$f":"IF(H839<>\"\",VLOOKUP(H839,Codes!C$1:D$475,2,FALSE),\"\")","v":""}]
[{"$nulls":6},{"$f":"IF(H840<>\"\",VLOOKUP(H840,Codes!C$1:D$475,2,FALSE),\"\")","v":""}]
[{"$nulls":6},{"$f":"IF(H841<>\"\",VLOOKUP(H841,Codes!C$1:D$475,2,FALSE),\"\")","v":""}]
[{"$nulls":6},{"$f":"IF(H842<>\"\",VLOOKUP(H842,Codes!C$1:D$475,2,FALSE),\"\")","v":""}]
[{"$nulls":6},{"$f":"IF(H843<>\"\",VLOOKUP(H843,Codes!C$1:D$475,2,FALSE),\"\")","v":""}]
[{"$nulls":6},{"$f":"IF(H844<>\"\",VLOOKUP(H844,Codes!C$1:D$475,2,FALSE),\"\")","v":""}]
[{"$nulls":6},{"$f":"IF(H845<>\"\",VLOOKUP(H845,Codes!C$1:D$475,2,FALSE),\"\")","v":""}]
[{"$nulls":6},{"$f":"IF(H846<>\"\",VLOOKUP(H846,Codes!C$1:D$475,2,FALSE),\"\")","v":""}]
[{"$nulls":6},{"$f":"IF(H847<>\"\",VLOOKUP(H847,Codes!C$1:D$475,2,FALSE),\"\")","v":""}]
[{"$nulls":6},{"$f":"IF(H848<>\"\",VLOOKUP(H848,Codes!C$1:D$475,2,FALSE),\"\")","v":""}]
[{"$nulls":6},{"$f":"IF(H849<>\"\",VLOOKUP(H849,Codes!C$1:D$475,2,FALSE),\"\")","v":""}]
[{"$nulls":6},{"$f":"IF(H850<>\"\",VLOOKUP(H850,Codes!C$1:D$475,2,FALSE),\"\")","v":""}]
[{"$nulls":6},{"$f":"IF(H851<>\"\",VLOOKUP(H851,Codes!C$1:D$475,2,FALSE),\"\")","v":""}]
[{"$nulls":6},{"$f":"IF(H852<>\"\",VLOOKUP(H852,Codes!C$1:D$475,2,FALSE),\"\")","v":""}]
[{"$nulls":6},{"$f":"IF(H853<>\"\",VLOOKUP(H853,Codes!C$1:D$475,2,FALSE),\"\")","v":""}]
[{"$nulls":6},{"$f":"IF(H854<>\"\",VLOOKUP(H854,Codes!C$1:D$475,2,FALSE),\"\")","v":""}]
[{"$nulls":6},{"$f":"IF(H855<>\"\",VLOOKUP(H855,Codes!C$1:D$475,2,FALSE),\"\")","v":""}]
[{"$nulls":6},{"$f":"IF(H856<>\"\",VLOOKUP(H856,Codes!C$1:D$475,2,FALSE),\"\")","v":""}]
[{"$nulls":6},{"$f":"IF(H857<>\"\",VLOOKUP(H857,Codes!C$1:D$475,2,FALSE),\"\")","v":""}]
[{"$nulls":6},{"$f":"IF(H858<>\"\",VLOOKUP(H858,Codes!C$1:D$475,2,FALSE),\"\")","v":""}]
[{"$nulls":6},{"$f":"IF(H859<>\"\",VLOOKUP(H859,Codes!C$1:D$475,2,FALSE),\"\")","v":""}]
[{"$nulls":6},{"$f":"IF(H860<>\"\",VLOOKUP(H860,Codes!C$1:D$475,2,FALSE),\"\")","v":""}]
[{"$nulls":6},{"$f":"IF(H861<>\"\",VLOOKUP(H861,Codes!C$1:D$475,2,FALSE),\"\")","v":""}]
[{"$nulls":6},{"$f":"IF(H862<>\"\",VLOOKUP(H862,Codes!C$1:D$475,2,FALSE),\"\")","v":""}]
[{"$nulls":6},{"$f":"IF(H863<>\"\",VLOOKUP(H863,Codes!C$1:D$475,2,FALSE),\"\")","v":""}]
[{"$nulls":6},{"$f":"IF(H864<>\"\",VLOOKUP(H864,Codes!C$1:D$475,2,FALSE),\"\")","v":""}]
[{"$nulls":6},{"$f":"IF(H865<>\"\",VLOOKUP(H865,Codes!C$1:D$475,2,FALSE),\"\")","v":""}]
[{"$nulls":6},{"$f":"IF(H866<>\"\",VLOOKUP(H866,Codes!C$1:D$475,2,FALSE),\"\")","v":""}]
[{"$nulls":6},{"$f":"IF(H867<>\"\",VLOOKUP(H867,Codes!C$1:D$475,2,FALSE),\"\")","v":""}]
[{"$nulls":6},{"$f":"IF(H868<>\"\",VLOOKUP(H868,Codes!C$1:D$475,2,FALSE),\"\")","v":""}]
[{"$nulls":6},{"$f":"IF(H869<>\"\",VLOOKUP(H869,Codes!C$1:D$475,2,FALSE),\"\")","v":""}]
[{"$nulls":6},{"$f":"IF(H870<>\"\",VLOOKUP(H870,Codes!C$1:D$475,2,FALSE),\"\")","v":""}]
[{"$nulls":6},{"$f":"IF(H871<>\"\",VLOOKUP(H871,Codes!C$1:D$475,2,FALSE),\"\")","v":""}]
[{"$nulls":6},{"$f":"IF(H872<>\"\",VLOOKUP(H872,Codes!C$1:D$475,2,FALSE),\"\")","v":""}]
[{"$nulls":6},{"$f":"IF(H873<>\"\",VLOOKUP(H873,Codes!C$1:D$475,2,FALSE),\"\")","v":""}]
[{"$nulls":6},{"$f":"IF(H874<>\"\",VLOOKUP(H874,Codes!C$1:D$475,2,FALSE),\"\")","v":""},{"$nulls":3},{"$f":"IF(J874>0,VLOOKUP(J874,' code comptes '!$A$1:$C$148,3),\"\")","v":""},null,{"$f":"D767","v":{"v":0,"d":"0.00"}},{"$f":"+CONCATENATE(G767,H767)","v":""}]
[{"$nulls":6},{"$f":"IF(H875<>\"\",VLOOKUP(H875,Codes!C$1:D$475,2,FALSE),\"\")","v":""},{"$nulls":3},{"$f":"IF(J875>0,VLOOKUP(J875,' code comptes '!$A$1:$C$148,3),\"\")","v":""},null,{"$f":"D874","v":{"v":0,"d":"0.00"}},{"$f":"+CONCATENATE(G874,H874)","v":""}]
[{"$nulls":6},{"$f":"IF(H876<>\"\",VLOOKUP(H876,Codes!C$1:D$475,2,FALSE),\"\")","v":""},{"$nulls":3},{"$f":"IF(J876>0,VLOOKUP(J876,' code comptes '!$A$1:$C$148,3),\"\")","v":""},null,{"v":0,"d":"0.00"},""]
[{"$nulls":6},{"$f":"IF(H877<>\"\",VLOOKUP(H877,Codes!C$1:D$475,2,FALSE),\"\")","v":""},{"$nulls":3},{"$f":"IF(J877>0,VLOOKUP(J877,' code comptes '!$A$1:$C$148,3),\"\")","v":""},null,{"v":0,"d":"0.00"},""]
[{"$nulls":6},{"$f":"IF(H878<>\"\",VLOOKUP(H878,Codes!C$1:D$475,2,FALSE),\"\")","v":""},{"$nulls":3},{"$f":"IF(J878>0,VLOOKUP(J878,' code comptes '!$A$1:$C$148,3),\"\")","v":""},null,{"v":0,"d":"0.00"},""]
[{"$nulls":6},{"$f":"IF(H879<>\"\",VLOOKUP(H879,Codes!C$1:D$475,2,FALSE),\"\")","v":""},{"$nulls":3},{"$f":"IF(J879>0,VLOOKUP(J879,' code comptes '!$A$1:$C$148,3),\"\")","v":""},null,{"v":0,"d":"0.00"},""]
[{"$nulls":6},{"$f":"IF(H880<>\"\",VLOOKUP(H880,Codes!C$1:D$475,2,FALSE),\"\")","v":""},{"$nulls":3},{"$f":"IF(J880>0,VLOOKUP(J880,' code comptes '!$A$1:$C$148,3),\"\")","v":""},null,{"v":0,"d":"0.00"},""]
[{"$nulls":6},{"$f":"IF(H881<>\"\",VLOOKUP(H881,Codes!C$1:D$475,2,FALSE),\"\")","v":""},{"$nulls":3},{"$f":"IF(J881>0,VLOOKUP(J881,' code comptes '!$A$1:$C$148,3),\"\")","v":""},null,{"v":0,"d":"0.00"},""]
[{"$nulls":6},{"$f":"IF(H882<>\"\",VLOOKUP(H882,Codes!C$1:D$475,2,FALSE),\"\")","v":""},{"$nulls":3},{"$f":"IF(J882>0,VLOOKUP(J882,' code comptes '!$A$1:$C$148,3),\"\")","v":""},null,{"v":0,"d":"0.00"},""]
[{"$nulls":6},{"$f":"IF(H883<>\"\",VLOOKUP(H883,Codes!C$1:D$475,2,FALSE),\"\")","v":""},{"$nulls":3},{"$f":"IF(J883>0,VLOOKUP(J883,' code comptes '!$A$1:$C$148,3),\"\")","v":""},null,{"v":0,"d":"0.00"},""]
[{"$nulls":6},{"$f":"IF(H884<>\"\",VLOOKUP(H884,Codes!C$1:D$475,2,FALSE),\"\")","v":""},{"$nulls":3},{"$f":"IF(J884>0,VLOOKUP(J884,' code comptes '!$A$1:$C$148,3),\"\")","v":""},null,{"v":0,"d":"0.00"},""]
[{"$nulls":6},{"$f":"IF(H885<>\"\",VLOOKUP(H885,Codes!C$1:D$475,2,FALSE),\"\")","v":""},{"$nulls":3},{"$f":"IF(J885>0,VLOOKUP(J885,' code comptes '!$A$1:$C$148,3),\"\")","v":""},null,{"v":0,"d":"0.00"},""]
[{"$nulls":6},{"$f":"IF(H886<>\"\",VLOOKUP(H886,Codes!C$1:D$475,2,FALSE),\"\")","v":""},{"$nulls":3},{"$f":"IF(J886>0,VLOOKUP(J886,' code comptes '!$A$1:$C$148,3),\"\")","v":""},null,{"v":0,"d":"0.00"},""]
[{"$nulls":6},{"$f":"IF(H887<>\"\",VLOOKUP(H887,Codes!C$1:D$475,2,FALSE),\"\")","v":""},{"$nulls":3},{"$f":"IF(J887>0,VLOOKUP(J887,' code comptes '!$A$1:$C$148,3),\"\")","v":""},null,{"v":0,"d":"0.00"},""]
[{"$nulls":6},{"$f":"IF(H888<>\"\",VLOOKUP(H888,Codes!C$1:D$475,2,FALSE),\"\")","v":""},{"$nulls":3},{"$f":"IF(J888>0,VLOOKUP(J888,' code comptes '!$A$1:$C$148,3),\"\")","v":""},null,{"v":0,"d":"0.00"},""]
[{"$nulls":6},{"$f":"IF(H889<>\"\",VLOOKUP(H889,Codes!C$1:D$475,2,FALSE),\"\")","v":""},{"$nulls":3},{"$f":"IF(J889>0,VLOOKUP(J889,' code comptes '!$A$1:$C$148,3),\"\")","v":""},null,{"v":0,"d":"0.00"},""]
[{"$nulls":6},{"$f":"IF(H890<>\"\",VLOOKUP(H890,Codes!C$1:D$475,2,FALSE),\"\")","v":""},{"$nulls":3},{"$f":"IF(J890>0,VLOOKUP(J890,' code comptes '!$A$1:$C$148,3),\"\")","v":""},null,{"v":0,"d":"0.00"},""]
[{"$nulls":6},{"$f":"IF(H891<>\"\",VLOOKUP(H891,Codes!C$1:D$475,2,FALSE),\"\")","v":""},{"$nulls":3},{"$f":"IF(J891>0,VLOOKUP(J891,' code comptes '!$A$1:$C$148,3),\"\")","v":""},null,{"v":0,"d":"0.00"},""]
[{"$nulls":6},{"$f":"IF(H892<>\"\",VLOOKUP(H892,Codes!C$1:D$475,2,FALSE),\"\")","v":""},{"$nulls":3},{"$f":"IF(J892>0,VLOOKUP(J892,' code comptes '!$A$1:$C$148,3),\"\")","v":""},null,{"v":0,"d":"0.00"},""]
[{"$nulls":6},{"$f":"IF(H893<>\"\",VLOOKUP(H893,Codes!C$1:D$475,2,FALSE),\"\")","v":""},{"$nulls":3},{"$f":"IF(J893>0,VLOOKUP(J893,' code comptes '!$A$1:$C$148,3),\"\")","v":""},null,{"v":0,"d":"0.00"},""]
[{"$nulls":6},{"$f":"IF(H894<>\"\",VLOOKUP(H894,Codes!C$1:D$475,2,FALSE),\"\")","v":""},{"$nulls":3},{"$f":"IF(J894>0,VLOOKUP(J894,' code comptes '!$A$1:$C$148,3),\"\")","v":""},null,{"v":0,"d":"0.00"},""]
[{"$nulls":6},{"$f":"IF(H895<>\"\",VLOOKUP(H895,Codes!C$1:D$475,2,FALSE),\"\")","v":""},{"$nulls":3},{"$f":"IF(J895>0,VLOOKUP(J895,' code comptes '!$A$1:$C$148,3),\"\")","v":""},null,{"v":0,"d":"0.00"},""]
[{"$nulls":6},{"$f":"IF(H896<>\"\",VLOOKUP(H896,Codes!C$1:D$475,2,FALSE),\"\")","v":""},{"$nulls":3},{"$f":"IF(J896>0,VLOOKUP(J896,' code comptes '!$A$1:$C$148,3),\"\")","v":""},null,{"v":0,"d":"0.00"},""]
[{"$nulls":6},{"$f":"IF(H897<>\"\",VLOOKUP(H897,Codes!C$1:D$475,2,FALSE),\"\")","v":""},{"$nulls":3},{"$f":"IF(J897>0,VLOOKUP(J897,' code comptes '!$A$1:$C$148,3),\"\")","v":""},null,{"v":0,"d":"0.00"},""]
[{"$nulls":6},{"$f":"IF(H898<>\"\",VLOOKUP(H898,Codes!C$1:D$475,2,FALSE),\"\")","v":""},{"$nulls":3},{"$f":"IF(J898>0,VLOOKUP(J898,' code comptes '!$A$1:$C$148,3),\"\")","v":""},null,{"v":0,"d":"0.00"},""]
[{"$nulls":6},{"$f":"IF(H899<>\"\",VLOOKUP(H899,Codes!C$1:D$475,2,FALSE),\"\")","v":""},{"$nulls":3},{"$f":"IF(J899>0,VLOOKUP(J899,' code comptes '!$A$1:$C$148,3),\"\")","v":""},null,{"v":0,"d":"0.00"},""]
[{"$nulls":6},{"$f":"IF(H900<>\"\",VLOOKUP(H900,Codes!C$1:D$475,2,FALSE),\"\")","v":""},{"$nulls":3},{"$f":"IF(J900>0,VLOOKUP(J900,' code comptes '!$A$1:$C$148,3),\"\")","v":""},null,{"v":0,"d":"0.00"},""]
[{"$nulls":6},{"$f":"IF(H901<>\"\",VLOOKUP(H901,Codes!C$1:D$475,2,FALSE),\"\")","v":""},{"$nulls":3},{"$f":"IF(J901>0,VLOOKUP(J901,' code comptes '!$A$1:$C$148,3),\"\")","v":""},null,{"v":0,"d":"0.00"},""]
[{"$nulls":6},{"$f":"IF(H902<>\"\",VLOOKUP(H902,Codes!C$1:D$475,2,FALSE),\"\")","v":""},{"$nulls":3},{"$f":"IF(J902>0,VLOOKUP(J902,' code comptes '!$A$1:$C$148,3),\"\")","v":""},null,{"v":0,"d":"0.00"},""]
[{"$nulls":6},{"$f":"IF(H903<>\"\",VLOOKUP(H903,Codes!C$1:D$475,2,FALSE),\"\")","v":""},{"$nulls":3},{"$f":"IF(J903>0,VLOOKUP(J903,' code comptes '!$A$1:$C$148,3),\"\")","v":""},null,{"v":0,"d":"0.00"},""]
[{"$nulls":6},{"$f":"IF(H904<>\"\",VLOOKUP(H904,Codes!C$1:D$475,2,FALSE),\"\")","v":""},{"$nulls":3},{"$f":"IF(J904>0,VLOOKUP(J904,' code comptes '!$A$1:$C$148,3),\"\")","v":""},null,{"v":0,"d":"0.00"},""]
[{"$nulls":6},{"$f":"IF(H905<>\"\",VLOOKUP(H905,Codes!C$1:D$475,2,FALSE),\"\")","v":""},{"$nulls":3},{"$f":"IF(J905>0,VLOOKUP(J905,' code comptes '!$A$1:$C$148,3),\"\")","v":""},null,{"v":0,"d":"0.00"},""]
[{"$nulls":6},{"$f":"IF(H906<>\"\",VLOOKUP(H906,Codes!C$1:D$475,2,FALSE),\"\")","v":""},{"$nulls":3},{"$f":"IF(J906>0,VLOOKUP(J906,' code comptes '!$A$1:$C$148,3),\"\")","v":""},null,{"v":0,"d":"0.00"},""]
[{"$nulls":6},{"$f":"IF(H907<>\"\",VLOOKUP(H907,Codes!C$1:D$475,2,FALSE),\"\")","v":""},{"$nulls":3},{"$f":"IF(J907>0,VLOOKUP(J907,' code comptes '!$A$1:$C$148,3),\"\")","v":""},null,{"v":0,"d":"0.00"},""]
[{"$nulls":6},{"$f":"IF(H908<>\"\",VLOOKUP(H908,Codes!C$1:D$475,2,FALSE),\"\")","v":""},{"$nulls":3},{"$f":"IF(J908>0,VLOOKUP(J908,' code comptes '!$A$1:$C$148,3),\"\")","v":""},null,{"v":0,"d":"0.00"},""]
[{"$nulls":6},{"$f":"IF(H909<>\"\",VLOOKUP(H909,Codes!C$1:D$475,2,FALSE),\"\")","v":""},{"$nulls":3},{"$f":"IF(J909>0,VLOOKUP(J909,' code comptes '!$A$1:$C$148,3),\"\")","v":""},null,{"v":0,"d":"0.00"},""]
[{"$nulls":6},{"$f":"IF(H910<>\"\",VLOOKUP(H910,Codes!C$1:D$475,2,FALSE),\"\")","v":""},{"$nulls":3},{"$f":"IF(J910>0,VLOOKUP(J910,' code comptes '!$A$1:$C$148,3),\"\")","v":""},null,{"v":0,"d":"0.00"},""]
[{"$nulls":6},{"$f":"IF(H911<>\"\",VLOOKUP(H911,Codes!C$1:D$475,2,FALSE),\"\")","v":""},{"$nulls":3},{"$f":"IF(J911>0,VLOOKUP(J911,' code comptes '!$A$1:$C$148,3),\"\")","v":""},null,{"v":0,"d":"0.00"},""]
[{"$nulls":6},{"$f":"IF(H912<>\"\",VLOOKUP(H912,Codes!C$1:D$475,2,FALSE),\"\")","v":""},{"$nulls":3},{"$f":"IF(J912>0,VLOOKUP(J912,' code comptes '!$A$1:$C$148,3),\"\")","v":""},null,{"v":0,"d":"0.00"},""]
[{"$nulls":6},{"$f":"IF(H913<>\"\",VLOOKUP(H913,Codes!C$1:D$475,2,FALSE),\"\")","v":""},{"$nulls":3},{"$f":"IF(J913>0,VLOOKUP(J913,' code comptes '!$A$1:$C$148,3),\"\")","v":""},null,{"v":0,"d":"0.00"},""]
[{"$nulls":6},{"$f":"IF(H914<>\"\",VLOOKUP(H914,Codes!C$1:D$475,2,FALSE),\"\")","v":""},{"$nulls":3},{"$f":"IF(J914>0,VLOOKUP(J914,' code comptes '!$A$1:$C$148,3),\"\")","v":""},null,{"v":0,"d":"0.00"},""]
[{"$nulls":6},{"$f":"IF(H915<>\"\",VLOOKUP(H915,Codes!C$1:D$475,2,FALSE),\"\")","v":""},{"$nulls":3},{"$f":"IF(J915>0,VLOOKUP(J915,' code comptes '!$A$1:$C$148,3),\"\")","v":""},null,{"v":0,"d":"0.00"},""]
[{"$nulls":6},{"$f":"IF(H916<>\"\",VLOOKUP(H916,Codes!C$1:D$475,2,FALSE),\"\")","v":""},{"$nulls":3},{"$f":"IF(J916>0,VLOOKUP(J916,' code comptes '!$A$1:$C$148,3),\"\")","v":""},null,{"v":0,"d":"0.00"},""]
[{"$nulls":6},{"$f":"IF(H917<>\"\",VLOOKUP(H917,Codes!C$1:D$475,2,FALSE),\"\")","v":""},{"$nulls":3},{"$f":"IF(J917>0,VLOOKUP(J917,' code comptes '!$A$1:$C$148,3),\"\")","v":""},null,{"v":0,"d":"0.00"},""]
[{"$nulls":6},{"$f":"IF(H918<>\"\",VLOOKUP(H918,Codes!C$1:D$475,2,FALSE),\"\")","v":""},{"$nulls":3},{"$f":"IF(J918>0,VLOOKUP(J918,' code comptes '!$A$1:$C$148,3),\"\")","v":""},null,{"v":0,"d":"0.00"},""]
[{"$nulls":6},{"$f":"IF(H919<>\"\",VLOOKUP(H919,Codes!C$1:D$475,2,FALSE),\"\")","v":""},{"$nulls":3},{"$f":"IF(J919>0,VLOOKUP(J919,' code comptes '!$A$1:$C$148,3),\"\")","v":""},null,{"v":0,"d":"0.00"},""]
[{"$nulls":6},{"$f":"IF(H920<>\"\",VLOOKUP(H920,Codes!C$1:D$475,2,FALSE),\"\")","v":""},{"$nulls":3},{"$f":"IF(J920>0,VLOOKUP(J920,' code comptes '!$A$1:$C$148,3),\"\")","v":""},null,{"v":0,"d":"0.00"},""]
[{"$nulls":6},{"$f":"IF(H921<>\"\",VLOOKUP(H921,Codes!C$1:D$475,2,FALSE),\"\")","v":""},{"$nulls":3},{"$f":"IF(J921>0,VLOOKUP(J921,' code comptes '!$A$1:$C$148,3),\"\")","v":""},null,{"v":0,"d":"0.00"},""]
[{"$nulls":6},{"$f":"IF(H922<>\"\",VLOOKUP(H922,Codes!C$1:D$475,2,FALSE),\"\")","v":""},{"$nulls":3},{"$f":"IF(J922>0,VLOOKUP(J922,' code comptes '!$A$1:$C$148,3),\"\")","v":""},null,{"v":0,"d":"0.00"},""]
[{"$nulls":6},{"$f":"IF(H923<>\"\",VLOOKUP(H923,Codes!C$1:D$475,2,FALSE),\"\")","v":""},{"$nulls":3},{"$f":"IF(J923>0,VLOOKUP(J923,' code comptes '!$A$1:$C$148,3),\"\")","v":""},null,{"v":0,"d":"0.00"},""]
[{"$nulls":6},{"$f":"IF(H924<>\"\",VLOOKUP(H924,Codes!C$1:D$475,2,FALSE),\"\")","v":""},{"$nulls":3},{"$f":"IF(J924>0,VLOOKUP(J924,' code comptes '!$A$1:$C$148,3),\"\")","v":""},null,{"v":0,"d":"0.00"},""]
[{"$nulls":6},{"$f":"IF(H925<>\"\",VLOOKUP(H925,Codes!C$1:D$475,2,FALSE),\"\")","v":""},{"$nulls":3},{"$f":"IF(J925>0,VLOOKUP(J925,' code comptes '!$A$1:$C$148,3),\"\")","v":""},null,{"v":0,"d":"0.00"},""]
[{"$nulls":6},{"$f":"IF(H926<>\"\",VLOOKUP(H926,Codes!C$1:D$475,2,FALSE),\"\")","v":""},{"$nulls":3},{"$f":"IF(J926>0,VLOOKUP(J926,' code comptes '!$A$1:$C$148,3),\"\")","v":""},null,{"v":0,"d":"0.00"},""]
[{"$nulls":6},{"$f":"IF(H927<>\"\",VLOOKUP(H927,Codes!C$1:D$475,2,FALSE),\"\")","v":""},{"$nulls":3},{"$f":"IF(J927>0,VLOOKUP(J927,' code comptes '!$A$1:$C$148,3),\"\")","v":""},null,{"v":0,"d":"0.00"},""]
[{"$nulls":6},{"$f":"IF(H928<>\"\",VLOOKUP(H928,Codes!C$1:D$475,2,FALSE),\"\")","v":""},{"$nulls":3},{"$f":"IF(J928>0,VLOOKUP(J928,' code comptes '!$A$1:$C$148,3),\"\")","v":""},null,{"v":0,"d":"0.00"},""]
[{"$nulls":6},{"$f":"IF(H929<>\"\",VLOOKUP(H929,Codes!C$1:D$475,2,FALSE),\"\")","v":""},{"$nulls":3},{"$f":"IF(J929>0,VLOOKUP(J929,' code comptes '!$A$1:$C$148,3),\"\")","v":""},null,{"v":0,"d":"0.00"},""]
[{"$nulls":6},{"$f":"IF(H930<>\"\",VLOOKUP(H930,Codes!C$1:D$475,2,FALSE),\"\")","v":""},{"$nulls":3},{"$f":"IF(J930>0,VLOOKUP(J930,' code comptes '!$A$1:$C$148,3),\"\")","v":""},null,{"v":0,"d":"0.00"},""]
[{"$nulls":6},{"$f":"IF(H931<>\"\",VLOOKUP(H931,Codes!C$1:D$475,2,FALSE),\"\")","v":""},{"$nulls":3},{"$f":"IF(J931>0,VLOOKUP(J931,' code comptes '!$A$1:$C$148,3),\"\")","v":""},null,{"v":0,"d":"0.00"},""]
[{"$nulls":6},{"$f":"IF(H932<>\"\",VLOOKUP(H932,Codes!C$1:D$475,2,FALSE),\"\")","v":""},{"$nulls":3},{"$f":"IF(J932>0,VLOOKUP(J932,' code comptes '!$A$1:$C$148,3),\"\")","v":""},null,{"v":0,"d":"0.00"},""]
[{"$nulls":6},{"$f":"IF(H933<>\"\",VLOOKUP(H933,Codes!C$1:D$475,2,FALSE),\"\")","v":""},{"$nulls":3},{"$f":"IF(J933>0,VLOOKUP(J933,' code comptes '!$A$1:$C$148,3),\"\")","v":""},null,{"v":0,"d":"0.00"},""]
[{"$nulls":6},{"$f":"IF(H934<>\"\",VLOOKUP(H934,Codes!C$1:D$475,2,FALSE),\"\")","v":""},{"$nulls":3},{"$f":"IF(J934>0,VLOOKUP(J934,' code comptes '!$A$1:$C$148,3),\"\")","v":""},null,{"v":0,"d":"0.00"},""]
[{"$nulls":6},{"$f":"IF(H935<>\"\",VLOOKUP(H935,Codes!C$1:D$475,2,FALSE),\"\")","v":""},{"$nulls":3},{"$f":"IF(J935>0,VLOOKUP(J935,' code comptes '!$A$1:$C$148,3),\"\")","v":""},null,{"v":0,"d":"0.00"},""]
[{"$nulls":6},{"$f":"IF(H936<>\"\",VLOOKUP(H936,Codes!C$1:D$475,2,FALSE),\"\")","v":""},{"$nulls":3},{"$f":"IF(J936>0,VLOOKUP(J936,' code comptes '!$A$1:$C$148,3),\"\")","v":""},null,{"v":0,"d":"0.00"},""]
[{"$nulls":6},{"$f":"IF(H937<>\"\",VLOOKUP(H937,Codes!C$1:D$475,2,FALSE),\"\")","v":""},{"$nulls":3},{"$f":"IF(J937>0,VLOOKUP(J937,' code comptes '!$A$1:$C$148,3),\"\")","v":""},null,{"v":0,"d":"0.00"},""]
[{"$nulls":6},{"$f":"IF(H938<>\"\",VLOOKUP(H938,Codes!C$1:D$475,2,FALSE),\"\")","v":""},{"$nulls":3},{"$f":"IF(J938>0,VLOOKUP(J938,' code comptes '!$A$1:$C$148,3),\"\")","v":""},null,{"v":0,"d":"0.00"},""]
[{"$nulls":6},{"$f":"IF(H939<>\"\",VLOOKUP(H939,Codes!C$1:D$475,2,FALSE),\"\")","v":""},{"$nulls":3},{"$f":"IF(J939>0,VLOOKUP(J939,' code comptes '!$A$1:$C$148,3),\"\")","v":""},null,{"v":0,"d":"0.00"},""]
[{"$nulls":6},{"$f":"IF(H940<>\"\",VLOOKUP(H940,Codes!C$1:D$475,2,FALSE),\"\")","v":""},{"$nulls":3},{"$f":"IF(J940>0,VLOOKUP(J940,' code comptes '!$A$1:$C$148,3),\"\")","v":""},null,{"v":0,"d":"0.00"},""]
[{"$nulls":6},{"$f":"IF(H941<>\"\",VLOOKUP(H941,Codes!C$1:D$475,2,FALSE),\"\")","v":""},{"$nulls":3},{"$f":"IF(J941>0,VLOOKUP(J941,' code comptes '!$A$1:$C$148,3),\"\")","v":""},null,{"v":0,"d":"0.00"},""]
[{"$nulls":6},{"$f":"IF(H942<>\"\",VLOOKUP(H942,Codes!C$1:D$475,2,FALSE),\"\")","v":""},{"$nulls":3},{"$f":"IF(J942>0,VLOOKUP(J942,' code comptes '!$A$1:$C$148,3),\"\")","v":""},null,{"v":0,"d":"0.00"},""]
[{"$nulls":6},{"$f":"IF(H943<>\"\",VLOOKUP(H943,Codes!C$1:D$475,2,FALSE),\"\")","v":""},{"$nulls":3},{"$f":"IF(J943>0,VLOOKUP(J943,' code comptes '!$A$1:$C$148,3),\"\")","v":""},null,{"v":0,"d":"0.00"},""]
[{"$nulls":6},{"$f":"IF(H944<>\"\",VLOOKUP(H944,Codes!C$1:D$475,2,FALSE),\"\")","v":""},{"$nulls":3},{"$f":"IF(J944>0,VLOOKUP(J944,' code comptes '!$A$1:$C$148,3),\"\")","v":""},null,{"v":0,"d":"0.00"},""]
[{"$nulls":6},{"$f":"IF(H945<>\"\",VLOOKUP(H945,Codes!C$1:D$475,2,FALSE),\"\")","v":""},{"$nulls":3},{"$f":"IF(J945>0,VLOOKUP(J945,' code comptes '!$A$1:$C$148,3),\"\")","v":""},null,{"v":0,"d":"0.00"},""]
[{"$nulls":6},{"$f":"IF(H946<>\"\",VLOOKUP(H946,Codes!C$1:D$475,2,FALSE),\"\")","v":""},{"$nulls":3},{"$f":"IF(J946>0,VLOOKUP(J946,' code comptes '!$A$1:$C$148,3),\"\")","v":""},null,{"v":0,"d":"0.00"},""]
[{"$nulls":6},{"$f":"IF(H947<>\"\",VLOOKUP(H947,Codes!C$1:D$475,2,FALSE),\"\")","v":""},{"$nulls":3},{"$f":"IF(J947>0,VLOOKUP(J947,' code comptes '!$A$1:$C$148,3),\"\")","v":""},null,{"v":0,"d":"0.00"},""]
[{"$nulls":6},{"$f":"IF(H948<>\"\",VLOOKUP(H948,Codes!C$1:D$475,2,FALSE),\"\")","v":""},{"$nulls":3},{"$f":"IF(J948>0,VLOOKUP(J948,' code comptes '!$A$1:$C$148,3),\"\")","v":""},null,{"v":0,"d":"0.00"},""]
[{"$nulls":6},{"$f":"IF(H949<>\"\",VLOOKUP(H949,Codes!C$1:D$475,2,FALSE),\"\")","v":""},{"$nulls":3},{"$f":"IF(J949>0,VLOOKUP(J949,' code comptes '!$A$1:$C$148,3),\"\")","v":""},null,{"v":0,"d":"0.00"},""]
[{"$nulls":6},{"$f":"IF(H950<>\"\",VLOOKUP(H950,Codes!C$1:D$475,2,FALSE),\"\")","v":""},{"$nulls":3},{"$f":"IF(J950>0,VLOOKUP(J950,' code comptes '!$A$1:$C$148,3),\"\")","v":""},null,{"v":0,"d":"0.00"},""]
[{"$nulls":6},{"$f":"IF(H951<>\"\",VLOOKUP(H951,Codes!C$1:D$475,2,FALSE),\"\")","v":""},{"$nulls":3},{"$f":"IF(J951>0,VLOOKUP(J951,' code comptes '!$A$1:$C$148,3),\"\")","v":""},null,{"v":0,"d":"0.00"},""]
[{"$nulls":6},{"$f":"IF(H952<>\"\",VLOOKUP(H952,Codes!C$1:D$475,2,FALSE),\"\")","v":""},{"$nulls":3},{"$f":"IF(J952>0,VLOOKUP(J952,' code comptes '!$A$1:$C$148,3),\"\")","v":""},null,{"v":0,"d":"0.00"},""]
[{"$nulls":6},{"$f":"IF(H953<>\"\",VLOOKUP(H953,Codes!C$1:D$475,2,FALSE),\"\")","v":""},{"$nulls":3},{"$f":"IF(J953>0,VLOOKUP(J953,' code comptes '!$A$1:$C$148,3),\"\")","v":""},null,{"v":0,"d":"0.00"},""]
[{"$nulls":6},{"$f":"IF(H954<>\"\",VLOOKUP(H954,Codes!C$1:D$475,2,FALSE),\"\")","v":""},{"$nulls":3},{"$f":"IF(J954>0,VLOOKUP(J954,' code comptes '!$A$1:$C$148,3),\"\")","v":""},null,{"v":0,"d":"0.00"},""]
[{"$nulls":6},{"$f":"IF(H955<>\"\",VLOOKUP(H955,Codes!C$1:D$475,2,FALSE),\"\")","v":""},{"$nulls":3},{"$f":"IF(J955>0,VLOOKUP(J955,' code comptes '!$A$1:$C$148,3),\"\")","v":""},null,{"v":0,"d":"0.00"},""]
[{"$nulls":6},{"$f":"IF(H956<>\"\",VLOOKUP(H956,Codes!C$1:D$475,2,FALSE),\"\")","v":""},{"$nulls":3},{"$f":"IF(J956>0,VLOOKUP(J956,' code comptes '!$A$1:$C$148,3),\"\")","v":""},null,{"v":0,"d":"0.00"},""]
[{"$nulls":6},{"$f":"IF(H957<>\"\",VLOOKUP(H957,Codes!C$1:D$475,2,FALSE),\"\")","v":""},{"$nulls":3},{"$f":"IF(J957>0,VLOOKUP(J957,' code comptes '!$A$1:$C$148,3),\"\")","v":""},null,{"v":0,"d":"0.00"},""]
[{"$nulls":6},{"$f":"IF(H958<>\"\",VLOOKUP(H958,Codes!C$1:D$475,2,FALSE),\"\")","v":""},{"$nulls":3},{"$f":"IF(J958>0,VLOOKUP(J958,' code comptes '!$A$1:$C$148,3),\"\")","v":""},null,{"v":0,"d":"0.00"},""]
[{"$nulls":6},{"$f":"IF(H959<>\"\",VLOOKUP(H959,Codes!C$1:D$475,2,FALSE),\"\")","v":""},{"$nulls":3},{"$f":"IF(J959>0,VLOOKUP(J959,' code comptes '!$A$1:$C$148,3),\"\")","v":""},null,{"v":0,"d":"0.00"},""]
[{"$nulls":6},{"$f":"IF(H960<>\"\",VLOOKUP(H960,Codes!C$1:D$475,2,FALSE),\"\")","v":""},{"$nulls":3},{"$f":"IF(J960>0,VLOOKUP(J960,' code comptes '!$A$1:$C$148,3),\"\")","v":""},null,{"v":0,"d":"0.00"},""]
[{"$nulls":6},{"$f":"IF(H961<>\"\",VLOOKUP(H961,Codes!C$1:D$475,2,FALSE),\"\")","v":""},{"$nulls":3},{"$f":"IF(J961>0,VLOOKUP(J961,' code comptes '!$A$1:$C$148,3),\"\")","v":""},null,{"v":0,"d":"0.00"},""]
[{"$nulls":6},{"$f":"IF(H962<>\"\",VLOOKUP(H962,Codes!C$1:D$475,2,FALSE),\"\")","v":""},{"$nulls":3},{"$f":"IF(J962>0,VLOOKUP(J962,' code comptes '!$A$1:$C$148,3),\"\")","v":""},null,{"v":0,"d":"0.00"},""]
[{"$nulls":6},{"$f":"IF(H963<>\"\",VLOOKUP(H963,Codes!C$1:D$475,2,FALSE),\"\")","v":""},{"$nulls":3},{"$f":"IF(J963>0,VLOOKUP(J963,' code comptes '!$A$1:$C$148,3),\"\")","v":""},null,{"v":0,"d":"0.00"},""]
[{"$nulls":6},{"$f":"IF(H964<>\"\",VLOOKUP(H964,Codes!C$1:D$475,2,FALSE),\"\")","v":""},{"$nulls":3},{"$f":"IF(J964>0,VLOOKUP(J964,' code comptes '!$A$1:$C$148,3),\"\")","v":""},null,{"v":0,"d":"0.00"},""]
[{"$nulls":6},{"$f":"IF(H965<>\"\",VLOOKUP(H965,Codes!C$1:D$475,2,FALSE),\"\")","v":""},{"$nulls":3},{"$f":"IF(J965>0,VLOOKUP(J965,' code comptes '!$A$1:$C$148,3),\"\")","v":""},null,{"v":0,"d":"0.00"},""]
[{"$nulls":6},{"$f":"IF(H966<>\"\",VLOOKUP(H966,Codes!C$1:D$475,2,FALSE),\"\")","v":""},{"$nulls":3},{"$f":"IF(J966>0,VLOOKUP(J966,' code comptes '!$A$1:$C$148,3),\"\")","v":""},null,{"v":0,"d":"0.00"},""]
[{"$nulls":6},{"$f":"IF(H967<>\"\",VLOOKUP(H967,Codes!C$1:D$475,2,FALSE),\"\")","v":""},{"$nulls":3},{"$f":"IF(J967>0,VLOOKUP(J967,' code comptes '!$A$1:$C$148,3),\"\")","v":""},null,{"v":0,"d":"0.00"},""]
[{"$nulls":6},{"$f":"IF(H968<>\"\",VLOOKUP(H968,Codes!C$1:D$475,2,FALSE),\"\")","v":""},{"$nulls":3},{"$f":"IF(J968>0,VLOOKUP(J968,' code comptes '!$A$1:$C$148,3),\"\")","v":""},null,{"v":0,"d":"0.00"},""]
[{"$nulls":6},{"$f":"IF(H969<>\"\",VLOOKUP(H969,Codes!C$1:D$475,2,FALSE),\"\")","v":""},{"$nulls":3},{"$f":"IF(J969>0,VLOOKUP(J969,' code comptes '!$A$1:$C$148,3),\"\")","v":""},null,{"v":0,"d":"0.00"},""]
[{"$nulls":6},{"$f":"IF(H970<>\"\",VLOOKUP(H970,Codes!C$1:D$475,2,FALSE),\"\")","v":""},{"$nulls":3},{"$f":"IF(J970>0,VLOOKUP(J970,' code comptes '!$A$1:$C$148,3),\"\")","v":""},null,{"v":0,"d":"0.00"},""]
[{"$nulls":6},{"$f":"IF(H971<>\"\",VLOOKUP(H971,Codes!C$1:D$475,2,FALSE),\"\")","v":""},{"$nulls":3},{"$f":"IF(J971>0,VLOOKUP(J971,' code comptes '!$A$1:$C$148,3),\"\")","v":""},null,{"v":0,"d":"0.00"},""]
[{"$nulls":6},{"$f":"IF(H972<>\"\",VLOOKUP(H972,Codes!C$1:D$475,2,FALSE),\"\")","v":""},{"$nulls":3},{"$f":"IF(J972>0,VLOOKUP(J972,' code comptes '!$A$1:$C$148,3),\"\")","v":""},null,{"v":0,"d":"0.00"},""]
[{"$nulls":6},{"$f":"IF(H973<>\"\",VLOOKUP(H973,Codes!C$1:D$475,2,FALSE),\"\")","v":""},{"$nulls":3},{"$f":"IF(J973>0,VLOOKUP(J973,' code comptes '!$A$1:$C$148,3),\"\")","v":""},null,{"v":0,"d":"0.00"},""]
[{"$nulls":6},{"$f":"IF(H974<>\"\",VLOOKUP(H974,Codes!C$1:D$475,2,FALSE),\"\")","v":""},{"$nulls":3},{"$f":"IF(J974>0,VLOOKUP(J974,' code comptes '!$A$1:$C$148,3),\"\")","v":""},null,{"v":0,"d":"0.00"},""]
[{"$nulls":6},{"$f":"IF(H975<>\"\",VLOOKUP(H975,Codes!C$1:D$475,2,FALSE),\"\")","v":""},{"$nulls":3},{"$f":"IF(J975>0,VLOOKUP(J975,' code comptes '!$A$1:$C$148,3),\"\")","v":""},null,{"v":0,"d":"0.00"},""]
[{"$nulls":6},{"$f":"IF(H976<>\"\",VLOOKUP(H976,Codes!C$1:D$475,2,FALSE),\"\")","v":""},{"$nulls":3},{"$f":"IF(J976>0,VLOOKUP(J976,' code comptes '!$A$1:$C$148,3),\"\")","v":""},null,{"v":0,"d":"0.00"},""]
[{"$nulls":6},{"$f":"IF(H977<>\"\",VLOOKUP(H977,Codes!C$1:D$475,2,FALSE),\"\")","v":""},{"$nulls":3},{"$f":"IF(J977>0,VLOOKUP(J977,' code comptes '!$A$1:$C$148,3),\"\")","v":""},null,{"v":0,"d":"0.00"},""]
[{"$nulls":6},{"$f":"IF(H978<>\"\",VLOOKUP(H978,Codes!C$1:D$475,2,FALSE),\"\")","v":""}]
[{"$nulls":6},{"$f":"IF(H979<>\"\",VLOOKUP(H979,Codes!C$1:D$475,2,FALSE),\"\")","v":""}]
[{"$nulls":6},{"$f":"IF(H980<>\"\",VLOOKUP(H980,Codes!C$1:D$475,2,FALSE),\"\")","v":""}]
[{"$nulls":6},{"$f":"IF(H981<>\"\",VLOOKUP(H981,Codes!C$1:D$475,2,FALSE),\"\")","v":""},{"$nulls":3},{"$f":"IF(J981>0,VLOOKUP(J981,' code comptes '!$A$1:$C$148,3),\"\")","v":""},null,{"$f":"D977","v":{"v":0,"d":"0.00"}},{"$f":"+CONCATENATE(G977,H977)","v":""}]
[{"$nulls":6},{"$f":"IF(H982<>\"\",VLOOKUP(H982,Codes!C$1:D$475,2,FALSE),\"\")","v":""},{"$nulls":3},{"$f":"IF(J982>0,VLOOKUP(J982,' code comptes '!$A$1:$C$148,3),\"\")","v":""},null,{"$f":"D981","v":{"v":0,"d":"0.00"}},{"$f":"+CONCATENATE(G981,H981)","v":""}]
[{"$nulls":6},{"$f":"IF(H983<>\"\",VLOOKUP(H983,Codes!C$1:D$475,2,FALSE),\"\")","v":""},{"$nulls":3},{"$f":"IF(J983>0,VLOOKUP(J983,' code comptes '!$A$1:$C$148,3),\"\")","v":""},null,{"v":0,"d":"0.00"},""]
[{"$nulls":6},{"$f":"IF(H984<>\"\",VLOOKUP(H984,Codes!C$1:D$475,2,FALSE),\"\")","v":""},{"$nulls":3},{"$f":"IF(J984>0,VLOOKUP(J984,' code comptes '!$A$1:$C$148,3),\"\")","v":""},null,{"v":0,"d":"0.00"},""]
[{"$nulls":6},{"$f":"IF(H985<>\"\",VLOOKUP(H985,Codes!C$1:D$475,2,FALSE),\"\")","v":""},{"$nulls":3},{"$f":"IF(J985>0,VLOOKUP(J985,' code comptes '!$A$1:$C$148,3),\"\")","v":""},null,{"v":0,"d":"0.00"},""]
[{"$nulls":6},{"$f":"IF(H986<>\"\",VLOOKUP(H986,Codes!C$1:D$475,2,FALSE),\"\")","v":""},{"$nulls":3},{"$f":"IF(J986>0,VLOOKUP(J986,' code comptes '!$A$1:$C$148,3),\"\")","v":""},null,{"v":0,"d":"0.00"},""]
[{"$nulls":6},{"$f":"IF(H987<>\"\",VLOOKUP(H987,Codes!C$1:D$475,2,FALSE),\"\")","v":""},{"$nulls":3},{"$f":"IF(J987>0,VLOOKUP(J987,' code comptes '!$A$1:$C$148,3),\"\")","v":""},null,{"v":0,"d":"0.00"},""]
[{"$nulls":6},{"$f":"IF(H988<>\"\",VLOOKUP(H988,Codes!C$1:D$475,2,FALSE),\"\")","v":""}]
[{"$nulls":6},{"$f":"IF(H989<>\"\",VLOOKUP(H989,Codes!C$1:D$475,2,FALSE),\"\")","v":""}]
[{"$nulls":6},{"$f":"IF(H990<>\"\",VLOOKUP(H990,Codes!C$1:D$475,2,FALSE),\"\")","v":""}]
[{"$nulls":6},{"$f":"IF(H991<>\"\",VLOOKUP(H991,Codes!C$1:D$475,2,FALSE),\"\")","v":""}]
[{"$nulls":6},{"$f":"IF(H992<>\"\",VLOOKUP(H992,Codes!C$1:D$475,2,FALSE),\"\")","v":""}]
[{"$nulls":6},{"$f":"IF(H993<>\"\",VLOOKUP(H993,Codes!C$1:D$475,2,FALSE),\"\")","v":""}]
[{"$nulls":6},{"$f":"IF(H994<>\"\",VLOOKUP(H994,Codes!C$1:D$475,2,FALSE),\"\")","v":""}]
[{"$nulls":6},{"$f":"IF(H995<>\"\",VLOOKUP(H995,Codes!C$1:D$475,2,FALSE),\"\")","v":""}]
[{"$nulls":6},{"$f":"IF(H996<>\"\",VLOOKUP(H996,Codes!C$1:D$475,2,FALSE),\"\")","v":""}]
[{"$nulls":6},{"$f":"IF(H997<>\"\",VLOOKUP(H997,Codes!C$1:D$475,2,FALSE),\"\")","v":""}]
[{"$nulls":6},{"$f":"IF(H998<>\"\",VLOOKUP(H998,Codes!C$1:D$475,2,FALSE),\"\")","v":""}]
[{"$nulls":6},{"$f":"IF(H999<>\"\",VLOOKUP(H999,Codes!C$1:D$475,2,FALSE),\"\")","v":""}]
[{"$nulls":6},{"$f":"IF(H1000<>\"\",VLOOKUP(H1000,Codes!C$1:D$475,2,FALSE),\"\")","v":""}]
[{"$nulls":6},{"$f":"IF(H1001<>\"\",VLOOKUP(H1001,Codes!C$1:D$475,2,FALSE),\"\")","v":""}]
[{"$nulls":6},{"$f":"IF(H1002<>\"\",VLOOKUP(H1002,Codes!C$1:D$475,2,FALSE),\"\")","v":""}]
[{"$nulls":6},{"$f":"IF(H1003<>\"\",VLOOKUP(H1003,Codes!C$1:D$475,2,FALSE),\"\")","v":""}]
[{"$nulls":6},{"$f":"IF(H1004<>\"\",VLOOKUP(H1004,Codes!C$1:D$475,2,FALSE),\"\")","v":""}]
[{"$nulls":6},{"$f":"IF(H1005<>\"\",VLOOKUP(H1005,Codes!C$1:D$475,2,FALSE),\"\")","v":""}]
[{"$nulls":6},{"$f":"IF(H1006<>\"\",VLOOKUP(H1006,Codes!C$1:D$475,2,FALSE),\"\")","v":""}]
[{"$nulls":6},{"$f":"IF(H1007<>\"\",VLOOKUP(H1007,Codes!C$1:D$475,2,FALSE),\"\")","v":""}]
[{"$nulls":6},{"$f":"IF(H1008<>\"\",VLOOKUP(H1008,Codes!C$1:D$475,2,FALSE),\"\")","v":""}]
[{"$nulls":6},{"$f":"IF(H1009<>\"\",VLOOKUP(H1009,Codes!C$1:D$475,2,FALSE),\"\")","v":""}]
[{"$nulls":6},{"$f":"IF(H1010<>\"\",VLOOKUP(H1010,Codes!C$1:D$475,2,FALSE),\"\")","v":""}]
[{"$nulls":6},{"$f":"IF(H1011<>\"\",VLOOKUP(H1011,Codes!C$1:D$475,2,FALSE),\"\")","v":""}]
[{"$nulls":6},{"$f":"IF(H1012<>\"\",VLOOKUP(H1012,Codes!C$1:D$475,2,FALSE),\"\")","v":""}]
[{"$nulls":6},{"$f":"IF(H1013<>\"\",VLOOKUP(H1013,Codes!C$1:D$475,2,FALSE),\"\")","v":""}]
[{"$nulls":6},{"$f":"IF(H1014<>\"\",VLOOKUP(H1014,Codes!C$1:D$475,2,FALSE),\"\")","v":""}]
[{"$nulls":6},{"$f":"IF(H1015<>\"\",VLOOKUP(H1015,Codes!C$1:D$475,2,FALSE),\"\")","v":""}]
[{"$nulls":6},{"$f":"IF(H1016<>\"\",VLOOKUP(H1016,Codes!C$1:D$475,2,FALSE),\"\")","v":""}]
[{"$nulls":6},{"$f":"IF(H1017<>\"\",VLOOKUP(H1017,Codes!C$1:D$475,2,FALSE),\"\")","v":""}]
[{"$nulls":6},{"$f":"IF(H1018<>\"\",VLOOKUP(H1018,Codes!C$1:D$475,2,FALSE),\"\")","v":""}]
[{"$nulls":6},{"$f":"IF(H1019<>\"\",VLOOKUP(H1019,Codes!C$1:D$475,2,FALSE),\"\")","v":""}]
[{"$nulls":6},{"$f":"IF(H1020<>\"\",VLOOKUP(H1020,Codes!C$1:D$475,2,FALSE),\"\")","v":""}]
[{"$nulls":6},{"$f":"IF(H1021<>\"\",VLOOKUP(H1021,Codes!C$1:D$475,2,FALSE),\"\")","v":""}]
[{"$nulls":6},{"$f":"IF(H1022<>\"\",VLOOKUP(H1022,Codes!C$1:D$475,2,FALSE),\"\")","v":""}]
[{"$nulls":6},{"$f":"IF(H1023<>\"\",VLOOKUP(H1023,Codes!C$1:D$475,2,FALSE),\"\")","v":""}]
[{"$nulls":6},{"$f":"IF(H1024<>\"\",VLOOKUP(H1024,Codes!C$1:D$475,2,FALSE),\"\")","v":""}]
[{"$nulls":6},{"$f":"IF(H1025<>\"\",VLOOKUP(H1025,Codes!C$1:D$475,2,FALSE),\"\")","v":""}]
[{"$nulls":6},{"$f":"IF(H1026<>\"\",VLOOKUP(H1026,Codes!C$1:D$475,2,FALSE),\"\")","v":""}]
[{"$nulls":6},{"$f":"IF(H1027<>\"\",VLOOKUP(H1027,Codes!C$1:D$475,2,FALSE),\"\")","v":""}]
[{"$nulls":6},{"$f":"IF(H1028<>\"\",VLOOKUP(H1028,Codes!C$1:D$475,2,FALSE),\"\")","v":""}]
[{"$nulls":6},{"$f":"IF(H1029<>\"\",VLOOKUP(H1029,Codes!C$1:D$475,2,FALSE),\"\")","v":""}]
[{"$nulls":6},{"$f":"IF(H1030<>\"\",VLOOKUP(H1030,Codes!C$1:D$475,2,FALSE),\"\")","v":""}]
[{"$nulls":6},{"$f":"IF(H1031<>\"\",VLOOKUP(H1031,Codes!C$1:D$475,2,FALSE),\"\")","v":""}]
[{"$nulls":6},{"$f":"IF(H1032<>\"\",VLOOKUP(H1032,Codes!C$1:D$475,2,FALSE),\"\")","v":""}]
[{"$nulls":6},{"$f":"IF(H1033<>\"\",VLOOKUP(H1033,Codes!C$1:D$475,2,FALSE),\"\")","v":""}]
[{"$nulls":6},{"$f":"IF(H1034<>\"\",VLOOKUP(H1034,Codes!C$1:D$475,2,FALSE),\"\")","v":""}]
[{"$nulls":6},{"$f":"IF(H1035<>\"\",VLOOKUP(H1035,Codes!C$1:D$475,2,FALSE),\"\")","v":""}]
[{"$nulls":6},{"$f":"IF(H1036<>\"\",VLOOKUP(H1036,Codes!C$1:D$475,2,FALSE),\"\")","v":""}]
[{"$nulls":6},{"$f":"IF(H1037<>\"\",VLOOKUP(H1037,Codes!C$1:D$475,2,FALSE),\"\")","v":""}]
[{"$nulls":6},{"$f":"IF(H1038<>\"\",VLOOKUP(H1038,Codes!C$1:D$475,2,FALSE),\"\")","v":""}]
[{"$nulls":6},{"$f":"IF(H1039<>\"\",VLOOKUP(H1039,Codes!C$1:D$475,2,FALSE),\"\")","v":""}]
[{"$nulls":6},{"$f":"IF(H1040<>\"\",VLOOKUP(H1040,Codes!C$1:D$475,2,FALSE),\"\")","v":""}]
[{"$nulls":6},{"$f":"IF(H1041<>\"\",VLOOKUP(H1041,Codes!C$1:D$475,2,FALSE),\"\")","v":""}]
[{"$nulls":6},{"$f":"IF(H1042<>\"\",VLOOKUP(H1042,Codes!C$1:D$475,2,FALSE),\"\")","v":""}]
[{"$nulls":6},{"$f":"IF(H1043<>\"\",VLOOKUP(H1043,Codes!C$1:D$475,2,FALSE),\"\")","v":""}]
[{"$nulls":6},{"$f":"IF(H1044<>\"\",VLOOKUP(H1044,Codes!C$1:D$475,2,FALSE),\"\")","v":""}]
[{"$nulls":6},{"$f":"IF(H1045<>\"\",VLOOKUP(H1045,Codes!C$1:D$475,2,FALSE),\"\")","v":""}]
[{"$nulls":6},{"$f":"IF(H1046<>\"\",VLOOKUP(H1046,Codes!C$1:D$475,2,FALSE),\"\")","v":""}]
[{"$nulls":6},{"$f":"IF(H1047<>\"\",VLOOKUP(H1047,Codes!C$1:D$475,2,FALSE),\"\")","v":""}]
[{"$nulls":6},{"$f":"IF(H1048<>\"\",VLOOKUP(H1048,Codes!C$1:D$475,2,FALSE),\"\")","v":""}]
[{"$nulls":6},{"$f":"IF(H1049<>\"\",VLOOKUP(H1049,Codes!C$1:D$475,2,FALSE),\"\")","v":""}]
[{"$nulls":6},{"$f":"IF(H1050<>\"\",VLOOKUP(H1050,Codes!C$1:D$475,2,FALSE),\"\")","v":""}]
[{"$nulls":6},{"$f":"IF(H1051<>\"\",VLOOKUP(H1051,Codes!C$1:D$475,2,FALSE),\"\")","v":""}]
[{"$nulls":6},{"$f":"IF(H1052<>\"\",VLOOKUP(H1052,Codes!C$1:D$475,2,FALSE),\"\")","v":""}]
[{"$nulls":6},{"$f":"IF(H1053<>\"\",VLOOKUP(H1053,Codes!C$1:D$475,2,FALSE),\"\")","v":""}]
[{"$nulls":6},{"$f":"IF(H1054<>\"\",VLOOKUP(H1054,Codes!C$1:D$475,2,FALSE),\"\")","v":""}]
[{"$nulls":6},{"$f":"IF(H1055<>\"\",VLOOKUP(H1055,Codes!C$1:D$475,2,FALSE),\"\")","v":""}]
[{"$nulls":6},{"$f":"IF(H1056<>\"\",VLOOKUP(H1056,Codes!C$1:D$475,2,FALSE),\"\")","v":""}]
[{"$nulls":6},{"$f":"IF(H1057<>\"\",VLOOKUP(H1057,Codes!C$1:D$475,2,FALSE),\"\")","v":""}]
[{"$nulls":6},{"$f":"IF(H1058<>\"\",VLOOKUP(H1058,Codes!C$1:D$475,2,FALSE),\"\")","v":""}]
[{"$nulls":6},{"$f":"IF(H1059<>\"\",VLOOKUP(H1059,Codes!C$1:D$475,2,FALSE),\"\")","v":""}]
[{"$nulls":6},{"$f":"IF(H1060<>\"\",VLOOKUP(H1060,Codes!C$1:D$475,2,FALSE),\"\")","v":""}]
[{"$nulls":6},{"$f":"IF(H1061<>\"\",VLOOKUP(H1061,Codes!C$1:D$475,2,FALSE),\"\")","v":""}]
[{"$nulls":6},{"$f":"IF(H1062<>\"\",VLOOKUP(H1062,Codes!C$1:D$475,2,FALSE),\"\")","v":""}]
[{"$nulls":6},{"$f":"IF(H1063<>\"\",VLOOKUP(H1063,Codes!C$1:D$475,2,FALSE),\"\")","v":""}]
[{"$nulls":6},{"$f":"IF(H1064<>\"\",VLOOKUP(H1064,Codes!C$1:D$475,2,FALSE),\"\")","v":""}]
[{"$nulls":6},{"$f":"IF(H1065<>\"\",VLOOKUP(H1065,Codes!C$1:D$475,2,FALSE),\"\")","v":""}]
[{"$nulls":6},{"$f":"IF(H1066<>\"\",VLOOKUP(H1066,Codes!C$1:D$475,2,FALSE),\"\")","v":""}]
[{"$nulls":6},{"$f":"IF(H1067<>\"\",VLOOKUP(H1067,Codes!C$1:D$475,2,FALSE),\"\")","v":""}]
[{"$nulls":6},{"$f":"IF(H1068<>\"\",VLOOKUP(H1068,Codes!C$1:D$475,2,FALSE),\"\")","v":""}]
[{"$nulls":6},{"$f":"IF(H1069<>\"\",VLOOKUP(H1069,Codes!C$1:D$475,2,FALSE),\"\")","v":""}]
[{"$nulls":6},{"$f":"IF(H1070<>\"\",VLOOKUP(H1070,Codes!C$1:D$475,2,FALSE),\"\")","v":""}]
[{"$nulls":6},{"$f":"IF(H1071<>\"\",VLOOKUP(H1071,Codes!C$1:D$475,2,FALSE),\"\")","v":""}]
[{"$nulls":6},{"$f":"IF(H1072<>\"\",VLOOKUP(H1072,Codes!C$1:D$475,2,FALSE),\"\")","v":""}]
[{"$nulls":6},{"$f":"IF(H1073<>\"\",VLOOKUP(H1073,Codes!C$1:D$475,2,FALSE),\"\")","v":""}]
[{"$nulls":6},{"$f":"IF(H1074<>\"\",VLOOKUP(H1074,Codes!C$1:D$475,2,FALSE),\"\")","v":""}]
[{"$nulls":6},{"$f":"IF(H1075<>\"\",VLOOKUP(H1075,Codes!C$1:D$475,2,FALSE),\"\")","v":""}]
[{"$nulls":6},{"$f":"IF(H1076<>\"\",VLOOKUP(H1076,Codes!C$1:D$475,2,FALSE),\"\")","v":""}]
[{"$nulls":6},{"$f":"IF(H1077<>\"\",VLOOKUP(H1077,Codes!C$1:D$475,2,FALSE),\"\")","v":""}]
[{"$nulls":6},{"$f":"IF(H1078<>\"\",VLOOKUP(H1078,Codes!C$1:D$475,2,FALSE),\"\")","v":""}]
[{"$nulls":6},{"$f":"IF(H1079<>\"\",VLOOKUP(H1079,Codes!C$1:D$475,2,FALSE),\"\")","v":""}]
[{"$nulls":6},{"$f":"IF(H1080<>\"\",VLOOKUP(H1080,Codes!C$1:D$475,2,FALSE),\"\")","v":""}]
[{"$nulls":6},{"$f":"IF(H1081<>\"\",VLOOKUP(H1081,Codes!C$1:D$475,2,FALSE),\"\")","v":""}]
[{"$nulls":6},{"$f":"IF(H1082<>\"\",VLOOKUP(H1082,Codes!C$1:D$475,2,FALSE),\"\")","v":""}]
[{"$nulls":6},{"$f":"IF(H1083<>\"\",VLOOKUP(H1083,Codes!C$1:D$475,2,FALSE),\"\")","v":""}]
[{"$nulls":6},{"$f":"IF(H1084<>\"\",VLOOKUP(H1084,Codes!C$1:D$475,2,FALSE),\"\")","v":""}]
[{"$nulls":6},{"$f":"IF(H1085<>\"\",VLOOKUP(H1085,Codes!C$1:D$475,2,FALSE),\"\")","v":""}]
[{"$nulls":6},{"$f":"IF(H1086<>\"\",VLOOKUP(H1086,Codes!C$1:D$475,2,FALSE),\"\")","v":""}]
[{"$nulls":6},{"$f":"IF(H1087<>\"\",VLOOKUP(H1087,Codes!C$1:D$475,2,FALSE),\"\")","v":""}]
[{"$nulls":6},{"$f":"IF(H1088<>\"\",VLOOKUP(H1088,Codes!C$1:D$475,2,FALSE),\"\")","v":""}]
[{"$nulls":6},{"$f":"IF(H1089<>\"\",VLOOKUP(H1089,Codes!C$1:D$475,2,FALSE),\"\")","v":""}]
[{"$nulls":6},{"$f":"IF(H1090<>\"\",VLOOKUP(H1090,Codes!C$1:D$475,2,FALSE),\"\")","v":""}]
[{"$nulls":6},{"$f":"IF(H1091<>\"\",VLOOKUP(H1091,Codes!C$1:D$475,2,FALSE),\"\")","v":""}]
[{"$nulls":6},{"$f":"IF(H1092<>\"\",VLOOKUP(H1092,Codes!C$1:D$475,2,FALSE),\"\")","v":""}]
[{"$nulls":6},{"$f":"IF(H1093<>\"\",VLOOKUP(H1093,Codes!C$1:D$475,2,FALSE),\"\")","v":""}]
[{"$nulls":6},{"$f":"IF(H1094<>\"\",VLOOKUP(H1094,Codes!C$1:D$475,2,FALSE),\"\")","v":""}]
[{"$nulls":6},{"$f":"IF(H1095<>\"\",VLOOKUP(H1095,Codes!C$1:D$475,2,FALSE),\"\")","v":""}]
[{"$nulls":6},{"$f":"IF(H1096<>\"\",VLOOKUP(H1096,Codes!C$1:D$475,2,FALSE),\"\")","v":""}]
[{"$nulls":6},{"$f":"IF(H1097<>\"\",VLOOKUP(H1097,Codes!C$1:D$475,2,FALSE),\"\")","v":""}]
[{"$nulls":6},{"$f":"IF(H1098<>\"\",VLOOKUP(H1098,Codes!C$1:D$475,2,FALSE),\"\")","v":""}]
[{"$nulls":6},{"$f":"IF(H1099<>\"\",VLOOKUP(H1099,Codes!C$1:D$475,2,FALSE),\"\")","v":""}]
[{"$nulls":6},{"$f":"IF(H1100<>\"\",VLOOKUP(H1100,Codes!C$1:D$475,2,FALSE),\"\")","v":""}]
[{"$nulls":6},{"$f":"IF(H1101<>\"\",VLOOKUP(H1101,Codes!C$1:D$475,2,FALSE),\"\")","v":""}]
[{"$nulls":6},{"$f":"IF(H1102<>\"\",VLOOKUP(H1102,Codes!C$1:D$475,2,FALSE),\"\")","v":""}]
[{"$nulls":6},{"$f":"IF(H1103<>\"\",VLOOKUP(H1103,Codes!C$1:D$475,2,FALSE),\"\")","v":""}]
[{"$nulls":6},{"$f":"IF(H1104<>\"\",VLOOKUP(H1104,Codes!C$1:D$475,2,FALSE),\"\")","v":""}]
[{"$nulls":6},{"$f":"IF(H1105<>\"\",VLOOKUP(H1105,Codes!C$1:D$475,2,FALSE),\"\")","v":""}]
[{"$nulls":6},{"$f":"IF(H1106<>\"\",VLOOKUP(H1106,Codes!C$1:D$475,2,FALSE),\"\")","v":""}]
[{"$nulls":6},{"$f":"IF(H1107<>\"\",VLOOKUP(H1107,Codes!C$1:D$475,2,FALSE),\"\")","v":""}]
[{"$nulls":6},{"$f":"IF(H1108<>\"\",VLOOKUP(H1108,Codes!C$1:D$475,2,FALSE),\"\")","v":""}]
[{"$nulls":6},{"$f":"IF(H1109<>\"\",VLOOKUP(H1109,Codes!C$1:D$475,2,FALSE),\"\")","v":""}]
[{"$nulls":6},{"$f":"IF(H1110<>\"\",VLOOKUP(H1110,Codes!C$1:D$475,2,FALSE),\"\")","v":""}]
[{"$nulls":6},{"$f":"IF(H1111<>\"\",VLOOKUP(H1111,Codes!C$1:D$475,2,FALSE),\"\")","v":""}]
[{"$nulls":6},{"$f":"IF(H1112<>\"\",VLOOKUP(H1112,Codes!C$1:D$475,2,FALSE),\"\")","v":""}]
[{"$nulls":6},{"$f":"IF(H1113<>\"\",VLOOKUP(H1113,Codes!C$1:D$475,2,FALSE),\"\")","v":""}]
[{"$nulls":6},{"$f":"IF(H1114<>\"\",VLOOKUP(H1114,Codes!C$1:D$475,2,FALSE),\"\")","v":""}]
[{"$nulls":6},{"$f":"IF(H1115<>\"\",VLOOKUP(H1115,Codes!C$1:D$475,2,FALSE),\"\")","v":""}]
[{"$nulls":6},{"$f":"IF(H1116<>\"\",VLOOKUP(H1116,Codes!C$1:D$475,2,FALSE),\"\")","v":""}]
[{"$nulls":6},{"$f":"IF(H1117<>\"\",VLOOKUP(H1117,Codes!C$1:D$475,2,FALSE),\"\")","v":""}]
[{"$nulls":6},{"$f":"IF(H1118<>\"\",VLOOKUP(H1118,Codes!C$1:D$475,2,FALSE),\"\")","v":""}]
[{"$nulls":6},{"$f":"IF(H1119<>\"\",VLOOKUP(H1119,Codes!C$1:D$475,2,FALSE),\"\")","v":""}]
[{"$nulls":6},{"$f":"IF(H1120<>\"\",VLOOKUP(H1120,Codes!C$1:D$475,2,FALSE),\"\")","v":""}]
[{"$nulls":6},{"$f":"IF(H1121<>\"\",VLOOKUP(H1121,Codes!C$1:D$475,2,FALSE),\"\")","v":""}]
[{"$nulls":6},{"$f":"IF(H1122<>\"\",VLOOKUP(H1122,Codes!C$1:D$475,2,FALSE),\"\")","v":""}]
[{"$nulls":6},{"$f":"IF(H1123<>\"\",VLOOKUP(H1123,Codes!C$1:D$475,2,FALSE),\"\")","v":""}]
[{"$nulls":6},{"$f":"IF(H1124<>\"\",VLOOKUP(H1124,Codes!C$1:D$475,2,FALSE),\"\")","v":""}]
[{"$nulls":6},{"$f":"IF(H1125<>\"\",VLOOKUP(H1125,Codes!C$1:D$475,2,FALSE),\"\")","v":""}]
[{"$nulls":6},{"$f":"IF(H1126<>\"\",VLOOKUP(H1126,Codes!C$1:D$475,2,FALSE),\"\")","v":""}]
[{"$nulls":6},{"$f":"IF(H1127<>\"\",VLOOKUP(H1127,Codes!C$1:D$475,2,FALSE),\"\")","v":""}]
[{"$nulls":6},{"$f":"IF(H1128<>\"\",VLOOKUP(H1128,Codes!C$1:D$475,2,FALSE),\"\")","v":""}]
[{"$nulls":6},{"$f":"IF(H1129<>\"\",VLOOKUP(H1129,Codes!C$1:D$475,2,FALSE),\"\")","v":""}]
[{"$nulls":6},{"$f":"IF(H1130<>\"\",VLOOKUP(H1130,Codes!C$1:D$475,2,FALSE),\"\")","v":""}]
[{"$nulls":6},{"$f":"IF(H1131<>\"\",VLOOKUP(H1131,Codes!C$1:D$475,2,FALSE),\"\")","v":""}]
[{"$nulls":6},{"$f":"IF(H1132<>\"\",VLOOKUP(H1132,Codes!C$1:D$475,2,FALSE),\"\")","v":""}]
[{"$nulls":6},{"$f":"IF(H1133<>\"\",VLOOKUP(H1133,Codes!C$1:D$475,2,FALSE),\"\")","v":""}]
[{"$nulls":6},{"$f":"IF(H1134<>\"\",VLOOKUP(H1134,Codes!C$1:D$475,2,FALSE),\"\")","v":""}]
[{"$nulls":6},{"$f":"IF(H1135<>\"\",VLOOKUP(H1135,Codes!C$1:D$475,2,FALSE),\"\")","v":""}]
[{"$nulls":6},{"$f":"IF(H1136<>\"\",VLOOKUP(H1136,Codes!C$1:D$475,2,FALSE),\"\")","v":""}]
[{"$nulls":6},{"$f":"IF(H1137<>\"\",VLOOKUP(H1137,Codes!C$1:D$475,2,FALSE),\"\")","v":""}]
[{"$nulls":6},{"$f":"IF(H1138<>\"\",VLOOKUP(H1138,Codes!C$1:D$475,2,FALSE),\"\")","v":""}]
[{"$nulls":6},{"$f":"IF(H1139<>\"\",VLOOKUP(H1139,Codes!C$1:D$475,2,FALSE),\"\")","v":""}]
[{"$nulls":6},{"$f":"IF(H1140<>\"\",VLOOKUP(H1140,Codes!C$1:D$475,2,FALSE),\"\")","v":""}]
[{"$nulls":6},{"$f":"IF(H1141<>\"\",VLOOKUP(H1141,Codes!C$1:D$475,2,FALSE),\"\")","v":""}]
[{"$nulls":6},{"$f":"IF(H1142<>\"\",VLOOKUP(H1142,Codes!C$1:D$475,2,FALSE),\"\")","v":""}]
[{"$nulls":6},{"$f":"IF(H1143<>\"\",VLOOKUP(H1143,Codes!C$1:D$475,2,FALSE),\"\")","v":""}]
[{"$nulls":6},{"$f":"IF(H1144<>\"\",VLOOKUP(H1144,Codes!C$1:D$475,2,FALSE),\"\")","v":""}]
[{"$nulls":6},{"$f":"IF(H1145<>\"\",VLOOKUP(H1145,Codes!C$1:D$475,2,FALSE),\"\")","v":""}]
[{"$nulls":6},{"$f":"IF(H1146<>\"\",VLOOKUP(H1146,Codes!C$1:D$475,2,FALSE),\"\")","v":""}]
[{"$nulls":6},{"$f":"IF(H1147<>\"\",VLOOKUP(H1147,Codes!C$1:D$475,2,FALSE),\"\")","v":""}]
[{"$nulls":6},{"$f":"IF(H1148<>\"\",VLOOKUP(H1148,Codes!C$1:D$475,2,FALSE),\"\")","v":""}]
[{"$nulls":6},{"$f":"IF(H1149<>\"\",VLOOKUP(H1149,Codes!C$1:D$475,2,FALSE),\"\")","v":""}]
[{"$nulls":6},{"$f":"IF(H1150<>\"\",VLOOKUP(H1150,Codes!C$1:D$475,2,FALSE),\"\")","v":""}]
[{"$nulls":6},{"$f":"IF(H1151<>\"\",VLOOKUP(H1151,Codes!C$1:D$475,2,FALSE),\"\")","v":""}]
[{"$nulls":6},{"$f":"IF(H1152<>\"\",VLOOKUP(H1152,Codes!C$1:D$475,2,FALSE),\"\")","v":""}]
[{"$nulls":6},{"$f":"IF(H1153<>\"\",VLOOKUP(H1153,Codes!C$1:D$475,2,FALSE),\"\")","v":""}]
[{"$nulls":6},{"$f":"IF(H1154<>\"\",VLOOKUP(H1154,Codes!C$1:D$475,2,FALSE),\"\")","v":""}]
[{"$nulls":6},{"$f":"IF(H1155<>\"\",VLOOKUP(H1155,Codes!C$1:D$475,2,FALSE),\"\")","v":""}]
[{"$nulls":6},{"$f":"IF(H1156<>\"\",VLOOKUP(H1156,Codes!C$1:D$475,2,FALSE),\"\")","v":""}]
[{"$nulls":6},{"$f":"IF(H1157<>\"\",VLOOKUP(H1157,Codes!C$1:D$475,2,FALSE),\"\")","v":""}]
[{"$nulls":6},{"$f":"IF(H1158<>\"\",VLOOKUP(H1158,Codes!C$1:D$475,2,FALSE),\"\")","v":""}]
[{"$nulls":6},{"$f":"IF(H1159<>\"\",VLOOKUP(H1159,Codes!C$1:D$475,2,FALSE),\"\")","v":""}]
[{"$nulls":6},{"$f":"IF(H1160<>\"\",VLOOKUP(H1160,Codes!C$1:D$475,2,FALSE),\"\")","v":""}]
[{"$nulls":6},{"$f":"IF(H1161<>\"\",VLOOKUP(H1161,Codes!C$1:D$475,2,FALSE),\"\")","v":""}]
[{"$nulls":6},{"$f":"IF(H1162<>\"\",VLOOKUP(H1162,Codes!C$1:D$475,2,FALSE),\"\")","v":""}]
[{"$nulls":6},{"$f":"IF(H1163<>\"\",VLOOKUP(H1163,Codes!C$1:D$475,2,FALSE),\"\")","v":""}]
[{"$nulls":6},{"$f":"IF(H1164<>\"\",VLOOKUP(H1164,Codes!C$1:D$475,2,FALSE),\"\")","v":""}]
[{"$nulls":6},{"$f":"IF(H1165<>\"\",VLOOKUP(H1165,Codes!C$1:D$475,2,FALSE),\"\")","v":""}]
[{"$nulls":6},{"$f":"IF(H1166<>\"\",VLOOKUP(H1166,Codes!C$1:D$475,2,FALSE),\"\")","v":""}]
[{"$nulls":6},{"$f":"IF(H1167<>\"\",VLOOKUP(H1167,Codes!C$1:D$475,2,FALSE),\"\")","v":""}]
[{"$nulls":6},{"$f":"IF(H1168<>\"\",VLOOKUP(H1168,Codes!C$1:D$475,2,FALSE),\"\")","v":""}]
[{"$nulls":6},{"$f":"IF(H1169<>\"\",VLOOKUP(H1169,Codes!C$1:D$475,2,FALSE),\"\")","v":""},{"$nulls":3},{"$f":"IF(J1169>0,VLOOKUP(J1169,' code comptes '!$A$1:$C$148,3),\"\")","v":""},"ok",{"$f":"D987","v":{"v":0,"d":"0.00"}},{"$f":"+CONCATENATE(G987,H987)","v":""}]
[{"$nulls":6},{"$f":"IF(H1170<>\"\",VLOOKUP(H1170,Codes!C$1:D$475,2,FALSE),\"\")","v":""},{"$nulls":3},{"$f":"IF(J1170>0,VLOOKUP(J1170,' code comptes '!$A$1:$C$148,3),\"\")","v":""},"Erreur",{"$f":"D1169","v":{"v":0,"d":"0.00"}},{"$f":"+CONCATENATE(G1169,H1169)","v":""}]
[{"$nulls":6},{"$f":"IF(H1171<>\"\",VLOOKUP(H1171,Codes!C$1:D$475,2,FALSE),\"\")","v":""},{"$nulls":3},{"$f":"IF(J1171>0,VLOOKUP(J1171,' code comptes '!$A$1:$C$148,3),\"\")","v":""},null,{"v":0,"d":"0.00"},""]
[{"$nulls":6},{"$f":"IF(H1172<>\"\",VLOOKUP(H1172,Codes!C$1:D$475,2,FALSE),\"\")","v":""},{"$nulls":3},{"$f":"IF(J1172>0,VLOOKUP(J1172,' code comptes '!$A$1:$C$148,3),\"\")","v":""},null,{"v":0,"d":"0.00"},""]
[{"$nulls":6},{"$f":"IF(H1173<>\"\",VLOOKUP(H1173,Codes!C$1:D$475,2,FALSE),\"\")","v":""},{"$nulls":3},{"$f":"IF(J1173>0,VLOOKUP(J1173,' code comptes '!$A$1:$C$148,3),\"\")","v":""},null,{"v":0,"d":"0.00"},""]
[{"$nulls":6},{"$f":"IF(H1174<>\"\",VLOOKUP(H1174,Codes!C$1:D$475,2,FALSE),\"\")","v":""},{"$nulls":3},{"$f":"IF(J1174>0,VLOOKUP(J1174,' code comptes '!$A$1:$C$148,3),\"\")","v":""},null,{"v":0,"d":"0.00"},""]
[{"$nulls":6},{"$f":"IF(H1175<>\"\",VLOOKUP(H1175,Codes!C$1:D$475,2,FALSE),\"\")","v":""},{"$nulls":3},{"$f":"IF(J1175>0,VLOOKUP(J1175,' code comptes '!$A$1:$C$148,3),\"\")","v":""},null,{"v":0,"d":"0.00"},""]
[{"$nulls":6},{"$f":"IF(H1176<>\"\",VLOOKUP(H1176,Codes!C$1:D$475,2,FALSE),\"\")","v":""},{"$nulls":3},{"$f":"IF(J1176>0,VLOOKUP(J1176,' code comptes '!$A$1:$C$148,3),\"\")","v":""},null,{"v":0,"d":"0.00"},""]
[{"$nulls":6},{"$f":"IF(H1177<>\"\",VLOOKUP(H1177,Codes!C$1:D$475,2,FALSE),\"\")","v":""},{"$nulls":3},{"$f":"IF(J1177>0,VLOOKUP(J1177,' code comptes '!$A$1:$C$148,3),\"\")","v":""},null,{"v":0,"d":"0.00"},""]
[{"$nulls":6},{"$f":"IF(H1178<>\"\",VLOOKUP(H1178,Codes!C$1:D$475,2,FALSE),\"\")","v":""},{"$nulls":3},{"$f":"IF(J1178>0,VLOOKUP(J1178,' code comptes '!$A$1:$C$148,3),\"\")","v":""},null,{"v":0,"d":"0.00"},""]
[{"$nulls":6},{"$f":"IF(H1179<>\"\",VLOOKUP(H1179,Codes!C$1:D$475,2,FALSE),\"\")","v":""},{"$nulls":3},{"$f":"IF(J1179>0,VLOOKUP(J1179,' code comptes '!$A$1:$C$148,3),\"\")","v":""},null,{"v":0,"d":"0.00"},""]
[{"$nulls":6},{"$f":"IF(H1180<>\"\",VLOOKUP(H1180,Codes!C$1:D$475,2,FALSE),\"\")","v":""},{"$nulls":3},{"$f":"IF(J1180>0,VLOOKUP(J1180,' code comptes '!$A$1:$C$148,3),\"\")","v":""},null,{"v":0,"d":"0.00"},""]
[{"$nulls":6},{"$f":"IF(H1181<>\"\",VLOOKUP(H1181,Codes!C$1:D$475,2,FALSE),\"\")","v":""},{"$nulls":3},{"$f":"IF(J1181>0,VLOOKUP(J1181,' code comptes '!$A$1:$C$148,3),\"\")","v":""},null,{"v":0,"d":"0.00"},""]
[{"$nulls":6},{"$f":"IF(H1182<>\"\",VLOOKUP(H1182,Codes!C$1:D$475,2,FALSE),\"\")","v":""},{"$nulls":3},{"$f":"IF(J1182>0,VLOOKUP(J1182,' code comptes '!$A$1:$C$148,3),\"\")","v":""},null,{"v":0,"d":"0.00"},""]
[{"$nulls":6},{"$f":"IF(H1183<>\"\",VLOOKUP(H1183,Codes!C$1:D$475,2,FALSE),\"\")","v":""},{"$nulls":3},{"$f":"IF(J1183>0,VLOOKUP(J1183,' code comptes '!$A$1:$C$148,3),\"\")","v":""},null,{"v":0,"d":"0.00"},""]
[{"$nulls":6},{"$f":"IF(H1184<>\"\",VLOOKUP(H1184,Codes!C$1:D$475,2,FALSE),\"\")","v":""},{"$nulls":3},{"$f":"IF(J1184>0,VLOOKUP(J1184,' code comptes '!$A$1:$C$148,3),\"\")","v":""},null,{"v":0,"d":"0.00"},""]
[{"$nulls":6},{"$f":"IF(H1185<>\"\",VLOOKUP(H1185,Codes!C$1:D$475,2,FALSE),\"\")","v":""},{"$nulls":3},{"$f":"IF(J1185>0,VLOOKUP(J1185,' code comptes '!$A$1:$C$148,3),\"\")","v":""},null,{"v":0,"d":"0.00"},""]
[{"$nulls":6},{"$f":"IF(H1186<>\"\",VLOOKUP(H1186,Codes!C$1:D$475,2,FALSE),\"\")","v":""},{"$nulls":3},{"$f":"IF(J1186>0,VLOOKUP(J1186,' code comptes '!$A$1:$C$148,3),\"\")","v":""},null,{"v":0,"d":"0.00"},""]
[{"$nulls":6},{"$f":"IF(H1187<>\"\",VLOOKUP(H1187,Codes!C$1:D$475,2,FALSE),\"\")","v":""},{"$nulls":3},{"$f":"IF(J1187>0,VLOOKUP(J1187,' code comptes '!$A$1:$C$148,3),\"\")","v":""},null,{"v":0,"d":"0.00"},""]
[{"$nulls":6},{"$f":"IF(H1188<>\"\",VLOOKUP(H1188,Codes!C$1:D$475,2,FALSE),\"\")","v":""},{"$nulls":3},{"$f":"IF(J1188>0,VLOOKUP(J1188,' code comptes '!$A$1:$C$148,3),\"\")","v":""},null,{"v":0,"d":"0.00"},""]
[{"$nulls":6},{"$f":"IF(H1189<>\"\",VLOOKUP(H1189,Codes!C$1:D$475,2,FALSE),\"\")","v":""},{"$nulls":3},{"$f":"IF(J1189>0,VLOOKUP(J1189,' code comptes '!$A$1:$C$148,3),\"\")","v":""},null,{"v":0,"d":"0.00"},""]
[{"$nulls":6},{"$f":"IF(H1190<>\"\",VLOOKUP(H1190,Codes!C$1:D$475,2,FALSE),\"\")","v":""},{"$nulls":3},{"$f":"IF(J1190>0,VLOOKUP(J1190,' code comptes '!$A$1:$C$148,3),\"\")","v":""},null,{"v":0,"d":"0.00"},""]
[{"$nulls":6},{"$f":"IF(H1191<>\"\",VLOOKUP(H1191,Codes!C$1:D$475,2,FALSE),\"\")","v":""},{"$nulls":3},{"$f":"IF(J1191>0,VLOOKUP(J1191,' code comptes '!$A$1:$C$148,3),\"\")","v":""},null,{"v":0,"d":"0.00"},""]
[{"$nulls":6},{"$f":"IF(H1192<>\"\",VLOOKUP(H1192,Codes!C$1:D$475,2,FALSE),\"\")","v":""},{"$nulls":3},{"$f":"IF(J1192>0,VLOOKUP(J1192,' code comptes '!$A$1:$C$148,3),\"\")","v":""},null,{"v":0,"d":"0.00"},""]
[{"$nulls":6},{"$f":"IF(H1193<>\"\",VLOOKUP(H1193,Codes!C$1:D$475,2,FALSE),\"\")","v":""},{"$nulls":3},{"$f":"IF(J1193>0,VLOOKUP(J1193,' code comptes '!$A$1:$C$148,3),\"\")","v":""},null,{"v":0,"d":"0.00"},""]
[{"$nulls":6},{"$f":"IF(H1194<>\"\",VLOOKUP(H1194,Codes!C$1:D$475,2,FALSE),\"\")","v":""},{"$nulls":3},{"$f":"IF(J1194>0,VLOOKUP(J1194,' code comptes '!$A$1:$C$148,3),\"\")","v":""},null,{"v":0,"d":"0.00"},""]
[{"$nulls":6},{"$f":"IF(H1195<>\"\",VLOOKUP(H1195,Codes!C$1:D$475,2,FALSE),\"\")","v":""},{"$nulls":3},{"$f":"IF(J1195>0,VLOOKUP(J1195,' code comptes '!$A$1:$C$148,3),\"\")","v":""},null,{"v":0,"d":"0.00"},""]
[{"$nulls":6},{"$f":"IF(H1196<>\"\",VLOOKUP(H1196,Codes!C$1:D$475,2,FALSE),\"\")","v":""},{"$nulls":3},{"$f":"IF(J1196>0,VLOOKUP(J1196,' code comptes '!$A$1:$C$148,3),\"\")","v":""},null,{"v":0,"d":"0.00"},""]
[{"$nulls":6},{"$f":"IF(H1197<>\"\",VLOOKUP(H1197,Codes!C$1:D$475,2,FALSE),\"\")","v":""},{"$nulls":3},{"$f":"IF(J1197>0,VLOOKUP(J1197,' code comptes '!$A$1:$C$148,3),\"\")","v":""},null,{"v":0,"d":"0.00"},""]
[{"$nulls":6},{"$f":"IF(H1198<>\"\",VLOOKUP(H1198,Codes!C$1:D$475,2,FALSE),\"\")","v":""},{"$nulls":3},{"$f":"IF(J1198>0,VLOOKUP(J1198,' code comptes '!$A$1:$C$148,3),\"\")","v":""},null,{"v":0,"d":"0.00"},""]
[{"$nulls":6},{"$f":"IF(H1199<>\"\",VLOOKUP(H1199,Codes!C$1:D$475,2,FALSE),\"\")","v":""},{"$nulls":3},{"$f":"IF(J1199>0,VLOOKUP(J1199,' code comptes '!$A$1:$C$148,3),\"\")","v":""},null,{"v":0,"d":"0.00"},""]
[{"$nulls":6},{"$f":"IF(H1200<>\"\",VLOOKUP(H1200,Codes!C$1:D$475,2,FALSE),\"\")","v":""},{"$nulls":3},{"$f":"IF(J1200>0,VLOOKUP(J1200,' code comptes '!$A$1:$C$148,3),\"\")","v":""},null,{"v":0,"d":"0.00"},""]
[{"$nulls":6},{"$f":"IF(H1201<>\"\",VLOOKUP(H1201,Codes!C$1:D$475,2,FALSE),\"\")","v":""},{"$nulls":3},{"$f":"IF(J1201>0,VLOOKUP(J1201,' code comptes '!$A$1:$C$148,3),\"\")","v":""},null,{"v":0,"d":"0.00"},""]
[{"$nulls":6},{"$f":"IF(H1202<>\"\",VLOOKUP(H1202,Codes!C$1:D$475,2,FALSE),\"\")","v":""},{"$nulls":3},{"$f":"IF(J1202>0,VLOOKUP(J1202,' code comptes '!$A$1:$C$148,3),\"\")","v":""},null,{"v":0,"d":"0.00"},""]
[{"$nulls":6},{"$f":"IF(H1203<>\"\",VLOOKUP(H1203,Codes!C$1:D$475,2,FALSE),\"\")","v":""},{"$nulls":3},{"$f":"IF(J1203>0,VLOOKUP(J1203,' code comptes '!$A$1:$C$148,3),\"\")","v":""},null,{"v":0,"d":"0.00"},""]
[{"$nulls":6},{"$f":"IF(H1204<>\"\",VLOOKUP(H1204,Codes!C$1:D$475,2,FALSE),\"\")","v":""},{"$nulls":3},{"$f":"IF(J1204>0,VLOOKUP(J1204,' code comptes '!$A$1:$C$148,3),\"\")","v":""},null,{"v":0,"d":"0.00"},""]
[{"$nulls":6},{"$f":"IF(H1205<>\"\",VLOOKUP(H1205,Codes!C$1:D$475,2,FALSE),\"\")","v":""},{"$nulls":3},{"$f":"IF(J1205>0,VLOOKUP(J1205,' code comptes '!$A$1:$C$148,3),\"\")","v":""},null,{"v":0,"d":"0.00"},""]
[{"$nulls":6},{"$f":"IF(H1206<>\"\",VLOOKUP(H1206,Codes!C$1:D$475,2,FALSE),\"\")","v":""},{"$nulls":3},{"$f":"IF(J1206>0,VLOOKUP(J1206,' code comptes '!$A$1:$C$148,3),\"\")","v":""},null,{"v":0,"d":"0.00"},""]
[{"$nulls":6},{"$f":"IF(H1207<>\"\",VLOOKUP(H1207,Codes!C$1:D$475,2,FALSE),\"\")","v":""},{"$nulls":3},{"$f":"IF(J1207>0,VLOOKUP(J1207,' code comptes '!$A$1:$C$148,3),\"\")","v":""},null,{"v":0,"d":"0.00"},""]
[{"$nulls":6},{"$f":"IF(H1208<>\"\",VLOOKUP(H1208,Codes!C$1:D$475,2,FALSE),\"\")","v":""},{"$nulls":3},{"$f":"IF(J1208>0,VLOOKUP(J1208,' code comptes '!$A$1:$C$148,3),\"\")","v":""},null,{"v":0,"d":"0.00"},""]
[{"$nulls":6},{"$f":"IF(H1209<>\"\",VLOOKUP(H1209,Codes!C$1:D$475,2,FALSE),\"\")","v":""},{"$nulls":3},{"$f":"IF(J1209>0,VLOOKUP(J1209,' code comptes '!$A$1:$C$148,3),\"\")","v":""},null,{"v":0,"d":"0.00"},""]
[{"$nulls":6},{"$f":"IF(H1210<>\"\",VLOOKUP(H1210,Codes!C$1:D$475,2,FALSE),\"\")","v":""},{"$nulls":3},{"$f":"IF(J1210>0,VLOOKUP(J1210,' code comptes '!$A$1:$C$148,3),\"\")","v":""},null,{"v":0,"d":"0.00"},""]
[{"$nulls":6},{"$f":"IF(H1211<>\"\",VLOOKUP(H1211,Codes!C$1:D$475,2,FALSE),\"\")","v":""},{"$nulls":3},{"$f":"IF(J1211>0,VLOOKUP(J1211,' code comptes '!$A$1:$C$148,3),\"\")","v":""},null,{"v":0,"d":"0.00"},""]
[{"$nulls":6},{"$f":"IF(H1212<>\"\",VLOOKUP(H1212,Codes!C$1:D$475,2,FALSE),\"\")","v":""},{"$nulls":3},{"$f":"IF(J1212>0,VLOOKUP(J1212,' code comptes '!$A$1:$C$148,3),\"\")","v":""},null,{"v":0,"d":"0.00"},""]
[{"$nulls":6},{"$f":"IF(H1213<>\"\",VLOOKUP(H1213,Codes!C$1:D$475,2,FALSE),\"\")","v":""},{"$nulls":3},{"$f":"IF(J1213>0,VLOOKUP(J1213,' code comptes '!$A$1:$C$148,3),\"\")","v":""},null,{"v":0,"d":"0.00"},""]
[{"$nulls":6},{"$f":"IF(H1214<>\"\",VLOOKUP(H1214,Codes!C$1:D$475,2,FALSE),\"\")","v":""},{"$nulls":3},{"$f":"IF(J1214>0,VLOOKUP(J1214,' code comptes '!$A$1:$C$148,3),\"\")","v":""},null,{"v":0,"d":"0.00"},""]
[{"$nulls":6},{"$f":"IF(H1215<>\"\",VLOOKUP(H1215,Codes!C$1:D$475,2,FALSE),\"\")","v":""},{"$nulls":3},{"$f":"IF(J1215>0,VLOOKUP(J1215,' code comptes '!$A$1:$C$148,3),\"\")","v":""},null,{"v":0,"d":"0.00"},""]
[{"$nulls":6},{"$f":"IF(H1216<>\"\",VLOOKUP(H1216,Codes!C$1:D$475,2,FALSE),\"\")","v":""},{"$nulls":3},{"$f":"IF(J1216>0,VLOOKUP(J1216,' code comptes '!$A$1:$C$148,3),\"\")","v":""},null,{"v":0,"d":"0.00"},""]
[{"$nulls":6},{"$f":"IF(H1217<>\"\",VLOOKUP(H1217,Codes!C$1:D$475,2,FALSE),\"\")","v":""},{"$nulls":3},{"$f":"IF(J1217>0,VLOOKUP(J1217,' code comptes '!$A$1:$C$148,3),\"\")","v":""},null,{"v":0,"d":"0.00"},""]
[{"$nulls":6},{"$f":"IF(H1218<>\"\",VLOOKUP(H1218,Codes!C$1:D$475,2,FALSE),\"\")","v":""},{"$nulls":3},{"$f":"IF(J1218>0,VLOOKUP(J1218,' code comptes '!$A$1:$C$148,3),\"\")","v":""},null,{"v":0,"d":"0.00"},""]
[{"$nulls":6},{"$f":"IF(H1219<>\"\",VLOOKUP(H1219,Codes!C$1:D$475,2,FALSE),\"\")","v":""},{"$nulls":3},{"$f":"IF(J1219>0,VLOOKUP(J1219,' code comptes '!$A$1:$C$148,3),\"\")","v":""},null,{"v":0,"d":"0.00"},""]
[{"$nulls":6},{"$f":"IF(H1220<>\"\",VLOOKUP(H1220,Codes!C$1:D$475,2,FALSE),\"\")","v":""},{"$nulls":3},{"$f":"IF(J1220>0,VLOOKUP(J1220,' code comptes '!$A$1:$C$148,3),\"\")","v":""},null,{"v":0,"d":"0.00"},""]
[{"$nulls":6},{"$f":"IF(H1221<>\"\",VLOOKUP(H1221,Codes!C$1:D$475,2,FALSE),\"\")","v":""},{"$nulls":3},{"$f":"IF(J1221>0,VLOOKUP(J1221,' code comptes '!$A$1:$C$148,3),\"\")","v":""},null,{"v":0,"d":"0.00"},""]
[{"$nulls":6},{"$f":"IF(H1222<>\"\",VLOOKUP(H1222,Codes!C$1:D$475,2,FALSE),\"\")","v":""},{"$nulls":3},{"$f":"IF(J1222>0,VLOOKUP(J1222,' code comptes '!$A$1:$C$148,3),\"\")","v":""},null,{"v":0,"d":"0.00"},""]
[{"$nulls":6},{"$f":"IF(H1223<>\"\",VLOOKUP(H1223,Codes!C$1:D$475,2,FALSE),\"\")","v":""},{"$nulls":3},{"$f":"IF(J1223>0,VLOOKUP(J1223,' code comptes '!$A$1:$C$148,3),\"\")","v":""},null,{"v":0,"d":"0.00"},""]
[{"$nulls":6},{"$f":"IF(H1224<>\"\",VLOOKUP(H1224,Codes!C$1:D$475,2,FALSE),\"\")","v":""},{"$nulls":3},{"$f":"IF(J1224>0,VLOOKUP(J1224,' code comptes '!$A$1:$C$148,3),\"\")","v":""},null,{"v":0,"d":"0.00"},""]
[{"$nulls":6},{"$f":"IF(H1225<>\"\",VLOOKUP(H1225,Codes!C$1:D$475,2,FALSE),\"\")","v":""},{"$nulls":3},{"$f":"IF(J1225>0,VLOOKUP(J1225,' code comptes '!$A$1:$C$148,3),\"\")","v":""},null,{"v":0,"d":"0.00"},""]
[{"$nulls":6},{"$f":"IF(H1226<>\"\",VLOOKUP(H1226,Codes!C$1:D$475,2,FALSE),\"\")","v":""},{"$nulls":3},{"$f":"IF(J1226>0,VLOOKUP(J1226,' code comptes '!$A$1:$C$148,3),\"\")","v":""},null,{"v":0,"d":"0.00"},""]
[{"$nulls":6},{"$f":"IF(H1227<>\"\",VLOOKUP(H1227,Codes!C$1:D$475,2,FALSE),\"\")","v":""},{"$nulls":3},{"$f":"IF(J1227>0,VLOOKUP(J1227,' code comptes '!$A$1:$C$148,3),\"\")","v":""},null,{"v":0,"d":"0.00"},""]
[{"$nulls":6},{"$f":"IF(H1228<>\"\",VLOOKUP(H1228,Codes!C$1:D$475,2,FALSE),\"\")","v":""},{"$nulls":3},{"$f":"IF(J1228>0,VLOOKUP(J1228,' code comptes '!$A$1:$C$148,3),\"\")","v":""},null,{"v":0,"d":"0.00"},""]
[{"$nulls":6},{"$f":"IF(H1229<>\"\",VLOOKUP(H1229,Codes!C$1:D$475,2,FALSE),\"\")","v":""},{"$nulls":3},{"$f":"IF(J1229>0,VLOOKUP(J1229,' code comptes '!$A$1:$C$148,3),\"\")","v":""},null,{"v":0,"d":"0.00"},""]
[{"$nulls":6},{"$f":"IF(H1230<>\"\",VLOOKUP(H1230,Codes!C$1:D$475,2,FALSE),\"\")","v":""},{"$nulls":3},{"$f":"IF(J1230>0,VLOOKUP(J1230,' code comptes '!$A$1:$C$148,3),\"\")","v":""},null,{"v":0,"d":"0.00"},""]
[{"$nulls":6},{"$f":"IF(H1231<>\"\",VLOOKUP(H1231,Codes!C$1:D$475,2,FALSE),\"\")","v":""},{"$nulls":3},{"$f":"IF(J1231>0,VLOOKUP(J1231,' code comptes '!$A$1:$C$148,3),\"\")","v":""},null,{"v":0,"d":"0.00"},""]
[{"$nulls":6},{"$f":"IF(H1232<>\"\",VLOOKUP(H1232,Codes!C$1:D$475,2,FALSE),\"\")","v":""},{"$nulls":3},{"$f":"IF(J1232>0,VLOOKUP(J1232,' code comptes '!$A$1:$C$148,3),\"\")","v":""},null,{"v":0,"d":"0.00"},""]
[{"$nulls":6},{"$f":"IF(H1233<>\"\",VLOOKUP(H1233,Codes!C$1:D$475,2,FALSE),\"\")","v":""},{"$nulls":3},{"$f":"IF(J1233>0,VLOOKUP(J1233,' code comptes '!$A$1:$C$148,3),\"\")","v":""},null,{"v":0,"d":"0.00"},""]
[{"$nulls":6},{"$f":"IF(H1234<>\"\",VLOOKUP(H1234,Codes!C$1:D$475,2,FALSE),\"\")","v":""},{"$nulls":3},{"$f":"IF(J1234>0,VLOOKUP(J1234,' code comptes '!$A$1:$C$148,3),\"\")","v":""},null,{"v":0,"d":"0.00"},""]
[{"$nulls":6},{"$f":"IF(H1235<>\"\",VLOOKUP(H1235,Codes!C$1:D$475,2,FALSE),\"\")","v":""},{"$nulls":3},{"$f":"IF(J1235>0,VLOOKUP(J1235,' code comptes '!$A$1:$C$148,3),\"\")","v":""},null,{"v":0,"d":"0.00"},""]
[{"$nulls":6},{"$f":"IF(H1236<>\"\",VLOOKUP(H1236,Codes!C$1:D$475,2,FALSE),\"\")","v":""},{"$nulls":3},{"$f":"IF(J1236>0,VLOOKUP(J1236,' code comptes '!$A$1:$C$148,3),\"\")","v":""},null,{"v":0,"d":"0.00"},""]
[{"$nulls":6},{"$f":"IF(H1237<>\"\",VLOOKUP(H1237,Codes!C$1:D$475,2,FALSE),\"\")","v":""},{"$nulls":3},{"$f":"IF(J1237>0,VLOOKUP(J1237,' code comptes '!$A$1:$C$148,3),\"\")","v":""},null,{"v":0,"d":"0.00"},""]
[{"$nulls":6},{"$f":"IF(H1238<>\"\",VLOOKUP(H1238,Codes!C$1:D$475,2,FALSE),\"\")","v":""},{"$nulls":3},{"$f":"IF(J1238>0,VLOOKUP(J1238,' code comptes '!$A$1:$C$148,3),\"\")","v":""},null,{"v":0,"d":"0.00"},""]
[{"$nulls":6},{"$f":"IF(H1239<>\"\",VLOOKUP(H1239,Codes!C$1:D$475,2,FALSE),\"\")","v":""},{"$nulls":3},{"$f":"IF(J1239>0,VLOOKUP(J1239,' code comptes '!$A$1:$C$148,3),\"\")","v":""},null,{"v":0,"d":"0.00"},""]
[{"$nulls":6},{"$f":"IF(H1240<>\"\",VLOOKUP(H1240,Codes!C$1:D$475,2,FALSE),\"\")","v":""},{"$nulls":3},{"$f":"IF(J1240>0,VLOOKUP(J1240,' code comptes '!$A$1:$C$148,3),\"\")","v":""},null,{"v":0,"d":"0.00"},""]
[{"$nulls":6},{"$f":"IF(H1241<>\"\",VLOOKUP(H1241,Codes!C$1:D$475,2,FALSE),\"\")","v":""},{"$nulls":3},{"$f":"IF(J1241>0,VLOOKUP(J1241,' code comptes '!$A$1:$C$148,3),\"\")","v":""},null,{"v":0,"d":"0.00"},""]
[{"$nulls":6},{"$f":"IF(H1242<>\"\",VLOOKUP(H1242,Codes!C$1:D$475,2,FALSE),\"\")","v":""},{"$nulls":3},{"$f":"IF(J1242>0,VLOOKUP(J1242,' code comptes '!$A$1:$C$148,3),\"\")","v":""},null,{"v":0,"d":"0.00"},""]
[{"$nulls":6},{"$f":"IF(H1243<>\"\",VLOOKUP(H1243,Codes!C$1:D$475,2,FALSE),\"\")","v":""},{"$nulls":3},{"$f":"IF(J1243>0,VLOOKUP(J1243,' code comptes '!$A$1:$C$148,3),\"\")","v":""},null,{"v":0,"d":"0.00"},""]
[{"$nulls":6},{"$f":"IF(H1244<>\"\",VLOOKUP(H1244,Codes!C$1:D$475,2,FALSE),\"\")","v":""},{"$nulls":3},{"$f":"IF(J1244>0,VLOOKUP(J1244,' code comptes '!$A$1:$C$148,3),\"\")","v":""},null,{"v":0,"d":"0.00"},""]
[{"$nulls":6},{"$f":"IF(H1245<>\"\",VLOOKUP(H1245,Codes!C$1:D$475,2,FALSE),\"\")","v":""},{"$nulls":3},{"$f":"IF(J1245>0,VLOOKUP(J1245,' code comptes '!$A$1:$C$148,3),\"\")","v":""},null,{"v":0,"d":"0.00"},""]
[{"$nulls":6},{"$f":"IF(H1246<>\"\",VLOOKUP(H1246,Codes!C$1:D$475,2,FALSE),\"\")","v":""},{"$nulls":3},{"$f":"IF(J1246>0,VLOOKUP(J1246,' code comptes '!$A$1:$C$148,3),\"\")","v":""},null,{"v":0,"d":"0.00"},""]
[{"$nulls":6},{"$f":"IF(H1247<>\"\",VLOOKUP(H1247,Codes!C$1:D$475,2,FALSE),\"\")","v":""},{"$nulls":3},{"$f":"IF(J1247>0,VLOOKUP(J1247,' code comptes '!$A$1:$C$148,3),\"\")","v":""},null,{"v":0,"d":"0.00"},""]
[{"$nulls":6},{"$f":"IF(H1248<>\"\",VLOOKUP(H1248,Codes!C$1:D$475,2,FALSE),\"\")","v":""},{"$nulls":3},{"$f":"IF(J1248>0,VLOOKUP(J1248,' code comptes '!$A$1:$C$148,3),\"\")","v":""},null,{"v":0,"d":"0.00"},""]
[{"$nulls":6},{"$f":"IF(H1249<>\"\",VLOOKUP(H1249,Codes!C$1:D$475,2,FALSE),\"\")","v":""},{"$nulls":3},{"$f":"IF(J1249>0,VLOOKUP(J1249,' code comptes '!$A$1:$C$148,3),\"\")","v":""},null,{"v":0,"d":"0.00"},""]
[{"$nulls":6},{"$f":"IF(H1250<>\"\",VLOOKUP(H1250,Codes!C$1:D$475,2,FALSE),\"\")","v":""},{"$nulls":3},{"$f":"IF(J1250>0,VLOOKUP(J1250,' code comptes '!$A$1:$C$148,3),\"\")","v":""},null,{"v":0,"d":"0.00"},""]
[{"$nulls":6},{"$f":"IF(H1251<>\"\",VLOOKUP(H1251,Codes!C$1:D$475,2,FALSE),\"\")","v":""},{"$nulls":3},{"$f":"IF(J1251>0,VLOOKUP(J1251,' code comptes '!$A$1:$C$148,3),\"\")","v":""},null,{"v":0,"d":"0.00"},""]
[{"$nulls":6},{"$f":"IF(H1252<>\"\",VLOOKUP(H1252,Codes!C$1:D$475,2,FALSE),\"\")","v":""},{"$nulls":3},{"$f":"IF(J1252>0,VLOOKUP(J1252,' code comptes '!$A$1:$C$148,3),\"\")","v":""},null,{"v":0,"d":"0.00"},""]
[{"$nulls":6},{"$f":"IF(H1253<>\"\",VLOOKUP(H1253,Codes!C$1:D$475,2,FALSE),\"\")","v":""},{"$nulls":3},{"$f":"IF(J1253>0,VLOOKUP(J1253,' code comptes '!$A$1:$C$148,3),\"\")","v":""},null,{"v":0,"d":"0.00"},""]
[{"$nulls":6},{"$f":"IF(H1254<>\"\",VLOOKUP(H1254,Codes!C$1:D$475,2,FALSE),\"\")","v":""},{"$nulls":3},{"$f":"IF(J1254>0,VLOOKUP(J1254,' code comptes '!$A$1:$C$148,3),\"\")","v":""},null,{"v":0,"d":"0.00"},""]
[{"$nulls":6},{"$f":"IF(H1255<>\"\",VLOOKUP(H1255,Codes!C$1:D$475,2,FALSE),\"\")","v":""}]
[{"$nulls":6},{"$f":"IF(H1256<>\"\",VLOOKUP(H1256,Codes!C$1:D$475,2,FALSE),\"\")","v":""}]
[{"$nulls":6},{"$f":"IF(H1257<>\"\",VLOOKUP(H1257,Codes!C$1:D$475,2,FALSE),\"\")","v":""}]
[{"$nulls":6},{"$f":"IF(H1258<>\"\",VLOOKUP(H1258,Codes!C$1:D$475,2,FALSE),\"\")","v":""}]
[{"$nulls":6},{"$f":"IF(H1259<>\"\",VLOOKUP(H1259,Codes!C$1:D$475,2,FALSE),\"\")","v":""}]
[{"$nulls":6},{"$f":"IF(H1260<>\"\",VLOOKUP(H1260,Codes!C$1:D$475,2,FALSE),\"\")","v":""}]
[{"$nulls":6},{"$f":"IF(H1261<>\"\",VLOOKUP(H1261,Codes!C$1:D$475,2,FALSE),\"\")","v":""}]
[{"$nulls":6},{"$f":"IF(H1262<>\"\",VLOOKUP(H1262,Codes!C$1:D$475,2,FALSE),\"\")","v":""}]
[{"$nulls":6},{"$f":"IF(H1263<>\"\",VLOOKUP(H1263,Codes!C$1:D$475,2,FALSE),\"\")","v":""}]
[{"$nulls":6},{"$f":"IF(H1264<>\"\",VLOOKUP(H1264,Codes!C$1:D$475,2,FALSE),\"\")","v":""}]
[{"$nulls":6},{"$f":"IF(H1265<>\"\",VLOOKUP(H1265,Codes!C$1:D$475,2,FALSE),\"\")","v":""}]
[{"$nulls":6},{"$f":"IF(H1266<>\"\",VLOOKUP(H1266,Codes!C$1:D$475,2,FALSE),\"\")","v":""}]
[{"$nulls":6},{"$f":"IF(H1267<>\"\",VLOOKUP(H1267,Codes!C$1:D$475,2,FALSE),\"\")","v":""}]
[{"$nulls":6},{"$f":"IF(H1268<>\"\",VLOOKUP(H1268,Codes!C$1:D$475,2,FALSE),\"\")","v":""}]
[{"$nulls":6},{"$f":"IF(H1269<>\"\",VLOOKUP(H1269,Codes!C$1:D$475,2,FALSE),\"\")","v":""}]
[{"$nulls":6},{"$f":"IF(H1270<>\"\",VLOOKUP(H1270,Codes!C$1:D$475,2,FALSE),\"\")","v":""}]
[{"$nulls":6},{"$f":"IF(H1271<>\"\",VLOOKUP(H1271,Codes!C$1:D$475,2,FALSE),\"\")","v":""}]
[{"$nulls":6},{"$f":"IF(H1272<>\"\",VLOOKUP(H1272,Codes!C$1:D$475,2,FALSE),\"\")","v":""}]
[{"$nulls":6},{"$f":"IF(H1273<>\"\",VLOOKUP(H1273,Codes!C$1:D$475,2,FALSE),\"\")","v":""}]
[{"$nulls":6},{"$f":"IF(H1274<>\"\",VLOOKUP(H1274,Codes!C$1:D$475,2,FALSE),\"\")","v":""}]
[{"$nulls":6},{"$f":"IF(H1275<>\"\",VLOOKUP(H1275,Codes!C$1:D$475,2,FALSE),\"\")","v":""}]
[{"$nulls":6},{"$f":"IF(H1276<>\"\",VLOOKUP(H1276,Codes!C$1:D$475,2,FALSE),\"\")","v":""}]
[{"$nulls":6},{"$f":"IF(H1277<>\"\",VLOOKUP(H1277,Codes!C$1:D$475,2,FALSE),\"\")","v":""}]
[{"$nulls":6},{"$f":"IF(H1278<>\"\",VLOOKUP(H1278,Codes!C$1:D$475,2,FALSE),\"\")","v":""}]
[{"$nulls":6},{"$f":"IF(H1279<>\"\",VLOOKUP(H1279,Codes!C$1:D$475,2,FALSE),\"\")","v":""}]
[{"$nulls":6},{"$f":"IF(H1280<>\"\",VLOOKUP(H1280,Codes!C$1:D$475,2,FALSE),\"\")","v":""}]
[{"$nulls":6},{"$f":"IF(H1281<>\"\",VLOOKUP(H1281,Codes!C$1:D$475,2,FALSE),\"\")","v":""}]
[{"$nulls":6},{"$f":"IF(H1282<>\"\",VLOOKUP(H1282,Codes!C$1:D$475,2,FALSE),\"\")","v":""}]
[{"$nulls":6},{"$f":"IF(H1283<>\"\",VLOOKUP(H1283,Codes!C$1:D$475,2,FALSE),\"\")","v":""}]
[{"$nulls":6},{"$f":"IF(H1284<>\"\",VLOOKUP(H1284,Codes!C$1:D$475,2,FALSE),\"\")","v":""}]
[{"$nulls":6},{"$f":"IF(H1285<>\"\",VLOOKUP(H1285,Codes!C$1:D$475,2,FALSE),\"\")","v":""}]
[{"$nulls":6},{"$f":"IF(H1286<>\"\",VLOOKUP(H1286,Codes!C$1:D$475,2,FALSE),\"\")","v":""}]
[{"$nulls":6},{"$f":"IF(H1287<>\"\",VLOOKUP(H1287,Codes!C$1:D$475,2,FALSE),\"\")","v":""}]
[{"$nulls":6},{"$f":"IF(H1288<>\"\",VLOOKUP(H1288,Codes!C$1:D$475,2,FALSE),\"\")","v":""}]
[{"$nulls":6},{"$f":"IF(H1289<>\"\",VLOOKUP(H1289,Codes!C$1:D$475,2,FALSE),\"\")","v":""}]
[{"$nulls":6},{"$f":"IF(H1290<>\"\",VLOOKUP(H1290,Codes!C$1:D$475,2,FALSE),\"\")","v":""}]
[{"$nulls":6},{"$f":"IF(H1291<>\"\",VLOOKUP(H1291,Codes!C$1:D$475,2,FALSE),\"\")","v":""}]
[{"$nulls":6},{"$f":"IF(H1292<>\"\",VLOOKUP(H1292,Codes!C$1:D$475,2,FALSE),\"\")","v":""}]
[{"$nulls":6},{"$f":"IF(H1293<>\"\",VLOOKUP(H1293,Codes!C$1:D$475,2,FALSE),\"\")","v":""}]
[{"$nulls":6},{"$f":"IF(H1294<>\"\",VLOOKUP(H1294,Codes!C$1:D$475,2,FALSE),\"\")","v":""}]
[{"$nulls":6},{"$f":"IF(H1295<>\"\",VLOOKUP(H1295,Codes!C$1:D$475,2,FALSE),\"\")","v":""}]
[{"$nulls":6},{"$f":"IF(H1296<>\"\",VLOOKUP(H1296,Codes!C$1:D$475,2,FALSE),\"\")","v":""}]
[{"$nulls":6},{"$f":"IF(H1297<>\"\",VLOOKUP(H1297,Codes!C$1:D$475,2,FALSE),\"\")","v":""}]
[{"$nulls":6},{"$f":"IF(H1298<>\"\",VLOOKUP(H1298,Codes!C$1:D$475,2,FALSE),\"\")","v":""}]
[{"$nulls":6},{"$f":"IF(H1299<>\"\",VLOOKUP(H1299,Codes!C$1:D$475,2,FALSE),\"\")","v":""}]
[{"$nulls":6},{"$f":"IF(H1300<>\"\",VLOOKUP(H1300,Codes!C$1:D$475,2,FALSE),\"\")","v":""}]
[{"$nulls":6},{"$f":"IF(H1301<>\"\",VLOOKUP(H1301,Codes!C$1:D$475,2,FALSE),\"\")","v":""}]
[{"$nulls":6},{"$f":"IF(H1302<>\"\",VLOOKUP(H1302,Codes!C$1:D$475,2,FALSE),\"\")","v":""}]
[{"$nulls":6},{"$f":"IF(H1303<>\"\",VLOOKUP(H1303,Codes!C$1:D$475,2,FALSE),\"\")","v":""}]
[{"$nulls":6},{"$f":"IF(H1304<>\"\",VLOOKUP(H1304,Codes!C$1:D$475,2,FALSE),\"\")","v":""}]
[{"$nulls":6},{"$f":"IF(H1305<>\"\",VLOOKUP(H1305,Codes!C$1:D$475,2,FALSE),\"\")","v":""}]
[{"$nulls":6},{"$f":"IF(H1306<>\"\",VLOOKUP(H1306,Codes!C$1:D$475,2,FALSE),\"\")","v":""}]
[{"$nulls":6},{"$f":"IF(H1307<>\"\",VLOOKUP(H1307,Codes!C$1:D$475,2,FALSE),\"\")","v":""}]
[{"$nulls":6},{"$f":"IF(H1308<>\"\",VLOOKUP(H1308,Codes!C$1:D$475,2,FALSE),\"\")","v":""}]
[{"$nulls":6},{"$f":"IF(H1309<>\"\",VLOOKUP(H1309,Codes!C$1:D$475,2,FALSE),\"\")","v":""}]
[{"$nulls":6},{"$f":"IF(H1310<>\"\",VLOOKUP(H1310,Codes!C$1:D$475,2,FALSE),\"\")","v":""}]
[{"$nulls":6},{"$f":"IF(H1311<>\"\",VLOOKUP(H1311,Codes!C$1:D$475,2,FALSE),\"\")","v":""}]
[{"$nulls":6},{"$f":"IF(H1312<>\"\",VLOOKUP(H1312,Codes!C$1:D$475,2,FALSE),\"\")","v":""}]
[{"$nulls":6},{"$f":"IF(H1313<>\"\",VLOOKUP(H1313,Codes!C$1:D$475,2,FALSE),\"\")","v":""}]
[{"$nulls":6},{"$f":"IF(H1314<>\"\",VLOOKUP(H1314,Codes!C$1:D$475,2,FALSE),\"\")","v":""}]
[{"$nulls":6},{"$f":"IF(H1315<>\"\",VLOOKUP(H1315,Codes!C$1:D$475,2,FALSE),\"\")","v":""}]
[{"$nulls":6},{"$f":"IF(H1316<>\"\",VLOOKUP(H1316,Codes!C$1:D$475,2,FALSE),\"\")","v":""}]
[{"$nulls":6},{"$f":"IF(H1317<>\"\",VLOOKUP(H1317,Codes!C$1:D$475,2,FALSE),\"\")","v":""}]
[{"$nulls":6},{"$f":"IF(H1318<>\"\",VLOOKUP(H1318,Codes!C$1:D$475,2,FALSE),\"\")","v":""}]
[{"$nulls":6},{"$f":"IF(H1319<>\"\",VLOOKUP(H1319,Codes!C$1:D$475,2,FALSE),\"\")","v":""}]
[{"$nulls":6},{"$f":"IF(H1320<>\"\",VLOOKUP(H1320,Codes!C$1:D$475,2,FALSE),\"\")","v":""}]
[{"$nulls":6},{"$f":"IF(H1321<>\"\",VLOOKUP(H1321,Codes!C$1:D$475,2,FALSE),\"\")","v":""}]
[{"$nulls":6},{"$f":"IF(H1322<>\"\",VLOOKUP(H1322,Codes!C$1:D$475,2,FALSE),\"\")","v":""}]
[{"$nulls":6},{"$f":"IF(H1323<>\"\",VLOOKUP(H1323,Codes!C$1:D$475,2,FALSE),\"\")","v":""}]
[{"$nulls":6},{"$f":"IF(H1324<>\"\",VLOOKUP(H1324,Codes!C$1:D$475,2,FALSE),\"\")","v":""}]
[{"$nulls":6},{"$f":"IF(H1325<>\"\",VLOOKUP(H1325,Codes!C$1:D$475,2,FALSE),\"\")","v":""}]
[{"$nulls":6},{"$f":"IF(H1326<>\"\",VLOOKUP(H1326,Codes!C$1:D$475,2,FALSE),\"\")","v":""}]
[{"$nulls":6},{"$f":"IF(H1327<>\"\",VLOOKUP(H1327,Codes!C$1:D$475,2,FALSE),\"\")","v":""}]
[{"$nulls":6},{"$f":"IF(H1328<>\"\",VLOOKUP(H1328,Codes!C$1:D$475,2,FALSE),\"\")","v":""}]
[{"$nulls":6},{"$f":"IF(H1329<>\"\",VLOOKUP(H1329,Codes!C$1:D$475,2,FALSE),\"\")","v":""}]
[{"$nulls":6},{"$f":"IF(H1330<>\"\",VLOOKUP(H1330,Codes!C$1:D$475,2,FALSE),\"\")","v":""}]
[{"$nulls":6},{"$f":"IF(H1331<>\"\",VLOOKUP(H1331,Codes!C$1:D$475,2,FALSE),\"\")","v":""}]
[{"$nulls":6},{"$f":"IF(H1332<>\"\",VLOOKUP(H1332,Codes!C$1:D$475,2,FALSE),\"\")","v":""}]
[{"$nulls":6},{"$f":"IF(H1333<>\"\",VLOOKUP(H1333,Codes!C$1:D$475,2,FALSE),\"\")","v":""}]
[{"$nulls":6},{"$f":"IF(H1334<>\"\",VLOOKUP(H1334,Codes!C$1:D$475,2,FALSE),\"\")","v":""}]
[{"$nulls":6},{"$f":"IF(H1335<>\"\",VLOOKUP(H1335,Codes!C$1:D$475,2,FALSE),\"\")","v":""}]
[{"$nulls":6},{"$f":"IF(H1336<>\"\",VLOOKUP(H1336,Codes!C$1:D$475,2,FALSE),\"\")","v":""}]
[{"$nulls":6},{"$f":"IF(H1337<>\"\",VLOOKUP(H1337,Codes!C$1:D$475,2,FALSE),\"\")","v":""}]
[{"$nulls":6},{"$f":"IF(H1338<>\"\",VLOOKUP(H1338,Codes!C$1:D$475,2,FALSE),\"\")","v":""}]
[{"$nulls":6},{"$f":"IF(H1339<>\"\",VLOOKUP(H1339,Codes!C$1:D$475,2,FALSE),\"\")","v":""}]
[{"$nulls":6},{"$f":"IF(H1340<>\"\",VLOOKUP(H1340,Codes!C$1:D$475,2,FALSE),\"\")","v":""}]
[{"$nulls":6},{"$f":"IF(H1341<>\"\",VLOOKUP(H1341,Codes!C$1:D$475,2,FALSE),\"\")","v":""}]
[{"$nulls":6},{"$f":"IF(H1342<>\"\",VLOOKUP(H1342,Codes!C$1:D$475,2,FALSE),\"\")","v":""}]
[{"$nulls":6},{"$f":"IF(H1343<>\"\",VLOOKUP(H1343,Codes!C$1:D$475,2,FALSE),\"\")","v":""}]
[{"$nulls":6},{"$f":"IF(H1344<>\"\",VLOOKUP(H1344,Codes!C$1:D$475,2,FALSE),\"\")","v":""}]
[{"$nulls":6},{"$f":"IF(H1345<>\"\",VLOOKUP(H1345,Codes!C$1:D$475,2,FALSE),\"\")","v":""}]
[{"$nulls":6},{"$f":"IF(H1346<>\"\",VLOOKUP(H1346,Codes!C$1:D$475,2,FALSE),\"\")","v":""}]
[{"$nulls":6},{"$f":"IF(H1347<>\"\",VLOOKUP(H1347,Codes!C$1:D$475,2,FALSE),\"\")","v":""}]
[{"$nulls":6},{"$f":"IF(H1348<>\"\",VLOOKUP(H1348,Codes!C$1:D$475,2,FALSE),\"\")","v":""}]
[{"$nulls":6},{"$f":"IF(H1349<>\"\",VLOOKUP(H1349,Codes!C$1:D$475,2,FALSE),\"\")","v":""}]
[{"$nulls":6},{"$f":"IF(H1350<>\"\",VLOOKUP(H1350,Codes!C$1:D$475,2,FALSE),\"\")","v":""}]
[{"$nulls":6},{"$f":"IF(H1351<>\"\",VLOOKUP(H1351,Codes!C$1:D$475,2,FALSE),\"\")","v":""}]
[{"$nulls":6},{"$f":"IF(H1352<>\"\",VLOOKUP(H1352,Codes!C$1:D$475,2,FALSE),\"\")","v":""}]
[{"$nulls":6},{"$f":"IF(H1353<>\"\",VLOOKUP(H1353,Codes!C$1:D$475,2,FALSE),\"\")","v":""}]
[{"$nulls":6},{"$f":"IF(H1354<>\"\",VLOOKUP(H1354,Codes!C$1:D$475,2,FALSE),\"\")","v":""}]
[{"$nulls":6},{"$f":"IF(H1355<>\"\",VLOOKUP(H1355,Codes!C$1:D$475,2,FALSE),\"\")","v":""}]
[{"$nulls":6},{"$f":"IF(H1356<>\"\",VLOOKUP(H1356,Codes!C$1:D$475,2,FALSE),\"\")","v":""}]
[{"$nulls":6},{"$f":"IF(H1357<>\"\",VLOOKUP(H1357,Codes!C$1:D$475,2,FALSE),\"\")","v":""}]
[{"$nulls":6},{"$f":"IF(H1358<>\"\",VLOOKUP(H1358,Codes!C$1:D$475,2,FALSE),\"\")","v":""}]
[{"$nulls":6},{"$f":"IF(H1359<>\"\",VLOOKUP(H1359,Codes!C$1:D$475,2,FALSE),\"\")","v":""}]
[{"$nulls":6},{"$f":"IF(H1360<>\"\",VLOOKUP(H1360,Codes!C$1:D$475,2,FALSE),\"\")","v":""}]
[{"$nulls":6},{"$f":"IF(H1361<>\"\",VLOOKUP(H1361,Codes!C$1:D$475,2,FALSE),\"\")","v":""},{"$nulls":3},{"$f":"IF(J1361>0,VLOOKUP(J1361,' code comptes '!$A$1:$C$148,3),\"\")","v":""},null,{"$f":"D1254","v":{"v":0,"d":"0.00"}},{"$f":"+CONCATENATE(G1254,H1254)","v":""}]
[{"$nulls":6},{"$f":"IF(H1362<>\"\",VLOOKUP(H1362,Codes!C$1:D$475,2,FALSE),\"\")","v":""},{"$nulls":3},{"$f":"IF(J1362>0,VLOOKUP(J1362,' code comptes '!$A$1:$C$148,3),\"\")","v":""},null,{"$f":"D1361","v":{"v":0,"d":"0.00"}},{"$f":"+CONCATENATE(G1361,H1361)","v":""}]
[{"$nulls":6},{"$f":"IF(H1363<>\"\",VLOOKUP(H1363,Codes!C$1:D$475,2,FALSE),\"\")","v":""},{"$nulls":3},{"$f":"IF(J1363>0,VLOOKUP(J1363,' code comptes '!$A$1:$C$148,3),\"\")","v":""},null,{"v":0,"d":"0.00"},""]
[{"$nulls":6},{"$f":"IF(H1364<>\"\",VLOOKUP(H1364,Codes!C$1:D$475,2,FALSE),\"\")","v":""},{"$nulls":3},{"$f":"IF(J1364>0,VLOOKUP(J1364,' code comptes '!$A$1:$C$148,3),\"\")","v":""},null,{"v":0,"d":"0.00"},""]
[{"$nulls":6},{"$f":"IF(H1365<>\"\",VLOOKUP(H1365,Codes!C$1:D$475,2,FALSE),\"\")","v":""},{"$nulls":3},{"$f":"IF(J1365>0,VLOOKUP(J1365,' code comptes '!$A$1:$C$148,3),\"\")","v":""},null,{"v":0,"d":"0.00"},""]
[{"$nulls":6},{"$f":"IF(H1366<>\"\",VLOOKUP(H1366,Codes!C$1:D$475,2,FALSE),\"\")","v":""},{"$nulls":3},{"$f":"IF(J1366>0,VLOOKUP(J1366,' code comptes '!$A$1:$C$148,3),\"\")","v":""},null,{"v":0,"d":"0.00"},""]
[{"$nulls":6},{"$f":"IF(H1367<>\"\",VLOOKUP(H1367,Codes!C$1:D$475,2,FALSE),\"\")","v":""},{"$nulls":3},{"$f":"IF(J1367>0,VLOOKUP(J1367,' code comptes '!$A$1:$C$148,3),\"\")","v":""},null,{"v":0,"d":"0.00"},""]
[{"$nulls":6},{"$f":"IF(H1368<>\"\",VLOOKUP(H1368,Codes!C$1:D$475,2,FALSE),\"\")","v":""},{"$nulls":3},{"$f":"IF(J1368>0,VLOOKUP(J1368,' code comptes '!$A$1:$C$148,3),\"\")","v":""},null,{"v":0,"d":"0.00"},""]
[{"$nulls":6},{"$f":"IF(H1369<>\"\",VLOOKUP(H1369,Codes!C$1:D$475,2,FALSE),\"\")","v":""},{"$nulls":3},{"$f":"IF(J1369>0,VLOOKUP(J1369,' code comptes '!$A$1:$C$148,3),\"\")","v":""},null,{"v":0,"d":"0.00"},""]
[{"$nulls":6},{"$f":"IF(H1370<>\"\",VLOOKUP(H1370,Codes!C$1:D$475,2,FALSE),\"\")","v":""},{"$nulls":3},{"$f":"IF(J1370>0,VLOOKUP(J1370,' code comptes '!$A$1:$C$148,3),\"\")","v":""},null,{"v":0,"d":"0.00"},""]
[{"$nulls":6},{"$f":"IF(H1371<>\"\",VLOOKUP(H1371,Codes!C$1:D$475,2,FALSE),\"\")","v":""},{"$nulls":3},{"$f":"IF(J1371>0,VLOOKUP(J1371,' code comptes '!$A$1:$C$148,3),\"\")","v":""},null,{"v":0,"d":"0.00"},""]
[{"$nulls":6},{"$f":"IF(H1372<>\"\",VLOOKUP(H1372,Codes!C$1:D$475,2,FALSE),\"\")","v":""},{"$nulls":3},{"$f":"IF(J1372>0,VLOOKUP(J1372,' code comptes '!$A$1:$C$148,3),\"\")","v":""},null,{"v":0,"d":"0.00"},""]
[{"$nulls":6},{"$f":"IF(H1373<>\"\",VLOOKUP(H1373,Codes!C$1:D$475,2,FALSE),\"\")","v":""},{"$nulls":3},{"$f":"IF(J1373>0,VLOOKUP(J1373,' code comptes '!$A$1:$C$148,3),\"\")","v":""},null,{"v":0,"d":"0.00"},""]
[{"$nulls":6},{"$f":"IF(H1374<>\"\",VLOOKUP(H1374,Codes!C$1:D$475,2,FALSE),\"\")","v":""},{"$nulls":3},{"$f":"IF(J1374>0,VLOOKUP(J1374,' code comptes '!$A$1:$C$148,3),\"\")","v":""},null,{"v":0,"d":"0.00"},""]
[{"$nulls":6},{"$f":"IF(H1375<>\"\",VLOOKUP(H1375,Codes!C$1:D$475,2,FALSE),\"\")","v":""},{"$nulls":3},{"$f":"IF(J1375>0,VLOOKUP(J1375,' code comptes '!$A$1:$C$148,3),\"\")","v":""},null,{"v":0,"d":"0.00"},""]
[{"$nulls":6},{"$f":"IF(H1376<>\"\",VLOOKUP(H1376,Codes!C$1:D$475,2,FALSE),\"\")","v":""},{"$nulls":3},{"$f":"IF(J1376>0,VLOOKUP(J1376,' code comptes '!$A$1:$C$148,3),\"\")","v":""},null,{"v":0,"d":"0.00"},""]
[{"$nulls":6},{"$f":"IF(H1377<>\"\",VLOOKUP(H1377,Codes!C$1:D$475,2,FALSE),\"\")","v":""},{"$nulls":3},{"$f":"IF(J1377>0,VLOOKUP(J1377,' code comptes '!$A$1:$C$148,3),\"\")","v":""},null,{"v":0,"d":"0.00"},""]
[{"$nulls":6},{"$f":"IF(H1378<>\"\",VLOOKUP(H1378,Codes!C$1:D$475,2,FALSE),\"\")","v":""},{"$nulls":3},{"$f":"IF(J1378>0,VLOOKUP(J1378,' code comptes '!$A$1:$C$148,3),\"\")","v":""},null,{"v":0,"d":"0.00"},""]
[{"$nulls":6},{"$f":"IF(H1379<>\"\",VLOOKUP(H1379,Codes!C$1:D$475,2,FALSE),\"\")","v":""},{"$nulls":3},{"$f":"IF(J1379>0,VLOOKUP(J1379,' code comptes '!$A$1:$C$148,3),\"\")","v":""},null,{"v":0,"d":"0.00"},""]
[{"$nulls":6},{"$f":"IF(H1380<>\"\",VLOOKUP(H1380,Codes!C$1:D$475,2,FALSE),\"\")","v":""},{"$nulls":3},{"$f":"IF(J1380>0,VLOOKUP(J1380,' code comptes '!$A$1:$C$148,3),\"\")","v":""},null,{"v":0,"d":"0.00"},""]
[{"$nulls":6},{"$f":"IF(H1381<>\"\",VLOOKUP(H1381,Codes!C$1:D$475,2,FALSE),\"\")","v":""},{"$nulls":3},{"$f":"IF(J1381>0,VLOOKUP(J1381,' code comptes '!$A$1:$C$148,3),\"\")","v":""},null,{"v":0,"d":"0.00"},""]
[{"$nulls":6},{"$f":"IF(H1382<>\"\",VLOOKUP(H1382,Codes!C$1:D$475,2,FALSE),\"\")","v":""},{"$nulls":3},{"$f":"IF(J1382>0,VLOOKUP(J1382,' code comptes '!$A$1:$C$148,3),\"\")","v":""},null,{"v":0,"d":"0.00"},""]
[{"$nulls":6},{"$f":"IF(H1383<>\"\",VLOOKUP(H1383,Codes!C$1:D$475,2,FALSE),\"\")","v":""},{"$nulls":3},{"$f":"IF(J1383>0,VLOOKUP(J1383,' code comptes '!$A$1:$C$148,3),\"\")","v":""},null,{"v":0,"d":"0.00"},""]
[{"$nulls":6},{"$f":"IF(H1384<>\"\",VLOOKUP(H1384,Codes!C$1:D$475,2,FALSE),\"\")","v":""},{"$nulls":3},{"$f":"IF(J1384>0,VLOOKUP(J1384,' code comptes '!$A$1:$C$148,3),\"\")","v":""},null,{"v":0,"d":"0.00"},""]
[{"$nulls":6},{"$f":"IF(H1385<>\"\",VLOOKUP(H1385,Codes!C$1:D$475,2,FALSE),\"\")","v":""},{"$nulls":3},{"$f":"IF(J1385>0,VLOOKUP(J1385,' code comptes '!$A$1:$C$148,3),\"\")","v":""},null,{"v":0,"d":"0.00"},""]
[{"$nulls":6},{"$f":"IF(H1386<>\"\",VLOOKUP(H1386,Codes!C$1:D$475,2,FALSE),\"\")","v":""},{"$nulls":3},{"$f":"IF(J1386>0,VLOOKUP(J1386,' code comptes '!$A$1:$C$148,3),\"\")","v":""},null,{"v":0,"d":"0.00"},""]
[{"$nulls":6},{"$f":"IF(H1387<>\"\",VLOOKUP(H1387,Codes!C$1:D$475,2,FALSE),\"\")","v":""},{"$nulls":3},{"$f":"IF(J1387>0,VLOOKUP(J1387,' code comptes '!$A$1:$C$148,3),\"\")","v":""},null,{"v":0,"d":"0.00"},""]
[{"$nulls":6},{"$f":"IF(H1388<>\"\",VLOOKUP(H1388,Codes!C$1:D$475,2,FALSE),\"\")","v":""},{"$nulls":3},{"$f":"IF(J1388>0,VLOOKUP(J1388,' code comptes '!$A$1:$C$148,3),\"\")","v":""},null,{"v":0,"d":"0.00"},""]
[{"$nulls":6},{"$f":"IF(H1389<>\"\",VLOOKUP(H1389,Codes!C$1:D$475,2,FALSE),\"\")","v":""},{"$nulls":3},{"$f":"IF(J1389>0,VLOOKUP(J1389,' code comptes '!$A$1:$C$148,3),\"\")","v":""},null,{"v":0,"d":"0.00"},""]
[{"$nulls":6},{"$f":"IF(H1390<>\"\",VLOOKUP(H1390,Codes!C$1:D$475,2,FALSE),\"\")","v":""},{"$nulls":3},{"$f":"IF(J1390>0,VLOOKUP(J1390,' code comptes '!$A$1:$C$148,3),\"\")","v":""},null,{"v":0,"d":"0.00"},""]
[{"$nulls":6},{"$f":"IF(H1391<>\"\",VLOOKUP(H1391,Codes!C$1:D$475,2,FALSE),\"\")","v":""},{"$nulls":3},{"$f":"IF(J1391>0,VLOOKUP(J1391,' code comptes '!$A$1:$C$148,3),\"\")","v":""},null,{"v":0,"d":"0.00"},""]
[{"$nulls":6},{"$f":"IF(H1392<>\"\",VLOOKUP(H1392,Codes!C$1:D$475,2,FALSE),\"\")","v":""},{"$nulls":3},{"$f":"IF(J1392>0,VLOOKUP(J1392,' code comptes '!$A$1:$C$148,3),\"\")","v":""},null,{"v":0,"d":"0.00"},""]
[{"$nulls":6},{"$f":"IF(H1393<>\"\",VLOOKUP(H1393,Codes!C$1:D$475,2,FALSE),\"\")","v":""},{"$nulls":3},{"$f":"IF(J1393>0,VLOOKUP(J1393,' code comptes '!$A$1:$C$148,3),\"\")","v":""},null,{"v":0,"d":"0.00"},""]
[{"$nulls":6},{"$f":"IF(H1394<>\"\",VLOOKUP(H1394,Codes!C$1:D$475,2,FALSE),\"\")","v":""},{"$nulls":3},{"$f":"IF(J1394>0,VLOOKUP(J1394,' code comptes '!$A$1:$C$148,3),\"\")","v":""},null,{"v":0,"d":"0.00"},""]
[{"$nulls":6},{"$f":"IF(H1395<>\"\",VLOOKUP(H1395,Codes!C$1:D$475,2,FALSE),\"\")","v":""},{"$nulls":3},{"$f":"IF(J1395>0,VLOOKUP(J1395,' code comptes '!$A$1:$C$148,3),\"\")","v":""},null,{"v":0,"d":"0.00"},""]
[{"$nulls":6},{"$f":"IF(H1396<>\"\",VLOOKUP(H1396,Codes!C$1:D$475,2,FALSE),\"\")","v":""},{"$nulls":3},{"$f":"IF(J1396>0,VLOOKUP(J1396,' code comptes '!$A$1:$C$148,3),\"\")","v":""},null,{"v":0,"d":"0.00"},""]
[{"$nulls":6},{"$f":"IF(H1397<>\"\",VLOOKUP(H1397,Codes!C$1:D$475,2,FALSE),\"\")","v":""},{"$nulls":3},{"$f":"IF(J1397>0,VLOOKUP(J1397,' code comptes '!$A$1:$C$148,3),\"\")","v":""},null,{"v":0,"d":"0.00"},""]
[{"$nulls":6},{"$f":"IF(H1398<>\"\",VLOOKUP(H1398,Codes!C$1:D$475,2,FALSE),\"\")","v":""},{"$nulls":3},{"$f":"IF(J1398>0,VLOOKUP(J1398,' code comptes '!$A$1:$C$148,3),\"\")","v":""},null,{"v":0,"d":"0.00"},""]
[{"$nulls":6},{"$f":"IF(H1399<>\"\",VLOOKUP(H1399,Codes!C$1:D$475,2,FALSE),\"\")","v":""},{"$nulls":3},{"$f":"IF(J1399>0,VLOOKUP(J1399,' code comptes '!$A$1:$C$148,3),\"\")","v":""},null,{"v":0,"d":"0.00"},""]
[{"$nulls":6},{"$f":"IF(H1400<>\"\",VLOOKUP(H1400,Codes!C$1:D$475,2,FALSE),\"\")","v":""},{"$nulls":3},{"$f":"IF(J1400>0,VLOOKUP(J1400,' code comptes '!$A$1:$C$148,3),\"\")","v":""},null,{"v":0,"d":"0.00"},""]
[{"$nulls":6},{"$f":"IF(H1401<>\"\",VLOOKUP(H1401,Codes!C$1:D$475,2,FALSE),\"\")","v":""},{"$nulls":3},{"$f":"IF(J1401>0,VLOOKUP(J1401,' code comptes '!$A$1:$C$148,3),\"\")","v":""},null,{"v":0,"d":"0.00"},""]
[{"$nulls":6},{"$f":"IF(H1402<>\"\",VLOOKUP(H1402,Codes!C$1:D$475,2,FALSE),\"\")","v":""},{"$nulls":3},{"$f":"IF(J1402>0,VLOOKUP(J1402,' code comptes '!$A$1:$C$148,3),\"\")","v":""},null,{"v":0,"d":"0.00"},""]
[{"$nulls":6},{"$f":"IF(H1403<>\"\",VLOOKUP(H1403,Codes!C$1:D$475,2,FALSE),\"\")","v":""},{"$nulls":3},{"$f":"IF(J1403>0,VLOOKUP(J1403,' code comptes '!$A$1:$C$148,3),\"\")","v":""},null,{"v":0,"d":"0.00"},""]
[{"$nulls":6},{"$f":"IF(H1404<>\"\",VLOOKUP(H1404,Codes!C$1:D$475,2,FALSE),\"\")","v":""},{"$nulls":3},{"$f":"IF(J1404>0,VLOOKUP(J1404,' code comptes '!$A$1:$C$148,3),\"\")","v":""},null,{"v":0,"d":"0.00"},""]
[{"$nulls":6},{"$f":"IF(H1405<>\"\",VLOOKUP(H1405,Codes!C$1:D$475,2,FALSE),\"\")","v":""},{"$nulls":3},{"$f":"IF(J1405>0,VLOOKUP(J1405,' code comptes '!$A$1:$C$148,3),\"\")","v":""},null,{"v":0,"d":"0.00"},""]
[{"$nulls":6},{"$f":"IF(H1406<>\"\",VLOOKUP(H1406,Codes!C$1:D$475,2,FALSE),\"\")","v":""},{"$nulls":3},{"$f":"IF(J1406>0,VLOOKUP(J1406,' code comptes '!$A$1:$C$148,3),\"\")","v":""},null,{"v":0,"d":"0.00"},""]
[{"$nulls":6},{"$f":"IF(H1407<>\"\",VLOOKUP(H1407,Codes!C$1:D$475,2,FALSE),\"\")","v":""},{"$nulls":3},{"$f":"IF(J1407>0,VLOOKUP(J1407,' code comptes '!$A$1:$C$148,3),\"\")","v":""},null,{"v":0,"d":"0.00"},""]
[{"$nulls":6},{"$f":"IF(H1408<>\"\",VLOOKUP(H1408,Codes!C$1:D$475,2,FALSE),\"\")","v":""},{"$nulls":3},{"$f":"IF(J1408>0,VLOOKUP(J1408,' code comptes '!$A$1:$C$148,3),\"\")","v":""},null,{"v":0,"d":"0.00"},""]
[{"$nulls":6},{"$f":"IF(H1409<>\"\",VLOOKUP(H1409,Codes!C$1:D$475,2,FALSE),\"\")","v":""},{"$nulls":3},{"$f":"IF(J1409>0,VLOOKUP(J1409,' code comptes '!$A$1:$C$148,3),\"\")","v":""},null,{"v":0,"d":"0.00"},""]
[{"$nulls":6},{"$f":"IF(H1410<>\"\",VLOOKUP(H1410,Codes!C$1:D$475,2,FALSE),\"\")","v":""},{"$nulls":3},{"$f":"IF(J1410>0,VLOOKUP(J1410,' code comptes '!$A$1:$C$148,3),\"\")","v":""},null,{"v":0,"d":"0.00"},""]
[{"$nulls":6},{"$f":"IF(H1411<>\"\",VLOOKUP(H1411,Codes!C$1:D$475,2,FALSE),\"\")","v":""},{"$nulls":3},{"$f":"IF(J1411>0,VLOOKUP(J1411,' code comptes '!$A$1:$C$148,3),\"\")","v":""},null,{"v":0,"d":"0.00"},""]
[{"$nulls":6},{"$f":"IF(H1412<>\"\",VLOOKUP(H1412,Codes!C$1:D$475,2,FALSE),\"\")","v":""},{"$nulls":3},{"$f":"IF(J1412>0,VLOOKUP(J1412,' code comptes '!$A$1:$C$148,3),\"\")","v":""},null,{"v":0,"d":"0.00"},""]
[{"$nulls":6},{"$f":"IF(H1413<>\"\",VLOOKUP(H1413,Codes!C$1:D$475,2,FALSE),\"\")","v":""},{"$nulls":3},{"$f":"IF(J1413>0,VLOOKUP(J1413,' code comptes '!$A$1:$C$148,3),\"\")","v":""},null,{"v":0,"d":"0.00"},""]
[{"$nulls":6},{"$f":"IF(H1414<>\"\",VLOOKUP(H1414,Codes!C$1:D$475,2,FALSE),\"\")","v":""},{"$nulls":3},{"$f":"IF(J1414>0,VLOOKUP(J1414,' code comptes '!$A$1:$C$148,3),\"\")","v":""},null,{"v":0,"d":"0.00"},""]
[{"$nulls":6},{"$f":"IF(H1415<>\"\",VLOOKUP(H1415,Codes!C$1:D$475,2,FALSE),\"\")","v":""},{"$nulls":3},{"$f":"IF(J1415>0,VLOOKUP(J1415,' code comptes '!$A$1:$C$148,3),\"\")","v":""},null,{"v":0,"d":"0.00"},""]
[{"$nulls":6},{"$f":"IF(H1416<>\"\",VLOOKUP(H1416,Codes!C$1:D$475,2,FALSE),\"\")","v":""},{"$nulls":3},{"$f":"IF(J1416>0,VLOOKUP(J1416,' code comptes '!$A$1:$C$148,3),\"\")","v":""},null,{"v":0,"d":"0.00"},""]
[{"$nulls":6},{"$f":"IF(H1417<>\"\",VLOOKUP(H1417,Codes!C$1:D$475,2,FALSE),\"\")","v":""},{"$nulls":3},{"$f":"IF(J1417>0,VLOOKUP(J1417,' code comptes '!$A$1:$C$148,3),\"\")","v":""},null,{"v":0,"d":"0.00"},""]
[{"$nulls":6},{"$f":"IF(H1418<>\"\",VLOOKUP(H1418,Codes!C$1:D$475,2,FALSE),\"\")","v":""},{"$nulls":3},{"$f":"IF(J1418>0,VLOOKUP(J1418,' code comptes '!$A$1:$C$148,3),\"\")","v":""},null,{"v":0,"d":"0.00"},""]
[{"$nulls":6},{"$f":"IF(H1419<>\"\",VLOOKUP(H1419,Codes!C$1:D$475,2,FALSE),\"\")","v":""},{"$nulls":3},{"$f":"IF(J1419>0,VLOOKUP(J1419,' code comptes '!$A$1:$C$148,3),\"\")","v":""},null,{"v":0,"d":"0.00"},""]
[{"$nulls":6},{"$f":"IF(H1420<>\"\",VLOOKUP(H1420,Codes!C$1:D$475,2,FALSE),\"\")","v":""},{"$nulls":3},{"$f":"IF(J1420>0,VLOOKUP(J1420,' code comptes '!$A$1:$C$148,3),\"\")","v":""},null,{"v":0,"d":"0.00"},""]
[{"$nulls":6},{"$f":"IF(H1421<>\"\",VLOOKUP(H1421,Codes!C$1:D$475,2,FALSE),\"\")","v":""},{"$nulls":3},{"$f":"IF(J1421>0,VLOOKUP(J1421,' code comptes '!$A$1:$C$148,3),\"\")","v":""},null,{"v":0,"d":"0.00"},""]
[{"$nulls":6},{"$f":"IF(H1422<>\"\",VLOOKUP(H1422,Codes!C$1:D$475,2,FALSE),\"\")","v":""},{"$nulls":3},{"$f":"IF(J1422>0,VLOOKUP(J1422,' code comptes '!$A$1:$C$148,3),\"\")","v":""},null,{"v":0,"d":"0.00"},""]
[{"$nulls":6},{"$f":"IF(H1423<>\"\",VLOOKUP(H1423,Codes!C$1:D$475,2,FALSE),\"\")","v":""},{"$nulls":3},{"$f":"IF(J1423>0,VLOOKUP(J1423,' code comptes '!$A$1:$C$148,3),\"\")","v":""},null,{"v":0,"d":"0.00"},""]
[{"$nulls":6},{"$f":"IF(H1424<>\"\",VLOOKUP(H1424,Codes!C$1:D$475,2,FALSE),\"\")","v":""},{"$nulls":3},{"$f":"IF(J1424>0,VLOOKUP(J1424,' code comptes '!$A$1:$C$148,3),\"\")","v":""},null,{"v":0,"d":"0.00"},""]
[{"$nulls":6},{"$f":"IF(H1425<>\"\",VLOOKUP(H1425,Codes!C$1:D$475,2,FALSE),\"\")","v":""},{"$nulls":3},{"$f":"IF(J1425>0,VLOOKUP(J1425,' code comptes '!$A$1:$C$148,3),\"\")","v":""},null,{"v":0,"d":"0.00"},""]
[{"$nulls":6},{"$f":"IF(H1426<>\"\",VLOOKUP(H1426,Codes!C$1:D$475,2,FALSE),\"\")","v":""},{"$nulls":3},{"$f":"IF(J1426>0,VLOOKUP(J1426,' code comptes '!$A$1:$C$148,3),\"\")","v":""},null,{"v":0,"d":"0.00"},""]
[{"$nulls":6},{"$f":"IF(H1427<>\"\",VLOOKUP(H1427,Codes!C$1:D$475,2,FALSE),\"\")","v":""},{"$nulls":3},{"$f":"IF(J1427>0,VLOOKUP(J1427,' code comptes '!$A$1:$C$148,3),\"\")","v":""},null,{"v":0,"d":"0.00"},""]
[{"$nulls":6},{"$f":"IF(H1428<>\"\",VLOOKUP(H1428,Codes!C$1:D$475,2,FALSE),\"\")","v":""},{"$nulls":3},{"$f":"IF(J1428>0,VLOOKUP(J1428,' code comptes '!$A$1:$C$148,3),\"\")","v":""},null,{"v":0,"d":"0.00"},""]
[{"$nulls":6},{"$f":"IF(H1429<>\"\",VLOOKUP(H1429,Codes!C$1:D$475,2,FALSE),\"\")","v":""},{"$nulls":3},{"$f":"IF(J1429>0,VLOOKUP(J1429,' code comptes '!$A$1:$C$148,3),\"\")","v":""},null,{"v":0,"d":"0.00"},""]
[{"$nulls":6},{"$f":"IF(H1430<>\"\",VLOOKUP(H1430,Codes!C$1:D$475,2,FALSE),\"\")","v":""},{"$nulls":3},{"$f":"IF(J1430>0,VLOOKUP(J1430,' code comptes '!$A$1:$C$148,3),\"\")","v":""},null,{"v":0,"d":"0.00"},""]
[{"$nulls":6},{"$f":"IF(H1431<>\"\",VLOOKUP(H1431,Codes!C$1:D$475,2,FALSE),\"\")","v":""},{"$nulls":3},{"$f":"IF(J1431>0,VLOOKUP(J1431,' code comptes '!$A$1:$C$148,3),\"\")","v":""},null,{"v":0,"d":"0.00"},""]
[{"$nulls":6},{"$f":"IF(H1432<>\"\",VLOOKUP(H1432,Codes!C$1:D$475,2,FALSE),\"\")","v":""},{"$nulls":3},{"$f":"IF(J1432>0,VLOOKUP(J1432,' code comptes '!$A$1:$C$148,3),\"\")","v":""},null,{"v":0,"d":"0.00"},""]
[{"$nulls":6},{"$f":"IF(H1433<>\"\",VLOOKUP(H1433,Codes!C$1:D$475,2,FALSE),\"\")","v":""},{"$nulls":3},{"$f":"IF(J1433>0,VLOOKUP(J1433,' code comptes '!$A$1:$C$148,3),\"\")","v":""},null,{"v":0,"d":"0.00"},""]
[{"$nulls":6},{"$f":"IF(H1434<>\"\",VLOOKUP(H1434,Codes!C$1:D$475,2,FALSE),\"\")","v":""},{"$nulls":3},{"$f":"IF(J1434>0,VLOOKUP(J1434,' code comptes '!$A$1:$C$148,3),\"\")","v":""},null,{"v":0,"d":"0.00"},""]
[{"$nulls":6},{"$f":"IF(H1435<>\"\",VLOOKUP(H1435,Codes!C$1:D$475,2,FALSE),\"\")","v":""},{"$nulls":3},{"$f":"IF(J1435>0,VLOOKUP(J1435,' code comptes '!$A$1:$C$148,3),\"\")","v":""},null,{"v":0,"d":"0.00"},""]
[{"$nulls":6},{"$f":"IF(H1436<>\"\",VLOOKUP(H1436,Codes!C$1:D$475,2,FALSE),\"\")","v":""},{"$nulls":3},{"$f":"IF(J1436>0,VLOOKUP(J1436,' code comptes '!$A$1:$C$148,3),\"\")","v":""},null,{"v":0,"d":"0.00"},""]
[{"$nulls":6},{"$f":"IF(H1437<>\"\",VLOOKUP(H1437,Codes!C$1:D$475,2,FALSE),\"\")","v":""},{"$nulls":3},{"$f":"IF(J1437>0,VLOOKUP(J1437,' code comptes '!$A$1:$C$148,3),\"\")","v":""},null,{"v":0,"d":"0.00"},""]
[{"$nulls":6},{"$f":"IF(H1438<>\"\",VLOOKUP(H1438,Codes!C$1:D$475,2,FALSE),\"\")","v":""},{"$nulls":3},{"$f":"IF(J1438>0,VLOOKUP(J1438,' code comptes '!$A$1:$C$148,3),\"\")","v":""},null,{"v":0,"d":"0.00"},""]
[{"$nulls":6},{"$f":"IF(H1439<>\"\",VLOOKUP(H1439,Codes!C$1:D$475,2,FALSE),\"\")","v":""},{"$nulls":3},{"$f":"IF(J1439>0,VLOOKUP(J1439,' code comptes '!$A$1:$C$148,3),\"\")","v":""},null,{"v":0,"d":"0.00"},""]
[{"$nulls":6},{"$f":"IF(H1440<>\"\",VLOOKUP(H1440,Codes!C$1:D$475,2,FALSE),\"\")","v":""},{"$nulls":3},{"$f":"IF(J1440>0,VLOOKUP(J1440,' code comptes '!$A$1:$C$148,3),\"\")","v":""},null,{"v":0,"d":"0.00"},""]
[{"$nulls":6},{"$f":"IF(H1441<>\"\",VLOOKUP(H1441,Codes!C$1:D$475,2,FALSE),\"\")","v":""},{"$nulls":3},{"$f":"IF(J1441>0,VLOOKUP(J1441,' code comptes '!$A$1:$C$148,3),\"\")","v":""},null,{"v":0,"d":"0.00"},""]
[{"$nulls":6},{"$f":"IF(H1442<>\"\",VLOOKUP(H1442,Codes!C$1:D$475,2,FALSE),\"\")","v":""},{"$nulls":3},{"$f":"IF(J1442>0,VLOOKUP(J1442,' code comptes '!$A$1:$C$148,3),\"\")","v":""},null,{"v":0,"d":"0.00"},""]
[{"$nulls":6},{"$f":"IF(H1443<>\"\",VLOOKUP(H1443,Codes!C$1:D$475,2,FALSE),\"\")","v":""},{"$nulls":3},{"$f":"IF(J1443>0,VLOOKUP(J1443,' code comptes '!$A$1:$C$148,3),\"\")","v":""},null,{"v":0,"d":"0.00"},""]
[{"$nulls":6},{"$f":"IF(H1444<>\"\",VLOOKUP(H1444,Codes!C$1:D$475,2,FALSE),\"\")","v":""},{"$nulls":3},{"$f":"IF(J1444>0,VLOOKUP(J1444,' code comptes '!$A$1:$C$148,3),\"\")","v":""},null,{"v":0,"d":"0.00"},""]
[{"$nulls":6},{"$f":"IF(H1445<>\"\",VLOOKUP(H1445,Codes!C$1:D$475,2,FALSE),\"\")","v":""},{"$nulls":3},{"$f":"IF(J1445>0,VLOOKUP(J1445,' code comptes '!$A$1:$C$148,3),\"\")","v":""},null,{"v":0,"d":"0.00"},""]
[{"$nulls":6},{"$f":"IF(H1446<>\"\",VLOOKUP(H1446,Codes!C$1:D$475,2,FALSE),\"\")","v":""},{"$nulls":3},{"$f":"IF(J1446>0,VLOOKUP(J1446,' code comptes '!$A$1:$C$148,3),\"\")","v":""},null,{"v":0,"d":"0.00"},""]
[{"$nulls":6},{"$f":"IF(H1447<>\"\",VLOOKUP(H1447,Codes!C$1:D$475,2,FALSE),\"\")","v":""},{"$nulls":3},{"$f":"IF(J1447>0,VLOOKUP(J1447,' code comptes '!$A$1:$C$148,3),\"\")","v":""},null,{"v":0,"d":"0.00"},""]
[{"$nulls":6},{"$f":"IF(H1448<>\"\",VLOOKUP(H1448,Codes!C$1:D$475,2,FALSE),\"\")","v":""},{"$nulls":3},{"$f":"IF(J1448>0,VLOOKUP(J1448,' code comptes '!$A$1:$C$148,3),\"\")","v":""},null,{"v":0,"d":"0.00"},""]
[{"$nulls":6},{"$f":"IF(H1449<>\"\",VLOOKUP(H1449,Codes!C$1:D$475,2,FALSE),\"\")","v":""},{"$nulls":3},{"$f":"IF(J1449>0,VLOOKUP(J1449,' code comptes '!$A$1:$C$148,3),\"\")","v":""},null,{"v":0,"d":"0.00"},""]
[{"$nulls":6},{"$f":"IF(H1450<>\"\",VLOOKUP(H1450,Codes!C$1:D$475,2,FALSE),\"\")","v":""},{"$nulls":3},{"$f":"IF(J1450>0,VLOOKUP(J1450,' code comptes '!$A$1:$C$148,3),\"\")","v":""},null,{"v":0,"d":"0.00"},""]
[{"$nulls":6},{"$f":"IF(H1451<>\"\",VLOOKUP(H1451,Codes!C$1:D$475,2,FALSE),\"\")","v":""},{"$nulls":3},{"$f":"IF(J1451>0,VLOOKUP(J1451,' code comptes '!$A$1:$C$148,3),\"\")","v":""},null,{"v":0,"d":"0.00"},""]
[{"$nulls":6},{"$f":"IF(H1452<>\"\",VLOOKUP(H1452,Codes!C$1:D$475,2,FALSE),\"\")","v":""},{"$nulls":3},{"$f":"IF(J1452>0,VLOOKUP(J1452,' code comptes '!$A$1:$C$148,3),\"\")","v":""},null,{"v":0,"d":"0.00"},""]
[{"$nulls":6},{"$f":"IF(H1453<>\"\",VLOOKUP(H1453,Codes!C$1:D$475,2,FALSE),\"\")","v":""},{"$nulls":3},{"$f":"IF(J1453>0,VLOOKUP(J1453,' code comptes '!$A$1:$C$148,3),\"\")","v":""},null,{"v":0,"d":"0.00"},""]
[{"$nulls":6},{"$f":"IF(H1454<>\"\",VLOOKUP(H1454,Codes!C$1:D$475,2,FALSE),\"\")","v":""},{"$nulls":3},{"$f":"IF(J1454>0,VLOOKUP(J1454,' code comptes '!$A$1:$C$148,3),\"\")","v":""},null,{"v":0,"d":"0.00"},""]
[{"$nulls":6},{"$f":"IF(H1455<>\"\",VLOOKUP(H1455,Codes!C$1:D$475,2,FALSE),\"\")","v":""},{"$nulls":3},{"$f":"IF(J1455>0,VLOOKUP(J1455,' code comptes '!$A$1:$C$148,3),\"\")","v":""},null,{"v":0,"d":"0.00"},""]
[{"$nulls":6},{"$f":"IF(H1456<>\"\",VLOOKUP(H1456,Codes!C$1:D$475,2,FALSE),\"\")","v":""},{"$nulls":3},{"$f":"IF(J1456>0,VLOOKUP(J1456,' code comptes '!$A$1:$C$148,3),\"\")","v":""},null,{"v":0,"d":"0.00"},""]
[{"$nulls":6},{"$f":"IF(H1457<>\"\",VLOOKUP(H1457,Codes!C$1:D$475,2,FALSE),\"\")","v":""},{"$nulls":3},{"$f":"IF(J1457>0,VLOOKUP(J1457,' code comptes '!$A$1:$C$148,3),\"\")","v":""},null,{"v":0,"d":"0.00"},""]
[{"$nulls":6},{"$f":"IF(H1458<>\"\",VLOOKUP(H1458,Codes!C$1:D$475,2,FALSE),\"\")","v":""},{"$nulls":3},{"$f":"IF(J1458>0,VLOOKUP(J1458,' code comptes '!$A$1:$C$148,3),\"\")","v":""},null,{"v":0,"d":"0.00"},""]
[{"$nulls":6},{"$f":"IF(H1459<>\"\",VLOOKUP(H1459,Codes!C$1:D$475,2,FALSE),\"\")","v":""},{"$nulls":3},{"$f":"IF(J1459>0,VLOOKUP(J1459,' code comptes '!$A$1:$C$148,3),\"\")","v":""},null,{"v":0,"d":"0.00"},""]
[{"$nulls":6},{"$f":"IF(H1460<>\"\",VLOOKUP(H1460,Codes!C$1:D$475,2,FALSE),\"\")","v":""},{"$nulls":3},{"$f":"IF(J1460>0,VLOOKUP(J1460,' code comptes '!$A$1:$C$148,3),\"\")","v":""},null,{"v":0,"d":"0.00"},""]
[{"$nulls":6},{"$f":"IF(H1461<>\"\",VLOOKUP(H1461,Codes!C$1:D$475,2,FALSE),\"\")","v":""},{"$nulls":3},{"$f":"IF(J1461>0,VLOOKUP(J1461,' code comptes '!$A$1:$C$148,3),\"\")","v":""},null,{"v":0,"d":"0.00"},""]
[{"$nulls":6},{"$f":"IF(H1462<>\"\",VLOOKUP(H1462,Codes!C$1:D$475,2,FALSE),\"\")","v":""},{"$nulls":3},{"$f":"IF(J1462>0,VLOOKUP(J1462,' code comptes '!$A$1:$C$148,3),\"\")","v":""},null,{"v":0,"d":"0.00"},""]
[{"$nulls":6},{"$f":"IF(H1463<>\"\",VLOOKUP(H1463,Codes!C$1:D$475,2,FALSE),\"\")","v":""},{"$nulls":3},{"$f":"IF(J1463>0,VLOOKUP(J1463,' code comptes '!$A$1:$C$148,3),\"\")","v":""},null,{"v":0,"d":"0.00"},""]
[{"$nulls":6},{"$f":"IF(H1464<>\"\",VLOOKUP(H1464,Codes!C$1:D$475,2,FALSE),\"\")","v":""},{"$nulls":3},{"$f":"IF(J1464>0,VLOOKUP(J1464,' code comptes '!$A$1:$C$148,3),\"\")","v":""},null,{"v":0,"d":"0.00"},""]
[{"$nulls":6},{"$f":"IF(H1465<>\"\",VLOOKUP(H1465,Codes!C$1:D$475,2,FALSE),\"\")","v":""}]
[{"$nulls":6},{"$f":"IF(H1466<>\"\",VLOOKUP(H1466,Codes!C$1:D$475,2,FALSE),\"\")","v":""}]
[{"$nulls":6},{"$f":"IF(H1467<>\"\",VLOOKUP(H1467,Codes!C$1:D$475,2,FALSE),\"\")","v":""}]
[{"$nulls":6},{"$f":"IF(H1468<>\"\",VLOOKUP(H1468,Codes!C$1:D$475,2,FALSE),\"\")","v":""},{"$nulls":3},{"$f":"IF(J1468>0,VLOOKUP(J1468,' code comptes '!$A$1:$C$148,3),\"\")","v":""},null,{"$f":"D1464","v":{"v":0,"d":"0.00"}},{"$f":"+CONCATENATE(G1464,H1464)","v":""}]
[{"$nulls":6},{"$f":"IF(H1469<>\"\",VLOOKUP(H1469,Codes!C$1:D$475,2,FALSE),\"\")","v":""},{"$nulls":3},{"$f":"IF(J1469>0,VLOOKUP(J1469,' code comptes '!$A$1:$C$148,3),\"\")","v":""},null,{"$f":"D1468","v":{"v":0,"d":"0.00"}},{"$f":"+CONCATENATE(G1468,H1468)","v":""}]
[{"$nulls":6},{"$f":"IF(H1470<>\"\",VLOOKUP(H1470,Codes!C$1:D$475,2,FALSE),\"\")","v":""},{"$nulls":3},{"$f":"IF(J1470>0,VLOOKUP(J1470,' code comptes '!$A$1:$C$148,3),\"\")","v":""},null,{"v":0,"d":"0.00"},""]
[{"$nulls":6},{"$f":"IF(H1471<>\"\",VLOOKUP(H1471,Codes!C$1:D$475,2,FALSE),\"\")","v":""},{"$nulls":3},{"$f":"IF(J1471>0,VLOOKUP(J1471,' code comptes '!$A$1:$C$148,3),\"\")","v":""},null,{"v":0,"d":"0.00"},""]
[{"$nulls":6},{"$f":"IF(H1472<>\"\",VLOOKUP(H1472,Codes!C$1:D$475,2,FALSE),\"\")","v":""},{"$nulls":3},{"$f":"IF(J1472>0,VLOOKUP(J1472,' code comptes '!$A$1:$C$148,3),\"\")","v":""},null,{"v":0,"d":"0.00"},""]
[{"$nulls":6},{"$f":"IF(H1473<>\"\",VLOOKUP(H1473,Codes!C$1:D$475,2,FALSE),\"\")","v":""},{"$nulls":3},{"$f":"IF(J1473>0,VLOOKUP(J1473,' code comptes '!$A$1:$C$148,3),\"\")","v":""},null,{"v":0,"d":"0.00"},""]
[{"$nulls":6},{"$f":"IF(H1474<>\"\",VLOOKUP(H1474,Codes!C$1:D$475,2,FALSE),\"\")","v":""},{"$nulls":3},{"$f":"IF(J1474>0,VLOOKUP(J1474,' code comptes '!$A$1:$C$148,3),\"\")","v":""},null,{"v":0,"d":"0.00"},""]
[{"$nulls":6},{"$f":"IF(H1475<>\"\",VLOOKUP(H1475,Codes!C$1:D$475,2,FALSE),\"\")","v":""}]
[{"$nulls":6},{"$f":"IF(H1476<>\"\",VLOOKUP(H1476,Codes!C$1:D$475,2,FALSE),\"\")","v":""}]
[{"$nulls":6},{"$f":"IF(H1477<>\"\",VLOOKUP(H1477,Codes!C$1:D$475,2,FALSE),\"\")","v":""}]
[{"$nulls":6},{"$f":"IF(H1478<>\"\",VLOOKUP(H1478,Codes!C$1:D$475,2,FALSE),\"\")","v":""}]
[{"$nulls":6},{"$f":"IF(H1479<>\"\",VLOOKUP(H1479,Codes!C$1:D$475,2,FALSE),\"\")","v":""}]
[{"$nulls":6},{"$f":"IF(H1480<>\"\",VLOOKUP(H1480,Codes!C$1:D$475,2,FALSE),\"\")","v":""}]
[{"$nulls":6},{"$f":"IF(H1481<>\"\",VLOOKUP(H1481,Codes!C$1:D$475,2,FALSE),\"\")","v":""}]
[{"$nulls":6},{"$f":"IF(H1482<>\"\",VLOOKUP(H1482,Codes!C$1:D$475,2,FALSE),\"\")","v":""}]
[{"$nulls":6},{"$f":"IF(H1483<>\"\",VLOOKUP(H1483,Codes!C$1:D$475,2,FALSE),\"\")","v":""}]
[{"$nulls":6},{"$f":"IF(H1484<>\"\",VLOOKUP(H1484,Codes!C$1:D$475,2,FALSE),\"\")","v":""}]
[{"$nulls":6},{"$f":"IF(H1485<>\"\",VLOOKUP(H1485,Codes!C$1:D$475,2,FALSE),\"\")","v":""}]
[{"$nulls":6},{"$f":"IF(H1486<>\"\",VLOOKUP(H1486,Codes!C$1:D$475,2,FALSE),\"\")","v":""}]
[{"$nulls":6},{"$f":"IF(H1487<>\"\",VLOOKUP(H1487,Codes!C$1:D$475,2,FALSE),\"\")","v":""}]
[{"$nulls":6},{"$f":"IF(H1488<>\"\",VLOOKUP(H1488,Codes!C$1:D$475,2,FALSE),\"\")","v":""}]
[{"$nulls":6},{"$f":"IF(H1489<>\"\",VLOOKUP(H1489,Codes!C$1:D$475,2,FALSE),\"\")","v":""}]
[{"$nulls":6},{"$f":"IF(H1490<>\"\",VLOOKUP(H1490,Codes!C$1:D$475,2,FALSE),\"\")","v":""}]
[{"$nulls":6},{"$f":"IF(H1491<>\"\",VLOOKUP(H1491,Codes!C$1:D$475,2,FALSE),\"\")","v":""}]
[{"$nulls":6},{"$f":"IF(H1492<>\"\",VLOOKUP(H1492,Codes!C$1:D$475,2,FALSE),\"\")","v":""}]
[{"$nulls":6},{"$f":"IF(H1493<>\"\",VLOOKUP(H1493,Codes!C$1:D$475,2,FALSE),\"\")","v":""}]
[{"$nulls":6},{"$f":"IF(H1494<>\"\",VLOOKUP(H1494,Codes!C$1:D$475,2,FALSE),\"\")","v":""}]
[{"$nulls":6},{"$f":"IF(H1495<>\"\",VLOOKUP(H1495,Codes!C$1:D$475,2,FALSE),\"\")","v":""}]
[{"$nulls":6},{"$f":"IF(H1496<>\"\",VLOOKUP(H1496,Codes!C$1:D$475,2,FALSE),\"\")","v":""}]
[{"$nulls":6},{"$f":"IF(H1497<>\"\",VLOOKUP(H1497,Codes!C$1:D$475,2,FALSE),\"\")","v":""}]
[{"$nulls":6},{"$f":"IF(H1498<>\"\",VLOOKUP(H1498,Codes!C$1:D$475,2,FALSE),\"\")","v":""}]
[{"$nulls":6},{"$f":"IF(H1499<>\"\",VLOOKUP(H1499,Codes!C$1:D$475,2,FALSE),\"\")","v":""}]
[{"$nulls":6},{"$f":"IF(H1500<>\"\",VLOOKUP(H1500,Codes!C$1:D$475,2,FALSE),\"\")","v":""}]
[{"$nulls":6},{"$f":"IF(H1501<>\"\",VLOOKUP(H1501,Codes!C$1:D$475,2,FALSE),\"\")","v":""}]
[{"$nulls":6},{"$f":"IF(H1502<>\"\",VLOOKUP(H1502,Codes!C$1:D$475,2,FALSE),\"\")","v":""}]
[{"$nulls":6},{"$f":"IF(H1503<>\"\",VLOOKUP(H1503,Codes!C$1:D$475,2,FALSE),\"\")","v":""}]
[{"$nulls":6},{"$f":"IF(H1504<>\"\",VLOOKUP(H1504,Codes!C$1:D$475,2,FALSE),\"\")","v":""}]
[{"$nulls":6},{"$f":"IF(H1505<>\"\",VLOOKUP(H1505,Codes!C$1:D$475,2,FALSE),\"\")","v":""}]
[{"$nulls":6},{"$f":"IF(H1506<>\"\",VLOOKUP(H1506,Codes!C$1:D$475,2,FALSE),\"\")","v":""}]
[{"$nulls":6},{"$f":"IF(H1507<>\"\",VLOOKUP(H1507,Codes!C$1:D$475,2,FALSE),\"\")","v":""}]
[{"$nulls":6},{"$f":"IF(H1508<>\"\",VLOOKUP(H1508,Codes!C$1:D$475,2,FALSE),\"\")","v":""}]
[{"$nulls":6},{"$f":"IF(H1509<>\"\",VLOOKUP(H1509,Codes!C$1:D$475,2,FALSE),\"\")","v":""}]
[{"$nulls":6},{"$f":"IF(H1510<>\"\",VLOOKUP(H1510,Codes!C$1:D$475,2,FALSE),\"\")","v":""}]
[{"$nulls":6},{"$f":"IF(H1511<>\"\",VLOOKUP(H1511,Codes!C$1:D$475,2,FALSE),\"\")","v":""}]
[{"$nulls":6},{"$f":"IF(H1512<>\"\",VLOOKUP(H1512,Codes!C$1:D$475,2,FALSE),\"\")","v":""}]
[{"$nulls":6},{"$f":"IF(H1513<>\"\",VLOOKUP(H1513,Codes!C$1:D$475,2,FALSE),\"\")","v":""}]
[{"$nulls":6},{"$f":"IF(H1514<>\"\",VLOOKUP(H1514,Codes!C$1:D$475,2,FALSE),\"\")","v":""}]
[{"$nulls":6},{"$f":"IF(H1515<>\"\",VLOOKUP(H1515,Codes!C$1:D$475,2,FALSE),\"\")","v":""}]
[{"$nulls":6},{"$f":"IF(H1516<>\"\",VLOOKUP(H1516,Codes!C$1:D$475,2,FALSE),\"\")","v":""}]
[{"$nulls":6},{"$f":"IF(H1517<>\"\",VLOOKUP(H1517,Codes!C$1:D$475,2,FALSE),\"\")","v":""}]
[{"$nulls":6},{"$f":"IF(H1518<>\"\",VLOOKUP(H1518,Codes!C$1:D$475,2,FALSE),\"\")","v":""}]
[{"$nulls":6},{"$f":"IF(H1519<>\"\",VLOOKUP(H1519,Codes!C$1:D$475,2,FALSE),\"\")","v":""}]
[{"$nulls":6},{"$f":"IF(H1520<>\"\",VLOOKUP(H1520,Codes!C$1:D$475,2,FALSE),\"\")","v":""}]
[{"$nulls":6},{"$f":"IF(H1521<>\"\",VLOOKUP(H1521,Codes!C$1:D$475,2,FALSE),\"\")","v":""}]
[{"$nulls":6},{"$f":"IF(H1522<>\"\",VLOOKUP(H1522,Codes!C$1:D$475,2,FALSE),\"\")","v":""}]
[{"$nulls":6},{"$f":"IF(H1523<>\"\",VLOOKUP(H1523,Codes!C$1:D$475,2,FALSE),\"\")","v":""}]
[{"$nulls":6},{"$f":"IF(H1524<>\"\",VLOOKUP(H1524,Codes!C$1:D$475,2,FALSE),\"\")","v":""}]
[{"$nulls":6},{"$f":"IF(H1525<>\"\",VLOOKUP(H1525,Codes!C$1:D$475,2,FALSE),\"\")","v":""}]
[{"$nulls":6},{"$f":"IF(H1526<>\"\",VLOOKUP(H1526,Codes!C$1:D$475,2,FALSE),\"\")","v":""}]
[{"$nulls":6},{"$f":"IF(H1527<>\"\",VLOOKUP(H1527,Codes!C$1:D$475,2,FALSE),\"\")","v":""}]
[{"$nulls":6},{"$f":"IF(H1528<>\"\",VLOOKUP(H1528,Codes!C$1:D$475,2,FALSE),\"\")","v":""}]
[{"$nulls":6},{"$f":"IF(H1529<>\"\",VLOOKUP(H1529,Codes!C$1:D$475,2,FALSE),\"\")","v":""}]
[{"$nulls":6},{"$f":"IF(H1530<>\"\",VLOOKUP(H1530,Codes!C$1:D$475,2,FALSE),\"\")","v":""}]
[{"$nulls":6},{"$f":"IF(H1531<>\"\",VLOOKUP(H1531,Codes!C$1:D$475,2,FALSE),\"\")","v":""}]
[{"$nulls":6},{"$f":"IF(H1532<>\"\",VLOOKUP(H1532,Codes!C$1:D$475,2,FALSE),\"\")","v":""}]
[{"$nulls":6},{"$f":"IF(H1533<>\"\",VLOOKUP(H1533,Codes!C$1:D$475,2,FALSE),\"\")","v":""}]
[{"$nulls":6},{"$f":"IF(H1534<>\"\",VLOOKUP(H1534,Codes!C$1:D$475,2,FALSE),\"\")","v":""}]
[{"$nulls":6},{"$f":"IF(H1535<>\"\",VLOOKUP(H1535,Codes!C$1:D$475,2,FALSE),\"\")","v":""}]
[{"$nulls":6},{"$f":"IF(H1536<>\"\",VLOOKUP(H1536,Codes!C$1:D$475,2,FALSE),\"\")","v":""}]
[{"$nulls":6},{"$f":"IF(H1537<>\"\",VLOOKUP(H1537,Codes!C$1:D$475,2,FALSE),\"\")","v":""}]
[{"$nulls":6},{"$f":"IF(H1538<>\"\",VLOOKUP(H1538,Codes!C$1:D$475,2,FALSE),\"\")","v":""}]
[{"$nulls":6},{"$f":"IF(H1539<>\"\",VLOOKUP(H1539,Codes!C$1:D$475,2,FALSE),\"\")","v":""}]
[{"$nulls":6},{"$f":"IF(H1540<>\"\",VLOOKUP(H1540,Codes!C$1:D$475,2,FALSE),\"\")","v":""}]
[{"$nulls":6},{"$f":"IF(H1541<>\"\",VLOOKUP(H1541,Codes!C$1:D$475,2,FALSE),\"\")","v":""}]
[{"$nulls":6},{"$f":"IF(H1542<>\"\",VLOOKUP(H1542,Codes!C$1:D$475,2,FALSE),\"\")","v":""}]
[{"$nulls":6},{"$f":"IF(H1543<>\"\",VLOOKUP(H1543,Codes!C$1:D$475,2,FALSE),\"\")","v":""}]
[{"$nulls":6},{"$f":"IF(H1544<>\"\",VLOOKUP(H1544,Codes!C$1:D$475,2,FALSE),\"\")","v":""}]
[{"$nulls":6},{"$f":"IF(H1545<>\"\",VLOOKUP(H1545,Codes!C$1:D$475,2,FALSE),\"\")","v":""}]
[{"$nulls":6},{"$f":"IF(H1546<>\"\",VLOOKUP(H1546,Codes!C$1:D$475,2,FALSE),\"\")","v":""}]
[{"$nulls":6},{"$f":"IF(H1547<>\"\",VLOOKUP(H1547,Codes!C$1:D$475,2,FALSE),\"\")","v":""}]
[{"$nulls":6},{"$f":"IF(H1548<>\"\",VLOOKUP(H1548,Codes!C$1:D$475,2,FALSE),\"\")","v":""}]
[{"$nulls":6},{"$f":"IF(H1549<>\"\",VLOOKUP(H1549,Codes!C$1:D$475,2,FALSE),\"\")","v":""}]
[{"$nulls":6},{"$f":"IF(H1550<>\"\",VLOOKUP(H1550,Codes!C$1:D$475,2,FALSE),\"\")","v":""}]
[{"$nulls":6},{"$f":"IF(H1551<>\"\",VLOOKUP(H1551,Codes!C$1:D$475,2,FALSE),\"\")","v":""}]
[{"$nulls":6},{"$f":"IF(H1552<>\"\",VLOOKUP(H1552,Codes!C$1:D$475,2,FALSE),\"\")","v":""}]
[{"$nulls":6},{"$f":"IF(H1553<>\"\",VLOOKUP(H1553,Codes!C$1:D$475,2,FALSE),\"\")","v":""}]
[{"$nulls":6},{"$f":"IF(H1554<>\"\",VLOOKUP(H1554,Codes!C$1:D$475,2,FALSE),\"\")","v":""}]
[{"$nulls":6},{"$f":"IF(H1555<>\"\",VLOOKUP(H1555,Codes!C$1:D$475,2,FALSE),\"\")","v":""}]
[{"$nulls":6},{"$f":"IF(H1556<>\"\",VLOOKUP(H1556,Codes!C$1:D$475,2,FALSE),\"\")","v":""}]
[{"$nulls":6},{"$f":"IF(H1557<>\"\",VLOOKUP(H1557,Codes!C$1:D$475,2,FALSE),\"\")","v":""}]
[{"$nulls":6},{"$f":"IF(H1558<>\"\",VLOOKUP(H1558,Codes!C$1:D$475,2,FALSE),\"\")","v":""}]
[{"$nulls":6},{"$f":"IF(H1559<>\"\",VLOOKUP(H1559,Codes!C$1:D$475,2,FALSE),\"\")","v":""}]
[{"$nulls":6},{"$f":"IF(H1560<>\"\",VLOOKUP(H1560,Codes!C$1:D$475,2,FALSE),\"\")","v":""}]
[{"$nulls":6},{"$f":"IF(H1561<>\"\",VLOOKUP(H1561,Codes!C$1:D$475,2,FALSE),\"\")","v":""}]
[{"$nulls":6},{"$f":"IF(H1562<>\"\",VLOOKUP(H1562,Codes!C$1:D$475,2,FALSE),\"\")","v":""}]
[{"$nulls":6},{"$f":"IF(H1563<>\"\",VLOOKUP(H1563,Codes!C$1:D$475,2,FALSE),\"\")","v":""}]
[{"$nulls":6},{"$f":"IF(H1564<>\"\",VLOOKUP(H1564,Codes!C$1:D$475,2,FALSE),\"\")","v":""}]
[{"$nulls":6},{"$f":"IF(H1565<>\"\",VLOOKUP(H1565,Codes!C$1:D$475,2,FALSE),\"\")","v":""}]
[{"$nulls":6},{"$f":"IF(H1566<>\"\",VLOOKUP(H1566,Codes!C$1:D$475,2,FALSE),\"\")","v":""}]
[{"$nulls":6},{"$f":"IF(H1567<>\"\",VLOOKUP(H1567,Codes!C$1:D$475,2,FALSE),\"\")","v":""}]
[{"$nulls":6},{"$f":"IF(H1568<>\"\",VLOOKUP(H1568,Codes!C$1:D$475,2,FALSE),\"\")","v":""}]
[{"$nulls":6},{"$f":"IF(H1569<>\"\",VLOOKUP(H1569,Codes!C$1:D$475,2,FALSE),\"\")","v":""}]
[{"$nulls":6},{"$f":"IF(H1570<>\"\",VLOOKUP(H1570,Codes!C$1:D$475,2,FALSE),\"\")","v":""}]
[{"$nulls":6},{"$f":"IF(H1571<>\"\",VLOOKUP(H1571,Codes!C$1:D$475,2,FALSE),\"\")","v":""}]
[{"$nulls":6},{"$f":"IF(H1572<>\"\",VLOOKUP(H1572,Codes!C$1:D$475,2,FALSE),\"\")","v":""}]
[{"$nulls":6},{"$f":"IF(H1573<>\"\",VLOOKUP(H1573,Codes!C$1:D$475,2,FALSE),\"\")","v":""}]
[{"$nulls":6},{"$f":"IF(H1574<>\"\",VLOOKUP(H1574,Codes!C$1:D$475,2,FALSE),\"\")","v":""}]
[{"$nulls":6},{"$f":"IF(H1575<>\"\",VLOOKUP(H1575,Codes!C$1:D$475,2,FALSE),\"\")","v":""}]
[{"$nulls":6},{"$f":"IF(H1576<>\"\",VLOOKUP(H1576,Codes!C$1:D$475,2,FALSE),\"\")","v":""}]
[{"$nulls":6},{"$f":"IF(H1577<>\"\",VLOOKUP(H1577,Codes!C$1:D$475,2,FALSE),\"\")","v":""}]
[{"$nulls":6},{"$f":"IF(H1578<>\"\",VLOOKUP(H1578,Codes!C$1:D$475,2,FALSE),\"\")","v":""}]
[{"$nulls":6},{"$f":"IF(H1579<>\"\",VLOOKUP(H1579,Codes!C$1:D$475,2,FALSE),\"\")","v":""}]
[{"$nulls":6},{"$f":"IF(H1580<>\"\",VLOOKUP(H1580,Codes!C$1:D$475,2,FALSE),\"\")","v":""}]
[{"$nulls":6},{"$f":"IF(H1581<>\"\",VLOOKUP(H1581,Codes!C$1:D$475,2,FALSE),\"\")","v":""}]
[{"$nulls":6},{"$f":"IF(H1582<>\"\",VLOOKUP(H1582,Codes!C$1:D$475,2,FALSE),\"\")","v":""}]
[{"$nulls":6},{"$f":"IF(H1583<>\"\",VLOOKUP(H1583,Codes!C$1:D$475,2,FALSE),\"\")","v":""}]
[{"$nulls":6},{"$f":"IF(H1584<>\"\",VLOOKUP(H1584,Codes!C$1:D$475,2,FALSE),\"\")","v":""}]
[{"$nulls":6},{"$f":"IF(H1585<>\"\",VLOOKUP(H1585,Codes!C$1:D$475,2,FALSE),\"\")","v":""}]
[{"$nulls":6},{"$f":"IF(H1586<>\"\",VLOOKUP(H1586,Codes!C$1:D$475,2,FALSE),\"\")","v":""}]
[{"$nulls":6},{"$f":"IF(H1587<>\"\",VLOOKUP(H1587,Codes!C$1:D$475,2,FALSE),\"\")","v":""}]
[{"$nulls":6},{"$f":"IF(H1588<>\"\",VLOOKUP(H1588,Codes!C$1:D$475,2,FALSE),\"\")","v":""}]
[{"$nulls":6},{"$f":"IF(H1589<>\"\",VLOOKUP(H1589,Codes!C$1:D$475,2,FALSE),\"\")","v":""}]
[{"$nulls":6},{"$f":"IF(H1590<>\"\",VLOOKUP(H1590,Codes!C$1:D$475,2,FALSE),\"\")","v":""}]
[{"$nulls":6},{"$f":"IF(H1591<>\"\",VLOOKUP(H1591,Codes!C$1:D$475,2,FALSE),\"\")","v":""}]
[{"$nulls":6},{"$f":"IF(H1592<>\"\",VLOOKUP(H1592,Codes!C$1:D$475,2,FALSE),\"\")","v":""}]
[{"$nulls":6},{"$f":"IF(H1593<>\"\",VLOOKUP(H1593,Codes!C$1:D$475,2,FALSE),\"\")","v":""}]
[{"$nulls":6},{"$f":"IF(H1594<>\"\",VLOOKUP(H1594,Codes!C$1:D$475,2,FALSE),\"\")","v":""}]
[{"$nulls":6},{"$f":"IF(H1595<>\"\",VLOOKUP(H1595,Codes!C$1:D$475,2,FALSE),\"\")","v":""}]
[{"$nulls":6},{"$f":"IF(H1596<>\"\",VLOOKUP(H1596,Codes!C$1:D$475,2,FALSE),\"\")","v":""}]
[{"$nulls":6},{"$f":"IF(H1597<>\"\",VLOOKUP(H1597,Codes!C$1:D$475,2,FALSE),\"\")","v":""}]
[{"$nulls":6},{"$f":"IF(H1598<>\"\",VLOOKUP(H1598,Codes!C$1:D$475,2,FALSE),\"\")","v":""}]
[{"$nulls":6},{"$f":"IF(H1599<>\"\",VLOOKUP(H1599,Codes!C$1:D$475,2,FALSE),\"\")","v":""}]
[{"$nulls":6},{"$f":"IF(H1600<>\"\",VLOOKUP(H1600,Codes!C$1:D$475,2,FALSE),\"\")","v":""}]
[{"$nulls":6},{"$f":"IF(H1601<>\"\",VLOOKUP(H1601,Codes!C$1:D$475,2,FALSE),\"\")","v":""}]
[{"$nulls":6},{"$f":"IF(H1602<>\"\",VLOOKUP(H1602,Codes!C$1:D$475,2,FALSE),\"\")","v":""}]
[{"$nulls":6},{"$f":"IF(H1603<>\"\",VLOOKUP(H1603,Codes!C$1:D$475,2,FALSE),\"\")","v":""}]
[{"$nulls":6},{"$f":"IF(H1604<>\"\",VLOOKUP(H1604,Codes!C$1:D$475,2,FALSE),\"\")","v":""}]
[{"$nulls":6},{"$f":"IF(H1605<>\"\",VLOOKUP(H1605,Codes!C$1:D$475,2,FALSE),\"\")","v":""}]
[{"$nulls":6},{"$f":"IF(H1606<>\"\",VLOOKUP(H1606,Codes!C$1:D$475,2,FALSE),\"\")","v":""}]
[{"$nulls":6},{"$f":"IF(H1607<>\"\",VLOOKUP(H1607,Codes!C$1:D$475,2,FALSE),\"\")","v":""}]
[{"$nulls":6},{"$f":"IF(H1608<>\"\",VLOOKUP(H1608,Codes!C$1:D$475,2,FALSE),\"\")","v":""}]
[{"$nulls":6},{"$f":"IF(H1609<>\"\",VLOOKUP(H1609,Codes!C$1:D$475,2,FALSE),\"\")","v":""}]
[{"$nulls":6},{"$f":"IF(H1610<>\"\",VLOOKUP(H1610,Codes!C$1:D$475,2,FALSE),\"\")","v":""}]
[{"$nulls":6},{"$f":"IF(H1611<>\"\",VLOOKUP(H1611,Codes!C$1:D$475,2,FALSE),\"\")","v":""}]
[{"$nulls":6},{"$f":"IF(H1612<>\"\",VLOOKUP(H1612,Codes!C$1:D$475,2,FALSE),\"\")","v":""}]
[{"$nulls":6},{"$f":"IF(H1613<>\"\",VLOOKUP(H1613,Codes!C$1:D$475,2,FALSE),\"\")","v":""}]
[{"$nulls":6},{"$f":"IF(H1614<>\"\",VLOOKUP(H1614,Codes!C$1:D$475,2,FALSE),\"\")","v":""}]
[{"$nulls":6},{"$f":"IF(H1615<>\"\",VLOOKUP(H1615,Codes!C$1:D$475,2,FALSE),\"\")","v":""}]
[{"$nulls":6},{"$f":"IF(H1616<>\"\",VLOOKUP(H1616,Codes!C$1:D$475,2,FALSE),\"\")","v":""}]
[{"$nulls":6},{"$f":"IF(H1617<>\"\",VLOOKUP(H1617,Codes!C$1:D$475,2,FALSE),\"\")","v":""}]
[{"$nulls":6},{"$f":"IF(H1618<>\"\",VLOOKUP(H1618,Codes!C$1:D$475,2,FALSE),\"\")","v":""}]
[{"$nulls":6},{"$f":"IF(H1619<>\"\",VLOOKUP(H1619,Codes!C$1:D$475,2,FALSE),\"\")","v":""}]
[{"$nulls":6},{"$f":"IF(H1620<>\"\",VLOOKUP(H1620,Codes!C$1:D$475,2,FALSE),\"\")","v":""}]
[{"$nulls":6},{"$f":"IF(H1621<>\"\",VLOOKUP(H1621,Codes!C$1:D$475,2,FALSE),\"\")","v":""}]
[{"$nulls":6},{"$f":"IF(H1622<>\"\",VLOOKUP(H1622,Codes!C$1:D$475,2,FALSE),\"\")","v":""}]
[{"$nulls":6},{"$f":"IF(H1623<>\"\",VLOOKUP(H1623,Codes!C$1:D$475,2,FALSE),\"\")","v":""}]
[{"$nulls":6},{"$f":"IF(H1624<>\"\",VLOOKUP(H1624,Codes!C$1:D$475,2,FALSE),\"\")","v":""}]
[{"$nulls":6},{"$f":"IF(H1625<>\"\",VLOOKUP(H1625,Codes!C$1:D$475,2,FALSE),\"\")","v":""}]
[{"$nulls":6},{"$f":"IF(H1626<>\"\",VLOOKUP(H1626,Codes!C$1:D$475,2,FALSE),\"\")","v":""}]
[{"$nulls":6},{"$f":"IF(H1627<>\"\",VLOOKUP(H1627,Codes!C$1:D$475,2,FALSE),\"\")","v":""}]
[{"$nulls":6},{"$f":"IF(H1628<>\"\",VLOOKUP(H1628,Codes!C$1:D$475,2,FALSE),\"\")","v":""}]
[{"$nulls":6},{"$f":"IF(H1629<>\"\",VLOOKUP(H1629,Codes!C$1:D$475,2,FALSE),\"\")","v":""}]
[{"$nulls":6},{"$f":"IF(H1630<>\"\",VLOOKUP(H1630,Codes!C$1:D$475,2,FALSE),\"\")","v":""}]
[{"$nulls":6},{"$f":"IF(H1631<>\"\",VLOOKUP(H1631,Codes!C$1:D$475,2,FALSE),\"\")","v":""}]
[{"$nulls":6},{"$f":"IF(H1632<>\"\",VLOOKUP(H1632,Codes!C$1:D$475,2,FALSE),\"\")","v":""}]
[{"$nulls":6},{"$f":"IF(H1633<>\"\",VLOOKUP(H1633,Codes!C$1:D$475,2,FALSE),\"\")","v":""}]
[{"$nulls":6},{"$f":"IF(H1634<>\"\",VLOOKUP(H1634,Codes!C$1:D$475,2,FALSE),\"\")","v":""}]
[{"$nulls":6},{"$f":"IF(H1635<>\"\",VLOOKUP(H1635,Codes!C$1:D$475,2,FALSE),\"\")","v":""}]
[{"$nulls":6},{"$f":"IF(H1636<>\"\",VLOOKUP(H1636,Codes!C$1:D$475,2,FALSE),\"\")","v":""}]
[{"$nulls":6},{"$f":"IF(H1637<>\"\",VLOOKUP(H1637,Codes!C$1:D$475,2,FALSE),\"\")","v":""}]
[{"$nulls":6},{"$f":"IF(H1638<>\"\",VLOOKUP(H1638,Codes!C$1:D$475,2,FALSE),\"\")","v":""}]
[{"$nulls":6},{"$f":"IF(H1639<>\"\",VLOOKUP(H1639,Codes!C$1:D$475,2,FALSE),\"\")","v":""}]
[{"$nulls":6},{"$f":"IF(H1640<>\"\",VLOOKUP(H1640,Codes!C$1:D$475,2,FALSE),\"\")","v":""}]
[{"$nulls":6},{"$f":"IF(H1641<>\"\",VLOOKUP(H1641,Codes!C$1:D$475,2,FALSE),\"\")","v":""}]
[{"$nulls":6},{"$f":"IF(H1642<>\"\",VLOOKUP(H1642,Codes!C$1:D$475,2,FALSE),\"\")","v":""}]
[{"$nulls":6},{"$f":"IF(H1643<>\"\",VLOOKUP(H1643,Codes!C$1:D$475,2,FALSE),\"\")","v":""}]
[{"$nulls":6},{"$f":"IF(H1644<>\"\",VLOOKUP(H1644,Codes!C$1:D$475,2,FALSE),\"\")","v":""}]
[{"$nulls":6},{"$f":"IF(H1645<>\"\",VLOOKUP(H1645,Codes!C$1:D$475,2,FALSE),\"\")","v":""}]
[{"$nulls":6},{"$f":"IF(H1646<>\"\",VLOOKUP(H1646,Codes!C$1:D$475,2,FALSE),\"\")","v":""}]
[{"$nulls":6},{"$f":"IF(H1647<>\"\",VLOOKUP(H1647,Codes!C$1:D$475,2,FALSE),\"\")","v":""}]
[{"$nulls":6},{"$f":"IF(H1648<>\"\",VLOOKUP(H1648,Codes!C$1:D$475,2,FALSE),\"\")","v":""}]
[{"$nulls":6},{"$f":"IF(H1649<>\"\",VLOOKUP(H1649,Codes!C$1:D$475,2,FALSE),\"\")","v":""}]
[{"$nulls":6},{"$f":"IF(H1650<>\"\",VLOOKUP(H1650,Codes!C$1:D$475,2,FALSE),\"\")","v":""}]
[{"$nulls":6},{"$f":"IF(H1651<>\"\",VLOOKUP(H1651,Codes!C$1:D$475,2,FALSE),\"\")","v":""}]
[{"$nulls":6},{"$f":"IF(H1652<>\"\",VLOOKUP(H1652,Codes!C$1:D$475,2,FALSE),\"\")","v":""}]
[{"$nulls":6},{"$f":"IF(H1653<>\"\",VLOOKUP(H1653,Codes!C$1:D$475,2,FALSE),\"\")","v":""}]
[{"$nulls":6},{"$f":"IF(H1654<>\"\",VLOOKUP(H1654,Codes!C$1:D$475,2,FALSE),\"\")","v":""}]
[{"$nulls":6},{"$f":"IF(H1655<>\"\",VLOOKUP(H1655,Codes!C$1:D$475,2,FALSE),\"\")","v":""}]
[{"$nulls":6},{"$f":"IF(H1656<>\"\",VLOOKUP(H1656,Codes!C$1:D$475,2,FALSE),\"\")","v":""},{"$nulls":3},{"$f":"IF(J1656>0,VLOOKUP(J1656,' code comptes '!$A$1:$C$148,3),\"\")","v":""},"ok",{"$f":"D1474","v":{"v":0,"d":"0.00"}},{"$f":"+CONCATENATE(G1474,H1474)","v":""}]
[{"$nulls":6},{"$f":"IF(H1657<>\"\",VLOOKUP(H1657,Codes!C$1:D$475,2,FALSE),\"\")","v":""},{"$nulls":3},{"$f":"IF(J1657>0,VLOOKUP(J1657,' code comptes '!$A$1:$C$148,3),\"\")","v":""},"Erreur",{"$f":"D1656","v":{"v":0,"d":"0.00"}},{"$f":"+CONCATENATE(G1656,H1656)","v":""}]
[{"$nulls":6},{"$f":"IF(H1658<>\"\",VLOOKUP(H1658,Codes!C$1:D$475,2,FALSE),\"\")","v":""},{"$nulls":3},{"$f":"IF(J1658>0,VLOOKUP(J1658,' code comptes '!$A$1:$C$148,3),\"\")","v":""},null,{"v":0,"d":"0.00"},""]
[{"$nulls":6},{"$f":"IF(H1659<>\"\",VLOOKUP(H1659,Codes!C$1:D$475,2,FALSE),\"\")","v":""},{"$nulls":3},{"$f":"IF(J1659>0,VLOOKUP(J1659,' code comptes '!$A$1:$C$148,3),\"\")","v":""},null,{"v":0,"d":"0.00"},""]
[{"$nulls":6},{"$f":"IF(H1660<>\"\",VLOOKUP(H1660,Codes!C$1:D$475,2,FALSE),\"\")","v":""},{"$nulls":3},{"$f":"IF(J1660>0,VLOOKUP(J1660,' code comptes '!$A$1:$C$148,3),\"\")","v":""},null,{"v":0,"d":"0.00"},""]
[{"$nulls":6},{"$f":"IF(H1661<>\"\",VLOOKUP(H1661,Codes!C$1:D$475,2,FALSE),\"\")","v":""},{"$nulls":3},{"$f":"IF(J1661>0,VLOOKUP(J1661,' code comptes '!$A$1:$C$148,3),\"\")","v":""},null,{"v":0,"d":"0.00"},""]
[{"$nulls":6},{"$f":"IF(H1662<>\"\",VLOOKUP(H1662,Codes!C$1:D$475,2,FALSE),\"\")","v":""},{"$nulls":3},{"$f":"IF(J1662>0,VLOOKUP(J1662,' code comptes '!$A$1:$C$148,3),\"\")","v":""},null,{"v":0,"d":"0.00"},""]
[{"$nulls":6},{"$f":"IF(H1663<>\"\",VLOOKUP(H1663,Codes!C$1:D$475,2,FALSE),\"\")","v":""},{"$nulls":3},{"$f":"IF(J1663>0,VLOOKUP(J1663,' code comptes '!$A$1:$C$148,3),\"\")","v":""},null,{"v":0,"d":"0.00"},""]
[{"$nulls":6},{"$f":"IF(H1664<>\"\",VLOOKUP(H1664,Codes!C$1:D$475,2,FALSE),\"\")","v":""},{"$nulls":3},{"$f":"IF(J1664>0,VLOOKUP(J1664,' code comptes '!$A$1:$C$148,3),\"\")","v":""},null,{"v":0,"d":"0.00"},""]
[{"$nulls":6},{"$f":"IF(H1665<>\"\",VLOOKUP(H1665,Codes!C$1:D$475,2,FALSE),\"\")","v":""},{"$nulls":3},{"$f":"IF(J1665>0,VLOOKUP(J1665,' code comptes '!$A$1:$C$148,3),\"\")","v":""},null,{"v":0,"d":"0.00"},""]
[{"$nulls":6},{"$f":"IF(H1666<>\"\",VLOOKUP(H1666,Codes!C$1:D$475,2,FALSE),\"\")","v":""},{"$nulls":3},{"$f":"IF(J1666>0,VLOOKUP(J1666,' code comptes '!$A$1:$C$148,3),\"\")","v":""},null,{"v":0,"d":"0.00"},""]
[{"$nulls":6},{"$f":"IF(H1667<>\"\",VLOOKUP(H1667,Codes!C$1:D$475,2,FALSE),\"\")","v":""},{"$nulls":3},{"$f":"IF(J1667>0,VLOOKUP(J1667,' code comptes '!$A$1:$C$148,3),\"\")","v":""},null,{"v":0,"d":"0.00"},""]
[{"$nulls":6},{"$f":"IF(H1668<>\"\",VLOOKUP(H1668,Codes!C$1:D$475,2,FALSE),\"\")","v":""},{"$nulls":3},{"$f":"IF(J1668>0,VLOOKUP(J1668,' code comptes '!$A$1:$C$148,3),\"\")","v":""},null,{"v":0,"d":"0.00"},""]
[{"$nulls":6},{"$f":"IF(H1669<>\"\",VLOOKUP(H1669,Codes!C$1:D$475,2,FALSE),\"\")","v":""},{"$nulls":3},{"$f":"IF(J1669>0,VLOOKUP(J1669,' code comptes '!$A$1:$C$148,3),\"\")","v":""},null,{"v":0,"d":"0.00"},""]
[{"$nulls":6},{"$f":"IF(H1670<>\"\",VLOOKUP(H1670,Codes!C$1:D$475,2,FALSE),\"\")","v":""},{"$nulls":3},{"$f":"IF(J1670>0,VLOOKUP(J1670,' code comptes '!$A$1:$C$148,3),\"\")","v":""},null,{"v":0,"d":"0.00"},""]
[{"$nulls":6},{"$f":"IF(H1671<>\"\",VLOOKUP(H1671,Codes!C$1:D$475,2,FALSE),\"\")","v":""},{"$nulls":3},{"$f":"IF(J1671>0,VLOOKUP(J1671,' code comptes '!$A$1:$C$148,3),\"\")","v":""},null,{"v":0,"d":"0.00"},""]
[{"$nulls":6},{"$f":"IF(H1672<>\"\",VLOOKUP(H1672,Codes!C$1:D$475,2,FALSE),\"\")","v":""},{"$nulls":3},{"$f":"IF(J1672>0,VLOOKUP(J1672,' code comptes '!$A$1:$C$148,3),\"\")","v":""},null,{"v":0,"d":"0.00"},""]
[{"$nulls":6},{"$f":"IF(H1673<>\"\",VLOOKUP(H1673,Codes!C$1:D$475,2,FALSE),\"\")","v":""},{"$nulls":3},{"$f":"IF(J1673>0,VLOOKUP(J1673,' code comptes '!$A$1:$C$148,3),\"\")","v":""},null,{"v":0,"d":"0.00"},""]
[{"$nulls":6},{"$f":"IF(H1674<>\"\",VLOOKUP(H1674,Codes!C$1:D$475,2,FALSE),\"\")","v":""},{"$nulls":3},{"$f":"IF(J1674>0,VLOOKUP(J1674,' code comptes '!$A$1:$C$148,3),\"\")","v":""},null,{"v":0,"d":"0.00"},""]
[{"$nulls":6},{"$f":"IF(H1675<>\"\",VLOOKUP(H1675,Codes!C$1:D$475,2,FALSE),\"\")","v":""},{"$nulls":3},{"$f":"IF(J1675>0,VLOOKUP(J1675,' code comptes '!$A$1:$C$148,3),\"\")","v":""},null,{"v":0,"d":"0.00"},""]
[{"$nulls":6},{"$f":"IF(H1676<>\"\",VLOOKUP(H1676,Codes!C$1:D$475,2,FALSE),\"\")","v":""},{"$nulls":3},{"$f":"IF(J1676>0,VLOOKUP(J1676,' code comptes '!$A$1:$C$148,3),\"\")","v":""},null,{"v":0,"d":"0.00"},""]
[{"$nulls":6},{"$f":"IF(H1677<>\"\",VLOOKUP(H1677,Codes!C$1:D$475,2,FALSE),\"\")","v":""},{"$nulls":3},{"$f":"IF(J1677>0,VLOOKUP(J1677,' code comptes '!$A$1:$C$148,3),\"\")","v":""},null,{"v":0,"d":"0.00"},""]
[{"$nulls":6},{"$f":"IF(H1678<>\"\",VLOOKUP(H1678,Codes!C$1:D$475,2,FALSE),\"\")","v":""},{"$nulls":3},{"$f":"IF(J1678>0,VLOOKUP(J1678,' code comptes '!$A$1:$C$148,3),\"\")","v":""},null,{"v":0,"d":"0.00"},""]
[{"$nulls":6},{"$f":"IF(H1679<>\"\",VLOOKUP(H1679,Codes!C$1:D$475,2,FALSE),\"\")","v":""},{"$nulls":3},{"$f":"IF(J1679>0,VLOOKUP(J1679,' code comptes '!$A$1:$C$148,3),\"\")","v":""},null,{"v":0,"d":"0.00"},""]
[{"$nulls":6},{"$f":"IF(H1680<>\"\",VLOOKUP(H1680,Codes!C$1:D$475,2,FALSE),\"\")","v":""},{"$nulls":3},{"$f":"IF(J1680>0,VLOOKUP(J1680,' code comptes '!$A$1:$C$148,3),\"\")","v":""},null,{"v":0,"d":"0.00"},""]
[{"$nulls":6},{"$f":"IF(H1681<>\"\",VLOOKUP(H1681,Codes!C$1:D$475,2,FALSE),\"\")","v":""},{"$nulls":3},{"$f":"IF(J1681>0,VLOOKUP(J1681,' code comptes '!$A$1:$C$148,3),\"\")","v":""},null,{"v":0,"d":"0.00"},""]
[{"$nulls":6},{"$f":"IF(H1682<>\"\",VLOOKUP(H1682,Codes!C$1:D$475,2,FALSE),\"\")","v":""},{"$nulls":3},{"$f":"IF(J1682>0,VLOOKUP(J1682,' code comptes '!$A$1:$C$148,3),\"\")","v":""},null,{"v":0,"d":"0.00"},""]
[{"$nulls":6},{"$f":"IF(H1683<>\"\",VLOOKUP(H1683,Codes!C$1:D$475,2,FALSE),\"\")","v":""},{"$nulls":3},{"$f":"IF(J1683>0,VLOOKUP(J1683,' code comptes '!$A$1:$C$148,3),\"\")","v":""},null,{"v":0,"d":"0.00"},""]
[{"$nulls":6},{"$f":"IF(H1684<>\"\",VLOOKUP(H1684,Codes!C$1:D$475,2,FALSE),\"\")","v":""},{"$nulls":3},{"$f":"IF(J1684>0,VLOOKUP(J1684,' code comptes '!$A$1:$C$148,3),\"\")","v":""},null,{"v":0,"d":"0.00"},""]
[{"$nulls":6},{"$f":"IF(H1685<>\"\",VLOOKUP(H1685,Codes!C$1:D$475,2,FALSE),\"\")","v":""},{"$nulls":3},{"$f":"IF(J1685>0,VLOOKUP(J1685,' code comptes '!$A$1:$C$148,3),\"\")","v":""},null,{"v":0,"d":"0.00"},""]
[{"$nulls":6},{"$f":"IF(H1686<>\"\",VLOOKUP(H1686,Codes!C$1:D$475,2,FALSE),\"\")","v":""},{"$nulls":3},{"$f":"IF(J1686>0,VLOOKUP(J1686,' code comptes '!$A$1:$C$148,3),\"\")","v":""},null,{"v":0,"d":"0.00"},""]
[{"$nulls":6},{"$f":"IF(H1687<>\"\",VLOOKUP(H1687,Codes!C$1:D$475,2,FALSE),\"\")","v":""},{"$nulls":3},{"$f":"IF(J1687>0,VLOOKUP(J1687,' code comptes '!$A$1:$C$148,3),\"\")","v":""},null,{"v":0,"d":"0.00"},""]
[{"$nulls":6},{"$f":"IF(H1688<>\"\",VLOOKUP(H1688,Codes!C$1:D$475,2,FALSE),\"\")","v":""},{"$nulls":3},{"$f":"IF(J1688>0,VLOOKUP(J1688,' code comptes '!$A$1:$C$148,3),\"\")","v":""},null,{"v":0,"d":"0.00"},""]
[{"$nulls":6},{"$f":"IF(H1689<>\"\",VLOOKUP(H1689,Codes!C$1:D$475,2,FALSE),\"\")","v":""},{"$nulls":3},{"$f":"IF(J1689>0,VLOOKUP(J1689,' code comptes '!$A$1:$C$148,3),\"\")","v":""},null,{"v":0,"d":"0.00"},""]
[{"$nulls":6},{"$f":"IF(H1690<>\"\",VLOOKUP(H1690,Codes!C$1:D$475,2,FALSE),\"\")","v":""},{"$nulls":3},{"$f":"IF(J1690>0,VLOOKUP(J1690,' code comptes '!$A$1:$C$148,3),\"\")","v":""},null,{"v":0,"d":"0.00"},""]
[{"$nulls":6},{"$f":"IF(H1691<>\"\",VLOOKUP(H1691,Codes!C$1:D$475,2,FALSE),\"\")","v":""},{"$nulls":3},{"$f":"IF(J1691>0,VLOOKUP(J1691,' code comptes '!$A$1:$C$148,3),\"\")","v":""},null,{"v":0,"d":"0.00"},""]
[{"$nulls":6},{"$f":"IF(H1692<>\"\",VLOOKUP(H1692,Codes!C$1:D$475,2,FALSE),\"\")","v":""},{"$nulls":3},{"$f":"IF(J1692>0,VLOOKUP(J1692,' code comptes '!$A$1:$C$148,3),\"\")","v":""},null,{"v":0,"d":"0.00"},""]
[{"$nulls":6},{"$f":"IF(H1693<>\"\",VLOOKUP(H1693,Codes!C$1:D$475,2,FALSE),\"\")","v":""},{"$nulls":3},{"$f":"IF(J1693>0,VLOOKUP(J1693,' code comptes '!$A$1:$C$148,3),\"\")","v":""},null,{"v":0,"d":"0.00"},""]
[{"$nulls":6},{"$f":"IF(H1694<>\"\",VLOOKUP(H1694,Codes!C$1:D$475,2,FALSE),\"\")","v":""},{"$nulls":3},{"$f":"IF(J1694>0,VLOOKUP(J1694,' code comptes '!$A$1:$C$148,3),\"\")","v":""},null,{"v":0,"d":"0.00"},""]
[{"$nulls":6},{"$f":"IF(H1695<>\"\",VLOOKUP(H1695,Codes!C$1:D$475,2,FALSE),\"\")","v":""},{"$nulls":3},{"$f":"IF(J1695>0,VLOOKUP(J1695,' code comptes '!$A$1:$C$148,3),\"\")","v":""},null,{"v":0,"d":"0.00"},""]
[{"$nulls":6},{"$f":"IF(H1696<>\"\",VLOOKUP(H1696,Codes!C$1:D$475,2,FALSE),\"\")","v":""},{"$nulls":3},{"$f":"IF(J1696>0,VLOOKUP(J1696,' code comptes '!$A$1:$C$148,3),\"\")","v":""},null,{"v":0,"d":"0.00"},""]
[{"$nulls":6},{"$f":"IF(H1697<>\"\",VLOOKUP(H1697,Codes!C$1:D$475,2,FALSE),\"\")","v":""},{"$nulls":3},{"$f":"IF(J1697>0,VLOOKUP(J1697,' code comptes '!$A$1:$C$148,3),\"\")","v":""},null,{"v":0,"d":"0.00"},""]
[{"$nulls":6},{"$f":"IF(H1698<>\"\",VLOOKUP(H1698,Codes!C$1:D$475,2,FALSE),\"\")","v":""},{"$nulls":3},{"$f":"IF(J1698>0,VLOOKUP(J1698,' code comptes '!$A$1:$C$148,3),\"\")","v":""},null,{"v":0,"d":"0.00"},""]
[{"$nulls":6},{"$f":"IF(H1699<>\"\",VLOOKUP(H1699,Codes!C$1:D$475,2,FALSE),\"\")","v":""},{"$nulls":3},{"$f":"IF(J1699>0,VLOOKUP(J1699,' code comptes '!$A$1:$C$148,3),\"\")","v":""},null,{"v":0,"d":"0.00"},""]
[{"$nulls":6},{"$f":"IF(H1700<>\"\",VLOOKUP(H1700,Codes!C$1:D$475,2,FALSE),\"\")","v":""},{"$nulls":3},{"$f":"IF(J1700>0,VLOOKUP(J1700,' code comptes '!$A$1:$C$148,3),\"\")","v":""},null,{"v":0,"d":"0.00"},""]
[{"$nulls":6},{"$f":"IF(H1701<>\"\",VLOOKUP(H1701,Codes!C$1:D$475,2,FALSE),\"\")","v":""},{"$nulls":3},{"$f":"IF(J1701>0,VLOOKUP(J1701,' code comptes '!$A$1:$C$148,3),\"\")","v":""},null,{"v":0,"d":"0.00"},""]
[{"$nulls":6},{"$f":"IF(H1702<>\"\",VLOOKUP(H1702,Codes!C$1:D$475,2,FALSE),\"\")","v":""},{"$nulls":3},{"$f":"IF(J1702>0,VLOOKUP(J1702,' code comptes '!$A$1:$C$148,3),\"\")","v":""},null,{"v":0,"d":"0.00"},""]
[{"$nulls":6},{"$f":"IF(H1703<>\"\",VLOOKUP(H1703,Codes!C$1:D$475,2,FALSE),\"\")","v":""},{"$nulls":3},{"$f":"IF(J1703>0,VLOOKUP(J1703,' code comptes '!$A$1:$C$148,3),\"\")","v":""},null,{"v":0,"d":"0.00"},""]
[{"$nulls":6},{"$f":"IF(H1704<>\"\",VLOOKUP(H1704,Codes!C$1:D$475,2,FALSE),\"\")","v":""},{"$nulls":3},{"$f":"IF(J1704>0,VLOOKUP(J1704,' code comptes '!$A$1:$C$148,3),\"\")","v":""},null,{"v":0,"d":"0.00"},""]
[{"$nulls":6},{"$f":"IF(H1705<>\"\",VLOOKUP(H1705,Codes!C$1:D$475,2,FALSE),\"\")","v":""},{"$nulls":3},{"$f":"IF(J1705>0,VLOOKUP(J1705,' code comptes '!$A$1:$C$148,3),\"\")","v":""},null,{"v":0,"d":"0.00"},""]
[{"$nulls":6},{"$f":"IF(H1706<>\"\",VLOOKUP(H1706,Codes!C$1:D$475,2,FALSE),\"\")","v":""},{"$nulls":3},{"$f":"IF(J1706>0,VLOOKUP(J1706,' code comptes '!$A$1:$C$148,3),\"\")","v":""},null,{"v":0,"d":"0.00"},""]
[{"$nulls":6},{"$f":"IF(H1707<>\"\",VLOOKUP(H1707,Codes!C$1:D$475,2,FALSE),\"\")","v":""},{"$nulls":3},{"$f":"IF(J1707>0,VLOOKUP(J1707,' code comptes '!$A$1:$C$148,3),\"\")","v":""},null,{"v":0,"d":"0.00"},""]
[{"$nulls":6},{"$f":"IF(H1708<>\"\",VLOOKUP(H1708,Codes!C$1:D$475,2,FALSE),\"\")","v":""},{"$nulls":3},{"$f":"IF(J1708>0,VLOOKUP(J1708,' code comptes '!$A$1:$C$148,3),\"\")","v":""},null,{"v":0,"d":"0.00"},""]
[{"$nulls":6},{"$f":"IF(H1709<>\"\",VLOOKUP(H1709,Codes!C$1:D$475,2,FALSE),\"\")","v":""},{"$nulls":3},{"$f":"IF(J1709>0,VLOOKUP(J1709,' code comptes '!$A$1:$C$148,3),\"\")","v":""},null,{"v":0,"d":"0.00"},""]
[{"$nulls":6},{"$f":"IF(H1710<>\"\",VLOOKUP(H1710,Codes!C$1:D$475,2,FALSE),\"\")","v":""},{"$nulls":3},{"$f":"IF(J1710>0,VLOOKUP(J1710,' code comptes '!$A$1:$C$148,3),\"\")","v":""},null,{"v":0,"d":"0.00"},""]
[{"$nulls":6},{"$f":"IF(H1711<>\"\",VLOOKUP(H1711,Codes!C$1:D$475,2,FALSE),\"\")","v":""},{"$nulls":3},{"$f":"IF(J1711>0,VLOOKUP(J1711,' code comptes '!$A$1:$C$148,3),\"\")","v":""},null,{"v":0,"d":"0.00"},""]
[{"$nulls":6},{"$f":"IF(H1712<>\"\",VLOOKUP(H1712,Codes!C$1:D$475,2,FALSE),\"\")","v":""},{"$nulls":3},{"$f":"IF(J1712>0,VLOOKUP(J1712,' code comptes '!$A$1:$C$148,3),\"\")","v":""},null,{"v":0,"d":"0.00"},""]
[{"$nulls":6},{"$f":"IF(H1713<>\"\",VLOOKUP(H1713,Codes!C$1:D$475,2,FALSE),\"\")","v":""},{"$nulls":3},{"$f":"IF(J1713>0,VLOOKUP(J1713,' code comptes '!$A$1:$C$148,3),\"\")","v":""},null,{"v":0,"d":"0.00"},""]
[{"$nulls":6},{"$f":"IF(H1714<>\"\",VLOOKUP(H1714,Codes!C$1:D$475,2,FALSE),\"\")","v":""},{"$nulls":3},{"$f":"IF(J1714>0,VLOOKUP(J1714,' code comptes '!$A$1:$C$148,3),\"\")","v":""},null,{"v":0,"d":"0.00"},""]
[{"$nulls":6},{"$f":"IF(H1715<>\"\",VLOOKUP(H1715,Codes!C$1:D$475,2,FALSE),\"\")","v":""},{"$nulls":3},{"$f":"IF(J1715>0,VLOOKUP(J1715,' code comptes '!$A$1:$C$148,3),\"\")","v":""},null,{"v":0,"d":"0.00"},""]
[{"$nulls":6},{"$f":"IF(H1716<>\"\",VLOOKUP(H1716,Codes!C$1:D$475,2,FALSE),\"\")","v":""},{"$nulls":3},{"$f":"IF(J1716>0,VLOOKUP(J1716,' code comptes '!$A$1:$C$148,3),\"\")","v":""},null,{"v":0,"d":"0.00"},""]
[{"$nulls":6},{"$f":"IF(H1717<>\"\",VLOOKUP(H1717,Codes!C$1:D$475,2,FALSE),\"\")","v":""},{"$nulls":3},{"$f":"IF(J1717>0,VLOOKUP(J1717,' code comptes '!$A$1:$C$148,3),\"\")","v":""},null,{"v":0,"d":"0.00"},""]
[{"$nulls":6},{"$f":"IF(H1718<>\"\",VLOOKUP(H1718,Codes!C$1:D$475,2,FALSE),\"\")","v":""},{"$nulls":3},{"$f":"IF(J1718>0,VLOOKUP(J1718,' code comptes '!$A$1:$C$148,3),\"\")","v":""},null,{"v":0,"d":"0.00"},""]
[{"$nulls":6},{"$f":"IF(H1719<>\"\",VLOOKUP(H1719,Codes!C$1:D$475,2,FALSE),\"\")","v":""},{"$nulls":3},{"$f":"IF(J1719>0,VLOOKUP(J1719,' code comptes '!$A$1:$C$148,3),\"\")","v":""},null,{"v":0,"d":"0.00"},""]
[{"$nulls":6},{"$f":"IF(H1720<>\"\",VLOOKUP(H1720,Codes!C$1:D$475,2,FALSE),\"\")","v":""},{"$nulls":3},{"$f":"IF(J1720>0,VLOOKUP(J1720,' code comptes '!$A$1:$C$148,3),\"\")","v":""},null,{"v":0,"d":"0.00"},""]
[{"$nulls":6},{"$f":"IF(H1721<>\"\",VLOOKUP(H1721,Codes!C$1:D$475,2,FALSE),\"\")","v":""},{"$nulls":3},{"$f":"IF(J1721>0,VLOOKUP(J1721,' code comptes '!$A$1:$C$148,3),\"\")","v":""},null,{"v":0,"d":"0.00"},""]
[{"$nulls":6},{"$f":"IF(H1722<>\"\",VLOOKUP(H1722,Codes!C$1:D$475,2,FALSE),\"\")","v":""},{"$nulls":3},{"$f":"IF(J1722>0,VLOOKUP(J1722,' code comptes '!$A$1:$C$148,3),\"\")","v":""},null,{"v":0,"d":"0.00"},""]
[{"$nulls":6},{"$f":"IF(H1723<>\"\",VLOOKUP(H1723,Codes!C$1:D$475,2,FALSE),\"\")","v":""},{"$nulls":3},{"$f":"IF(J1723>0,VLOOKUP(J1723,' code comptes '!$A$1:$C$148,3),\"\")","v":""},null,{"v":0,"d":"0.00"},""]
[{"$nulls":6},{"$f":"IF(H1724<>\"\",VLOOKUP(H1724,Codes!C$1:D$475,2,FALSE),\"\")","v":""},{"$nulls":3},{"$f":"IF(J1724>0,VLOOKUP(J1724,' code comptes '!$A$1:$C$148,3),\"\")","v":""},null,{"v":0,"d":"0.00"},""]
[{"$nulls":6},{"$f":"IF(H1725<>\"\",VLOOKUP(H1725,Codes!C$1:D$475,2,FALSE),\"\")","v":""},{"$nulls":3},{"$f":"IF(J1725>0,VLOOKUP(J1725,' code comptes '!$A$1:$C$148,3),\"\")","v":""},null,{"v":0,"d":"0.00"},""]
[{"$nulls":6},{"$f":"IF(H1726<>\"\",VLOOKUP(H1726,Codes!C$1:D$475,2,FALSE),\"\")","v":""},{"$nulls":3},{"$f":"IF(J1726>0,VLOOKUP(J1726,' code comptes '!$A$1:$C$148,3),\"\")","v":""},null,{"v":0,"d":"0.00"},""]
[{"$nulls":6},{"$f":"IF(H1727<>\"\",VLOOKUP(H1727,Codes!C$1:D$475,2,FALSE),\"\")","v":""},{"$nulls":3},{"$f":"IF(J1727>0,VLOOKUP(J1727,' code comptes '!$A$1:$C$148,3),\"\")","v":""},null,{"v":0,"d":"0.00"},""]
[{"$nulls":6},{"$f":"IF(H1728<>\"\",VLOOKUP(H1728,Codes!C$1:D$475,2,FALSE),\"\")","v":""},{"$nulls":3},{"$f":"IF(J1728>0,VLOOKUP(J1728,' code comptes '!$A$1:$C$148,3),\"\")","v":""},null,{"v":0,"d":"0.00"},""]
[{"$nulls":6},{"$f":"IF(H1729<>\"\",VLOOKUP(H1729,Codes!C$1:D$475,2,FALSE),\"\")","v":""},{"$nulls":3},{"$f":"IF(J1729>0,VLOOKUP(J1729,' code comptes '!$A$1:$C$148,3),\"\")","v":""},null,{"v":0,"d":"0.00"},""]
[{"$nulls":6},{"$f":"IF(H1730<>\"\",VLOOKUP(H1730,Codes!C$1:D$475,2,FALSE),\"\")","v":""},{"$nulls":3},{"$f":"IF(J1730>0,VLOOKUP(J1730,' code comptes '!$A$1:$C$148,3),\"\")","v":""},null,{"v":0,"d":"0.00"},""]
[{"$nulls":6},{"$f":"IF(H1731<>\"\",VLOOKUP(H1731,Codes!C$1:D$475,2,FALSE),\"\")","v":""},{"$nulls":3},{"$f":"IF(J1731>0,VLOOKUP(J1731,' code comptes '!$A$1:$C$148,3),\"\")","v":""},null,{"v":0,"d":"0.00"},""]
[{"$nulls":6},{"$f":"IF(H1732<>\"\",VLOOKUP(H1732,Codes!C$1:D$475,2,FALSE),\"\")","v":""},{"$nulls":3},{"$f":"IF(J1732>0,VLOOKUP(J1732,' code comptes '!$A$1:$C$148,3),\"\")","v":""},null,{"v":0,"d":"0.00"},""]
[{"$nulls":6},{"$f":"IF(H1733<>\"\",VLOOKUP(H1733,Codes!C$1:D$475,2,FALSE),\"\")","v":""},{"$nulls":3},{"$f":"IF(J1733>0,VLOOKUP(J1733,' code comptes '!$A$1:$C$148,3),\"\")","v":""},null,{"v":0,"d":"0.00"},""]
[{"$nulls":6},{"$f":"IF(H1734<>\"\",VLOOKUP(H1734,Codes!C$1:D$475,2,FALSE),\"\")","v":""},{"$nulls":3},{"$f":"IF(J1734>0,VLOOKUP(J1734,' code comptes '!$A$1:$C$148,3),\"\")","v":""},null,{"v":0,"d":"0.00"},""]
[{"$nulls":6},{"$f":"IF(H1735<>\"\",VLOOKUP(H1735,Codes!C$1:D$475,2,FALSE),\"\")","v":""},{"$nulls":3},{"$f":"IF(J1735>0,VLOOKUP(J1735,' code comptes '!$A$1:$C$148,3),\"\")","v":""},null,{"v":0,"d":"0.00"},""]
[{"$nulls":6},{"$f":"IF(H1736<>\"\",VLOOKUP(H1736,Codes!C$1:D$475,2,FALSE),\"\")","v":""},{"$nulls":3},{"$f":"IF(J1736>0,VLOOKUP(J1736,' code comptes '!$A$1:$C$148,3),\"\")","v":""},null,{"v":0,"d":"0.00"},""]
[{"$nulls":6},{"$f":"IF(H1737<>\"\",VLOOKUP(H1737,Codes!C$1:D$475,2,FALSE),\"\")","v":""},{"$nulls":3},{"$f":"IF(J1737>0,VLOOKUP(J1737,' code comptes '!$A$1:$C$148,3),\"\")","v":""},null,{"v":0,"d":"0.00"},""]
[{"$nulls":6},{"$f":"IF(H1738<>\"\",VLOOKUP(H1738,Codes!C$1:D$475,2,FALSE),\"\")","v":""},{"$nulls":3},{"$f":"IF(J1738>0,VLOOKUP(J1738,' code comptes '!$A$1:$C$148,3),\"\")","v":""},null,{"v":0,"d":"0.00"},""]
[{"$nulls":6},{"$f":"IF(H1739<>\"\",VLOOKUP(H1739,Codes!C$1:D$475,2,FALSE),\"\")","v":""},{"$nulls":3},{"$f":"IF(J1739>0,VLOOKUP(J1739,' code comptes '!$A$1:$C$148,3),\"\")","v":""},null,{"v":0,"d":"0.00"},""]
[{"$nulls":6},{"$f":"IF(H1740<>\"\",VLOOKUP(H1740,Codes!C$1:D$475,2,FALSE),\"\")","v":""},{"$nulls":3},{"$f":"IF(J1740>0,VLOOKUP(J1740,' code comptes '!$A$1:$C$148,3),\"\")","v":""},null,{"v":0,"d":"0.00"},""]
[{"$nulls":6},{"$f":"IF(H1741<>\"\",VLOOKUP(H1741,Codes!C$1:D$475,2,FALSE),\"\")","v":""},{"$nulls":3},{"$f":"IF(J1741>0,VLOOKUP(J1741,' code comptes '!$A$1:$C$148,3),\"\")","v":""},null,{"v":0,"d":"0.00"},""]
[{"$nulls":6},{"$f":"IF(H1742<>\"\",VLOOKUP(H1742,Codes!C$1:D$475,2,FALSE),\"\")","v":""}]
[{"$nulls":6},{"$f":"IF(H1743<>\"\",VLOOKUP(H1743,Codes!C$1:D$475,2,FALSE),\"\")","v":""}]
[{"$nulls":6},{"$f":"IF(H1744<>\"\",VLOOKUP(H1744,Codes!C$1:D$475,2,FALSE),\"\")","v":""}]
[{"$nulls":6},{"$f":"IF(H1745<>\"\",VLOOKUP(H1745,Codes!C$1:D$475,2,FALSE),\"\")","v":""}]
[{"$nulls":6},{"$f":"IF(H1746<>\"\",VLOOKUP(H1746,Codes!C$1:D$475,2,FALSE),\"\")","v":""}]
[{"$nulls":6},{"$f":"IF(H1747<>\"\",VLOOKUP(H1747,Codes!C$1:D$475,2,FALSE),\"\")","v":""}]
[{"$nulls":6},{"$f":"IF(H1748<>\"\",VLOOKUP(H1748,Codes!C$1:D$475,2,FALSE),\"\")","v":""}]
[{"$nulls":6},{"$f":"IF(H1749<>\"\",VLOOKUP(H1749,Codes!C$1:D$475,2,FALSE),\"\")","v":""}]
[{"$nulls":6},{"$f":"IF(H1750<>\"\",VLOOKUP(H1750,Codes!C$1:D$475,2,FALSE),\"\")","v":""}]
[{"$nulls":6},{"$f":"IF(H1751<>\"\",VLOOKUP(H1751,Codes!C$1:D$475,2,FALSE),\"\")","v":""}]
[{"$nulls":6},{"$f":"IF(H1752<>\"\",VLOOKUP(H1752,Codes!C$1:D$475,2,FALSE),\"\")","v":""}]
[{"$nulls":6},{"$f":"IF(H1753<>\"\",VLOOKUP(H1753,Codes!C$1:D$475,2,FALSE),\"\")","v":""}]
[{"$nulls":6},{"$f":"IF(H1754<>\"\",VLOOKUP(H1754,Codes!C$1:D$475,2,FALSE),\"\")","v":""}]
[{"$nulls":6},{"$f":"IF(H1755<>\"\",VLOOKUP(H1755,Codes!C$1:D$475,2,FALSE),\"\")","v":""}]
[{"$nulls":6},{"$f":"IF(H1756<>\"\",VLOOKUP(H1756,Codes!C$1:D$475,2,FALSE),\"\")","v":""}]
[{"$nulls":6},{"$f":"IF(H1757<>\"\",VLOOKUP(H1757,Codes!C$1:D$475,2,FALSE),\"\")","v":""}]
[{"$nulls":6},{"$f":"IF(H1758<>\"\",VLOOKUP(H1758,Codes!C$1:D$475,2,FALSE),\"\")","v":""}]
[{"$nulls":6},{"$f":"IF(H1759<>\"\",VLOOKUP(H1759,Codes!C$1:D$475,2,FALSE),\"\")","v":""}]
[{"$nulls":6},{"$f":"IF(H1760<>\"\",VLOOKUP(H1760,Codes!C$1:D$475,2,FALSE),\"\")","v":""}]
[{"$nulls":6},{"$f":"IF(H1761<>\"\",VLOOKUP(H1761,Codes!C$1:D$475,2,FALSE),\"\")","v":""}]
[{"$nulls":6},{"$f":"IF(H1762<>\"\",VLOOKUP(H1762,Codes!C$1:D$475,2,FALSE),\"\")","v":""}]
[{"$nulls":6},{"$f":"IF(H1763<>\"\",VLOOKUP(H1763,Codes!C$1:D$475,2,FALSE),\"\")","v":""}]
[{"$nulls":6},{"$f":"IF(H1764<>\"\",VLOOKUP(H1764,Codes!C$1:D$475,2,FALSE),\"\")","v":""}]
[{"$nulls":6},{"$f":"IF(H1765<>\"\",VLOOKUP(H1765,Codes!C$1:D$475,2,FALSE),\"\")","v":""}]
[{"$nulls":6},{"$f":"IF(H1766<>\"\",VLOOKUP(H1766,Codes!C$1:D$475,2,FALSE),\"\")","v":""}]
[{"$nulls":6},{"$f":"IF(H1767<>\"\",VLOOKUP(H1767,Codes!C$1:D$475,2,FALSE),\"\")","v":""}]
[{"$nulls":6},{"$f":"IF(H1768<>\"\",VLOOKUP(H1768,Codes!C$1:D$475,2,FALSE),\"\")","v":""}]
[{"$nulls":6},{"$f":"IF(H1769<>\"\",VLOOKUP(H1769,Codes!C$1:D$475,2,FALSE),\"\")","v":""}]
[{"$nulls":6},{"$f":"IF(H1770<>\"\",VLOOKUP(H1770,Codes!C$1:D$475,2,FALSE),\"\")","v":""}]
[{"$nulls":6},{"$f":"IF(H1771<>\"\",VLOOKUP(H1771,Codes!C$1:D$475,2,FALSE),\"\")","v":""}]
[{"$nulls":6},{"$f":"IF(H1772<>\"\",VLOOKUP(H1772,Codes!C$1:D$475,2,FALSE),\"\")","v":""}]
[{"$nulls":6},{"$f":"IF(H1773<>\"\",VLOOKUP(H1773,Codes!C$1:D$475,2,FALSE),\"\")","v":""}]
[{"$nulls":6},{"$f":"IF(H1774<>\"\",VLOOKUP(H1774,Codes!C$1:D$475,2,FALSE),\"\")","v":""}]
[{"$nulls":6},{"$f":"IF(H1775<>\"\",VLOOKUP(H1775,Codes!C$1:D$475,2,FALSE),\"\")","v":""}]
[{"$nulls":6},{"$f":"IF(H1776<>\"\",VLOOKUP(H1776,Codes!C$1:D$475,2,FALSE),\"\")","v":""}]
[{"$nulls":6},{"$f":"IF(H1777<>\"\",VLOOKUP(H1777,Codes!C$1:D$475,2,FALSE),\"\")","v":""}]
[{"$nulls":6},{"$f":"IF(H1778<>\"\",VLOOKUP(H1778,Codes!C$1:D$475,2,FALSE),\"\")","v":""}]
[{"$nulls":6},{"$f":"IF(H1779<>\"\",VLOOKUP(H1779,Codes!C$1:D$475,2,FALSE),\"\")","v":""}]
[{"$nulls":6},{"$f":"IF(H1780<>\"\",VLOOKUP(H1780,Codes!C$1:D$475,2,FALSE),\"\")","v":""}]
[{"$nulls":6},{"$f":"IF(H1781<>\"\",VLOOKUP(H1781,Codes!C$1:D$475,2,FALSE),\"\")","v":""}]
[{"$nulls":6},{"$f":"IF(H1782<>\"\",VLOOKUP(H1782,Codes!C$1:D$475,2,FALSE),\"\")","v":""}]
[{"$nulls":6},{"$f":"IF(H1783<>\"\",VLOOKUP(H1783,Codes!C$1:D$475,2,FALSE),\"\")","v":""}]
[{"$nulls":6},{"$f":"IF(H1784<>\"\",VLOOKUP(H1784,Codes!C$1:D$475,2,FALSE),\"\")","v":""}]
[{"$nulls":6},{"$f":"IF(H1785<>\"\",VLOOKUP(H1785,Codes!C$1:D$475,2,FALSE),\"\")","v":""}]
[{"$nulls":6},{"$f":"IF(H1786<>\"\",VLOOKUP(H1786,Codes!C$1:D$475,2,FALSE),\"\")","v":""}]
[{"$nulls":6},{"$f":"IF(H1787<>\"\",VLOOKUP(H1787,Codes!C$1:D$475,2,FALSE),\"\")","v":""}]
[{"$nulls":6},{"$f":"IF(H1788<>\"\",VLOOKUP(H1788,Codes!C$1:D$475,2,FALSE),\"\")","v":""}]
[{"$nulls":6},{"$f":"IF(H1789<>\"\",VLOOKUP(H1789,Codes!C$1:D$475,2,FALSE),\"\")","v":""}]
[{"$nulls":6},{"$f":"IF(H1790<>\"\",VLOOKUP(H1790,Codes!C$1:D$475,2,FALSE),\"\")","v":""}]
[{"$nulls":6},{"$f":"IF(H1791<>\"\",VLOOKUP(H1791,Codes!C$1:D$475,2,FALSE),\"\")","v":""}]
[{"$nulls":6},{"$f":"IF(H1792<>\"\",VLOOKUP(H1792,Codes!C$1:D$475,2,FALSE),\"\")","v":""}]
[{"$nulls":6},{"$f":"IF(H1793<>\"\",VLOOKUP(H1793,Codes!C$1:D$475,2,FALSE),\"\")","v":""}]
[{"$nulls":6},{"$f":"IF(H1794<>\"\",VLOOKUP(H1794,Codes!C$1:D$475,2,FALSE),\"\")","v":""}]
[{"$nulls":6},{"$f":"IF(H1795<>\"\",VLOOKUP(H1795,Codes!C$1:D$475,2,FALSE),\"\")","v":""}]
[{"$nulls":6},{"$f":"IF(H1796<>\"\",VLOOKUP(H1796,Codes!C$1:D$475,2,FALSE),\"\")","v":""}]
[{"$nulls":6},{"$f":"IF(H1797<>\"\",VLOOKUP(H1797,Codes!C$1:D$475,2,FALSE),\"\")","v":""}]
[{"$nulls":6},{"$f":"IF(H1798<>\"\",VLOOKUP(H1798,Codes!C$1:D$475,2,FALSE),\"\")","v":""}]
[{"$nulls":6},{"$f":"IF(H1799<>\"\",VLOOKUP(H1799,Codes!C$1:D$475,2,FALSE),\"\")","v":""}]
[{"$nulls":6},{"$f":"IF(H1800<>\"\",VLOOKUP(H1800,Codes!C$1:D$475,2,FALSE),\"\")","v":""}]
[{"$nulls":6},{"$f":"IF(H1801<>\"\",VLOOKUP(H1801,Codes!C$1:D$475,2,FALSE),\"\")","v":""}]
[{"$nulls":6},{"$f":"IF(H1802<>\"\",VLOOKUP(H1802,Codes!C$1:D$475,2,FALSE),\"\")","v":""}]
[{"$nulls":6},{"$f":"IF(H1803<>\"\",VLOOKUP(H1803,Codes!C$1:D$475,2,FALSE),\"\")","v":""}]
[{"$nulls":6},{"$f":"IF(H1804<>\"\",VLOOKUP(H1804,Codes!C$1:D$475,2,FALSE),\"\")","v":""}]
[{"$nulls":6},{"$f":"IF(H1805<>\"\",VLOOKUP(H1805,Codes!C$1:D$475,2,FALSE),\"\")","v":""}]
[{"$nulls":6},{"$f":"IF(H1806<>\"\",VLOOKUP(H1806,Codes!C$1:D$475,2,FALSE),\"\")","v":""}]
[{"$nulls":6},{"$f":"IF(H1807<>\"\",VLOOKUP(H1807,Codes!C$1:D$475,2,FALSE),\"\")","v":""}]
[{"$nulls":6},{"$f":"IF(H1808<>\"\",VLOOKUP(H1808,Codes!C$1:D$475,2,FALSE),\"\")","v":""}]
[{"$nulls":6},{"$f":"IF(H1809<>\"\",VLOOKUP(H1809,Codes!C$1:D$475,2,FALSE),\"\")","v":""}]
[{"$nulls":6},{"$f":"IF(H1810<>\"\",VLOOKUP(H1810,Codes!C$1:D$475,2,FALSE),\"\")","v":""}]
[{"$nulls":6},{"$f":"IF(H1811<>\"\",VLOOKUP(H1811,Codes!C$1:D$475,2,FALSE),\"\")","v":""}]
[{"$nulls":6},{"$f":"IF(H1812<>\"\",VLOOKUP(H1812,Codes!C$1:D$475,2,FALSE),\"\")","v":""}]
[{"$nulls":6},{"$f":"IF(H1813<>\"\",VLOOKUP(H1813,Codes!C$1:D$475,2,FALSE),\"\")","v":""}]
[{"$nulls":6},{"$f":"IF(H1814<>\"\",VLOOKUP(H1814,Codes!C$1:D$475,2,FALSE),\"\")","v":""}]
[{"$nulls":6},{"$f":"IF(H1815<>\"\",VLOOKUP(H1815,Codes!C$1:D$475,2,FALSE),\"\")","v":""}]
[{"$nulls":6},{"$f":"IF(H1816<>\"\",VLOOKUP(H1816,Codes!C$1:D$475,2,FALSE),\"\")","v":""}]
[{"$nulls":6},{"$f":"IF(H1817<>\"\",VLOOKUP(H1817,Codes!C$1:D$475,2,FALSE),\"\")","v":""}]
[{"$nulls":6},{"$f":"IF(H1818<>\"\",VLOOKUP(H1818,Codes!C$1:D$475,2,FALSE),\"\")","v":""}]
[{"$nulls":6},{"$f":"IF(H1819<>\"\",VLOOKUP(H1819,Codes!C$1:D$475,2,FALSE),\"\")","v":""}]
[{"$nulls":6},{"$f":"IF(H1820<>\"\",VLOOKUP(H1820,Codes!C$1:D$475,2,FALSE),\"\")","v":""}]
[{"$nulls":6},{"$f":"IF(H1821<>\"\",VLOOKUP(H1821,Codes!C$1:D$475,2,FALSE),\"\")","v":""}]
[{"$nulls":6},{"$f":"IF(H1822<>\"\",VLOOKUP(H1822,Codes!C$1:D$475,2,FALSE),\"\")","v":""}]
[{"$nulls":6},{"$f":"IF(H1823<>\"\",VLOOKUP(H1823,Codes!C$1:D$475,2,FALSE),\"\")","v":""}]
[{"$nulls":6},{"$f":"IF(H1824<>\"\",VLOOKUP(H1824,Codes!C$1:D$475,2,FALSE),\"\")","v":""}]
[{"$nulls":6},{"$f":"IF(H1825<>\"\",VLOOKUP(H1825,Codes!C$1:D$475,2,FALSE),\"\")","v":""}]
[{"$nulls":6},{"$f":"IF(H1826<>\"\",VLOOKUP(H1826,Codes!C$1:D$475,2,FALSE),\"\")","v":""}]
[{"$nulls":6},{"$f":"IF(H1827<>\"\",VLOOKUP(H1827,Codes!C$1:D$475,2,FALSE),\"\")","v":""}]
[{"$nulls":6},{"$f":"IF(H1828<>\"\",VLOOKUP(H1828,Codes!C$1:D$475,2,FALSE),\"\")","v":""}]
[{"$nulls":6},{"$f":"IF(H1829<>\"\",VLOOKUP(H1829,Codes!C$1:D$475,2,FALSE),\"\")","v":""}]
[{"$nulls":6},{"$f":"IF(H1830<>\"\",VLOOKUP(H1830,Codes!C$1:D$475,2,FALSE),\"\")","v":""}]
[{"$nulls":6},{"$f":"IF(H1831<>\"\",VLOOKUP(H1831,Codes!C$1:D$475,2,FALSE),\"\")","v":""}]
[{"$nulls":6},{"$f":"IF(H1832<>\"\",VLOOKUP(H1832,Codes!C$1:D$475,2,FALSE),\"\")","v":""}]
[{"$nulls":6},{"$f":"IF(H1833<>\"\",VLOOKUP(H1833,Codes!C$1:D$475,2,FALSE),\"\")","v":""}]
[{"$nulls":6},{"$f":"IF(H1834<>\"\",VLOOKUP(H1834,Codes!C$1:D$475,2,FALSE),\"\")","v":""}]
[{"$nulls":6},{"$f":"IF(H1835<>\"\",VLOOKUP(H1835,Codes!C$1:D$475,2,FALSE),\"\")","v":""}]
[{"$nulls":6},{"$f":"IF(H1836<>\"\",VLOOKUP(H1836,Codes!C$1:D$475,2,FALSE),\"\")","v":""}]
[{"$nulls":6},{"$f":"IF(H1837<>\"\",VLOOKUP(H1837,Codes!C$1:D$475,2,FALSE),\"\")","v":""}]
[{"$nulls":6},{"$f":"IF(H1838<>\"\",VLOOKUP(H1838,Codes!C$1:D$475,2,FALSE),\"\")","v":""}]
[{"$nulls":6},{"$f":"IF(H1839<>\"\",VLOOKUP(H1839,Codes!C$1:D$475,2,FALSE),\"\")","v":""}]
[{"$nulls":6},{"$f":"IF(H1840<>\"\",VLOOKUP(H1840,Codes!C$1:D$475,2,FALSE),\"\")","v":""}]
[{"$nulls":6},{"$f":"IF(H1841<>\"\",VLOOKUP(H1841,Codes!C$1:D$475,2,FALSE),\"\")","v":""}]
[{"$nulls":6},{"$f":"IF(H1842<>\"\",VLOOKUP(H1842,Codes!C$1:D$475,2,FALSE),\"\")","v":""}]
[{"$nulls":6},{"$f":"IF(H1843<>\"\",VLOOKUP(H1843,Codes!C$1:D$475,2,FALSE),\"\")","v":""}]
[{"$nulls":6},{"$f":"IF(H1844<>\"\",VLOOKUP(H1844,Codes!C$1:D$475,2,FALSE),\"\")","v":""}]
[{"$nulls":6},{"$f":"IF(H1845<>\"\",VLOOKUP(H1845,Codes!C$1:D$475,2,FALSE),\"\")","v":""}]
[{"$nulls":6},{"$f":"IF(H1846<>\"\",VLOOKUP(H1846,Codes!C$1:D$475,2,FALSE),\"\")","v":""}]
[{"$nulls":6},{"$f":"IF(H1847<>\"\",VLOOKUP(H1847,Codes!C$1:D$475,2,FALSE),\"\")","v":""}]
[{"$nulls":6},{"$f":"IF(H1848<>\"\",VLOOKUP(H1848,Codes!C$1:D$475,2,FALSE),\"\")","v":""},{"$nulls":3},{"$f":"IF(J1848>0,VLOOKUP(J1848,' code comptes '!$A$1:$C$148,3),\"\")","v":""},null,{"$f":"D1741","v":{"v":0,"d":"0.00"}},{"$f":"+CONCATENATE(G1741,H1741)","v":""}]
[{"$nulls":6},{"$f":"IF(H1849<>\"\",VLOOKUP(H1849,Codes!C$1:D$475,2,FALSE),\"\")","v":""},{"$nulls":3},{"$f":"IF(J1849>0,VLOOKUP(J1849,' code comptes '!$A$1:$C$148,3),\"\")","v":""},null,{"$f":"D1848","v":{"v":0,"d":"0.00"}},{"$f":"+CONCATENATE(G1848,H1848)","v":""}]
[{"$nulls":6},{"$f":"IF(H1850<>\"\",VLOOKUP(H1850,Codes!C$1:D$475,2,FALSE),\"\")","v":""},{"$nulls":3},{"$f":"IF(J1850>0,VLOOKUP(J1850,' code comptes '!$A$1:$C$148,3),\"\")","v":""},null,{"v":0,"d":"0.00"},""]
[{"$nulls":6},{"$f":"IF(H1851<>\"\",VLOOKUP(H1851,Codes!C$1:D$475,2,FALSE),\"\")","v":""},{"$nulls":3},{"$f":"IF(J1851>0,VLOOKUP(J1851,' code comptes '!$A$1:$C$148,3),\"\")","v":""},null,{"v":0,"d":"0.00"},""]
[{"$nulls":6},{"$f":"IF(H1852<>\"\",VLOOKUP(H1852,Codes!C$1:D$475,2,FALSE),\"\")","v":""},{"$nulls":3},{"$f":"IF(J1852>0,VLOOKUP(J1852,' code comptes '!$A$1:$C$148,3),\"\")","v":""},null,{"v":0,"d":"0.00"},""]
[{"$nulls":6},{"$f":"IF(H1853<>\"\",VLOOKUP(H1853,Codes!C$1:D$475,2,FALSE),\"\")","v":""},{"$nulls":3},{"$f":"IF(J1853>0,VLOOKUP(J1853,' code comptes '!$A$1:$C$148,3),\"\")","v":""},null,{"v":0,"d":"0.00"},""]
[{"$nulls":6},{"$f":"IF(H1854<>\"\",VLOOKUP(H1854,Codes!C$1:D$475,2,FALSE),\"\")","v":""},{"$nulls":3},{"$f":"IF(J1854>0,VLOOKUP(J1854,' code comptes '!$A$1:$C$148,3),\"\")","v":""},null,{"v":0,"d":"0.00"},""]
[{"$nulls":6},{"$f":"IF(H1855<>\"\",VLOOKUP(H1855,Codes!C$1:D$475,2,FALSE),\"\")","v":""},{"$nulls":3},{"$f":"IF(J1855>0,VLOOKUP(J1855,' code comptes '!$A$1:$C$148,3),\"\")","v":""},null,{"v":0,"d":"0.00"},""]
[{"$nulls":6},{"$f":"IF(H1856<>\"\",VLOOKUP(H1856,Codes!C$1:D$475,2,FALSE),\"\")","v":""},{"$nulls":3},{"$f":"IF(J1856>0,VLOOKUP(J1856,' code comptes '!$A$1:$C$148,3),\"\")","v":""},null,{"v":0,"d":"0.00"},""]
[{"$nulls":6},{"$f":"IF(H1857<>\"\",VLOOKUP(H1857,Codes!C$1:D$475,2,FALSE),\"\")","v":""},{"$nulls":3},{"$f":"IF(J1857>0,VLOOKUP(J1857,' code comptes '!$A$1:$C$148,3),\"\")","v":""},null,{"v":0,"d":"0.00"},""]
[{"$nulls":6},{"$f":"IF(H1858<>\"\",VLOOKUP(H1858,Codes!C$1:D$475,2,FALSE),\"\")","v":""},{"$nulls":3},{"$f":"IF(J1858>0,VLOOKUP(J1858,' code comptes '!$A$1:$C$148,3),\"\")","v":""},null,{"v":0,"d":"0.00"},""]
[{"$nulls":6},{"$f":"IF(H1859<>\"\",VLOOKUP(H1859,Codes!C$1:D$475,2,FALSE),\"\")","v":""},{"$nulls":3},{"$f":"IF(J1859>0,VLOOKUP(J1859,' code comptes '!$A$1:$C$148,3),\"\")","v":""},null,{"v":0,"d":"0.00"},""]
[{"$nulls":6},{"$f":"IF(H1860<>\"\",VLOOKUP(H1860,Codes!C$1:D$475,2,FALSE),\"\")","v":""},{"$nulls":3},{"$f":"IF(J1860>0,VLOOKUP(J1860,' code comptes '!$A$1:$C$148,3),\"\")","v":""},null,{"v":0,"d":"0.00"},""]
[{"$nulls":6},{"$f":"IF(H1861<>\"\",VLOOKUP(H1861,Codes!C$1:D$475,2,FALSE),\"\")","v":""},{"$nulls":3},{"$f":"IF(J1861>0,VLOOKUP(J1861,' code comptes '!$A$1:$C$148,3),\"\")","v":""},null,{"v":0,"d":"0.00"},""]
[{"$nulls":6},{"$f":"IF(H1862<>\"\",VLOOKUP(H1862,Codes!C$1:D$475,2,FALSE),\"\")","v":""},{"$nulls":3},{"$f":"IF(J1862>0,VLOOKUP(J1862,' code comptes '!$A$1:$C$148,3),\"\")","v":""},null,{"v":0,"d":"0.00"},""]
[{"$nulls":6},{"$f":"IF(H1863<>\"\",VLOOKUP(H1863,Codes!C$1:D$475,2,FALSE),\"\")","v":""},{"$nulls":3},{"$f":"IF(J1863>0,VLOOKUP(J1863,' code comptes '!$A$1:$C$148,3),\"\")","v":""},null,{"v":0,"d":"0.00"},""]
[{"$nulls":6},{"$f":"IF(H1864<>\"\",VLOOKUP(H1864,Codes!C$1:D$475,2,FALSE),\"\")","v":""},{"$nulls":3},{"$f":"IF(J1864>0,VLOOKUP(J1864,' code comptes '!$A$1:$C$148,3),\"\")","v":""},null,{"v":0,"d":"0.00"},""]
[{"$nulls":6},{"$f":"IF(H1865<>\"\",VLOOKUP(H1865,Codes!C$1:D$475,2,FALSE),\"\")","v":""},{"$nulls":3},{"$f":"IF(J1865>0,VLOOKUP(J1865,' code comptes '!$A$1:$C$148,3),\"\")","v":""},null,{"v":0,"d":"0.00"},""]
[{"$nulls":6},{"$f":"IF(H1866<>\"\",VLOOKUP(H1866,Codes!C$1:D$475,2,FALSE),\"\")","v":""},{"$nulls":3},{"$f":"IF(J1866>0,VLOOKUP(J1866,' code comptes '!$A$1:$C$148,3),\"\")","v":""},null,{"v":0,"d":"0.00"},""]
[{"$nulls":6},{"$f":"IF(H1867<>\"\",VLOOKUP(H1867,Codes!C$1:D$475,2,FALSE),\"\")","v":""},{"$nulls":3},{"$f":"IF(J1867>0,VLOOKUP(J1867,' code comptes '!$A$1:$C$148,3),\"\")","v":""},null,{"v":0,"d":"0.00"},""]
[{"$nulls":6},{"$f":"IF(H1868<>\"\",VLOOKUP(H1868,Codes!C$1:D$475,2,FALSE),\"\")","v":""},{"$nulls":3},{"$f":"IF(J1868>0,VLOOKUP(J1868,' code comptes '!$A$1:$C$148,3),\"\")","v":""},null,{"v":0,"d":"0.00"},""]
[{"$nulls":6},{"$f":"IF(H1869<>\"\",VLOOKUP(H1869,Codes!C$1:D$475,2,FALSE),\"\")","v":""},{"$nulls":3},{"$f":"IF(J1869>0,VLOOKUP(J1869,' code comptes '!$A$1:$C$148,3),\"\")","v":""},null,{"v":0,"d":"0.00"},""]
[{"$nulls":6},{"$f":"IF(H1870<>\"\",VLOOKUP(H1870,Codes!C$1:D$475,2,FALSE),\"\")","v":""},{"$nulls":3},{"$f":"IF(J1870>0,VLOOKUP(J1870,' code comptes '!$A$1:$C$148,3),\"\")","v":""},null,{"v":0,"d":"0.00"},""]
[{"$nulls":6},{"$f":"IF(H1871<>\"\",VLOOKUP(H1871,Codes!C$1:D$475,2,FALSE),\"\")","v":""},{"$nulls":3},{"$f":"IF(J1871>0,VLOOKUP(J1871,' code comptes '!$A$1:$C$148,3),\"\")","v":""},null,{"v":0,"d":"0.00"},""]
[{"$nulls":6},{"$f":"IF(H1872<>\"\",VLOOKUP(H1872,Codes!C$1:D$475,2,FALSE),\"\")","v":""},{"$nulls":3},{"$f":"IF(J1872>0,VLOOKUP(J1872,' code comptes '!$A$1:$C$148,3),\"\")","v":""},null,{"v":0,"d":"0.00"},""]
[{"$nulls":6},{"$f":"IF(H1873<>\"\",VLOOKUP(H1873,Codes!C$1:D$475,2,FALSE),\"\")","v":""},{"$nulls":3},{"$f":"IF(J1873>0,VLOOKUP(J1873,' code comptes '!$A$1:$C$148,3),\"\")","v":""},null,{"v":0,"d":"0.00"},""]
[{"$nulls":6},{"$f":"IF(H1874<>\"\",VLOOKUP(H1874,Codes!C$1:D$475,2,FALSE),\"\")","v":""},{"$nulls":3},{"$f":"IF(J1874>0,VLOOKUP(J1874,' code comptes '!$A$1:$C$148,3),\"\")","v":""},null,{"v":0,"d":"0.00"},""]
[{"$nulls":6},{"$f":"IF(H1875<>\"\",VLOOKUP(H1875,Codes!C$1:D$475,2,FALSE),\"\")","v":""},{"$nulls":3},{"$f":"IF(J1875>0,VLOOKUP(J1875,' code comptes '!$A$1:$C$148,3),\"\")","v":""},null,{"v":0,"d":"0.00"},""]
[{"$nulls":6},{"$f":"IF(H1876<>\"\",VLOOKUP(H1876,Codes!C$1:D$475,2,FALSE),\"\")","v":""},{"$nulls":3},{"$f":"IF(J1876>0,VLOOKUP(J1876,' code comptes '!$A$1:$C$148,3),\"\")","v":""},null,{"v":0,"d":"0.00"},""]
[{"$nulls":6},{"$f":"IF(H1877<>\"\",VLOOKUP(H1877,Codes!C$1:D$475,2,FALSE),\"\")","v":""},{"$nulls":3},{"$f":"IF(J1877>0,VLOOKUP(J1877,' code comptes '!$A$1:$C$148,3),\"\")","v":""},null,{"v":0,"d":"0.00"},""]
[{"$nulls":6},{"$f":"IF(H1878<>\"\",VLOOKUP(H1878,Codes!C$1:D$475,2,FALSE),\"\")","v":""},{"$nulls":3},{"$f":"IF(J1878>0,VLOOKUP(J1878,' code comptes '!$A$1:$C$148,3),\"\")","v":""},null,{"v":0,"d":"0.00"},""]
[{"$nulls":6},{"$f":"IF(H1879<>\"\",VLOOKUP(H1879,Codes!C$1:D$475,2,FALSE),\"\")","v":""},{"$nulls":3},{"$f":"IF(J1879>0,VLOOKUP(J1879,' code comptes '!$A$1:$C$148,3),\"\")","v":""},null,{"v":0,"d":"0.00"},""]
[{"$nulls":6},{"$f":"IF(H1880<>\"\",VLOOKUP(H1880,Codes!C$1:D$475,2,FALSE),\"\")","v":""},{"$nulls":3},{"$f":"IF(J1880>0,VLOOKUP(J1880,' code comptes '!$A$1:$C$148,3),\"\")","v":""},null,{"v":0,"d":"0.00"},""]
[{"$nulls":6},{"$f":"IF(H1881<>\"\",VLOOKUP(H1881,Codes!C$1:D$475,2,FALSE),\"\")","v":""},{"$nulls":3},{"$f":"IF(J1881>0,VLOOKUP(J1881,' code comptes '!$A$1:$C$148,3),\"\")","v":""},null,{"v":0,"d":"0.00"},""]
[{"$nulls":6},{"$f":"IF(H1882<>\"\",VLOOKUP(H1882,Codes!C$1:D$475,2,FALSE),\"\")","v":""},{"$nulls":3},{"$f":"IF(J1882>0,VLOOKUP(J1882,' code comptes '!$A$1:$C$148,3),\"\")","v":""},null,{"v":0,"d":"0.00"},""]
[{"$nulls":6},{"$f":"IF(H1883<>\"\",VLOOKUP(H1883,Codes!C$1:D$475,2,FALSE),\"\")","v":""},{"$nulls":3},{"$f":"IF(J1883>0,VLOOKUP(J1883,' code comptes '!$A$1:$C$148,3),\"\")","v":""},null,{"v":0,"d":"0.00"},""]
[{"$nulls":6},{"$f":"IF(H1884<>\"\",VLOOKUP(H1884,Codes!C$1:D$475,2,FALSE),\"\")","v":""},{"$nulls":3},{"$f":"IF(J1884>0,VLOOKUP(J1884,' code comptes '!$A$1:$C$148,3),\"\")","v":""},null,{"v":0,"d":"0.00"},""]
[{"$nulls":6},{"$f":"IF(H1885<>\"\",VLOOKUP(H1885,Codes!C$1:D$475,2,FALSE),\"\")","v":""},{"$nulls":3},{"$f":"IF(J1885>0,VLOOKUP(J1885,' code comptes '!$A$1:$C$148,3),\"\")","v":""},null,{"v":0,"d":"0.00"},""]
[{"$nulls":6},{"$f":"IF(H1886<>\"\",VLOOKUP(H1886,Codes!C$1:D$475,2,FALSE),\"\")","v":""},{"$nulls":3},{"$f":"IF(J1886>0,VLOOKUP(J1886,' code comptes '!$A$1:$C$148,3),\"\")","v":""},null,{"v":0,"d":"0.00"},""]
[{"$nulls":6},{"$f":"IF(H1887<>\"\",VLOOKUP(H1887,Codes!C$1:D$475,2,FALSE),\"\")","v":""},{"$nulls":3},{"$f":"IF(J1887>0,VLOOKUP(J1887,' code comptes '!$A$1:$C$148,3),\"\")","v":""},null,{"v":0,"d":"0.00"},""]
[{"$nulls":6},{"$f":"IF(H1888<>\"\",VLOOKUP(H1888,Codes!C$1:D$475,2,FALSE),\"\")","v":""},{"$nulls":3},{"$f":"IF(J1888>0,VLOOKUP(J1888,' code comptes '!$A$1:$C$148,3),\"\")","v":""},null,{"v":0,"d":"0.00"},""]
[{"$nulls":6},{"$f":"IF(H1889<>\"\",VLOOKUP(H1889,Codes!C$1:D$475,2,FALSE),\"\")","v":""},{"$nulls":3},{"$f":"IF(J1889>0,VLOOKUP(J1889,' code comptes '!$A$1:$C$148,3),\"\")","v":""},null,{"v":0,"d":"0.00"},""]
[{"$nulls":6},{"$f":"IF(H1890<>\"\",VLOOKUP(H1890,Codes!C$1:D$475,2,FALSE),\"\")","v":""},{"$nulls":3},{"$f":"IF(J1890>0,VLOOKUP(J1890,' code comptes '!$A$1:$C$148,3),\"\")","v":""},null,{"v":0,"d":"0.00"},""]
[{"$nulls":6},{"$f":"IF(H1891<>\"\",VLOOKUP(H1891,Codes!C$1:D$475,2,FALSE),\"\")","v":""},{"$nulls":3},{"$f":"IF(J1891>0,VLOOKUP(J1891,' code comptes '!$A$1:$C$148,3),\"\")","v":""},null,{"v":0,"d":"0.00"},""]
[{"$nulls":6},{"$f":"IF(H1892<>\"\",VLOOKUP(H1892,Codes!C$1:D$475,2,FALSE),\"\")","v":""},{"$nulls":3},{"$f":"IF(J1892>0,VLOOKUP(J1892,' code comptes '!$A$1:$C$148,3),\"\")","v":""},null,{"v":0,"d":"0.00"},""]
[{"$nulls":6},{"$f":"IF(H1893<>\"\",VLOOKUP(H1893,Codes!C$1:D$475,2,FALSE),\"\")","v":""},{"$nulls":3},{"$f":"IF(J1893>0,VLOOKUP(J1893,' code comptes '!$A$1:$C$148,3),\"\")","v":""},null,{"v":0,"d":"0.00"},""]
[{"$nulls":6},{"$f":"IF(H1894<>\"\",VLOOKUP(H1894,Codes!C$1:D$475,2,FALSE),\"\")","v":""},{"$nulls":3},{"$f":"IF(J1894>0,VLOOKUP(J1894,' code comptes '!$A$1:$C$148,3),\"\")","v":""},null,{"v":0,"d":"0.00"},""]
[{"$nulls":6},{"$f":"IF(H1895<>\"\",VLOOKUP(H1895,Codes!C$1:D$475,2,FALSE),\"\")","v":""},{"$nulls":3},{"$f":"IF(J1895>0,VLOOKUP(J1895,' code comptes '!$A$1:$C$148,3),\"\")","v":""},null,{"v":0,"d":"0.00"},""]
[{"$nulls":6},{"$f":"IF(H1896<>\"\",VLOOKUP(H1896,Codes!C$1:D$475,2,FALSE),\"\")","v":""},{"$nulls":3},{"$f":"IF(J1896>0,VLOOKUP(J1896,' code comptes '!$A$1:$C$148,3),\"\")","v":""},null,{"v":0,"d":"0.00"},""]
[{"$nulls":6},{"$f":"IF(H1897<>\"\",VLOOKUP(H1897,Codes!C$1:D$475,2,FALSE),\"\")","v":""},{"$nulls":3},{"$f":"IF(J1897>0,VLOOKUP(J1897,' code comptes '!$A$1:$C$148,3),\"\")","v":""},null,{"v":0,"d":"0.00"},""]
[{"$nulls":6},{"$f":"IF(H1898<>\"\",VLOOKUP(H1898,Codes!C$1:D$475,2,FALSE),\"\")","v":""},{"$nulls":3},{"$f":"IF(J1898>0,VLOOKUP(J1898,' code comptes '!$A$1:$C$148,3),\"\")","v":""},null,{"v":0,"d":"0.00"},""]
[{"$nulls":6},{"$f":"IF(H1899<>\"\",VLOOKUP(H1899,Codes!C$1:D$475,2,FALSE),\"\")","v":""},{"$nulls":3},{"$f":"IF(J1899>0,VLOOKUP(J1899,' code comptes '!$A$1:$C$148,3),\"\")","v":""},null,{"v":0,"d":"0.00"},""]
[{"$nulls":6},{"$f":"IF(H1900<>\"\",VLOOKUP(H1900,Codes!C$1:D$475,2,FALSE),\"\")","v":""},{"$nulls":3},{"$f":"IF(J1900>0,VLOOKUP(J1900,' code comptes '!$A$1:$C$148,3),\"\")","v":""},null,{"v":0,"d":"0.00"},""]
[{"$nulls":6},{"$f":"IF(H1901<>\"\",VLOOKUP(H1901,Codes!C$1:D$475,2,FALSE),\"\")","v":""},{"$nulls":3},{"$f":"IF(J1901>0,VLOOKUP(J1901,' code comptes '!$A$1:$C$148,3),\"\")","v":""},null,{"v":0,"d":"0.00"},""]
[{"$nulls":6},{"$f":"IF(H1902<>\"\",VLOOKUP(H1902,Codes!C$1:D$475,2,FALSE),\"\")","v":""},{"$nulls":3},{"$f":"IF(J1902>0,VLOOKUP(J1902,' code comptes '!$A$1:$C$148,3),\"\")","v":""},null,{"v":0,"d":"0.00"},""]
[{"$nulls":6},{"$f":"IF(H1903<>\"\",VLOOKUP(H1903,Codes!C$1:D$475,2,FALSE),\"\")","v":""},{"$nulls":3},{"$f":"IF(J1903>0,VLOOKUP(J1903,' code comptes '!$A$1:$C$148,3),\"\")","v":""},null,{"v":0,"d":"0.00"},""]
[{"$nulls":6},{"$f":"IF(H1904<>\"\",VLOOKUP(H1904,Codes!C$1:D$475,2,FALSE),\"\")","v":""},{"$nulls":3},{"$f":"IF(J1904>0,VLOOKUP(J1904,' code comptes '!$A$1:$C$148,3),\"\")","v":""},null,{"v":0,"d":"0.00"},""]
[{"$nulls":6},{"$f":"IF(H1905<>\"\",VLOOKUP(H1905,Codes!C$1:D$475,2,FALSE),\"\")","v":""},{"$nulls":3},{"$f":"IF(J1905>0,VLOOKUP(J1905,' code comptes '!$A$1:$C$148,3),\"\")","v":""},null,{"v":0,"d":"0.00"},""]
[{"$nulls":6},{"$f":"IF(H1906<>\"\",VLOOKUP(H1906,Codes!C$1:D$475,2,FALSE),\"\")","v":""},{"$nulls":3},{"$f":"IF(J1906>0,VLOOKUP(J1906,' code comptes '!$A$1:$C$148,3),\"\")","v":""},null,{"v":0,"d":"0.00"},""]
[{"$nulls":6},{"$f":"IF(H1907<>\"\",VLOOKUP(H1907,Codes!C$1:D$475,2,FALSE),\"\")","v":""},{"$nulls":3},{"$f":"IF(J1907>0,VLOOKUP(J1907,' code comptes '!$A$1:$C$148,3),\"\")","v":""},null,{"v":0,"d":"0.00"},""]
[{"$nulls":6},{"$f":"IF(H1908<>\"\",VLOOKUP(H1908,Codes!C$1:D$475,2,FALSE),\"\")","v":""},{"$nulls":3},{"$f":"IF(J1908>0,VLOOKUP(J1908,' code comptes '!$A$1:$C$148,3),\"\")","v":""},null,{"v":0,"d":"0.00"},""]
[{"$nulls":6},{"$f":"IF(H1909<>\"\",VLOOKUP(H1909,Codes!C$1:D$475,2,FALSE),\"\")","v":""},{"$nulls":3},{"$f":"IF(J1909>0,VLOOKUP(J1909,' code comptes '!$A$1:$C$148,3),\"\")","v":""},null,{"v":0,"d":"0.00"},""]
[{"$nulls":6},{"$f":"IF(H1910<>\"\",VLOOKUP(H1910,Codes!C$1:D$475,2,FALSE),\"\")","v":""},{"$nulls":3},{"$f":"IF(J1910>0,VLOOKUP(J1910,' code comptes '!$A$1:$C$148,3),\"\")","v":""},null,{"v":0,"d":"0.00"},""]
[{"$nulls":6},{"$f":"IF(H1911<>\"\",VLOOKUP(H1911,Codes!C$1:D$475,2,FALSE),\"\")","v":""},{"$nulls":3},{"$f":"IF(J1911>0,VLOOKUP(J1911,' code comptes '!$A$1:$C$148,3),\"\")","v":""},null,{"v":0,"d":"0.00"},""]
[{"$nulls":6},{"$f":"IF(H1912<>\"\",VLOOKUP(H1912,Codes!C$1:D$475,2,FALSE),\"\")","v":""},{"$nulls":3},{"$f":"IF(J1912>0,VLOOKUP(J1912,' code comptes '!$A$1:$C$148,3),\"\")","v":""},null,{"v":0,"d":"0.00"},""]
[{"$nulls":6},{"$f":"IF(H1913<>\"\",VLOOKUP(H1913,Codes!C$1:D$475,2,FALSE),\"\")","v":""},{"$nulls":3},{"$f":"IF(J1913>0,VLOOKUP(J1913,' code comptes '!$A$1:$C$148,3),\"\")","v":""},null,{"v":0,"d":"0.00"},""]
[{"$nulls":6},{"$f":"IF(H1914<>\"\",VLOOKUP(H1914,Codes!C$1:D$475,2,FALSE),\"\")","v":""},{"$nulls":3},{"$f":"IF(J1914>0,VLOOKUP(J1914,' code comptes '!$A$1:$C$148,3),\"\")","v":""},null,{"v":0,"d":"0.00"},""]
[{"$nulls":6},{"$f":"IF(H1915<>\"\",VLOOKUP(H1915,Codes!C$1:D$475,2,FALSE),\"\")","v":""},{"$nulls":3},{"$f":"IF(J1915>0,VLOOKUP(J1915,' code comptes '!$A$1:$C$148,3),\"\")","v":""},null,{"v":0,"d":"0.00"},""]
[{"$nulls":6},{"$f":"IF(H1916<>\"\",VLOOKUP(H1916,Codes!C$1:D$475,2,FALSE),\"\")","v":""},{"$nulls":3},{"$f":"IF(J1916>0,VLOOKUP(J1916,' code comptes '!$A$1:$C$148,3),\"\")","v":""},null,{"v":0,"d":"0.00"},""]
[{"$nulls":6},{"$f":"IF(H1917<>\"\",VLOOKUP(H1917,Codes!C$1:D$475,2,FALSE),\"\")","v":""},{"$nulls":3},{"$f":"IF(J1917>0,VLOOKUP(J1917,' code comptes '!$A$1:$C$148,3),\"\")","v":""},null,{"v":0,"d":"0.00"},""]
[{"$nulls":6},{"$f":"IF(H1918<>\"\",VLOOKUP(H1918,Codes!C$1:D$475,2,FALSE),\"\")","v":""},{"$nulls":3},{"$f":"IF(J1918>0,VLOOKUP(J1918,' code comptes '!$A$1:$C$148,3),\"\")","v":""},null,{"v":0,"d":"0.00"},""]
[{"$nulls":6},{"$f":"IF(H1919<>\"\",VLOOKUP(H1919,Codes!C$1:D$475,2,FALSE),\"\")","v":""},{"$nulls":3},{"$f":"IF(J1919>0,VLOOKUP(J1919,' code comptes '!$A$1:$C$148,3),\"\")","v":""},null,{"v":0,"d":"0.00"},""]
[{"$nulls":6},{"$f":"IF(H1920<>\"\",VLOOKUP(H1920,Codes!C$1:D$475,2,FALSE),\"\")","v":""},{"$nulls":3},{"$f":"IF(J1920>0,VLOOKUP(J1920,' code comptes '!$A$1:$C$148,3),\"\")","v":""},null,{"v":0,"d":"0.00"},""]
[{"$nulls":6},{"$f":"IF(H1921<>\"\",VLOOKUP(H1921,Codes!C$1:D$475,2,FALSE),\"\")","v":""},{"$nulls":3},{"$f":"IF(J1921>0,VLOOKUP(J1921,' code comptes '!$A$1:$C$148,3),\"\")","v":""},null,{"v":0,"d":"0.00"},""]
[{"$nulls":6},{"$f":"IF(H1922<>\"\",VLOOKUP(H1922,Codes!C$1:D$475,2,FALSE),\"\")","v":""},{"$nulls":3},{"$f":"IF(J1922>0,VLOOKUP(J1922,' code comptes '!$A$1:$C$148,3),\"\")","v":""},null,{"v":0,"d":"0.00"},""]
[{"$nulls":6},{"$f":"IF(H1923<>\"\",VLOOKUP(H1923,Codes!C$1:D$475,2,FALSE),\"\")","v":""},{"$nulls":3},{"$f":"IF(J1923>0,VLOOKUP(J1923,' code comptes '!$A$1:$C$148,3),\"\")","v":""},null,{"v":0,"d":"0.00"},""]
[{"$nulls":6},{"$f":"IF(H1924<>\"\",VLOOKUP(H1924,Codes!C$1:D$475,2,FALSE),\"\")","v":""},{"$nulls":3},{"$f":"IF(J1924>0,VLOOKUP(J1924,' code comptes '!$A$1:$C$148,3),\"\")","v":""},null,{"v":0,"d":"0.00"},""]
[{"$nulls":6},{"$f":"IF(H1925<>\"\",VLOOKUP(H1925,Codes!C$1:D$475,2,FALSE),\"\")","v":""},{"$nulls":3},{"$f":"IF(J1925>0,VLOOKUP(J1925,' code comptes '!$A$1:$C$148,3),\"\")","v":""},null,{"v":0,"d":"0.00"},""]
[{"$nulls":6},{"$f":"IF(H1926<>\"\",VLOOKUP(H1926,Codes!C$1:D$475,2,FALSE),\"\")","v":""},{"$nulls":3},{"$f":"IF(J1926>0,VLOOKUP(J1926,' code comptes '!$A$1:$C$148,3),\"\")","v":""},null,{"v":0,"d":"0.00"},""]
[{"$nulls":6},{"$f":"IF(H1927<>\"\",VLOOKUP(H1927,Codes!C$1:D$475,2,FALSE),\"\")","v":""},{"$nulls":3},{"$f":"IF(J1927>0,VLOOKUP(J1927,' code comptes '!$A$1:$C$148,3),\"\")","v":""},null,{"v":0,"d":"0.00"},""]
[{"$nulls":6},{"$f":"IF(H1928<>\"\",VLOOKUP(H1928,Codes!C$1:D$475,2,FALSE),\"\")","v":""},{"$nulls":3},{"$f":"IF(J1928>0,VLOOKUP(J1928,' code comptes '!$A$1:$C$148,3),\"\")","v":""},null,{"v":0,"d":"0.00"},""]
[{"$nulls":6},{"$f":"IF(H1929<>\"\",VLOOKUP(H1929,Codes!C$1:D$475,2,FALSE),\"\")","v":""},{"$nulls":3},{"$f":"IF(J1929>0,VLOOKUP(J1929,' code comptes '!$A$1:$C$148,3),\"\")","v":""},null,{"v":0,"d":"0.00"},""]
[{"$nulls":6},{"$f":"IF(H1930<>\"\",VLOOKUP(H1930,Codes!C$1:D$475,2,FALSE),\"\")","v":""},{"$nulls":3},{"$f":"IF(J1930>0,VLOOKUP(J1930,' code comptes '!$A$1:$C$148,3),\"\")","v":""},null,{"v":0,"d":"0.00"},""]
[{"$nulls":6},{"$f":"IF(H1931<>\"\",VLOOKUP(H1931,Codes!C$1:D$475,2,FALSE),\"\")","v":""},{"$nulls":3},{"$f":"IF(J1931>0,VLOOKUP(J1931,' code comptes '!$A$1:$C$148,3),\"\")","v":""},null,{"v":0,"d":"0.00"},""]
[{"$nulls":6},{"$f":"IF(H1932<>\"\",VLOOKUP(H1932,Codes!C$1:D$475,2,FALSE),\"\")","v":""},{"$nulls":3},{"$f":"IF(J1932>0,VLOOKUP(J1932,' code comptes '!$A$1:$C$148,3),\"\")","v":""},null,{"v":0,"d":"0.00"},""]
[{"$nulls":6},{"$f":"IF(H1933<>\"\",VLOOKUP(H1933,Codes!C$1:D$475,2,FALSE),\"\")","v":""},{"$nulls":3},{"$f":"IF(J1933>0,VLOOKUP(J1933,' code comptes '!$A$1:$C$148,3),\"\")","v":""},null,{"v":0,"d":"0.00"},""]
[{"$nulls":6},{"$f":"IF(H1934<>\"\",VLOOKUP(H1934,Codes!C$1:D$475,2,FALSE),\"\")","v":""},{"$nulls":3},{"$f":"IF(J1934>0,VLOOKUP(J1934,' code comptes '!$A$1:$C$148,3),\"\")","v":""},null,{"v":0,"d":"0.00"},""]
[{"$nulls":6},{"$f":"IF(H1935<>\"\",VLOOKUP(H1935,Codes!C$1:D$475,2,FALSE),\"\")","v":""},{"$nulls":3},{"$f":"IF(J1935>0,VLOOKUP(J1935,' code comptes '!$A$1:$C$148,3),\"\")","v":""},null,{"v":0,"d":"0.00"},""]
[{"$nulls":6},{"$f":"IF(H1936<>\"\",VLOOKUP(H1936,Codes!C$1:D$475,2,FALSE),\"\")","v":""},{"$nulls":3},{"$f":"IF(J1936>0,VLOOKUP(J1936,' code comptes '!$A$1:$C$148,3),\"\")","v":""},null,{"v":0,"d":"0.00"},""]
[{"$nulls":6},{"$f":"IF(H1937<>\"\",VLOOKUP(H1937,Codes!C$1:D$475,2,FALSE),\"\")","v":""},{"$nulls":3},{"$f":"IF(J1937>0,VLOOKUP(J1937,' code comptes '!$A$1:$C$148,3),\"\")","v":""},null,{"v":0,"d":"0.00"},""]
[{"$nulls":6},{"$f":"IF(H1938<>\"\",VLOOKUP(H1938,Codes!C$1:D$475,2,FALSE),\"\")","v":""},{"$nulls":3},{"$f":"IF(J1938>0,VLOOKUP(J1938,' code comptes '!$A$1:$C$148,3),\"\")","v":""},null,{"v":0,"d":"0.00"},""]
[{"$nulls":6},{"$f":"IF(H1939<>\"\",VLOOKUP(H1939,Codes!C$1:D$475,2,FALSE),\"\")","v":""},{"$nulls":3},{"$f":"IF(J1939>0,VLOOKUP(J1939,' code comptes '!$A$1:$C$148,3),\"\")","v":""},null,{"v":0,"d":"0.00"},""]
[{"$nulls":6},{"$f":"IF(H1940<>\"\",VLOOKUP(H1940,Codes!C$1:D$475,2,FALSE),\"\")","v":""},{"$nulls":3},{"$f":"IF(J1940>0,VLOOKUP(J1940,' code comptes '!$A$1:$C$148,3),\"\")","v":""},null,{"v":0,"d":"0.00"},""]
[{"$nulls":6},{"$f":"IF(H1941<>\"\",VLOOKUP(H1941,Codes!C$1:D$475,2,FALSE),\"\")","v":""},{"$nulls":3},{"$f":"IF(J1941>0,VLOOKUP(J1941,' code comptes '!$A$1:$C$148,3),\"\")","v":""},null,{"v":0,"d":"0.00"},""]
[{"$nulls":6},{"$f":"IF(H1942<>\"\",VLOOKUP(H1942,Codes!C$1:D$475,2,FALSE),\"\")","v":""},{"$nulls":3},{"$f":"IF(J1942>0,VLOOKUP(J1942,' code comptes '!$A$1:$C$148,3),\"\")","v":""},null,{"v":0,"d":"0.00"},""]
[{"$nulls":6},{"$f":"IF(H1943<>\"\",VLOOKUP(H1943,Codes!C$1:D$475,2,FALSE),\"\")","v":""},{"$nulls":3},{"$f":"IF(J1943>0,VLOOKUP(J1943,' code comptes '!$A$1:$C$148,3),\"\")","v":""},null,{"v":0,"d":"0.00"},""]
[{"$nulls":6},{"$f":"IF(H1944<>\"\",VLOOKUP(H1944,Codes!C$1:D$475,2,FALSE),\"\")","v":""},{"$nulls":3},{"$f":"IF(J1944>0,VLOOKUP(J1944,' code comptes '!$A$1:$C$148,3),\"\")","v":""},null,{"v":0,"d":"0.00"},""]
[{"$nulls":6},{"$f":"IF(H1945<>\"\",VLOOKUP(H1945,Codes!C$1:D$475,2,FALSE),\"\")","v":""},{"$nulls":3},{"$f":"IF(J1945>0,VLOOKUP(J1945,' code comptes '!$A$1:$C$148,3),\"\")","v":""},null,{"v":0,"d":"0.00"},""]
[{"$nulls":6},{"$f":"IF(H1946<>\"\",VLOOKUP(H1946,Codes!C$1:D$475,2,FALSE),\"\")","v":""},{"$nulls":3},{"$f":"IF(J1946>0,VLOOKUP(J1946,' code comptes '!$A$1:$C$148,3),\"\")","v":""},null,{"v":0,"d":"0.00"},""]
[{"$nulls":6},{"$f":"IF(H1947<>\"\",VLOOKUP(H1947,Codes!C$1:D$475,2,FALSE),\"\")","v":""},{"$nulls":3},{"$f":"IF(J1947>0,VLOOKUP(J1947,' code comptes '!$A$1:$C$148,3),\"\")","v":""},null,{"v":0,"d":"0.00"},""]
[{"$nulls":6},{"$f":"IF(H1948<>\"\",VLOOKUP(H1948,Codes!C$1:D$475,2,FALSE),\"\")","v":""},{"$nulls":3},{"$f":"IF(J1948>0,VLOOKUP(J1948,' code comptes '!$A$1:$C$148,3),\"\")","v":""},null,{"v":0,"d":"0.00"},""]
[{"$nulls":6},{"$f":"IF(H1949<>\"\",VLOOKUP(H1949,Codes!C$1:D$475,2,FALSE),\"\")","v":""},{"$nulls":3},{"$f":"IF(J1949>0,VLOOKUP(J1949,' code comptes '!$A$1:$C$148,3),\"\")","v":""},null,{"v":0,"d":"0.00"},""]
[{"$nulls":6},{"$f":"IF(H1950<>\"\",VLOOKUP(H1950,Codes!C$1:D$475,2,FALSE),\"\")","v":""},{"$nulls":3},{"$f":"IF(J1950>0,VLOOKUP(J1950,' code comptes '!$A$1:$C$148,3),\"\")","v":""},null,{"v":0,"d":"0.00"},""]
[{"$nulls":6},{"$f":"IF(H1951<>\"\",VLOOKUP(H1951,Codes!C$1:D$475,2,FALSE),\"\")","v":""},{"$nulls":3},{"$f":"IF(J1951>0,VLOOKUP(J1951,' code comptes '!$A$1:$C$148,3),\"\")","v":""},null,{"v":0,"d":"0.00"},""]
[{"$nulls":6},{"$f":"IF(H1952<>\"\",VLOOKUP(H1952,Codes!C$1:D$475,2,FALSE),\"\")","v":""}]
[{"$nulls":6},{"$f":"IF(H1953<>\"\",VLOOKUP(H1953,Codes!C$1:D$475,2,FALSE),\"\")","v":""}]
[{"$nulls":6},{"$f":"IF(H1954<>\"\",VLOOKUP(H1954,Codes!C$1:D$475,2,FALSE),\"\")","v":""}]
[{"$nulls":6},{"$f":"IF(H1955<>\"\",VLOOKUP(H1955,Codes!C$1:D$475,2,FALSE),\"\")","v":""},{"$nulls":3},{"$f":"IF(J1955>0,VLOOKUP(J1955,' code comptes '!$A$1:$C$148,3),\"\")","v":""},null,{"$f":"D1951","v":{"v":0,"d":"0.00"}},{"$f":"+CONCATENATE(G1951,H1951)","v":""}]
[{"$nulls":6},{"$f":"IF(H1956<>\"\",VLOOKUP(H1956,Codes!C$1:D$475,2,FALSE),\"\")","v":""},{"$nulls":3},{"$f":"IF(J1956>0,VLOOKUP(J1956,' code comptes '!$A$1:$C$148,3),\"\")","v":""},null,{"$f":"D1955","v":{"v":0,"d":"0.00"}},{"$f":"+CONCATENATE(G1955,H1955)","v":""}]
[{"$nulls":6},{"$f":"IF(H1957<>\"\",VLOOKUP(H1957,Codes!C$1:D$475,2,FALSE),\"\")","v":""},{"$nulls":3},{"$f":"IF(J1957>0,VLOOKUP(J1957,' code comptes '!$A$1:$C$148,3),\"\")","v":""},null,{"v":0,"d":"0.00"},""]
[{"$nulls":6},{"$f":"IF(H1958<>\"\",VLOOKUP(H1958,Codes!C$1:D$475,2,FALSE),\"\")","v":""},{"$nulls":3},{"$f":"IF(J1958>0,VLOOKUP(J1958,' code comptes '!$A$1:$C$148,3),\"\")","v":""},null,{"v":0,"d":"0.00"},""]
[{"$nulls":6},{"$f":"IF(H1959<>\"\",VLOOKUP(H1959,Codes!C$1:D$475,2,FALSE),\"\")","v":""},{"$nulls":3},{"$f":"IF(J1959>0,VLOOKUP(J1959,' code comptes '!$A$1:$C$148,3),\"\")","v":""},null,{"v":0,"d":"0.00"},""]
[{"$nulls":6},{"$f":"IF(H1960<>\"\",VLOOKUP(H1960,Codes!C$1:D$475,2,FALSE),\"\")","v":""},{"$nulls":3},{"$f":"IF(J1960>0,VLOOKUP(J1960,' code comptes '!$A$1:$C$148,3),\"\")","v":""},null,{"v":0,"d":"0.00"},""]
[{"$nulls":6},{"$f":"IF(H1961<>\"\",VLOOKUP(H1961,Codes!C$1:D$475,2,FALSE),\"\")","v":""},{"$nulls":3},{"$f":"IF(J1961>0,VLOOKUP(J1961,' code comptes '!$A$1:$C$148,3),\"\")","v":""},null,{"v":0,"d":"0.00"},""]
[{"$nulls":6},{"$f":"IF(H1962<>\"\",VLOOKUP(H1962,Codes!C$1:D$475,2,FALSE),\"\")","v":""},{"$nulls":3},{"$f":"IF(J1962>0,VLOOKUP(J1962,' code comptes '!$A$1:$C$148,3),\"\")","v":""},null,{"v":0,"d":"0.00"},""]
[{"$nulls":6},{"$f":"IF(H1963<>\"\",VLOOKUP(H1963,Codes!C$1:D$475,2,FALSE),\"\")","v":""},{"$nulls":3},{"$f":"IF(J1963>0,VLOOKUP(J1963,' code comptes '!$A$1:$C$148,3),\"\")","v":""},null,{"v":0,"d":"0.00"},""]
[{"$nulls":6},{"$f":"IF(H1964<>\"\",VLOOKUP(H1964,Codes!C$1:D$475,2,FALSE),\"\")","v":""},{"$nulls":3},{"$f":"IF(J1964>0,VLOOKUP(J1964,' code comptes '!$A$1:$C$148,3),\"\")","v":""},null,{"v":0,"d":"0.00"},""]
[{"$nulls":6},{"$f":"IF(H1965<>\"\",VLOOKUP(H1965,Codes!C$1:D$475,2,FALSE),\"\")","v":""},{"$nulls":3},{"$f":"IF(J1965>0,VLOOKUP(J1965,' code comptes '!$A$1:$C$148,3),\"\")","v":""},null,{"v":0,"d":"0.00"},""]
[{"$nulls":6},{"$f":"IF(H1966<>\"\",VLOOKUP(H1966,Codes!C$1:D$475,2,FALSE),\"\")","v":""},{"$nulls":3},{"$f":"IF(J1966>0,VLOOKUP(J1966,' code comptes '!$A$1:$C$148,3),\"\")","v":""},null,{"v":0,"d":"0.00"},""]
[{"$nulls":6},{"$f":"IF(H1967<>\"\",VLOOKUP(H1967,Codes!C$1:D$475,2,FALSE),\"\")","v":""},{"$nulls":3},{"$f":"IF(J1967>0,VLOOKUP(J1967,' code comptes '!$A$1:$C$148,3),\"\")","v":""},null,{"v":0,"d":"0.00"},""]
[{"$nulls":6},{"$f":"IF(H1968<>\"\",VLOOKUP(H1968,Codes!C$1:D$475,2,FALSE),\"\")","v":""},{"$nulls":3},{"$f":"IF(J1968>0,VLOOKUP(J1968,' code comptes '!$A$1:$C$148,3),\"\")","v":""},null,{"v":0,"d":"0.00"},""]
[{"$nulls":6},{"$f":"IF(H1969<>\"\",VLOOKUP(H1969,Codes!C$1:D$475,2,FALSE),\"\")","v":""}]
[{"$nulls":6},{"$f":"IF(H1970<>\"\",VLOOKUP(H1970,Codes!C$1:D$475,2,FALSE),\"\")","v":""}]
[{"$nulls":6},{"$f":"IF(H1971<>\"\",VLOOKUP(H1971,Codes!C$1:D$475,2,FALSE),\"\")","v":""},{"$nulls":3},{"$f":"IF(J1971>0,VLOOKUP(J1971,' code comptes '!$A$1:$C$148,3),\"\")","v":""},null,{"$f":"D1970","v":{"v":0,"d":"0.00"}},{"$f":"+CONCATENATE(G1970,H1970)","v":""}]
[{"$nulls":6},{"$f":"IF(H1972<>\"\",VLOOKUP(H1972,Codes!C$1:D$475,2,FALSE),\"\")","v":""},{"$nulls":3},{"$f":"IF(J1972>0,VLOOKUP(J1972,' code comptes '!$A$1:$C$148,3),\"\")","v":""},null,{"v":0,"d":"0.00"},""]
[{"$nulls":6},{"$f":"IF(H1973<>\"\",VLOOKUP(H1973,Codes!C$1:D$475,2,FALSE),\"\")","v":""}]
[{"$nulls":6},{"$f":"IF(H1974<>\"\",VLOOKUP(H1974,Codes!C$1:D$475,2,FALSE),\"\")","v":""}]
[{"$nulls":6},{"$f":"IF(H1975<>\"\",VLOOKUP(H1975,Codes!C$1:D$475,2,FALSE),\"\")","v":""}]
[{"$nulls":6},{"$f":"IF(H1976<>\"\",VLOOKUP(H1976,Codes!C$1:D$475,2,FALSE),\"\")","v":""},{"$nulls":3},{"$f":"IF(J1976>0,VLOOKUP(J1976,' code comptes '!$A$1:$C$148,3),\"\")","v":""},null,{"$f":"D1972","v":{"v":0,"d":"0.00"}},{"$f":"+CONCATENATE(G1972,H1972)","v":""}]
[{"$nulls":6},{"$f":"IF(H1977<>\"\",VLOOKUP(H1977,Codes!C$1:D$475,2,FALSE),\"\")","v":""},{"$nulls":3},{"$f":"IF(J1977>0,VLOOKUP(J1977,' code comptes '!$A$1:$C$148,3),\"\")","v":""},null,{"$f":"D1976","v":{"v":0,"d":"0.00"}},{"$f":"+CONCATENATE(G1976,H1976)","v":""}]
[{"$nulls":6},{"$f":"IF(H1978<>\"\",VLOOKUP(H1978,Codes!C$1:D$475,2,FALSE),\"\")","v":""},{"$nulls":3},{"$f":"IF(J1978>0,VLOOKUP(J1978,' code comptes '!$A$1:$C$148,3),\"\")","v":""},null,{"v":0,"d":"0.00"},""]
[{"$nulls":6},{"$f":"IF(H1979<>\"\",VLOOKUP(H1979,Codes!C$1:D$475,2,FALSE),\"\")","v":""},{"$nulls":3},{"$f":"IF(J1979>0,VLOOKUP(J1979,' code comptes '!$A$1:$C$148,3),\"\")","v":""},null,{"v":0,"d":"0.00"},""]
[{"$nulls":6},{"$f":"IF(H1980<>\"\",VLOOKUP(H1980,Codes!C$1:D$475,2,FALSE),\"\")","v":""},{"$nulls":3},{"$f":"IF(J1980>0,VLOOKUP(J1980,' code comptes '!$A$1:$C$148,3),\"\")","v":""},null,{"v":0,"d":"0.00"},""]
[{"$nulls":6},{"$f":"IF(H1981<>\"\",VLOOKUP(H1981,Codes!C$1:D$475,2,FALSE),\"\")","v":""},{"$nulls":3},{"$f":"IF(J1981>0,VLOOKUP(J1981,' code comptes '!$A$1:$C$148,3),\"\")","v":""},null,{"v":0,"d":"0.00"},""]
[{"$nulls":6},{"$f":"IF(H1982<>\"\",VLOOKUP(H1982,Codes!C$1:D$475,2,FALSE),\"\")","v":""},{"$nulls":3},{"$f":"IF(J1982>0,VLOOKUP(J1982,' code comptes '!$A$1:$C$148,3),\"\")","v":""},null,{"v":0,"d":"0.00"},""]
[{"$nulls":6},{"$f":"IF(H1983<>\"\",VLOOKUP(H1983,Codes!C$1:D$475,2,FALSE),\"\")","v":""},{"$nulls":3},{"$f":"IF(J1983>0,VLOOKUP(J1983,' code comptes '!$A$1:$C$148,3),\"\")","v":""},null,{"v":0,"d":"0.00"},""]
[{"$nulls":6},{"$f":"IF(H1984<>\"\",VLOOKUP(H1984,Codes!C$1:D$475,2,FALSE),\"\")","v":""},{"$nulls":3},{"$f":"IF(J1984>0,VLOOKUP(J1984,' code comptes '!$A$1:$C$148,3),\"\")","v":""},null,{"v":0,"d":"0.00"},""]
[{"$nulls":6},{"$f":"IF(H1985<>\"\",VLOOKUP(H1985,Codes!C$1:D$475,2,FALSE),\"\")","v":""},{"$nulls":3},{"$f":"IF(J1985>0,VLOOKUP(J1985,' code comptes '!$A$1:$C$148,3),\"\")","v":""},null,{"v":0,"d":"0.00"},""]
[{"$nulls":6},{"$f":"IF(H1986<>\"\",VLOOKUP(H1986,Codes!C$1:D$475,2,FALSE),\"\")","v":""},{"$nulls":3},{"$f":"IF(J1986>0,VLOOKUP(J1986,' code comptes '!$A$1:$C$148,3),\"\")","v":""},null,{"v":0,"d":"0.00"},""]
[{"$nulls":6},{"$f":"IF(H1987<>\"\",VLOOKUP(H1987,Codes!C$1:D$475,2,FALSE),\"\")","v":""},{"$nulls":3},{"$f":"IF(J1987>0,VLOOKUP(J1987,' code comptes '!$A$1:$C$148,3),\"\")","v":""},null,{"v":0,"d":"0.00"},""]
[{"$nulls":6},{"$f":"IF(H1988<>\"\",VLOOKUP(H1988,Codes!C$1:D$475,2,FALSE),\"\")","v":""},{"$nulls":3},{"$f":"IF(J1988>0,VLOOKUP(J1988,' code comptes '!$A$1:$C$148,3),\"\")","v":""},null,{"v":0,"d":"0.00"},""]
[{"$nulls":6},{"$f":"IF(H1989<>\"\",VLOOKUP(H1989,Codes!C$1:D$475,2,FALSE),\"\")","v":""},{"$nulls":3},{"$f":"IF(J1989>0,VLOOKUP(J1989,' code comptes '!$A$1:$C$148,3),\"\")","v":""},null,{"v":0,"d":"0.00"},""]
[{"$nulls":6},{"$f":"IF(H1990<>\"\",VLOOKUP(H1990,Codes!C$1:D$475,2,FALSE),\"\")","v":""}]
[{"$nulls":6},{"$f":"IF(H1991<>\"\",VLOOKUP(H1991,Codes!C$1:D$475,2,FALSE),\"\")","v":""}]
[{"$nulls":6},{"$f":"IF(H1992<>\"\",VLOOKUP(H1992,Codes!C$1:D$475,2,FALSE),\"\")","v":""}]
[{"$nulls":6},{"$f":"IF(H1993<>\"\",VLOOKUP(H1993,Codes!C$1:D$475,2,FALSE),\"\")","v":""},{"$nulls":3},{"$f":"IF(J1993>0,VLOOKUP(J1993,' code comptes '!$A$1:$C$148,3),\"\")","v":""},null,{"$f":"D1968","v":{"v":0,"d":"0.00"}},{"$f":"+CONCATENATE(G1968,H1968)","v":""}]
[{"$nulls":6},{"$f":"IF(H1994<>\"\",VLOOKUP(H1994,Codes!C$1:D$475,2,FALSE),\"\")","v":""},{"$nulls":3},{"$f":"IF(J1994>0,VLOOKUP(J1994,' code comptes '!$A$1:$C$148,3),\"\")","v":""},null,{"$f":"D1993","v":{"v":0,"d":"0.00"}},{"$f":"+CONCATENATE(G1993,H1993)","v":""}]
[{"$nulls":6},{"$f":"IF(H1995<>\"\",VLOOKUP(H1995,Codes!C$1:D$475,2,FALSE),\"\")","v":""},{"$nulls":3},{"$f":"IF(J1995>0,VLOOKUP(J1995,' code comptes '!$A$1:$C$148,3),\"\")","v":""},null,{"v":0,"d":"0.00"},""]
[{"$nulls":6},{"$f":"IF(H1996<>\"\",VLOOKUP(H1996,Codes!C$1:D$475,2,FALSE),\"\")","v":""},{"$nulls":3},{"$f":"IF(J1996>0,VLOOKUP(J1996,' code comptes '!$A$1:$C$148,3),\"\")","v":""},null,{"$f":"D1994","v":{"v":0,"d":"0.00"}},{"$f":"+CONCATENATE(G1994,H1994)","v":""}]
[{"$nulls":6},{"$f":"IF(H1997<>\"\",VLOOKUP(H1997,Codes!C$1:D$475,2,FALSE),\"\")","v":""},{"$nulls":3},{"$f":"IF(J1997>0,VLOOKUP(J1997,' code comptes '!$A$1:$C$148,3),\"\")","v":""},null,{"v":0,"d":"0.00"},""]
[{"$nulls":6},{"$f":"IF(H1998<>\"\",VLOOKUP(H1998,Codes!C$1:D$475,2,FALSE),\"\")","v":""},{"$nulls":3},{"$f":"IF(J1998>0,VLOOKUP(J1998,' code comptes '!$A$1:$C$148,3),\"\")","v":""},null,{"v":0,"d":"0.00"},""]
[{"$nulls":6},{"$f":"IF(H1999<>\"\",VLOOKUP(H1999,Codes!C$1:D$475,2,FALSE),\"\")","v":""},{"$nulls":3},{"$f":"IF(J1999>0,VLOOKUP(J1999,' code comptes '!$A$1:$C$148,3),\"\")","v":""},null,{"v":0,"d":"0.00"},""]
[{"$nulls":6},{"$f":"IF(H2000<>\"\",VLOOKUP(H2000,Codes!C$1:D$475,2,FALSE),\"\")","v":""},{"$nulls":3},{"$f":"IF(J2000>0,VLOOKUP(J2000,' code comptes '!$A$1:$C$148,3),\"\")","v":""},null,{"$f":"D499","v":{"v":0,"d":"0.00"}},{"$f":"+CONCATENATE(G499,H499)","v":""}]
[{"$nulls":10},{"$f":"IF(J2001>0,VLOOKUP(J2001,' code comptes '!$A$1:$C$148,3),\"\")","v":""},null,null,""]

{"sheet":"Regroupement banque2","index":4,"n_rows":3,"n_cols":2,"rows_kept":3,"hidden":true}
["Étiquettes de lignes","Somme de Montant"]
[null,0]
["Total général",0]

{"sheet":"BANQUE 3","index":5,"n_rows":500,"n_cols":14,"rows_kept":500,"hidden":true,"merged":[[1,2,1,4],[2,3,2,4]]}
[]
[null,"Eglise :"]
[null,"N°  Compte Bancaire :"]
[{"$nulls":4},"Date","Montant"]
[null,"Solde initial",null,null,"2013-01-01",{"$nulls":4},"ok"]
[null,"Solde final selon extrait à encoder",{"$nulls":7},"Erreur"]
[null,"Solde total colonne",{"$nulls":3},{"$f":"+SUM(D11:D20291)","v":{"v":0,"d":"0.00"}}]
[null,"Contrôle:  si ok = rien; sinon  Erreur !!!",{"$nulls":3},{"$f":"+IF(F6=F7,\"ok\",\"Erreur\")","v":"ok"}]
[null,"Mouvements bancaires  B3",null,null,"Mouvements bancaires  B3","Mouvements bancaires  B3","Mouvements bancaires  B3","Mouvements bancaires  B3"]
[null,"Date","N° Extrait","Montant","Description","Commentaire","Compte comptable","Libellé compte comptable",null,null,{"$f":"D10","v":"Montant"},{"$f":"H10","v":"Libellé compte comptable"},{"$f":"D10","v":"Montant"},{"$f":"CONCATENATE(G10,H10)","v":"Compte comptableLibellé compte comptable"}]
[null,{"$f":"+E5","v":"2013-01-01"},null,{"$f":"+F5","v":{"v":0,"d":"0.00"}},"Solde initial",null,{"$f":"IF(H11<>\"\",VLOOKUP(H11,Codes!C$1:D$475,2,FALSE),\"\")","v":""},{"$nulls":3},{"$f":"D11","v":0},{"$f":"H11","v":0},{"$f":"D11","v":{"v":0,"d":"0.00"}},{"$f":"CONCATENATE(G11,H11)","v":""}]
[{"$nulls":6},{"$f":"IF(H12<>\"\",VLOOKUP(H12,Codes!C$1:D$475,2,FALSE),\"\")","v":""},{"$nulls":3},0,0,{"v":0,"d":"0.00"},""]
[{"$nulls":6},{"$f":"IF(H13<>\"\",VLOOKUP(H13,Codes!C$1:D$475,2,FALSE),\"\")","v":""},{"$nulls":3},0,0,{"v":0,"d":"0.00"},""]
[{"$nulls":6},{"$f":"IF(H14<>\"\",VLOOKUP(H14,Codes!C$1:D$475,2,FALSE),\"\")","v":""},{"$nulls":3},0,0,{"v":0,"d":"0.00"},""]
[{"$nulls":6},{"$f":"IF(H15<>\"\",VLOOKUP(H15,Codes!C$1:D$475,2,FALSE),\"\")","v":""},{"$nulls":3},0,0,{"v":0,"d":"0.00"},""]
[{"$nulls":6},{"$f":"IF(H16<>\"\",VLOOKUP(H16,Codes!C$1:D$475,2,FALSE),\"\")","v":""},{"$nulls":3},0,0,{"v":0,"d":"0.00"},""]
[{"$nulls":6},{"$f":"IF(H17<>\"\",VLOOKUP(H17,Codes!C$1:D$475,2,FALSE),\"\")","v":""},{"$nulls":3},0,0,{"v":0,"d":"0.00"},""]
[{"$nulls":6},{"$f":"IF(H18<>\"\",VLOOKUP(H18,Codes!C$1:D$475,2,FALSE),\"\")","v":""},{"$nulls":3},0,0,{"v":0,"d":"0.00"},""]
[{"$nulls":6},{"$f":"IF(H19<>\"\",VLOOKUP(H19,Codes!C$1:D$475,2,FALSE),\"\")","v":""}]
[{"$nulls":6},{"$f":"IF(H20<>\"\",VLOOKUP(H20,Codes!C$1:D$475,2,FALSE),\"\")","v":""}]
[{"$nulls":6},{"$f":"IF(H21<>\"\",VLOOKUP(H21,Codes!C$1:D$475,2,FALSE),\"\")","v":""}]
[{"$nulls":6},{"$f":"IF(H22<>\"\",VLOOKUP(H22,Codes!C$1:D$475,2,FALSE),\"\")","v":""}]
[{"$nulls":6},{"$f":"IF(H23<>\"\",VLOOKUP(H23,Codes!C$1:D$475,2,FALSE),\"\")","v":""}]
[{"$nulls":6},{"$f":"IF(H24<>\"\",VLOOKUP(H24,Codes!C$1:D$475,2,FALSE),\"\")","v":""}]
[{"$nulls":6},{"$f":"IF(H25<>\"\",VLOOKUP(H25,Codes!C$1:D$475,2,FALSE),\"\")","v":""}]
[{"$nulls":6},{"$f":"IF(H26<>\"\",VLOOKUP(H26,Codes!C$1:D$475,2,FALSE),\"\")","v":""}]
[{"$nulls":6},{"$f":"IF(H27<>\"\",VLOOKUP(H27,Codes!C$1:D$475,2,FALSE),\"\")","v":""}]
[{"$nulls":6},{"$f":"IF(H28<>\"\",VLOOKUP(H28,Codes!C$1:D$475,2,FALSE),\"\")","v":""}]
[{"$nulls":6},{"$f":"IF(H29<>\"\",VLOOKUP(H29,Codes!C$1:D$475,2,FALSE),\"\")","v":""}]
[{"$nulls":6},{"$f":"IF(H30<>\"\",VLOOKUP(H30,Codes!C$1:D$475,2,FALSE),\"\")","v":""}]
[{"$nulls":6},{"$f":"IF(H31<>\"\",VLOOKUP(H31,Codes!C$1:D$475,2,FALSE),\"\")","v":""}]
[{"$nulls":6},{"$f":"IF(H32<>\"\",VLOOKUP(H32,Codes!C$1:D$475,2,FALSE),\"\")","v":""}]
[{"$nulls":6},{"$f":"IF(H33<>\"\",VLOOKUP(H33,Codes!C$1:D$475,2,FALSE),\"\")","v":""}]
[{"$nulls":6},{"$f":"IF(H34<>\"\",VLOOKUP(H34,Codes!C$1:D$475,2,FALSE),\"\")","v":""}]
[{"$nulls":6},{"$f":"IF(H35<>\"\",VLOOKUP(H35,Codes!C$1:D$475,2,FALSE),\"\")","v":""}]
[{"$nulls":6},{"$f":"IF(H36<>\"\",VLOOKUP(H36,Codes!C$1:D$475,2,FALSE),\"\")","v":""}]
[{"$nulls":6},{"$f":"IF(H37<>\"\",VLOOKUP(H37,Codes!C$1:D$475,2,FALSE),\"\")","v":""}]
[{"$nulls":6},{"$f":"IF(H38<>\"\",VLOOKUP(H38,Codes!C$1:D$475,2,FALSE),\"\")","v":""}]
[{"$nulls":6},{"$f":"IF(H39<>\"\",VLOOKUP(H39,Codes!C$1:D$475,2,FALSE),\"\")","v":""}]
[{"$nulls":6},{"$f":"IF(H40<>\"\",VLOOKUP(H40,Codes!C$1:D$475,2,FALSE),\"\")","v":""}]
[{"$nulls":6},{"$f":"IF(H41<>\"\",VLOOKUP(H41,Codes!C$1:D$475,2,FALSE),\"\")","v":""}]
[{"$nulls":6},{"$f":"IF(H42<>\"\",VLOOKUP(H42,Codes!C$1:D$475,2,FALSE),\"\")","v":""}]
[{"$nulls":6},{"$f":"IF(H43<>\"\",VLOOKUP(H43,Codes!C$1:D$475,2,FALSE),\"\")","v":""}]
[{"$nulls":6},{"$f":"IF(H44<>\"\",VLOOKUP(H44,Codes!C$1:D$475,2,FALSE),\"\")","v":""}]
[{"$nulls":6},{"$f":"IF(H45<>\"\",VLOOKUP(H45,Codes!C$1:D$475,2,FALSE),\"\")","v":""}]
[{"$nulls":6},{"$f":"IF(H46<>\"\",VLOOKUP(H46,Codes!C$1:D$475,2,FALSE),\"\")","v":""}]
[{"$nulls":6},{"$f":"IF(H47<>\"\",VLOOKUP(H47,Codes!C$1:D$475,2,FALSE),\"\")","v":""}]
[{"$nulls":6},{"$f":"IF(H48<>\"\",VLOOKUP(H48,Codes!C$1:D$475,2,FALSE),\"\")","v":""}]
[{"$nulls":6},{"$f":"IF(H49<>\"\",VLOOKUP(H49,Codes!C$1:D$475,2,FALSE),\"\")","v":""}]
[{"$nulls":6},{"$f":"IF(H50<>\"\",VLOOKUP(H50,Codes!C$1:D$475,2,FALSE),\"\")","v":""}]
[{"$nulls":6},{"$f":"IF(H51<>\"\",VLOOKUP(H51,Codes!C$1:D$475,2,FALSE),\"\")","v":""}]
[{"$nulls":6},{"$f":"IF(H52<>\"\",VLOOKUP(H52,Codes!C$1:D$475,2,FALSE),\"\")","v":""}]
[{"$nulls":6},{"$f":"IF(H53<>\"\",VLOOKUP(H53,Codes!C$1:D$475,2,FALSE),\"\")","v":""}]
[{"$nulls":6},{"$f":"IF(H54<>\"\",VLOOKUP(H54,Codes!C$1:D$475,2,FALSE),\"\")","v":""}]
[{"$nulls":6},{"$f":"IF(H55<>\"\",VLOOKUP(H55,Codes!C$1:D$475,2,FALSE),\"\")","v":""}]
[{"$nulls":6},{"$f":"IF(H56<>\"\",VLOOKUP(H56,Codes!C$1:D$475,2,FALSE),\"\")","v":""}]
[{"$nulls":6},{"$f":"IF(H57<>\"\",VLOOKUP(H57,Codes!C$1:D$475,2,FALSE),\"\")","v":""}]
[{"$nulls":6},{"$f":"IF(H58<>\"\",VLOOKUP(H58,Codes!C$1:D$475,2,FALSE),\"\")","v":""}]
[{"$nulls":6},{"$f":"IF(H59<>\"\",VLOOKUP(H59,Codes!C$1:D$475,2,FALSE),\"\")","v":""}]
[{"$nulls":6},{"$f":"IF(H60<>\"\",VLOOKUP(H60,Codes!C$1:D$475,2,FALSE),\"\")","v":""}]
[{"$nulls":6},{"$f":"IF(H61<>\"\",VLOOKUP(H61,Codes!C$1:D$475,2,FALSE),\"\")","v":""}]
[{"$nulls":6},{"$f":"IF(H62<>\"\",VLOOKUP(H62,Codes!C$1:D$475,2,FALSE),\"\")","v":""}]
[{"$nulls":6},{"$f":"IF(H63<>\"\",VLOOKUP(H63,Codes!C$1:D$475,2,FALSE),\"\")","v":""}]
[{"$nulls":6},{"$f":"IF(H64<>\"\",VLOOKUP(H64,Codes!C$1:D$475,2,FALSE),\"\")","v":""}]
[{"$nulls":6},{"$f":"IF(H65<>\"\",VLOOKUP(H65,Codes!C$1:D$475,2,FALSE),\"\")","v":""}]
[{"$nulls":6},{"$f":"IF(H66<>\"\",VLOOKUP(H66,Codes!C$1:D$475,2,FALSE),\"\")","v":""}]
[{"$nulls":6},{"$f":"IF(H67<>\"\",VLOOKUP(H67,Codes!C$1:D$475,2,FALSE),\"\")","v":""}]
[{"$nulls":6},{"$f":"IF(H68<>\"\",VLOOKUP(H68,Codes!C$1:D$475,2,FALSE),\"\")","v":""}]
[{"$nulls":6},{"$f":"IF(H69<>\"\",VLOOKUP(H69,Codes!C$1:D$475,2,FALSE),\"\")","v":""}]
[{"$nulls":6},{"$f":"IF(H70<>\"\",VLOOKUP(H70,Codes!C$1:D$475,2,FALSE),\"\")","v":""}]
[{"$nulls":6},{"$f":"IF(H71<>\"\",VLOOKUP(H71,Codes!C$1:D$475,2,FALSE),\"\")","v":""}]
[{"$nulls":6},{"$f":"IF(H72<>\"\",VLOOKUP(H72,Codes!C$1:D$475,2,FALSE),\"\")","v":""}]
[{"$nulls":6},{"$f":"IF(H73<>\"\",VLOOKUP(H73,Codes!C$1:D$475,2,FALSE),\"\")","v":""}]
[{"$nulls":6},{"$f":"IF(H74<>\"\",VLOOKUP(H74,Codes!C$1:D$475,2,FALSE),\"\")","v":""}]
[{"$nulls":6},{"$f":"IF(H75<>\"\",VLOOKUP(H75,Codes!C$1:D$475,2,FALSE),\"\")","v":""}]
[{"$nulls":6},{"$f":"IF(H76<>\"\",VLOOKUP(H76,Codes!C$1:D$475,2,FALSE),\"\")","v":""}]
[{"$nulls":6},{"$f":"IF(H77<>\"\",VLOOKUP(H77,Codes!C$1:D$475,2,FALSE),\"\")","v":""}]
[{"$nulls":6},{"$f":"IF(H78<>\"\",VLOOKUP(H78,Codes!C$1:D$475,2,FALSE),\"\")","v":""}]
[{"$nulls":6},{"$f":"IF(H79<>\"\",VLOOKUP(H79,Codes!C$1:D$475,2,FALSE),\"\")","v":""}]
[{"$nulls":6},{"$f":"IF(H80<>\"\",VLOOKUP(H80,Codes!C$1:D$475,2,FALSE),\"\")","v":""}]
[{"$nulls":6},{"$f":"IF(H81<>\"\",VLOOKUP(H81,Codes!C$1:D$475,2,FALSE),\"\")","v":""}]
[{"$nulls":6},{"$f":"IF(H82<>\"\",VLOOKUP(H82,Codes!C$1:D$475,2,FALSE),\"\")","v":""}]
[{"$nulls":6},{"$f":"IF(H83<>\"\",VLOOKUP(H83,Codes!C$1:D$475,2,FALSE),\"\")","v":""}]
[{"$nulls":6},{"$f":"IF(H84<>\"\",VLOOKUP(H84,Codes!C$1:D$475,2,FALSE),\"\")","v":""}]
[{"$nulls":6},{"$f":"IF(H85<>\"\",VLOOKUP(H85,Codes!C$1:D$475,2,FALSE),\"\")","v":""}]
[{"$nulls":6},{"$f":"IF(H86<>\"\",VLOOKUP(H86,Codes!C$1:D$475,2,FALSE),\"\")","v":""}]
[{"$nulls":6},{"$f":"IF(H87<>\"\",VLOOKUP(H87,Codes!C$1:D$475,2,FALSE),\"\")","v":""}]
[{"$nulls":6},{"$f":"IF(H88<>\"\",VLOOKUP(H88,Codes!C$1:D$475,2,FALSE),\"\")","v":""}]
[{"$nulls":6},{"$f":"IF(H89<>\"\",VLOOKUP(H89,Codes!C$1:D$475,2,FALSE),\"\")","v":""}]
[{"$nulls":6},{"$f":"IF(H90<>\"\",VLOOKUP(H90,Codes!C$1:D$475,2,FALSE),\"\")","v":""}]
[{"$nulls":6},{"$f":"IF(H91<>\"\",VLOOKUP(H91,Codes!C$1:D$475,2,FALSE),\"\")","v":""}]
[{"$nulls":6},{"$f":"IF(H92<>\"\",VLOOKUP(H92,Codes!C$1:D$475,2,FALSE),\"\")","v":""}]
[{"$nulls":6},{"$f":"IF(H93<>\"\",VLOOKUP(H93,Codes!C$1:D$475,2,FALSE),\"\")","v":""}]
[{"$nulls":6},{"$f":"IF(H94<>\"\",VLOOKUP(H94,Codes!C$1:D$475,2,FALSE),\"\")","v":""}]
[{"$nulls":6},{"$f":"IF(H95<>\"\",VLOOKUP(H95,Codes!C$1:D$475,2,FALSE),\"\")","v":""}]
[{"$nulls":6},{"$f":"IF(H96<>\"\",VLOOKUP(H96,Codes!C$1:D$475,2,FALSE),\"\")","v":""}]
[{"$nulls":6},{"$f":"IF(H97<>\"\",VLOOKUP(H97,Codes!C$1:D$475,2,FALSE),\"\")","v":""}]
[{"$nulls":6},{"$f":"IF(H98<>\"\",VLOOKUP(H98,Codes!C$1:D$475,2,FALSE),\"\")","v":""}]
[{"$nulls":6},{"$f":"IF(H99<>\"\",VLOOKUP(H99,Codes!C$1:D$475,2,FALSE),\"\")","v":""}]
[{"$nulls":6},{"$f":"IF(H100<>\"\",VLOOKUP(H100,Codes!C$1:D$475,2,FALSE),\"\")","v":""}]
[{"$nulls":6},{"$f":"IF(H101<>\"\",VLOOKUP(H101,Codes!C$1:D$475,2,FALSE),\"\")","v":""}]
[{"$nulls":6},{"$f":"IF(H102<>\"\",VLOOKUP(H102,Codes!C$1:D$475,2,FALSE),\"\")","v":""}]
[{"$nulls":6},{"$f":"IF(H103<>\"\",VLOOKUP(H103,Codes!C$1:D$475,2,FALSE),\"\")","v":""}]
[{"$nulls":6},{"$f":"IF(H104<>\"\",VLOOKUP(H104,Codes!C$1:D$475,2,FALSE),\"\")","v":""}]
[{"$nulls":6},{"$f":"IF(H105<>\"\",VLOOKUP(H105,Codes!C$1:D$475,2,FALSE),\"\")","v":""}]
[{"$nulls":6},{"$f":"IF(H106<>\"\",VLOOKUP(H106,Codes!C$1:D$475,2,FALSE),\"\")","v":""}]
[{"$nulls":6},{"$f":"IF(H107<>\"\",VLOOKUP(H107,Codes!C$1:D$475,2,FALSE),\"\")","v":""}]
[{"$nulls":6},{"$f":"IF(H108<>\"\",VLOOKUP(H108,Codes!C$1:D$475,2,FALSE),\"\")","v":""}]
[{"$nulls":6},{"$f":"IF(H109<>\"\",VLOOKUP(H109,Codes!C$1:D$475,2,FALSE),\"\")","v":""}]
[{"$nulls":6},{"$f":"IF(H110<>\"\",VLOOKUP(H110,Codes!C$1:D$475,2,FALSE),\"\")","v":""}]
[{"$nulls":6},{"$f":"IF(H111<>\"\",VLOOKUP(H111,Codes!C$1:D$475,2,FALSE),\"\")","v":""}]
[{"$nulls":6},{"$f":"IF(H112<>\"\",VLOOKUP(H112,Codes!C$1:D$475,2,FALSE),\"\")","v":""}]
[{"$nulls":6},{"$f":"IF(H113<>\"\",VLOOKUP(H113,Codes!C$1:D$475,2,FALSE),\"\")","v":""}]
[{"$nulls":6},{"$f":"IF(H114<>\"\",VLOOKUP(H114,Codes!C$1:D$475,2,FALSE),\"\")","v":""}]
[{"$nulls":6},{"$f":"IF(H115<>\"\",VLOOKUP(H115,Codes!C$1:D$475,2,FALSE),\"\")","v":""}]
[{"$nulls":6},{"$f":"IF(H116<>\"\",VLOOKUP(H116,Codes!C$1:D$475,2,FALSE),\"\")","v":""}]
[{"$nulls":6},{"$f":"IF(H117<>\"\",VLOOKUP(H117,Codes!C$1:D$475,2,FALSE),\"\")","v":""}]
[{"$nulls":6},{"$f":"IF(H118<>\"\",VLOOKUP(H118,Codes!C$1:D$475,2,FALSE),\"\")","v":""}]
[{"$nulls":6},{"$f":"IF(H119<>\"\",VLOOKUP(H119,Codes!C$1:D$475,2,FALSE),\"\")","v":""}]
[{"$nulls":6},{"$f":"IF(H120<>\"\",VLOOKUP(H120,Codes!C$1:D$475,2,FALSE),\"\")","v":""}]
[{"$nulls":6},{"$f":"IF(H121<>\"\",VLOOKUP(H121,Codes!C$1:D$475,2,FALSE),\"\")","v":""}]
[{"$nulls":6},{"$f":"IF(H122<>\"\",VLOOKUP(H122,Codes!C$1:D$475,2,FALSE),\"\")","v":""}]
[{"$nulls":6},{"$f":"IF(H123<>\"\",VLOOKUP(H123,Codes!C$1:D$475,2,FALSE),\"\")","v":""}]
[{"$nulls":6},{"$f":"IF(H124<>\"\",VLOOKUP(H124,Codes!C$1:D$475,2,FALSE),\"\")","v":""}]
[{"$nulls":6},{"$f":"IF(H125<>\"\",VLOOKUP(H125,Codes!C$1:D$475,2,FALSE),\"\")","v":""}]
[{"$nulls":6},{"$f":"IF(H126<>\"\",VLOOKUP(H126,Codes!C$1:D$475,2,FALSE),\"\")","v":""}]
[{"$nulls":6},{"$f":"IF(H127<>\"\",VLOOKUP(H127,Codes!C$1:D$475,2,FALSE),\"\")","v":""}]
[{"$nulls":6},{"$f":"IF(H128<>\"\",VLOOKUP(H128,Codes!C$1:D$475,2,FALSE),\"\")","v":""}]
[{"$nulls":6},{"$f":"IF(H129<>\"\",VLOOKUP(H129,Codes!C$1:D$475,2,FALSE),\"\")","v":""}]
[{"$nulls":6},{"$f":"IF(H130<>\"\",VLOOKUP(H130,Codes!C$1:D$475,2,FALSE),\"\")","v":""}]
[{"$nulls":6},{"$f":"IF(H131<>\"\",VLOOKUP(H131,Codes!C$1:D$475,2,FALSE),\"\")","v":""}]
[{"$nulls":6},{"$f":"IF(H132<>\"\",VLOOKUP(H132,Codes!C$1:D$475,2,FALSE),\"\")","v":""}]
[{"$nulls":6},{"$f":"IF(H133<>\"\",VLOOKUP(H133,Codes!C$1:D$475,2,FALSE),\"\")","v":""}]
[{"$nulls":6},{"$f":"IF(H134<>\"\",VLOOKUP(H134,Codes!C$1:D$475,2,FALSE),\"\")","v":""}]
[{"$nulls":6},{"$f":"IF(H135<>\"\",VLOOKUP(H135,Codes!C$1:D$475,2,FALSE),\"\")","v":""}]
[{"$nulls":6},{"$f":"IF(H136<>\"\",VLOOKUP(H136,Codes!C$1:D$475,2,FALSE),\"\")","v":""}]
[{"$nulls":6},{"$f":"IF(H137<>\"\",VLOOKUP(H137,Codes!C$1:D$475,2,FALSE),\"\")","v":""}]
[{"$nulls":6},{"$f":"IF(H138<>\"\",VLOOKUP(H138,Codes!C$1:D$475,2,FALSE),\"\")","v":""}]
[{"$nulls":6},{"$f":"IF(H139<>\"\",VLOOKUP(H139,Codes!C$1:D$475,2,FALSE),\"\")","v":""}]
[{"$nulls":6},{"$f":"IF(H140<>\"\",VLOOKUP(H140,Codes!C$1:D$475,2,FALSE),\"\")","v":""}]
[{"$nulls":6},{"$f":"IF(H141<>\"\",VLOOKUP(H141,Codes!C$1:D$475,2,FALSE),\"\")","v":""}]
[{"$nulls":6},{"$f":"IF(H142<>\"\",VLOOKUP(H142,Codes!C$1:D$475,2,FALSE),\"\")","v":""}]
[{"$nulls":6},{"$f":"IF(H143<>\"\",VLOOKUP(H143,Codes!C$1:D$475,2,FALSE),\"\")","v":""}]
[{"$nulls":6},{"$f":"IF(H144<>\"\",VLOOKUP(H144,Codes!C$1:D$475,2,FALSE),\"\")","v":""}]
[{"$nulls":6},{"$f":"IF(H145<>\"\",VLOOKUP(H145,Codes!C$1:D$475,2,FALSE),\"\")","v":""}]
[{"$nulls":6},{"$f":"IF(H146<>\"\",VLOOKUP(H146,Codes!C$1:D$475,2,FALSE),\"\")","v":""}]
[{"$nulls":6},{"$f":"IF(H147<>\"\",VLOOKUP(H147,Codes!C$1:D$475,2,FALSE),\"\")","v":""}]
[{"$nulls":6},{"$f":"IF(H148<>\"\",VLOOKUP(H148,Codes!C$1:D$475,2,FALSE),\"\")","v":""}]
[{"$nulls":6},{"$f":"IF(H149<>\"\",VLOOKUP(H149,Codes!C$1:D$475,2,FALSE),\"\")","v":""}]
[{"$nulls":6},{"$f":"IF(H150<>\"\",VLOOKUP(H150,Codes!C$1:D$475,2,FALSE),\"\")","v":""}]
[{"$nulls":6},{"$f":"IF(H151<>\"\",VLOOKUP(H151,Codes!C$1:D$475,2,FALSE),\"\")","v":""}]
[{"$nulls":6},{"$f":"IF(H152<>\"\",VLOOKUP(H152,Codes!C$1:D$475,2,FALSE),\"\")","v":""}]
[{"$nulls":6},{"$f":"IF(H153<>\"\",VLOOKUP(H153,Codes!C$1:D$475,2,FALSE),\"\")","v":""}]
[{"$nulls":6},{"$f":"IF(H154<>\"\",VLOOKUP(H154,Codes!C$1:D$475,2,FALSE),\"\")","v":""}]
[{"$nulls":6},{"$f":"IF(H155<>\"\",VLOOKUP(H155,Codes!C$1:D$475,2,FALSE),\"\")","v":""}]
[{"$nulls":6},{"$f":"IF(H156<>\"\",VLOOKUP(H156,Codes!C$1:D$475,2,FALSE),\"\")","v":""}]
[{"$nulls":6},{"$f":"IF(H157<>\"\",VLOOKUP(H157,Codes!C$1:D$475,2,FALSE),\"\")","v":""}]
[{"$nulls":6},{"$f":"IF(H158<>\"\",VLOOKUP(H158,Codes!C$1:D$475,2,FALSE),\"\")","v":""}]
[{"$nulls":6},{"$f":"IF(H159<>\"\",VLOOKUP(H159,Codes!C$1:D$475,2,FALSE),\"\")","v":""}]
[{"$nulls":6},{"$f":"IF(H160<>\"\",VLOOKUP(H160,Codes!C$1:D$475,2,FALSE),\"\")","v":""}]
[{"$nulls":6},{"$f":"IF(H161<>\"\",VLOOKUP(H161,Codes!C$1:D$475,2,FALSE),\"\")","v":""}]
[{"$nulls":6},{"$f":"IF(H162<>\"\",VLOOKUP(H162,Codes!C$1:D$475,2,FALSE),\"\")","v":""}]
[{"$nulls":6},{"$f":"IF(H163<>\"\",VLOOKUP(H163,Codes!C$1:D$475,2,FALSE),\"\")","v":""}]
[{"$nulls":6},{"$f":"IF(H164<>\"\",VLOOKUP(H164,Codes!C$1:D$475,2,FALSE),\"\")","v":""}]
[{"$nulls":6},{"$f":"IF(H165<>\"\",VLOOKUP(H165,Codes!C$1:D$475,2,FALSE),\"\")","v":""}]
[{"$nulls":6},{"$f":"IF(H166<>\"\",VLOOKUP(H166,Codes!C$1:D$475,2,FALSE),\"\")","v":""}]
[{"$nulls":6},{"$f":"IF(H167<>\"\",VLOOKUP(H167,Codes!C$1:D$475,2,FALSE),\"\")","v":""}]
[{"$nulls":6},{"$f":"IF(H168<>\"\",VLOOKUP(H168,Codes!C$1:D$475,2,FALSE),\"\")","v":""}]
[{"$nulls":6},{"$f":"IF(H169<>\"\",VLOOKUP(H169,Codes!C$1:D$475,2,FALSE),\"\")","v":""}]
[{"$nulls":6},{"$f":"IF(H170<>\"\",VLOOKUP(H170,Codes!C$1:D$475,2,FALSE),\"\")","v":""}]
[{"$nulls":6},{"$f":"IF(H171<>\"\",VLOOKUP(H171,Codes!C$1:D$475,2,FALSE),\"\")","v":""}]
[{"$nulls":6},{"$f":"IF(H172<>\"\",VLOOKUP(H172,Codes!C$1:D$475,2,FALSE),\"\")","v":""}]
[{"$nulls":6},{"$f":"IF(H173<>\"\",VLOOKUP(H173,Codes!C$1:D$475,2,FALSE),\"\")","v":""}]
[{"$nulls":6},{"$f":"IF(H174<>\"\",VLOOKUP(H174,Codes!C$1:D$475,2,FALSE),\"\")","v":""}]
[{"$nulls":6},{"$f":"IF(H175<>\"\",VLOOKUP(H175,Codes!C$1:D$475,2,FALSE),\"\")","v":""}]
[{"$nulls":6},{"$f":"IF(H176<>\"\",VLOOKUP(H176,Codes!C$1:D$475,2,FALSE),\"\")","v":""}]
[{"$nulls":6},{"$f":"IF(H177<>\"\",VLOOKUP(H177,Codes!C$1:D$475,2,FALSE),\"\")","v":""}]
[{"$nulls":6},{"$f":"IF(H178<>\"\",VLOOKUP(H178,Codes!C$1:D$475,2,FALSE),\"\")","v":""}]
[{"$nulls":6},{"$f":"IF(H179<>\"\",VLOOKUP(H179,Codes!C$1:D$475,2,FALSE),\"\")","v":""}]
[{"$nulls":6},{"$f":"IF(H180<>\"\",VLOOKUP(H180,Codes!C$1:D$475,2,FALSE),\"\")","v":""}]
[{"$nulls":6},{"$f":"IF(H181<>\"\",VLOOKUP(H181,Codes!C$1:D$475,2,FALSE),\"\")","v":""}]
[{"$nulls":6},{"$f":"IF(H182<>\"\",VLOOKUP(H182,Codes!C$1:D$475,2,FALSE),\"\")","v":""}]
[{"$nulls":6},{"$f":"IF(H183<>\"\",VLOOKUP(H183,Codes!C$1:D$475,2,FALSE),\"\")","v":""}]
[{"$nulls":6},{"$f":"IF(H184<>\"\",VLOOKUP(H184,Codes!C$1:D$475,2,FALSE),\"\")","v":""}]
[{"$nulls":6},{"$f":"IF(H185<>\"\",VLOOKUP(H185,Codes!C$1:D$475,2,FALSE),\"\")","v":""}]
[{"$nulls":6},{"$f":"IF(H186<>\"\",VLOOKUP(H186,Codes!C$1:D$475,2,FALSE),\"\")","v":""}]
[{"$nulls":6},{"$f":"IF(H187<>\"\",VLOOKUP(H187,Codes!C$1:D$475,2,FALSE),\"\")","v":""}]
[{"$nulls":6},{"$f":"IF(H188<>\"\",VLOOKUP(H188,Codes!C$1:D$475,2,FALSE),\"\")","v":""}]
[{"$nulls":6},{"$f":"IF(H189<>\"\",VLOOKUP(H189,Codes!C$1:D$475,2,FALSE),\"\")","v":""}]
[{"$nulls":6},{"$f":"IF(H190<>\"\",VLOOKUP(H190,Codes!C$1:D$475,2,FALSE),\"\")","v":""}]
[{"$nulls":6},{"$f":"IF(H191<>\"\",VLOOKUP(H191,Codes!C$1:D$475,2,FALSE),\"\")","v":""}]
[{"$nulls":6},{"$f":"IF(H192<>\"\",VLOOKUP(H192,Codes!C$1:D$475,2,FALSE),\"\")","v":""}]
[{"$nulls":6},{"$f":"IF(H193<>\"\",VLOOKUP(H193,Codes!C$1:D$475,2,FALSE),\"\")","v":""}]
[{"$nulls":6},{"$f":"IF(H194<>\"\",VLOOKUP(H194,Codes!C$1:D$475,2,FALSE),\"\")","v":""}]
[{"$nulls":6},{"$f":"IF(H195<>\"\",VLOOKUP(H195,Codes!C$1:D$475,2,FALSE),\"\")","v":""}]
[{"$nulls":6},{"$f":"IF(H196<>\"\",VLOOKUP(H196,Codes!C$1:D$475,2,FALSE),\"\")","v":""}]
[{"$nulls":6},{"$f":"IF(H197<>\"\",VLOOKUP(H197,Codes!C$1:D$475,2,FALSE),\"\")","v":""}]
[{"$nulls":6},{"$f":"IF(H198<>\"\",VLOOKUP(H198,Codes!C$1:D$475,2,FALSE),\"\")","v":""}]
[{"$nulls":6},{"$f":"IF(H199<>\"\",VLOOKUP(H199,Codes!C$1:D$475,2,FALSE),\"\")","v":""}]
[{"$nulls":6},{"$f":"IF(H200<>\"\",VLOOKUP(H200,Codes!C$1:D$475,2,FALSE),\"\")","v":""}]
[{"$nulls":6},{"$f":"IF(H201<>\"\",VLOOKUP(H201,Codes!C$1:D$475,2,FALSE),\"\")","v":""}]
[{"$nulls":6},{"$f":"IF(H202<>\"\",VLOOKUP(H202,Codes!C$1:D$475,2,FALSE),\"\")","v":""}]
[{"$nulls":6},{"$f":"IF(H203<>\"\",VLOOKUP(H203,Codes!C$1:D$475,2,FALSE),\"\")","v":""}]
[{"$nulls":6},{"$f":"IF(H204<>\"\",VLOOKUP(H204,Codes!C$1:D$475,2,FALSE),\"\")","v":""}]
[{"$nulls":6},{"$f":"IF(H205<>\"\",VLOOKUP(H205,Codes!C$1:D$475,2,FALSE),\"\")","v":""}]
[{"$nulls":6},{"$f":"IF(H206<>\"\",VLOOKUP(H206,Codes!C$1:D$475,2,FALSE),\"\")","v":""}]
[{"$nulls":6},{"$f":"IF(H207<>\"\",VLOOKUP(H207,Codes!C$1:D$475,2,FALSE),\"\")","v":""}]
[{"$nulls":6},{"$f":"IF(H208<>\"\",VLOOKUP(H208,Codes!C$1:D$475,2,FALSE),\"\")","v":""}]
[{"$nulls":6},{"$f":"IF(H209<>\"\",VLOOKUP(H209,Codes!C$1:D$475,2,FALSE),\"\")","v":""}]
[{"$nulls":6},{"$f":"IF(H210<>\"\",VLOOKUP(H210,Codes!C$1:D$475,2,FALSE),\"\")","v":""}]
[{"$nulls":6},{"$f":"IF(H211<>\"\",VLOOKUP(H211,Codes!C$1:D$475,2,FALSE),\"\")","v":""}]
[{"$nulls":6},{"$f":"IF(H212<>\"\",VLOOKUP(H212,Codes!C$1:D$475,2,FALSE),\"\")","v":""}]
[{"$nulls":6},{"$f":"IF(H213<>\"\",VLOOKUP(H213,Codes!C$1:D$475,2,FALSE),\"\")","v":""}]
[{"$nulls":6},{"$f":"IF(H214<>\"\",VLOOKUP(H214,Codes!C$1:D$475,2,FALSE),\"\")","v":""}]
[{"$nulls":6},{"$f":"IF(H215<>\"\",VLOOKUP(H215,Codes!C$1:D$475,2,FALSE),\"\")","v":""}]
[{"$nulls":6},{"$f":"IF(H216<>\"\",VLOOKUP(H216,Codes!C$1:D$475,2,FALSE),\"\")","v":""}]
[{"$nulls":6},{"$f":"IF(H217<>\"\",VLOOKUP(H217,Codes!C$1:D$475,2,FALSE),\"\")","v":""}]
[{"$nulls":6},{"$f":"IF(H218<>\"\",VLOOKUP(H218,Codes!C$1:D$475,2,FALSE),\"\")","v":""}]
[{"$nulls":6},{"$f":"IF(H219<>\"\",VLOOKUP(H219,Codes!C$1:D$475,2,FALSE),\"\")","v":""}]
[{"$nulls":6},{"$f":"IF(H220<>\"\",VLOOKUP(H220,Codes!C$1:D$475,2,FALSE),\"\")","v":""}]
[{"$nulls":6},{"$f":"IF(H221<>\"\",VLOOKUP(H221,Codes!C$1:D$475,2,FALSE),\"\")","v":""}]
[{"$nulls":6},{"$f":"IF(H222<>\"\",VLOOKUP(H222,Codes!C$1:D$475,2,FALSE),\"\")","v":""}]
[{"$nulls":6},{"$f":"IF(H223<>\"\",VLOOKUP(H223,Codes!C$1:D$475,2,FALSE),\"\")","v":""}]
[{"$nulls":6},{"$f":"IF(H224<>\"\",VLOOKUP(H224,Codes!C$1:D$475,2,FALSE),\"\")","v":""}]
[{"$nulls":6},{"$f":"IF(H225<>\"\",VLOOKUP(H225,Codes!C$1:D$475,2,FALSE),\"\")","v":""}]
[{"$nulls":6},{"$f":"IF(H226<>\"\",VLOOKUP(H226,Codes!C$1:D$475,2,FALSE),\"\")","v":""}]
[{"$nulls":6},{"$f":"IF(H227<>\"\",VLOOKUP(H227,Codes!C$1:D$475,2,FALSE),\"\")","v":""}]
[{"$nulls":6},{"$f":"IF(H228<>\"\",VLOOKUP(H228,Codes!C$1:D$475,2,FALSE),\"\")","v":""}]
[{"$nulls":6},{"$f":"IF(H229<>\"\",VLOOKUP(H229,Codes!C$1:D$475,2,FALSE),\"\")","v":""}]
[{"$nulls":6},{"$f":"IF(H230<>\"\",VLOOKUP(H230,Codes!C$1:D$475,2,FALSE),\"\")","v":""}]
[{"$nulls":6},{"$f":"IF(H231<>\"\",VLOOKUP(H231,Codes!C$1:D$475,2,FALSE),\"\")","v":""}]
[{"$nulls":6},{"$f":"IF(H232<>\"\",VLOOKUP(H232,Codes!C$1:D$475,2,FALSE),\"\")","v":""}]
[{"$nulls":6},{"$f":"IF(H233<>\"\",VLOOKUP(H233,Codes!C$1:D$475,2,FALSE),\"\")","v":""}]
[{"$nulls":6},{"$f":"IF(H234<>\"\",VLOOKUP(H234,Codes!C$1:D$475,2,FALSE),\"\")","v":""}]
[{"$nulls":6},{"$f":"IF(H235<>\"\",VLOOKUP(H235,Codes!C$1:D$475,2,FALSE),\"\")","v":""}]
[{"$nulls":6},{"$f":"IF(H236<>\"\",VLOOKUP(H236,Codes!C$1:D$475,2,FALSE),\"\")","v":""}]
[{"$nulls":6},{"$f":"IF(H237<>\"\",VLOOKUP(H237,Codes!C$1:D$475,2,FALSE),\"\")","v":""}]
[{"$nulls":6},{"$f":"IF(H238<>\"\",VLOOKUP(H238,Codes!C$1:D$475,2,FALSE),\"\")","v":""}]
[{"$nulls":6},{"$f":"IF(H239<>\"\",VLOOKUP(H239,Codes!C$1:D$475,2,FALSE),\"\")","v":""}]
[{"$nulls":6},{"$f":"IF(H240<>\"\",VLOOKUP(H240,Codes!C$1:D$475,2,FALSE),\"\")","v":""}]
[{"$nulls":6},{"$f":"IF(H241<>\"\",VLOOKUP(H241,Codes!C$1:D$475,2,FALSE),\"\")","v":""}]
[{"$nulls":6},{"$f":"IF(H242<>\"\",VLOOKUP(H242,Codes!C$1:D$475,2,FALSE),\"\")","v":""}]
[{"$nulls":6},{"$f":"IF(H243<>\"\",VLOOKUP(H243,Codes!C$1:D$475,2,FALSE),\"\")","v":""}]
[{"$nulls":6},{"$f":"IF(H244<>\"\",VLOOKUP(H244,Codes!C$1:D$475,2,FALSE),\"\")","v":""}]
[{"$nulls":6},{"$f":"IF(H245<>\"\",VLOOKUP(H245,Codes!C$1:D$475,2,FALSE),\"\")","v":""}]
[{"$nulls":6},{"$f":"IF(H246<>\"\",VLOOKUP(H246,Codes!C$1:D$475,2,FALSE),\"\")","v":""}]
[{"$nulls":6},{"$f":"IF(H247<>\"\",VLOOKUP(H247,Codes!C$1:D$475,2,FALSE),\"\")","v":""}]
[{"$nulls":6},{"$f":"IF(H248<>\"\",VLOOKUP(H248,Codes!C$1:D$475,2,FALSE),\"\")","v":""}]
[{"$nulls":6},{"$f":"IF(H249<>\"\",VLOOKUP(H249,Codes!C$1:D$475,2,FALSE),\"\")","v":""}]
[{"$nulls":6},{"$f":"IF(H250<>\"\",VLOOKUP(H250,Codes!C$1:D$475,2,FALSE),\"\")","v":""}]
[{"$nulls":6},{"$f":"IF(H251<>\"\",VLOOKUP(H251,Codes!C$1:D$475,2,FALSE),\"\")","v":""}]
[{"$nulls":6},{"$f":"IF(H252<>\"\",VLOOKUP(H252,Codes!C$1:D$475,2,FALSE),\"\")","v":""}]
[{"$nulls":6},{"$f":"IF(H253<>\"\",VLOOKUP(H253,Codes!C$1:D$475,2,FALSE),\"\")","v":""}]
[{"$nulls":6},{"$f":"IF(H254<>\"\",VLOOKUP(H254,Codes!C$1:D$475,2,FALSE),\"\")","v":""}]
[{"$nulls":6},{"$f":"IF(H255<>\"\",VLOOKUP(H255,Codes!C$1:D$475,2,FALSE),\"\")","v":""}]
[{"$nulls":6},{"$f":"IF(H256<>\"\",VLOOKUP(H256,Codes!C$1:D$475,2,FALSE),\"\")","v":""}]
[{"$nulls":6},{"$f":"IF(H257<>\"\",VLOOKUP(H257,Codes!C$1:D$475,2,FALSE),\"\")","v":""}]
[{"$nulls":6},{"$f":"IF(H258<>\"\",VLOOKUP(H258,Codes!C$1:D$475,2,FALSE),\"\")","v":""}]
[{"$nulls":6},{"$f":"IF(H259<>\"\",VLOOKUP(H259,Codes!C$1:D$475,2,FALSE),\"\")","v":""}]
[{"$nulls":6},{"$f":"IF(H260<>\"\",VLOOKUP(H260,Codes!C$1:D$475,2,FALSE),\"\")","v":""}]
[{"$nulls":6},{"$f":"IF(H261<>\"\",VLOOKUP(H261,Codes!C$1:D$475,2,FALSE),\"\")","v":""}]
[{"$nulls":6},{"$f":"IF(H262<>\"\",VLOOKUP(H262,Codes!C$1:D$475,2,FALSE),\"\")","v":""}]
[{"$nulls":6},{"$f":"IF(H263<>\"\",VLOOKUP(H263,Codes!C$1:D$475,2,FALSE),\"\")","v":""}]
[{"$nulls":6},{"$f":"IF(H264<>\"\",VLOOKUP(H264,Codes!C$1:D$475,2,FALSE),\"\")","v":""}]
[{"$nulls":6},{"$f":"IF(H265<>\"\",VLOOKUP(H265,Codes!C$1:D$475,2,FALSE),\"\")","v":""}]
[{"$nulls":6},{"$f":"IF(H266<>\"\",VLOOKUP(H266,Codes!C$1:D$475,2,FALSE),\"\")","v":""}]
[{"$nulls":6},{"$f":"IF(H267<>\"\",VLOOKUP(H267,Codes!C$1:D$475,2,FALSE),\"\")","v":""}]
[{"$nulls":6},{"$f":"IF(H268<>\"\",VLOOKUP(H268,Codes!C$1:D$475,2,FALSE),\"\")","v":""}]
[{"$nulls":6},{"$f":"IF(H269<>\"\",VLOOKUP(H269,Codes!C$1:D$475,2,FALSE),\"\")","v":""}]
[{"$nulls":6},{"$f":"IF(H270<>\"\",VLOOKUP(H270,Codes!C$1:D$475,2,FALSE),\"\")","v":""}]
[{"$nulls":6},{"$f":"IF(H271<>\"\",VLOOKUP(H271,Codes!C$1:D$475,2,FALSE),\"\")","v":""}]
[{"$nulls":6},{"$f":"IF(H272<>\"\",VLOOKUP(H272,Codes!C$1:D$475,2,FALSE),\"\")","v":""}]
[{"$nulls":6},{"$f":"IF(H273<>\"\",VLOOKUP(H273,Codes!C$1:D$475,2,FALSE),\"\")","v":""}]
[{"$nulls":6},{"$f":"IF(H274<>\"\",VLOOKUP(H274,Codes!C$1:D$475,2,FALSE),\"\")","v":""}]
[{"$nulls":6},{"$f":"IF(H275<>\"\",VLOOKUP(H275,Codes!C$1:D$475,2,FALSE),\"\")","v":""}]
[{"$nulls":6},{"$f":"IF(H276<>\"\",VLOOKUP(H276,Codes!C$1:D$475,2,FALSE),\"\")","v":""}]
[{"$nulls":6},{"$f":"IF(H277<>\"\",VLOOKUP(H277,Codes!C$1:D$475,2,FALSE),\"\")","v":""}]
[{"$nulls":6},{"$f":"IF(H278<>\"\",VLOOKUP(H278,Codes!C$1:D$475,2,FALSE),\"\")","v":""}]
[{"$nulls":6},{"$f":"IF(H279<>\"\",VLOOKUP(H279,Codes!C$1:D$475,2,FALSE),\"\")","v":""}]
[{"$nulls":6},{"$f":"IF(H280<>\"\",VLOOKUP(H280,Codes!C$1:D$475,2,FALSE),\"\")","v":""}]
[{"$nulls":6},{"$f":"IF(H281<>\"\",VLOOKUP(H281,Codes!C$1:D$475,2,FALSE),\"\")","v":""}]
[{"$nulls":6},{"$f":"IF(H282<>\"\",VLOOKUP(H282,Codes!C$1:D$475,2,FALSE),\"\")","v":""}]
[{"$nulls":6},{"$f":"IF(H283<>\"\",VLOOKUP(H283,Codes!C$1:D$475,2,FALSE),\"\")","v":""}]
[{"$nulls":6},{"$f":"IF(H284<>\"\",VLOOKUP(H284,Codes!C$1:D$475,2,FALSE),\"\")","v":""}]
[{"$nulls":6},{"$f":"IF(H285<>\"\",VLOOKUP(H285,Codes!C$1:D$475,2,FALSE),\"\")","v":""}]
[{"$nulls":6},{"$f":"IF(H286<>\"\",VLOOKUP(H286,Codes!C$1:D$475,2,FALSE),\"\")","v":""}]
[{"$nulls":6},{"$f":"IF(H287<>\"\",VLOOKUP(H287,Codes!C$1:D$475,2,FALSE),\"\")","v":""}]
[{"$nulls":6},{"$f":"IF(H288<>\"\",VLOOKUP(H288,Codes!C$1:D$475,2,FALSE),\"\")","v":""}]
[{"$nulls":6},{"$f":"IF(H289<>\"\",VLOOKUP(H289,Codes!C$1:D$475,2,FALSE),\"\")","v":""}]
[{"$nulls":6},{"$f":"IF(H290<>\"\",VLOOKUP(H290,Codes!C$1:D$475,2,FALSE),\"\")","v":""}]
[{"$nulls":6},{"$f":"IF(H291<>\"\",VLOOKUP(H291,Codes!C$1:D$475,2,FALSE),\"\")","v":""}]
[{"$nulls":6},{"$f":"IF(H292<>\"\",VLOOKUP(H292,Codes!C$1:D$475,2,FALSE),\"\")","v":""}]
[{"$nulls":6},{"$f":"IF(H293<>\"\",VLOOKUP(H293,Codes!C$1:D$475,2,FALSE),\"\")","v":""}]
[{"$nulls":6},{"$f":"IF(H294<>\"\",VLOOKUP(H294,Codes!C$1:D$475,2,FALSE),\"\")","v":""}]
[{"$nulls":6},{"$f":"IF(H295<>\"\",VLOOKUP(H295,Codes!C$1:D$475,2,FALSE),\"\")","v":""}]
[{"$nulls":6},{"$f":"IF(H296<>\"\",VLOOKUP(H296,Codes!C$1:D$475,2,FALSE),\"\")","v":""}]
[{"$nulls":6},{"$f":"IF(H297<>\"\",VLOOKUP(H297,Codes!C$1:D$475,2,FALSE),\"\")","v":""}]
[{"$nulls":6},{"$f":"IF(H298<>\"\",VLOOKUP(H298,Codes!C$1:D$475,2,FALSE),\"\")","v":""}]
[{"$nulls":6},{"$f":"IF(H299<>\"\",VLOOKUP(H299,Codes!C$1:D$475,2,FALSE),\"\")","v":""}]
[{"$nulls":6},{"$f":"IF(H300<>\"\",VLOOKUP(H300,Codes!C$1:D$475,2,FALSE),\"\")","v":""}]
[{"$nulls":6},{"$f":"IF(H301<>\"\",VLOOKUP(H301,Codes!C$1:D$475,2,FALSE),\"\")","v":""}]
[{"$nulls":6},{"$f":"IF(H302<>\"\",VLOOKUP(H302,Codes!C$1:D$475,2,FALSE),\"\")","v":""}]
[{"$nulls":6},{"$f":"IF(H303<>\"\",VLOOKUP(H303,Codes!C$1:D$475,2,FALSE),\"\")","v":""}]
[{"$nulls":6},{"$f":"IF(H304<>\"\",VLOOKUP(H304,Codes!C$1:D$475,2,FALSE),\"\")","v":""}]
[{"$nulls":6},{"$f":"IF(H305<>\"\",VLOOKUP(H305,Codes!C$1:D$475,2,FALSE),\"\")","v":""}]
[{"$nulls":6},{"$f":"IF(H306<>\"\",VLOOKUP(H306,Codes!C$1:D$475,2,FALSE),\"\")","v":""}]
[{"$nulls":6},{"$f":"IF(H307<>\"\",VLOOKUP(H307,Codes!C$1:D$475,2,FALSE),\"\")","v":""}]
[{"$nulls":6},{"$f":"IF(H308<>\"\",VLOOKUP(H308,Codes!C$1:D$475,2,FALSE),\"\")","v":""}]
[{"$nulls":6},{"$f":"IF(H309<>\"\",VLOOKUP(H309,Codes!C$1:D$475,2,FALSE),\"\")","v":""}]
[{"$nulls":6},{"$f":"IF(H310<>\"\",VLOOKUP(H310,Codes!C$1:D$475,2,FALSE),\"\")","v":""}]
[{"$nulls":6},{"$f":"IF(H311<>\"\",VLOOKUP(H311,Codes!C$1:D$475,2,FALSE),\"\")","v":""}]
[{"$nulls":6},{"$f":"IF(H312<>\"\",VLOOKUP(H312,Codes!C$1:D$475,2,FALSE),\"\")","v":""}]
[{"$nulls":6},{"$f":"IF(H313<>\"\",VLOOKUP(H313,Codes!C$1:D$475,2,FALSE),\"\")","v":""}]
[{"$nulls":6},{"$f":"IF(H314<>\"\",VLOOKUP(H314,Codes!C$1:D$475,2,FALSE),\"\")","v":""}]
[{"$nulls":6},{"$f":"IF(H315<>\"\",VLOOKUP(H315,Codes!C$1:D$475,2,FALSE),\"\")","v":""}]
[{"$nulls":6},{"$f":"IF(H316<>\"\",VLOOKUP(H316,Codes!C$1:D$475,2,FALSE),\"\")","v":""}]
[{"$nulls":6},{"$f":"IF(H317<>\"\",VLOOKUP(H317,Codes!C$1:D$475,2,FALSE),\"\")","v":""}]
[{"$nulls":6},{"$f":"IF(H318<>\"\",VLOOKUP(H318,Codes!C$1:D$475,2,FALSE),\"\")","v":""}]
[{"$nulls":6},{"$f":"IF(H319<>\"\",VLOOKUP(H319,Codes!C$1:D$475,2,FALSE),\"\")","v":""}]
[{"$nulls":6},{"$f":"IF(H320<>\"\",VLOOKUP(H320,Codes!C$1:D$475,2,FALSE),\"\")","v":""}]
[{"$nulls":6},{"$f":"IF(H321<>\"\",VLOOKUP(H321,Codes!C$1:D$475,2,FALSE),\"\")","v":""}]
[{"$nulls":6},{"$f":"IF(H322<>\"\",VLOOKUP(H322,Codes!C$1:D$475,2,FALSE),\"\")","v":""}]
[{"$nulls":6},{"$f":"IF(H323<>\"\",VLOOKUP(H323,Codes!C$1:D$475,2,FALSE),\"\")","v":""}]
[{"$nulls":6},{"$f":"IF(H324<>\"\",VLOOKUP(H324,Codes!C$1:D$475,2,FALSE),\"\")","v":""}]
[{"$nulls":6},{"$f":"IF(H325<>\"\",VLOOKUP(H325,Codes!C$1:D$475,2,FALSE),\"\")","v":""}]
[{"$nulls":6},{"$f":"IF(H326<>\"\",VLOOKUP(H326,Codes!C$1:D$475,2,FALSE),\"\")","v":""}]
[{"$nulls":6},{"$f":"IF(H327<>\"\",VLOOKUP(H327,Codes!C$1:D$475,2,FALSE),\"\")","v":""}]
[{"$nulls":6},{"$f":"IF(H328<>\"\",VLOOKUP(H328,Codes!C$1:D$475,2,FALSE),\"\")","v":""}]
[{"$nulls":6},{"$f":"IF(H329<>\"\",VLOOKUP(H329,Codes!C$1:D$475,2,FALSE),\"\")","v":""}]
[{"$nulls":6},{"$f":"IF(H330<>\"\",VLOOKUP(H330,Codes!C$1:D$475,2,FALSE),\"\")","v":""}]
[{"$nulls":6},{"$f":"IF(H331<>\"\",VLOOKUP(H331,Codes!C$1:D$475,2,FALSE),\"\")","v":""}]
[{"$nulls":6},{"$f":"IF(H332<>\"\",VLOOKUP(H332,Codes!C$1:D$475,2,FALSE),\"\")","v":""}]
[{"$nulls":6},{"$f":"IF(H333<>\"\",VLOOKUP(H333,Codes!C$1:D$475,2,FALSE),\"\")","v":""}]
[{"$nulls":6},{"$f":"IF(H334<>\"\",VLOOKUP(H334,Codes!C$1:D$475,2,FALSE),\"\")","v":""}]
[{"$nulls":6},{"$f":"IF(H335<>\"\",VLOOKUP(H335,Codes!C$1:D$475,2,FALSE),\"\")","v":""}]
[{"$nulls":6},{"$f":"IF(H336<>\"\",VLOOKUP(H336,Codes!C$1:D$475,2,FALSE),\"\")","v":""}]
[{"$nulls":6},{"$f":"IF(H337<>\"\",VLOOKUP(H337,Codes!C$1:D$475,2,FALSE),\"\")","v":""}]
[{"$nulls":6},{"$f":"IF(H338<>\"\",VLOOKUP(H338,Codes!C$1:D$475,2,FALSE),\"\")","v":""}]
[{"$nulls":6},{"$f":"IF(H339<>\"\",VLOOKUP(H339,Codes!C$1:D$475,2,FALSE),\"\")","v":""}]
[{"$nulls":6},{"$f":"IF(H340<>\"\",VLOOKUP(H340,Codes!C$1:D$475,2,FALSE),\"\")","v":""}]
[{"$nulls":6},{"$f":"IF(H341<>\"\",VLOOKUP(H341,Codes!C$1:D$475,2,FALSE),\"\")","v":""}]
[{"$nulls":6},{"$f":"IF(H342<>\"\",VLOOKUP(H342,Codes!C$1:D$475,2,FALSE),\"\")","v":""}]
[{"$nulls":6},{"$f":"IF(H343<>\"\",VLOOKUP(H343,Codes!C$1:D$475,2,FALSE),\"\")","v":""}]
[{"$nulls":6},{"$f":"IF(H344<>\"\",VLOOKUP(H344,Codes!C$1:D$475,2,FALSE),\"\")","v":""}]
[{"$nulls":6},{"$f":"IF(H345<>\"\",VLOOKUP(H345,Codes!C$1:D$475,2,FALSE),\"\")","v":""}]
[{"$nulls":6},{"$f":"IF(H346<>\"\",VLOOKUP(H346,Codes!C$1:D$475,2,FALSE),\"\")","v":""}]
[{"$nulls":6},{"$f":"IF(H347<>\"\",VLOOKUP(H347,Codes!C$1:D$475,2,FALSE),\"\")","v":""}]
[{"$nulls":6},{"$f":"IF(H348<>\"\",VLOOKUP(H348,Codes!C$1:D$475,2,FALSE),\"\")","v":""}]
[{"$nulls":6},{"$f":"IF(H349<>\"\",VLOOKUP(H349,Codes!C$1:D$475,2,FALSE),\"\")","v":""}]
[{"$nulls":6},{"$f":"IF(H350<>\"\",VLOOKUP(H350,Codes!C$1:D$475,2,FALSE),\"\")","v":""}]
[{"$nulls":6},{"$f":"IF(H351<>\"\",VLOOKUP(H351,Codes!C$1:D$475,2,FALSE),\"\")","v":""}]
[{"$nulls":6},{"$f":"IF(H352<>\"\",VLOOKUP(H352,Codes!C$1:D$475,2,FALSE),\"\")","v":""}]
[{"$nulls":6},{"$f":"IF(H353<>\"\",VLOOKUP(H353,Codes!C$1:D$475,2,FALSE),\"\")","v":""}]
[{"$nulls":6},{"$f":"IF(H354<>\"\",VLOOKUP(H354,Codes!C$1:D$475,2,FALSE),\"\")","v":""}]
[{"$nulls":6},{"$f":"IF(H355<>\"\",VLOOKUP(H355,Codes!C$1:D$475,2,FALSE),\"\")","v":""}]
[{"$nulls":6},{"$f":"IF(H356<>\"\",VLOOKUP(H356,Codes!C$1:D$475,2,FALSE),\"\")","v":""}]
[{"$nulls":6},{"$f":"IF(H357<>\"\",VLOOKUP(H357,Codes!C$1:D$475,2,FALSE),\"\")","v":""}]
[{"$nulls":6},{"$f":"IF(H358<>\"\",VLOOKUP(H358,Codes!C$1:D$475,2,FALSE),\"\")","v":""}]
[{"$nulls":6},{"$f":"IF(H359<>\"\",VLOOKUP(H359,Codes!C$1:D$475,2,FALSE),\"\")","v":""}]
[{"$nulls":6},{"$f":"IF(H360<>\"\",VLOOKUP(H360,Codes!C$1:D$475,2,FALSE),\"\")","v":""}]
[{"$nulls":6},{"$f":"IF(H361<>\"\",VLOOKUP(H361,Codes!C$1:D$475,2,FALSE),\"\")","v":""}]
[{"$nulls":6},{"$f":"IF(H362<>\"\",VLOOKUP(H362,Codes!C$1:D$475,2,FALSE),\"\")","v":""}]
[{"$nulls":6},{"$f":"IF(H363<>\"\",VLOOKUP(H363,Codes!C$1:D$475,2,FALSE),\"\")","v":""}]
[{"$nulls":6},{"$f":"IF(H364<>\"\",VLOOKUP(H364,Codes!C$1:D$475,2,FALSE),\"\")","v":""}]
[{"$nulls":6},{"$f":"IF(H365<>\"\",VLOOKUP(H365,Codes!C$1:D$475,2,FALSE),\"\")","v":""}]
[{"$nulls":6},{"$f":"IF(H366<>\"\",VLOOKUP(H366,Codes!C$1:D$475,2,FALSE),\"\")","v":""}]
[{"$nulls":6},{"$f":"IF(H367<>\"\",VLOOKUP(H367,Codes!C$1:D$475,2,FALSE),\"\")","v":""}]
[{"$nulls":6},{"$f":"IF(H368<>\"\",VLOOKUP(H368,Codes!C$1:D$475,2,FALSE),\"\")","v":""}]
[{"$nulls":6},{"$f":"IF(H369<>\"\",VLOOKUP(H369,Codes!C$1:D$475,2,FALSE),\"\")","v":""}]
[{"$nulls":6},{"$f":"IF(H370<>\"\",VLOOKUP(H370,Codes!C$1:D$475,2,FALSE),\"\")","v":""}]
[{"$nulls":6},{"$f":"IF(H371<>\"\",VLOOKUP(H371,Codes!C$1:D$475,2,FALSE),\"\")","v":""}]
[{"$nulls":6},{"$f":"IF(H372<>\"\",VLOOKUP(H372,Codes!C$1:D$475,2,FALSE),\"\")","v":""},{"$nulls":3},0,0,{"v":0,"d":"0.00"},""]
[{"$nulls":6},{"$f":"IF(H373<>\"\",VLOOKUP(H373,Codes!C$1:D$475,2,FALSE),\"\")","v":""},{"$nulls":3},0,0,{"v":0,"d":"0.00"},""]
[{"$nulls":6},{"$f":"IF(H374<>\"\",VLOOKUP(H374,Codes!C$1:D$475,2,FALSE),\"\")","v":""},{"$nulls":3},0,0,{"v":0,"d":"0.00"},""]
[{"$nulls":6},{"$f":"IF(H375<>\"\",VLOOKUP(H375,Codes!C$1:D$475,2,FALSE),\"\")","v":""},{"$nulls":3},0,0,{"v":0,"d":"0.00"},""]
[{"$nulls":6},{"$f":"IF(H376<>\"\",VLOOKUP(H376,Codes!C$1:D$475,2,FALSE),\"\")","v":""},{"$nulls":3},0,0,{"v":0,"d":"0.00"},""]
[{"$nulls":6},{"$f":"IF(H377<>\"\",VLOOKUP(H377,Codes!C$1:D$475,2,FALSE),\"\")","v":""},{"$nulls":3},0,0,{"v":0,"d":"0.00"},""]
[{"$nulls":6},{"$f":"IF(H378<>\"\",VLOOKUP(H378,Codes!C$1:D$475,2,FALSE),\"\")","v":""},{"$nulls":3},0,0,{"v":0,"d":"0.00"},""]
[{"$nulls":6},{"$f":"IF(H379<>\"\",VLOOKUP(H379,Codes!C$1:D$475,2,FALSE),\"\")","v":""},{"$nulls":3},0,0,{"v":0,"d":"0.00"},""]
[{"$nulls":6},{"$f":"IF(H380<>\"\",VLOOKUP(H380,Codes!C$1:D$475,2,FALSE),\"\")","v":""},{"$nulls":3},0,0,{"v":0,"d":"0.00"},""]
[{"$nulls":6},{"$f":"IF(H381<>\"\",VLOOKUP(H381,Codes!C$1:D$475,2,FALSE),\"\")","v":""},{"$nulls":3},0,0,{"v":0,"d":"0.00"},""]
[{"$nulls":6},{"$f":"IF(H382<>\"\",VLOOKUP(H382,Codes!C$1:D$475,2,FALSE),\"\")","v":""},{"$nulls":3},0,0,{"v":0,"d":"0.00"},""]
[{"$nulls":6},{"$f":"IF(H383<>\"\",VLOOKUP(H383,Codes!C$1:D$475,2,FALSE),\"\")","v":""},{"$nulls":3},0,0,{"v":0,"d":"0.00"},""]
[{"$nulls":6},{"$f":"IF(H384<>\"\",VLOOKUP(H384,Codes!C$1:D$475,2,FALSE),\"\")","v":""},{"$nulls":3},0,0,{"v":0,"d":"0.00"},""]
[{"$nulls":6},{"$f":"IF(H385<>\"\",VLOOKUP(H385,Codes!C$1:D$475,2,FALSE),\"\")","v":""},{"$nulls":3},0,0,{"v":0,"d":"0.00"},""]
[{"$nulls":6},{"$f":"IF(H386<>\"\",VLOOKUP(H386,Codes!C$1:D$475,2,FALSE),\"\")","v":""},{"$nulls":3},0,0,{"v":0,"d":"0.00"},""]
[{"$nulls":6},{"$f":"IF(H387<>\"\",VLOOKUP(H387,Codes!C$1:D$475,2,FALSE),\"\")","v":""},{"$nulls":3},0,0,{"v":0,"d":"0.00"},""]
[{"$nulls":6},{"$f":"IF(H388<>\"\",VLOOKUP(H388,Codes!C$1:D$475,2,FALSE),\"\")","v":""},{"$nulls":3},0,0,{"v":0,"d":"0.00"},""]
[{"$nulls":6},{"$f":"IF(H389<>\"\",VLOOKUP(H389,Codes!C$1:D$475,2,FALSE),\"\")","v":""},{"$nulls":3},0,0,{"v":0,"d":"0.00"},""]
[{"$nulls":6},{"$f":"IF(H390<>\"\",VLOOKUP(H390,Codes!C$1:D$475,2,FALSE),\"\")","v":""},{"$nulls":3},0,0,{"v":0,"d":"0.00"},""]
[{"$nulls":6},{"$f":"IF(H391<>\"\",VLOOKUP(H391,Codes!C$1:D$475,2,FALSE),\"\")","v":""},{"$nulls":3},0,0,{"v":0,"d":"0.00"},""]
[{"$nulls":6},{"$f":"IF(H392<>\"\",VLOOKUP(H392,Codes!C$1:D$475,2,FALSE),\"\")","v":""},{"$nulls":3},0,0,{"v":0,"d":"0.00"},""]
[{"$nulls":6},{"$f":"IF(H393<>\"\",VLOOKUP(H393,Codes!C$1:D$475,2,FALSE),\"\")","v":""},{"$nulls":3},0,0,{"v":0,"d":"0.00"},""]
[{"$nulls":6},{"$f":"IF(H394<>\"\",VLOOKUP(H394,Codes!C$1:D$475,2,FALSE),\"\")","v":""},{"$nulls":3},0,0,{"v":0,"d":"0.00"},""]
[{"$nulls":6},{"$f":"IF(H395<>\"\",VLOOKUP(H395,Codes!C$1:D$475,2,FALSE),\"\")","v":""},{"$nulls":3},0,0,{"v":0,"d":"0.00"},""]
[{"$nulls":6},{"$f":"IF(H396<>\"\",VLOOKUP(H396,Codes!C$1:D$475,2,FALSE),\"\")","v":""},{"$nulls":3},0,0,{"v":0,"d":"0.00"},""]
[{"$nulls":6},{"$f":"IF(H397<>\"\",VLOOKUP(H397,Codes!C$1:D$475,2,FALSE),\"\")","v":""},{"$nulls":3},0,0,{"v":0,"d":"0.00"},""]
[{"$nulls":6},{"$f":"IF(H398<>\"\",VLOOKUP(H398,Codes!C$1:D$475,2,FALSE),\"\")","v":""},{"$nulls":3},0,0,{"v":0,"d":"0.00"},""]
[{"$nulls":6},{"$f":"IF(H399<>\"\",VLOOKUP(H399,Codes!C$1:D$475,2,FALSE),\"\")","v":""},{"$nulls":3},0,0,{"v":0,"d":"0.00"},""]
[{"$nulls":6},{"$f":"IF(H400<>\"\",VLOOKUP(H400,Codes!C$1:D$475,2,FALSE),\"\")","v":""},{"$nulls":3},0,0,{"v":0,"d":"0.00"},""]
[{"$nulls":6},{"$f":"IF(H401<>\"\",VLOOKUP(H401,Codes!C$1:D$475,2,FALSE),\"\")","v":""},{"$nulls":3},0,0,{"v":0,"d":"0.00"},""]
[{"$nulls":6},{"$f":"IF(H402<>\"\",VLOOKUP(H402,Codes!C$1:D$475,2,FALSE),\"\")","v":""},{"$nulls":3},0,0,{"v":0,"d":"0.00"},""]
[{"$nulls":6},{"$f":"IF(H403<>\"\",VLOOKUP(H403,Codes!C$1:D$475,2,FALSE),\"\")","v":""},{"$nulls":3},0,0,{"v":0,"d":"0.00"},""]
[{"$nulls":6},{"$f":"IF(H404<>\"\",VLOOKUP(H404,Codes!C$1:D$475,2,FALSE),\"\")","v":""},{"$nulls":3},0,0,{"v":0,"d":"0.00"},""]
[{"$nulls":6},{"$f":"IF(H405<>\"\",VLOOKUP(H405,Codes!C$1:D$475,2,FALSE),\"\")","v":""},{"$nulls":3},0,0,{"v":0,"d":"0.00"},""]
[{"$nulls":6},{"$f":"IF(H406<>\"\",VLOOKUP(H406,Codes!C$1:D$475,2,FALSE),\"\")","v":""},{"$nulls":3},0,0,{"v":0,"d":"0.00"},""]
[{"$nulls":6},{"$f":"IF(H407<>\"\",VLOOKUP(H407,Codes!C$1:D$475,2,FALSE),\"\")","v":""},{"$nulls":3},0,0,{"v":0,"d":"0.00"},""]
[{"$nulls":6},{"$f":"IF(H408<>\"\",VLOOKUP(H408,Codes!C$1:D$475,2,FALSE),\"\")","v":""},{"$nulls":3},0,0,{"v":0,"d":"0.00"},""]
[{"$nulls":6},{"$f":"IF(H409<>\"\",VLOOKUP(H409,Codes!C$1:D$475,2,FALSE),\"\")","v":""},{"$nulls":3},0,0,{"v":0,"d":"0.00"},""]
[{"$nulls":6},{"$f":"IF(H410<>\"\",VLOOKUP(H410,Codes!C$1:D$475,2,FALSE),\"\")","v":""},{"$nulls":3},0,0,{"v":0,"d":"0.00"},""]
[{"$nulls":6},{"$f":"IF(H411<>\"\",VLOOKUP(H411,Codes!C$1:D$475,2,FALSE),\"\")","v":""},{"$nulls":3},0,0,{"v":0,"d":"0.00"},""]
[{"$nulls":6},{"$f":"IF(H412<>\"\",VLOOKUP(H412,Codes!C$1:D$475,2,FALSE),\"\")","v":""},{"$nulls":3},0,0,{"v":0,"d":"0.00"},""]
[{"$nulls":6},{"$f":"IF(H413<>\"\",VLOOKUP(H413,Codes!C$1:D$475,2,FALSE),\"\")","v":""},{"$nulls":3},0,0,{"v":0,"d":"0.00"},""]
[{"$nulls":6},{"$f":"IF(H414<>\"\",VLOOKUP(H414,Codes!C$1:D$475,2,FALSE),\"\")","v":""},{"$nulls":3},0,0,{"v":0,"d":"0.00"},""]
[{"$nulls":6},{"$f":"IF(H415<>\"\",VLOOKUP(H415,Codes!C$1:D$475,2,FALSE),\"\")","v":""},{"$nulls":3},0,0,{"v":0,"d":"0.00"},""]
[{"$nulls":6},{"$f":"IF(H416<>\"\",VLOOKUP(H416,Codes!C$1:D$475,2,FALSE),\"\")","v":""},{"$nulls":3},0,0,{"v":0,"d":"0.00"},""]
[{"$nulls":6},{"$f":"IF(H417<>\"\",VLOOKUP(H417,Codes!C$1:D$475,2,FALSE),\"\")","v":""},{"$nulls":3},0,0,{"v":0,"d":"0.00"},""]
[{"$nulls":6},{"$f":"IF(H418<>\"\",VLOOKUP(H418,Codes!C$1:D$475,2,FALSE),\"\")","v":""},{"$nulls":3},0,0,{"v":0,"d":"0.00"},""]
[{"$nulls":6},{"$f":"IF(H419<>\"\",VLOOKUP(H419,Codes!C$1:D$475,2,FALSE),\"\")","v":""},{"$nulls":3},0,0,{"v":0,"d":"0.00"},""]
[{"$nulls":6},{"$f":"IF(H420<>\"\",VLOOKUP(H420,Codes!C$1:D$475,2,FALSE),\"\")","v":""},{"$nulls":3},0,0,{"v":0,"d":"0.00"},""]
[{"$nulls":6},{"$f":"IF(H421<>\"\",VLOOKUP(H421,Codes!C$1:D$475,2,FALSE),\"\")","v":""},{"$nulls":3},0,0,{"v":0,"d":"0.00"},""]
[{"$nulls":6},{"$f":"IF(H422<>\"\",VLOOKUP(H422,Codes!C$1:D$475,2,FALSE),\"\")","v":""},{"$nulls":3},0,0,{"v":0,"d":"0.00"},""]
[{"$nulls":6},{"$f":"IF(H423<>\"\",VLOOKUP(H423,Codes!C$1:D$475,2,FALSE),\"\")","v":""},{"$nulls":3},0,0,{"v":0,"d":"0.00"},""]
[{"$nulls":6},{"$f":"IF(H424<>\"\",VLOOKUP(H424,Codes!C$1:D$475,2,FALSE),\"\")","v":""},{"$nulls":3},0,0,{"v":0,"d":"0.00"},""]
[{"$nulls":6},{"$f":"IF(H425<>\"\",VLOOKUP(H425,Codes!C$1:D$475,2,FALSE),\"\")","v":""},{"$nulls":3},0,0,{"v":0,"d":"0.00"},""]
[{"$nulls":6},{"$f":"IF(H426<>\"\",VLOOKUP(H426,Codes!C$1:D$475,2,FALSE),\"\")","v":""},{"$nulls":3},0,0,{"v":0,"d":"0.00"},""]
[{"$nulls":6},{"$f":"IF(H427<>\"\",VLOOKUP(H427,Codes!C$1:D$475,2,FALSE),\"\")","v":""},{"$nulls":3},0,0,{"v":0,"d":"0.00"},""]
[{"$nulls":6},{"$f":"IF(H428<>\"\",VLOOKUP(H428,Codes!C$1:D$475,2,FALSE),\"\")","v":""},{"$nulls":3},{"$f":"D428","v":0},{"$f":"H428","v":0},{"$f":"D428","v":{"v":0,"d":"0.00"}},{"$f":"CONCATENATE(G428,H428)","v":""}]
[{"$nulls":6},{"$f":"IF(H429<>\"\",VLOOKUP(H429,Codes!C$1:D$475,2,FALSE),\"\")","v":""},{"$nulls":3},0,0,{"v":0,"d":"0.00"},""]
[{"$nulls":6},{"$f":"IF(H430<>\"\",VLOOKUP(H430,Codes!C$1:D$475,2,FALSE),\"\")","v":""},{"$nulls":3},0,0,{"v":0,"d":"0.00"},""]
[{"$nulls":6},{"$f":"IF(H431<>\"\",VLOOKUP(H431,Codes!C$1:D$475,2,FALSE),\"\")","v":""},{"$nulls":3},0,0,{"v":0,"d":"0.00"},""]
[{"$nulls":6},{"$f":"IF(H432<>\"\",VLOOKUP(H432,Codes!C$1:D$475,2,FALSE),\"\")","v":""},{"$nulls":3},0,0,{"v":0,"d":"0.00"},""]
[{"$nulls":6},{"$f":"IF(H433<>\"\",VLOOKUP(H433,Codes!C$1:D$475,2,FALSE),\"\")","v":""},{"$nulls":3},0,0,{"v":0,"d":"0.00"},""]
[{"$nulls":6},{"$f":"IF(H434<>\"\",VLOOKUP(H434,Codes!C$1:D$475,2,FALSE),\"\")","v":""},{"$nulls":3},0,0,{"v":0,"d":"0.00"},""]
[{"$nulls":6},{"$f":"IF(H435<>\"\",VLOOKUP(H435,Codes!C$1:D$475,2,FALSE),\"\")","v":""},{"$nulls":3},0,0,{"v":0,"d":"0.00"},""]
[{"$nulls":6},{"$f":"IF(H436<>\"\",VLOOKUP(H436,Codes!C$1:D$475,2,FALSE),\"\")","v":""},{"$nulls":3},0,0,{"v":0,"d":"0.00"},""]
[{"$nulls":6},{"$f":"IF(H437<>\"\",VLOOKUP(H437,Codes!C$1:D$475,2,FALSE),\"\")","v":""},{"$nulls":3},0,0,{"v":0,"d":"0.00"},""]
[{"$nulls":6},{"$f":"IF(H438<>\"\",VLOOKUP(H438,Codes!C$1:D$475,2,FALSE),\"\")","v":""},{"$nulls":3},0,0,{"v":0,"d":"0.00"},""]
[{"$nulls":6},{"$f":"IF(H439<>\"\",VLOOKUP(H439,Codes!C$1:D$475,2,FALSE),\"\")","v":""},{"$nulls":3},0,0,{"v":0,"d":"0.00"},""]
[{"$nulls":6},{"$f":"IF(H440<>\"\",VLOOKUP(H440,Codes!C$1:D$475,2,FALSE),\"\")","v":""},{"$nulls":3},0,0,{"v":0,"d":"0.00"},""]
[{"$nulls":6},{"$f":"IF(H441<>\"\",VLOOKUP(H441,Codes!C$1:D$475,2,FALSE),\"\")","v":""},{"$nulls":3},0,0,{"v":0,"d":"0.00"},""]
[{"$nulls":6},{"$f":"IF(H442<>\"\",VLOOKUP(H442,Codes!C$1:D$475,2,FALSE),\"\")","v":""},{"$nulls":3},0,0,{"v":0,"d":"0.00"},""]
[{"$nulls":6},{"$f":"IF(H443<>\"\",VLOOKUP(H443,Codes!C$1:D$475,2,FALSE),\"\")","v":""},{"$nulls":3},0,0,{"v":0,"d":"0.00"},""]
[{"$nulls":6},{"$f":"IF(H444<>\"\",VLOOKUP(H444,Codes!C$1:D$475,2,FALSE),\"\")","v":""},{"$nulls":3},0,0,{"v":0,"d":"0.00"},""]
[{"$nulls":6},{"$f":"IF(H445<>\"\",VLOOKUP(H445,Codes!C$1:D$475,2,FALSE),\"\")","v":""},{"$nulls":3},0,0,{"v":0,"d":"0.00"},""]
[{"$nulls":6},{"$f":"IF(H446<>\"\",VLOOKUP(H446,Codes!C$1:D$475,2,FALSE),\"\")","v":""},{"$nulls":3},0,0,{"v":0,"d":"0.00"},""]
[{"$nulls":6},{"$f":"IF(H447<>\"\",VLOOKUP(H447,Codes!C$1:D$475,2,FALSE),\"\")","v":""},{"$nulls":3},0,0,{"v":0,"d":"0.00"},""]
[{"$nulls":6},{"$f":"IF(H448<>\"\",VLOOKUP(H448,Codes!C$1:D$475,2,FALSE),\"\")","v":""},{"$nulls":3},0,0,{"v":0,"d":"0.00"},""]
[{"$nulls":6},{"$f":"IF(H449<>\"\",VLOOKUP(H449,Codes!C$1:D$475,2,FALSE),\"\")","v":""},{"$nulls":3},0,0,{"v":0,"d":"0.00"},""]
[{"$nulls":6},{"$f":"IF(H450<>\"\",VLOOKUP(H450,Codes!C$1:D$475,2,FALSE),\"\")","v":""},{"$nulls":3},0,0,{"v":0,"d":"0.00"},""]
[{"$nulls":6},{"$f":"IF(H451<>\"\",VLOOKUP(H451,Codes!C$1:D$475,2,FALSE),\"\")","v":""},{"$nulls":3},0,0,{"v":0,"d":"0.00"},""]
[{"$nulls":6},{"$f":"IF(H452<>\"\",VLOOKUP(H452,Codes!C$1:D$475,2,FALSE),\"\")","v":""},{"$nulls":3},0,0,{"v":0,"d":"0.00"},""]
[{"$nulls":6},{"$f":"IF(H453<>\"\",VLOOKUP(H453,Codes!C$1:D$475,2,FALSE),\"\")","v":""},{"$nulls":3},0,0,{"v":0,"d":"0.00"},""]
[{"$nulls":6},{"$f":"IF(H454<>\"\",VLOOKUP(H454,Codes!C$1:D$475,2,FALSE),\"\")","v":""},{"$nulls":3},0,0,{"v":0,"d":"0.00"},""]
[{"$nulls":6},{"$f":"IF(H455<>\"\",VLOOKUP(H455,Codes!C$1:D$475,2,FALSE),\"\")","v":""},{"$nulls":3},0,0,{"v":0,"d":"0.00"},""]
[{"$nulls":6},{"$f":"IF(H456<>\"\",VLOOKUP(H456,Codes!C$1:D$475,2,FALSE),\"\")","v":""},{"$nulls":3},0,0,{"v":0,"d":"0.00"},""]
[{"$nulls":6},{"$f":"IF(H457<>\"\",VLOOKUP(H457,Codes!C$1:D$475,2,FALSE),\"\")","v":""},{"$nulls":3},0,0,{"v":0,"d":"0.00"},""]
[{"$nulls":6},{"$f":"IF(H458<>\"\",VLOOKUP(H458,Codes!C$1:D$475,2,FALSE),\"\")","v":""},{"$nulls":3},0,0,{"v":0,"d":"0.00"},""]
[{"$nulls":6},{"$f":"IF(H459<>\"\",VLOOKUP(H459,Codes!C$1:D$475,2,FALSE),\"\")","v":""},{"$nulls":3},0,0,{"v":0,"d":"0.00"},""]
[{"$nulls":6},{"$f":"IF(H460<>\"\",VLOOKUP(H460,Codes!C$1:D$475,2,FALSE),\"\")","v":""},{"$nulls":3},0,0,{"v":0,"d":"0.00"},""]
[{"$nulls":6},{"$f":"IF(H461<>\"\",VLOOKUP(H461,Codes!C$1:D$475,2,FALSE),\"\")","v":""},{"$nulls":3},0,0,{"v":0,"d":"0.00"},""]
[{"$nulls":6},{"$f":"IF(H462<>\"\",VLOOKUP(H462,Codes!C$1:D$475,2,FALSE),\"\")","v":""},{"$nulls":3},0,0,{"v":0,"d":"0.00"},""]
[{"$nulls":6},{"$f":"IF(H463<>\"\",VLOOKUP(H463,Codes!C$1:D$475,2,FALSE),\"\")","v":""},{"$nulls":3},0,0,{"v":0,"d":"0.00"},""]
[{"$nulls":6},{"$f":"IF(H464<>\"\",VLOOKUP(H464,Codes!C$1:D$475,2,FALSE),\"\")","v":""},{"$nulls":3},0,0,{"v":0,"d":"0.00"},""]
[{"$nulls":6},{"$f":"IF(H465<>\"\",VLOOKUP(H465,Codes!C$1:D$475,2,FALSE),\"\")","v":""},{"$nulls":3},0,0,{"v":0,"d":"0.00"},""]
[{"$nulls":6},{"$f":"IF(H466<>\"\",VLOOKUP(H466,Codes!C$1:D$475,2,FALSE),\"\")","v":""},{"$nulls":3},0,0,{"v":0,"d":"0.00"},""]
[{"$nulls":6},{"$f":"IF(H467<>\"\",VLOOKUP(H467,Codes!C$1:D$475,2,FALSE),\"\")","v":""},{"$nulls":3},0,0,{"v":0,"d":"0.00"},""]
[{"$nulls":6},{"$f":"IF(H468<>\"\",VLOOKUP(H468,Codes!C$1:D$475,2,FALSE),\"\")","v":""},{"$nulls":3},0,0,{"v":0,"d":"0.00"},""]
[{"$nulls":6},{"$f":"IF(H469<>\"\",VLOOKUP(H469,Codes!C$1:D$475,2,FALSE),\"\")","v":""},{"$nulls":3},0,0,{"v":0,"d":"0.00"},""]
[{"$nulls":6},{"$f":"IF(H470<>\"\",VLOOKUP(H470,Codes!C$1:D$475,2,FALSE),\"\")","v":""},{"$nulls":3},0,0,{"v":0,"d":"0.00"},""]
[{"$nulls":6},{"$f":"IF(H471<>\"\",VLOOKUP(H471,Codes!C$1:D$475,2,FALSE),\"\")","v":""},{"$nulls":3},0,0,{"v":0,"d":"0.00"},""]
[{"$nulls":6},{"$f":"IF(H472<>\"\",VLOOKUP(H472,Codes!C$1:D$475,2,FALSE),\"\")","v":""},{"$nulls":3},0,0,{"v":0,"d":"0.00"},""]
[{"$nulls":6},{"$f":"IF(H473<>\"\",VLOOKUP(H473,Codes!C$1:D$475,2,FALSE),\"\")","v":""},{"$nulls":3},0,0,{"v":0,"d":"0.00"},""]
[{"$nulls":6},{"$f":"IF(H474<>\"\",VLOOKUP(H474,Codes!C$1:D$475,2,FALSE),\"\")","v":""},{"$nulls":3},0,0,{"v":0,"d":"0.00"},""]
[{"$nulls":6},{"$f":"IF(H475<>\"\",VLOOKUP(H475,Codes!C$1:D$475,2,FALSE),\"\")","v":""},{"$nulls":3},0,0,{"v":0,"d":"0.00"},""]
[{"$nulls":6},{"$f":"IF(H476<>\"\",VLOOKUP(H476,Codes!C$1:D$475,2,FALSE),\"\")","v":""},{"$nulls":3},0,0,{"v":0,"d":"0.00"},""]
[{"$nulls":6},{"$f":"IF(H477<>\"\",VLOOKUP(H477,Codes!C$1:D$475,2,FALSE),\"\")","v":""},{"$nulls":3},0,0,{"v":0,"d":"0.00"},""]
[{"$nulls":6},{"$f":"IF(H478<>\"\",VLOOKUP(H478,Codes!C$1:D$475,2,FALSE),\"\")","v":""},{"$nulls":3},0,0,{"v":0,"d":"0.00"},""]
[{"$nulls":6},{"$f":"IF(H479<>\"\",VLOOKUP(H479,Codes!C$1:D$475,2,FALSE),\"\")","v":""},{"$nulls":3},0,0,{"v":0,"d":"0.00"},""]
[{"$nulls":6},{"$f":"IF(H480<>\"\",VLOOKUP(H480,Codes!C$1:D$475,2,FALSE),\"\")","v":""},{"$nulls":3},0,0,{"v":0,"d":"0.00"},""]
[{"$nulls":6},{"$f":"IF(H481<>\"\",VLOOKUP(H481,Codes!C$1:D$475,2,FALSE),\"\")","v":""},{"$nulls":3},0,0,{"v":0,"d":"0.00"},""]
[{"$nulls":6},{"$f":"IF(H482<>\"\",VLOOKUP(H482,Codes!C$1:D$475,2,FALSE),\"\")","v":""},{"$nulls":3},0,0,{"v":0,"d":"0.00"},""]
[{"$nulls":6},{"$f":"IF(H483<>\"\",VLOOKUP(H483,Codes!C$1:D$475,2,FALSE),\"\")","v":""},{"$nulls":3},0,0,{"v":0,"d":"0.00"},""]
[{"$nulls":6},{"$f":"IF(H484<>\"\",VLOOKUP(H484,Codes!C$1:D$475,2,FALSE),\"\")","v":""},{"$nulls":3},0,0,{"v":0,"d":"0.00"},""]
[{"$nulls":6},{"$f":"IF(H485<>\"\",VLOOKUP(H485,Codes!C$1:D$475,2,FALSE),\"\")","v":""},{"$nulls":3},0,0,{"v":0,"d":"0.00"},""]
[{"$nulls":6},{"$f":"IF(H486<>\"\",VLOOKUP(H486,Codes!C$1:D$475,2,FALSE),\"\")","v":""},{"$nulls":3},0,0,{"v":0,"d":"0.00"},""]
[{"$nulls":6},{"$f":"IF(H487<>\"\",VLOOKUP(H487,Codes!C$1:D$475,2,FALSE),\"\")","v":""},{"$nulls":3},0,0,{"v":0,"d":"0.00"},""]
[{"$nulls":6},{"$f":"IF(H488<>\"\",VLOOKUP(H488,Codes!C$1:D$475,2,FALSE),\"\")","v":""},{"$nulls":3},0,0,{"v":0,"d":"0.00"},""]
[{"$nulls":6},{"$f":"IF(H489<>\"\",VLOOKUP(H489,Codes!C$1:D$475,2,FALSE),\"\")","v":""},{"$nulls":3},0,0,{"v":0,"d":"0.00"},""]
[{"$nulls":6},{"$f":"IF(H490<>\"\",VLOOKUP(H490,Codes!C$1:D$475,2,FALSE),\"\")","v":""},{"$nulls":3},0,0,{"v":0,"d":"0.00"},""]
[{"$nulls":6},{"$f":"IF(H491<>\"\",VLOOKUP(H491,Codes!C$1:D$475,2,FALSE),\"\")","v":""},{"$nulls":3},0,0,{"v":0,"d":"0.00"},""]
[{"$nulls":6},{"$f":"IF(H492<>\"\",VLOOKUP(H492,Codes!C$1:D$475,2,FALSE),\"\")","v":""},{"$nulls":3},{"$f":"D492","v":0},{"$f":"H492","v":0},{"$f":"D492","v":{"v":0,"d":"0.00"}},{"$f":"CONCATENATE(G492,H492)","v":""}]
[{"$nulls":6},{"$f":"IF(H493<>\"\",VLOOKUP(H493,Codes!C$1:D$475,2,FALSE),\"\")","v":""},{"$nulls":3},0,0,{"v":0,"d":"0.00"},""]
[{"$nulls":6},{"$f":"IF(H494<>\"\",VLOOKUP(H494,Codes!C$1:D$475,2,FALSE),\"\")","v":""},{"$nulls":3},0,0,{"v":0,"d":"0.00"},""]
[{"$nulls":6},{"$f":"IF(H495<>\"\",VLOOKUP(H495,Codes!C$1:D$475,2,FALSE),\"\")","v":""},{"$nulls":3},0,0,{"v":0,"d":"0.00"},""]
[{"$nulls":6},{"$f":"IF(H496<>\"\",VLOOKUP(H496,Codes!C$1:D$475,2,FALSE),\"\")","v":""},{"$nulls":3},0,0,{"v":0,"d":"0.00"},""]
[{"$nulls":6},{"$f":"IF(H497<>\"\",VLOOKUP(H497,Codes!C$1:D$475,2,FALSE),\"\")","v":""},{"$nulls":3},0,0,{"v":0,"d":"0.00"},""]
[{"$nulls":6},{"$f":"IF(H498<>\"\",VLOOKUP(H498,Codes!C$1:D$475,2,FALSE),\"\")","v":""},{"$nulls":3},0,0,{"v":0,"d":"0.00"},""]
[{"$nulls":6},{"$f":"IF(H499<>\"\",VLOOKUP(H499,Codes!C$1:D$475,2,FALSE),\"\")","v":""},{"$nulls":3},0,0,{"v":0,"d":"0.00"},""]
[{"$nulls":6},{"$f":"IF(H500<>\"\",VLOOKUP(H500,Codes!C$1:D$475,2,FALSE),\"\")","v":""},{"$nulls":3},0,0,{"v":0,"d":"0.00"},""]

{"sheet":"CAISSE 1","index":6,"n_rows":500,"n_cols":14,"rows_kept":500,"hidden":true,"merged":[[1,2,1,4]]}
[]
[null,"Eglise :"]
[null,"Caisse 1"]
[{"$nulls":4},"Date","Montant"]
[null,"Solde initial",null,null,{"$f":"+'BANQUE 1'!E5","v":"2014-01-01"}]
[null,"Solde intermédiaire"]
[null,"Solde total ",{"$nulls":3},{"$f":"+SUM(D11:D20191)","v":{"v":0,"d":"0.00"}}]
[null,"Contrôle:  si ok = rien; sinon  pas ok !!!",{"$nulls":3},{"$f":"+IF(F6<>F7,\"PAS OK !!!\",\"ok\")","v":"ok"}]
[null,"Entrées & Sorties de Caisse",null,null,"        Entrées & Sorties de Caisse","    Entrées & Sorties de Caisse","    Entrées & Sorties de Caisse","  Entrées & Sorties de Caisse"]
[null,"Date","N° pièce de caisse","Montant","Description","Commentaire","Compte comptable","Libellé compte comptable",null,{"$f":"D10","v":"Montant"},{"$f":"H10","v":"Libellé compte comptable"}]
[null,{"$f":"+E5","v":"2014-01-01"},null,{"$f":"+F5","v":{"v":0,"d":"0.00"}},null,null,{"$f":"IF(H11<>\"\",VLOOKUP(H11,Codes!C$1:D$475,2,FALSE),\"\")","v":""},null,null,{"$f":"D11","v":0},{"$f":"H11","v":0},{"$f":"D10","v":"Montant"},{"$f":"CONCATENATE(G10,H10)","v":"Compte comptableLibellé compte comptable"}]
[{"$nulls":6},{"$f":"IF(H12<>\"\",VLOOKUP(H12,Codes!C$1:D$475,2,FALSE),\"\")","v":""},null,null,0,0,{"$f":"D11","v":{"v":0,"d":"0.00"}},{"$f":"CONCATENATE(G11,H11)","v":""}]
[{"$nulls":6},{"$f":"IF(H13<>\"\",VLOOKUP(H13,Codes!C$1:D$475,2,FALSE),\"\")","v":""},null,null,0,0,{"v":0,"d":"0.00"},""]
[{"$nulls":6},{"$f":"IF(H14<>\"\",VLOOKUP(H14,Codes!C$1:D$475,2,FALSE),\"\")","v":""},null,null,0,0,{"v":0,"d":"0.00"},""]
[{"$nulls":6},{"$f":"IF(H15<>\"\",VLOOKUP(H15,Codes!C$1:D$475,2,FALSE),\"\")","v":""},null,null,0,0,{"v":0,"d":"0.00"},"","ok"]
[{"$nulls":6},{"$f":"IF(H16<>\"\",VLOOKUP(H16,Codes!C$1:D$475,2,FALSE),\"\")","v":""},null,null,0,0,{"v":0,"d":"0.00"},"","Erreur"]
[{"$nulls":6},{"$f":"IF(H17<>\"\",VLOOKUP(H17,Codes!C$1:D$475,2,FALSE),\"\")","v":""},null,null,0,0,{"v":0,"d":"0.00"},""]
[{"$nulls":6},{"$f":"IF(H18<>\"\",VLOOKUP(H18,Codes!C$1:D$475,2,FALSE),\"\")","v":""},null,null,0,0,{"v":0,"d":"0.00"},""]
[{"$nulls":6},{"$f":"IF(H19<>\"\",VLOOKUP(H19,Codes!C$1:D$475,2,FALSE),\"\")","v":""},null,null,0,0,{"v":0,"d":"0.00"},""]
[{"$nulls":6},{"$f":"IF(H20<>\"\",VLOOKUP(H20,Codes!C$1:D$475,2,FALSE),\"\")","v":""},null,null,0,0,{"v":0,"d":"0.00"},""]
[{"$nulls":6},{"$f":"IF(H21<>\"\",VLOOKUP(H21,Codes!C$1:D$475,2,FALSE),\"\")","v":""},null,null,0,0,{"v":0,"d":"0.00"},""]
[{"$nulls":6},{"$f":"IF(H22<>\"\",VLOOKUP(H22,Codes!C$1:D$475,2,FALSE),\"\")","v":""},null,null,0,0,{"v":0,"d":"0.00"},""]
[{"$nulls":6},{"$f":"IF(H23<>\"\",VLOOKUP(H23,Codes!C$1:D$475,2,FALSE),\"\")","v":""},null,null,0,0,{"v":0,"d":"0.00"},""]
[{"$nulls":6},{"$f":"IF(H24<>\"\",VLOOKUP(H24,Codes!C$1:D$475,2,FALSE),\"\")","v":""},null,null,0,0,{"v":0,"d":"0.00"},""]
[{"$nulls":6},{"$f":"IF(H25<>\"\",VLOOKUP(H25,Codes!C$1:D$475,2,FALSE),\"\")","v":""},null,null,0,0,{"v":0,"d":"0.00"},""]
[{"$nulls":6},{"$f":"IF(H26<>\"\",VLOOKUP(H26,Codes!C$1:D$475,2,FALSE),\"\")","v":""},null,null,0,0,{"v":0,"d":"0.00"},""]
[{"$nulls":6},{"$f":"IF(H27<>\"\",VLOOKUP(H27,Codes!C$1:D$475,2,FALSE),\"\")","v":""},null,null,0,0,{"v":0,"d":"0.00"},""]
[{"$nulls":6},{"$f":"IF(H28<>\"\",VLOOKUP(H28,Codes!C$1:D$475,2,FALSE),\"\")","v":""},null,null,0,0,{"v":0,"d":"0.00"},""]
[{"$nulls":6},{"$f":"IF(H29<>\"\",VLOOKUP(H29,Codes!C$1:D$475,2,FALSE),\"\")","v":""},null,null,0,0,{"v":0,"d":"0.00"},""]
[{"$nulls":6},{"$f":"IF(H30<>\"\",VLOOKUP(H30,Codes!C$1:D$475,2,FALSE),\"\")","v":""},null,null,0,0,{"v":0,"d":"0.00"},""]
[{"$nulls":6},{"$f":"IF(H31<>\"\",VLOOKUP(H31,Codes!C$1:D$475,2,FALSE),\"\")","v":""},null,null,0,0,{"v":0,"d":"0.00"},""]
[{"$nulls":6},{"$f":"IF(H32<>\"\",VLOOKUP(H32,Codes!C$1:D$475,2,FALSE),\"\")","v":""},null,null,0,0,{"v":0,"d":"0.00"},""]
[{"$nulls":6},{"$f":"IF(H33<>\"\",VLOOKUP(H33,Codes!C$1:D$475,2,FALSE),\"\")","v":""},null,null,0,0,{"v":0,"d":"0.00"},""]
[{"$nulls":6},{"$f":"IF(H34<>\"\",VLOOKUP(H34,Codes!C$1:D$475,2,FALSE),\"\")","v":""},null,null,0,0,{"v":0,"d":"0.00"},""]
[{"$nulls":6},{"$f":"IF(H35<>\"\",VLOOKUP(H35,Codes!C$1:D$475,2,FALSE),\"\")","v":""},null,null,0,0,{"v":0,"d":"0.00"},""]
[{"$nulls":6},{"$f":"IF(H36<>\"\",VLOOKUP(H36,Codes!C$1:D$475,2,FALSE),\"\")","v":""},null,null,0,0,{"v":0,"d":"0.00"},""]
[{"$nulls":6},{"$f":"IF(H37<>\"\",VLOOKUP(H37,Codes!C$1:D$475,2,FALSE),\"\")","v":""},null,null,0,0,{"v":0,"d":"0.00"},""]
[{"$nulls":6},{"$f":"IF(H38<>\"\",VLOOKUP(H38,Codes!C$1:D$475,2,FALSE),\"\")","v":""},null,null,0,0,{"v":0,"d":"0.00"},""]
[{"$nulls":6},{"$f":"IF(H39<>\"\",VLOOKUP(H39,Codes!C$1:D$475,2,FALSE),\"\")","v":""},null,null,0,0,{"v":0,"d":"0.00"},""]
[{"$nulls":6},{"$f":"IF(H40<>\"\",VLOOKUP(H40,Codes!C$1:D$475,2,FALSE),\"\")","v":""},null,null,0,0,{"v":0,"d":"0.00"},""]
[{"$nulls":6},{"$f":"IF(H41<>\"\",VLOOKUP(H41,Codes!C$1:D$475,2,FALSE),\"\")","v":""},null,null,0,0,{"v":0,"d":"0.00"},""]
[{"$nulls":6},{"$f":"IF(H42<>\"\",VLOOKUP(H42,Codes!C$1:D$475,2,FALSE),\"\")","v":""},null,null,0,0,{"v":0,"d":"0.00"},""]
[{"$nulls":6},{"$f":"IF(H43<>\"\",VLOOKUP(H43,Codes!C$1:D$475,2,FALSE),\"\")","v":""},null,null,0,0,{"v":0,"d":"0.00"},""]
[{"$nulls":6},{"$f":"IF(H44<>\"\",VLOOKUP(H44,Codes!C$1:D$475,2,FALSE),\"\")","v":""},null,null,0,0,{"v":0,"d":"0.00"},""]
[{"$nulls":6},{"$f":"IF(H45<>\"\",VLOOKUP(H45,Codes!C$1:D$475,2,FALSE),\"\")","v":""},null,null,0,0,{"v":0,"d":"0.00"},""]
[{"$nulls":6},{"$f":"IF(H46<>\"\",VLOOKUP(H46,Codes!C$1:D$475,2,FALSE),\"\")","v":""},null,null,0,0,{"v":0,"d":"0.00"},""]
[{"$nulls":6},{"$f":"IF(H47<>\"\",VLOOKUP(H47,Codes!C$1:D$475,2,FALSE),\"\")","v":""},null,null,0,0,{"v":0,"d":"0.00"},""]
[{"$nulls":6},{"$f":"IF(H48<>\"\",VLOOKUP(H48,Codes!C$1:D$475,2,FALSE),\"\")","v":""},null,null,0,0,{"v":0,"d":"0.00"},""]
[{"$nulls":6},{"$f":"IF(H49<>\"\",VLOOKUP(H49,Codes!C$1:D$475,2,FALSE),\"\")","v":""},null,null,0,0,{"v":0,"d":"0.00"},""]
[{"$nulls":6},{"$f":"IF(H50<>\"\",VLOOKUP(H50,Codes!C$1:D$475,2,FALSE),\"\")","v":""},null,null,0,0,{"v":0,"d":"0.00"},""]
[{"$nulls":6},{"$f":"IF(H51<>\"\",VLOOKUP(H51,Codes!C$1:D$475,2,FALSE),\"\")","v":""},null,null,0,0,{"v":0,"d":"0.00"},""]
[{"$nulls":6},{"$f":"IF(H52<>\"\",VLOOKUP(H52,Codes!C$1:D$475,2,FALSE),\"\")","v":""},null,null,0,0,{"v":0,"d":"0.00"},""]
[{"$nulls":6},{"$f":"IF(H53<>\"\",VLOOKUP(H53,Codes!C$1:D$475,2,FALSE),\"\")","v":""},null,null,0,0,{"v":0,"d":"0.00"},""]
[{"$nulls":6},{"$f":"IF(H54<>\"\",VLOOKUP(H54,Codes!C$1:D$475,2,FALSE),\"\")","v":""},null,null,0,0,{"v":0,"d":"0.00"},""]
[{"$nulls":6},{"$f":"IF(H55<>\"\",VLOOKUP(H55,Codes!C$1:D$475,2,FALSE),\"\")","v":""},null,null,0,0,{"v":0,"d":"0.00"},""]
[{"$nulls":6},{"$f":"IF(H56<>\"\",VLOOKUP(H56,Codes!C$1:D$475,2,FALSE),\"\")","v":""},null,null,0,0,{"v":0,"d":"0.00"},""]
[{"$nulls":6},{"$f":"IF(H57<>\"\",VLOOKUP(H57,Codes!C$1:D$475,2,FALSE),\"\")","v":""},null,null,0,0,{"v":0,"d":"0.00"},""]
[{"$nulls":6},{"$f":"IF(H58<>\"\",VLOOKUP(H58,Codes!C$1:D$475,2,FALSE),\"\")","v":""},null,null,0,0,{"v":0,"d":"0.00"},""]
[{"$nulls":6},{"$f":"IF(H59<>\"\",VLOOKUP(H59,Codes!C$1:D$475,2,FALSE),\"\")","v":""},null,null,0,0,{"v":0,"d":"0.00"},""]
[{"$nulls":6},{"$f":"IF(H60<>\"\",VLOOKUP(H60,Codes!C$1:D$475,2,FALSE),\"\")","v":""},null,null,0,0,{"v":0,"d":"0.00"},""]
[{"$nulls":6},{"$f":"IF(H61<>\"\",VLOOKUP(H61,Codes!C$1:D$475,2,FALSE),\"\")","v":""},null,null,0,0,{"v":0,"d":"0.00"},""]
[{"$nulls":6},{"$f":"IF(H62<>\"\",VLOOKUP(H62,Codes!C$1:D$475,2,FALSE),\"\")","v":""},null,null,0,0,{"v":0,"d":"0.00"},""]
[{"$nulls":6},{"$f":"IF(H63<>\"\",VLOOKUP(H63,Codes!C$1:D$475,2,FALSE),\"\")","v":""},null,null,0,0,{"v":0,"d":"0.00"},""]
[{"$nulls":6},{"$f":"IF(H64<>\"\",VLOOKUP(H64,Codes!C$1:D$475,2,FALSE),\"\")","v":""},null,null,0,0,{"v":0,"d":"0.00"},""]
[{"$nulls":6},{"$f":"IF(H65<>\"\",VLOOKUP(H65,Codes!C$1:D$475,2,FALSE),\"\")","v":""},null,null,0,0,{"v":0,"d":"0.00"},""]
[{"$nulls":6},{"$f":"IF(H66<>\"\",VLOOKUP(H66,Codes!C$1:D$475,2,FALSE),\"\")","v":""},null,null,0,0,{"v":0,"d":"0.00"},""]
[{"$nulls":6},{"$f":"IF(H67<>\"\",VLOOKUP(H67,Codes!C$1:D$475,2,FALSE),\"\")","v":""},null,null,0,0,{"v":0,"d":"0.00"},""]
[{"$nulls":6},{"$f":"IF(H68<>\"\",VLOOKUP(H68,Codes!C$1:D$475,2,FALSE),\"\")","v":""},null,null,0,0,{"v":0,"d":"0.00"},""]
[{"$nulls":6},{"$f":"IF(H69<>\"\",VLOOKUP(H69,Codes!C$1:D$475,2,FALSE),\"\")","v":""},null,null,0,0,{"v":0,"d":"0.00"},""]
[{"$nulls":6},{"$f":"IF(H70<>\"\",VLOOKUP(H70,Codes!C$1:D$475,2,FALSE),\"\")","v":""},null,null,0,0,{"v":0,"d":"0.00"},""]
[{"$nulls":6},{"$f":"IF(H71<>\"\",VLOOKUP(H71,Codes!C$1:D$475,2,FALSE),\"\")","v":""},null,null,0,0,{"v":0,"d":"0.00"},""]
[{"$nulls":6},{"$f":"IF(H72<>\"\",VLOOKUP(H72,Codes!C$1:D$475,2,FALSE),\"\")","v":""}]
[{"$nulls":6},{"$f":"IF(H73<>\"\",VLOOKUP(H73,Codes!C$1:D$475,2,FALSE),\"\")","v":""}]
[{"$nulls":6},{"$f":"IF(H74<>\"\",VLOOKUP(H74,Codes!C$1:D$475,2,FALSE),\"\")","v":""}]
[{"$nulls":6},{"$f":"IF(H75<>\"\",VLOOKUP(H75,Codes!C$1:D$475,2,FALSE),\"\")","v":""}]
[{"$nulls":6},{"$f":"IF(H76<>\"\",VLOOKUP(H76,Codes!C$1:D$475,2,FALSE),\"\")","v":""}]
[{"$nulls":6},{"$f":"IF(H77<>\"\",VLOOKUP(H77,Codes!C$1:D$475,2,FALSE),\"\")","v":""}]
[{"$nulls":6},{"$f":"IF(H78<>\"\",VLOOKUP(H78,Codes!C$1:D$475,2,FALSE),\"\")","v":""}]
[{"$nulls":6},{"$f":"IF(H79<>\"\",VLOOKUP(H79,Codes!C$1:D$475,2,FALSE),\"\")","v":""}]
[{"$nulls":6},{"$f":"IF(H80<>\"\",VLOOKUP(H80,Codes!C$1:D$475,2,FALSE),\"\")","v":""}]
[{"$nulls":6},{"$f":"IF(H81<>\"\",VLOOKUP(H81,Codes!C$1:D$475,2,FALSE),\"\")","v":""}]
[{"$nulls":6},{"$f":"IF(H82<>\"\",VLOOKUP(H82,Codes!C$1:D$475,2,FALSE),\"\")","v":""}]
[{"$nulls":6},{"$f":"IF(H83<>\"\",VLOOKUP(H83,Codes!C$1:D$475,2,FALSE),\"\")","v":""}]
[{"$nulls":6},{"$f":"IF(H84<>\"\",VLOOKUP(H84,Codes!C$1:D$475,2,FALSE),\"\")","v":""}]
[{"$nulls":6},{"$f":"IF(H85<>\"\",VLOOKUP(H85,Codes!C$1:D$475,2,FALSE),\"\")","v":""}]
[{"$nulls":6},{"$f":"IF(H86<>\"\",VLOOKUP(H86,Codes!C$1:D$475,2,FALSE),\"\")","v":""}]
[{"$nulls":6},{"$f":"IF(H87<>\"\",VLOOKUP(H87,Codes!C$1:D$475,2,FALSE),\"\")","v":""}]
[{"$nulls":6},{"$f":"IF(H88<>\"\",VLOOKUP(H88,Codes!C$1:D$475,2,FALSE),\"\")","v":""}]
[{"$nulls":6},{"$f":"IF(H89<>\"\",VLOOKUP(H89,Codes!C$1:D$475,2,FALSE),\"\")","v":""}]
[{"$nulls":6},{"$f":"IF(H90<>\"\",VLOOKUP(H90,Codes!C$1:D$475,2,FALSE),\"\")","v":""}]
[{"$nulls":6},{"$f":"IF(H91<>\"\",VLOOKUP(H91,Codes!C$1:D$475,2,FALSE),\"\")","v":""}]
[{"$nulls":6},{"$f":"IF(H92<>\"\",VLOOKUP(H92,Codes!C$1:D$475,2,FALSE),\"\")","v":""}]
[{"$nulls":6},{"$f":"IF(H93<>\"\",VLOOKUP(H93,Codes!C$1:D$475,2,FALSE),\"\")","v":""}]
[{"$nulls":6},{"$f":"IF(H94<>\"\",VLOOKUP(H94,Codes!C$1:D$475,2,FALSE),\"\")","v":""}]
[{"$nulls":6},{"$f":"IF(H95<>\"\",VLOOKUP(H95,Codes!C$1:D$475,2,FALSE),\"\")","v":""}]
[{"$nulls":6},{"$f":"IF(H96<>\"\",VLOOKUP(H96,Codes!C$1:D$475,2,FALSE),\"\")","v":""}]
[{"$nulls":6},{"$f":"IF(H97<>\"\",VLOOKUP(H97,Codes!C$1:D$475,2,FALSE),\"\")","v":""}]
[{"$nulls":6},{"$f":"IF(H98<>\"\",VLOOKUP(H98,Codes!C$1:D$475,2,FALSE),\"\")","v":""}]
[{"$nulls":6},{"$f":"IF(H99<>\"\",VLOOKUP(H99,Codes!C$1:D$475,2,FALSE),\"\")","v":""}]
[{"$nulls":6},{"$f":"IF(H100<>\"\",VLOOKUP(H100,Codes!C$1:D$475,2,FALSE),\"\")","v":""}]
[{"$nulls":6},{"$f":"IF(H101<>\"\",VLOOKUP(H101,Codes!C$1:D$475,2,FALSE),\"\")","v":""}]
[{"$nulls":6},{"$f":"IF(H102<>\"\",VLOOKUP(H102,Codes!C$1:D$475,2,FALSE),\"\")","v":""}]
[{"$nulls":6},{"$f":"IF(H103<>\"\",VLOOKUP(H103,Codes!C$1:D$475,2,FALSE),\"\")","v":""}]
[{"$nulls":6},{"$f":"IF(H104<>\"\",VLOOKUP(H104,Codes!C$1:D$475,2,FALSE),\"\")","v":""}]
[{"$nulls":6},{"$f":"IF(H105<>\"\",VLOOKUP(H105,Codes!C$1:D$475,2,FALSE),\"\")","v":""}]
[{"$nulls":6},{"$f":"IF(H106<>\"\",VLOOKUP(H106,Codes!C$1:D$475,2,FALSE),\"\")","v":""}]
[{"$nulls":6},{"$f":"IF(H107<>\"\",VLOOKUP(H107,Codes!C$1:D$475,2,FALSE),\"\")","v":""}]
[{"$nulls":6},{"$f":"IF(H108<>\"\",VLOOKUP(H108,Codes!C$1:D$475,2,FALSE),\"\")","v":""}]
[{"$nulls":6},{"$f":"IF(H109<>\"\",VLOOKUP(H109,Codes!C$1:D$475,2,FALSE),\"\")","v":""}]
[{"$nulls":6},{"$f":"IF(H110<>\"\",VLOOKUP(H110,Codes!C$1:D$475,2,FALSE),\"\")","v":""}]
[{"$nulls":6},{"$f":"IF(H111<>\"\",VLOOKUP(H111,Codes!C$1:D$475,2,FALSE),\"\")","v":""}]
[{"$nulls":6},{"$f":"IF(H112<>\"\",VLOOKUP(H112,Codes!C$1:D$475,2,FALSE),\"\")","v":""}]
[{"$nulls":6},{"$f":"IF(H113<>\"\",VLOOKUP(H113,Codes!C$1:D$475,2,FALSE),\"\")","v":""}]
[{"$nulls":6},{"$f":"IF(H114<>\"\",VLOOKUP(H114,Codes!C$1:D$475,2,FALSE),\"\")","v":""}]
[{"$nulls":6},{"$f":"IF(H115<>\"\",VLOOKUP(H115,Codes!C$1:D$475,2,FALSE),\"\")","v":""}]
[{"$nulls":6},{"$f":"IF(H116<>\"\",VLOOKUP(H116,Codes!C$1:D$475,2,FALSE),\"\")","v":""}]
[{"$nulls":6},{"$f":"IF(H117<>\"\",VLOOKUP(H117,Codes!C$1:D$475,2,FALSE),\"\")","v":""}]
[{"$nulls":6},{"$f":"IF(H118<>\"\",VLOOKUP(H118,Codes!C$1:D$475,2,FALSE),\"\")","v":""}]
[{"$nulls":6},{"$f":"IF(H119<>\"\",VLOOKUP(H119,Codes!C$1:D$475,2,FALSE),\"\")","v":""}]
[{"$nulls":6},{"$f":"IF(H120<>\"\",VLOOKUP(H120,Codes!C$1:D$475,2,FALSE),\"\")","v":""}]
[{"$nulls":6},{"$f":"IF(H121<>\"\",VLOOKUP(H121,Codes!C$1:D$475,2,FALSE),\"\")","v":""}]
[{"$nulls":6},{"$f":"IF(H122<>\"\",VLOOKUP(H122,Codes!C$1:D$475,2,FALSE),\"\")","v":""}]
[{"$nulls":6},{"$f":"IF(H123<>\"\",VLOOKUP(H123,Codes!C$1:D$475,2,FALSE),\"\")","v":""}]
[{"$nulls":6},{"$f":"IF(H124<>\"\",VLOOKUP(H124,Codes!C$1:D$475,2,FALSE),\"\")","v":""}]
[{"$nulls":6},{"$f":"IF(H125<>\"\",VLOOKUP(H125,Codes!C$1:D$475,2,FALSE),\"\")","v":""}]
[{"$nulls":6},{"$f":"IF(H126<>\"\",VLOOKUP(H126,Codes!C$1:D$475,2,FALSE),\"\")","v":""}]
[{"$nulls":6},{"$f":"IF(H127<>\"\",VLOOKUP(H127,Codes!C$1:D$475,2,FALSE),\"\")","v":""}]
[{"$nulls":6},{"$f":"IF(H128<>\"\",VLOOKUP(H128,Codes!C$1:D$475,2,FALSE),\"\")","v":""}]
[{"$nulls":6},{"$f":"IF(H129<>\"\",VLOOKUP(H129,Codes!C$1:D$475,2,FALSE),\"\")","v":""}]
[{"$nulls":6},{"$f":"IF(H130<>\"\",VLOOKUP(H130,Codes!C$1:D$475,2,FALSE),\"\")","v":""}]
[{"$nulls":6},{"$f":"IF(H131<>\"\",VLOOKUP(H131,Codes!C$1:D$475,2,FALSE),\"\")","v":""}]
[{"$nulls":6},{"$f":"IF(H132<>\"\",VLOOKUP(H132,Codes!C$1:D$475,2,FALSE),\"\")","v":""}]
[{"$nulls":6},{"$f":"IF(H133<>\"\",VLOOKUP(H133,Codes!C$1:D$475,2,FALSE),\"\")","v":""}]
[{"$nulls":6},{"$f":"IF(H134<>\"\",VLOOKUP(H134,Codes!C$1:D$475,2,FALSE),\"\")","v":""}]
[{"$nulls":6},{"$f":"IF(H135<>\"\",VLOOKUP(H135,Codes!C$1:D$475,2,FALSE),\"\")","v":""}]
[{"$nulls":6},{"$f":"IF(H136<>\"\",VLOOKUP(H136,Codes!C$1:D$475,2,FALSE),\"\")","v":""}]
[{"$nulls":6},{"$f":"IF(H137<>\"\",VLOOKUP(H137,Codes!C$1:D$475,2,FALSE),\"\")","v":""}]
[{"$nulls":6},{"$f":"IF(H138<>\"\",VLOOKUP(H138,Codes!C$1:D$475,2,FALSE),\"\")","v":""}]
[{"$nulls":6},{"$f":"IF(H139<>\"\",VLOOKUP(H139,Codes!C$1:D$475,2,FALSE),\"\")","v":""}]
[{"$nulls":6},{"$f":"IF(H140<>\"\",VLOOKUP(H140,Codes!C$1:D$475,2,FALSE),\"\")","v":""}]
[{"$nulls":6},{"$f":"IF(H141<>\"\",VLOOKUP(H141,Codes!C$1:D$475,2,FALSE),\"\")","v":""}]
[{"$nulls":6},{"$f":"IF(H142<>\"\",VLOOKUP(H142,Codes!C$1:D$475,2,FALSE),\"\")","v":""}]
[{"$nulls":6},{"$f":"IF(H143<>\"\",VLOOKUP(H143,Codes!C$1:D$475,2,FALSE),\"\")","v":""}]
[{"$nulls":6},{"$f":"IF(H144<>\"\",VLOOKUP(H144,Codes!C$1:D$475,2,FALSE),\"\")","v":""}]
[{"$nulls":6},{"$f":"IF(H145<>\"\",VLOOKUP(H145,Codes!C$1:D$475,2,FALSE),\"\")","v":""}]
[{"$nulls":6},{"$f":"IF(H146<>\"\",VLOOKUP(H146,Codes!C$1:D$475,2,FALSE),\"\")","v":""}]
[{"$nulls":6},{"$f":"IF(H147<>\"\",VLOOKUP(H147,Codes!C$1:D$475,2,FALSE),\"\")","v":""}]
[{"$nulls":6},{"$f":"IF(H148<>\"\",VLOOKUP(H148,Codes!C$1:D$475,2,FALSE),\"\")","v":""}]
[{"$nulls":6},{"$f":"IF(H149<>\"\",VLOOKUP(H149,Codes!C$1:D$475,2,FALSE),\"\")","v":""}]
[{"$nulls":6},{"$f":"IF(H150<>\"\",VLOOKUP(H150,Codes!C$1:D$475,2,FALSE),\"\")","v":""}]
[{"$nulls":6},{"$f":"IF(H151<>\"\",VLOOKUP(H151,Codes!C$1:D$475,2,FALSE),\"\")","v":""}]
[{"$nulls":6},{"$f":"IF(H152<>\"\",VLOOKUP(H152,Codes!C$1:D$475,2,FALSE),\"\")","v":""}]
[{"$nulls":6},{"$f":"IF(H153<>\"\",VLOOKUP(H153,Codes!C$1:D$475,2,FALSE),\"\")","v":""}]
[{"$nulls":6},{"$f":"IF(H154<>\"\",VLOOKUP(H154,Codes!C$1:D$475,2,FALSE),\"\")","v":""}]
[{"$nulls":6},{"$f":"IF(H155<>\"\",VLOOKUP(H155,Codes!C$1:D$475,2,FALSE),\"\")","v":""}]
[{"$nulls":6},{"$f":"IF(H156<>\"\",VLOOKUP(H156,Codes!C$1:D$475,2,FALSE),\"\")","v":""}]
[{"$nulls":6},{"$f":"IF(H157<>\"\",VLOOKUP(H157,Codes!C$1:D$475,2,FALSE),\"\")","v":""}]
[{"$nulls":6},{"$f":"IF(H158<>\"\",VLOOKUP(H158,Codes!C$1:D$475,2,FALSE),\"\")","v":""}]
[{"$nulls":6},{"$f":"IF(H159<>\"\",VLOOKUP(H159,Codes!C$1:D$475,2,FALSE),\"\")","v":""}]
[{"$nulls":6},{"$f":"IF(H160<>\"\",VLOOKUP(H160,Codes!C$1:D$475,2,FALSE),\"\")","v":""}]
[{"$nulls":6},{"$f":"IF(H161<>\"\",VLOOKUP(H161,Codes!C$1:D$475,2,FALSE),\"\")","v":""}]
[{"$nulls":6},{"$f":"IF(H162<>\"\",VLOOKUP(H162,Codes!C$1:D$475,2,FALSE),\"\")","v":""}]
[{"$nulls":6},{"$f":"IF(H163<>\"\",VLOOKUP(H163,Codes!C$1:D$475,2,FALSE),\"\")","v":""}]
[{"$nulls":6},{"$f":"IF(H164<>\"\",VLOOKUP(H164,Codes!C$1:D$475,2,FALSE),\"\")","v":""}]
[{"$nulls":6},{"$f":"IF(H165<>\"\",VLOOKUP(H165,Codes!C$1:D$475,2,FALSE),\"\")","v":""}]
[{"$nulls":6},{"$f":"IF(H166<>\"\",VLOOKUP(H166,Codes!C$1:D$475,2,FALSE),\"\")","v":""}]
[{"$nulls":6},{"$f":"IF(H167<>\"\",VLOOKUP(H167,Codes!C$1:D$475,2,FALSE),\"\")","v":""}]
[{"$nulls":6},{"$f":"IF(H168<>\"\",VLOOKUP(H168,Codes!C$1:D$475,2,FALSE),\"\")","v":""}]
[{"$nulls":6},{"$f":"IF(H169<>\"\",VLOOKUP(H169,Codes!C$1:D$475,2,FALSE),\"\")","v":""}]
[{"$nulls":6},{"$f":"IF(H170<>\"\",VLOOKUP(H170,Codes!C$1:D$475,2,FALSE),\"\")","v":""}]
[{"$nulls":6},{"$f":"IF(H171<>\"\",VLOOKUP(H171,Codes!C$1:D$475,2,FALSE),\"\")","v":""}]
[{"$nulls":6},{"$f":"IF(H172<>\"\",VLOOKUP(H172,Codes!C$1:D$475,2,FALSE),\"\")","v":""}]
[{"$nulls":6},{"$f":"IF(H173<>\"\",VLOOKUP(H173,Codes!C$1:D$475,2,FALSE),\"\")","v":""}]
[{"$nulls":6},{"$f":"IF(H174<>\"\",VLOOKUP(H174,Codes!C$1:D$475,2,FALSE),\"\")","v":""}]
[{"$nulls":6},{"$f":"IF(H175<>\"\",VLOOKUP(H175,Codes!C$1:D$475,2,FALSE),\"\")","v":""}]
[{"$nulls":6},{"$f":"IF(H176<>\"\",VLOOKUP(H176,Codes!C$1:D$475,2,FALSE),\"\")","v":""}]
[{"$nulls":6},{"$f":"IF(H177<>\"\",VLOOKUP(H177,Codes!C$1:D$475,2,FALSE),\"\")","v":""}]
[{"$nulls":6},{"$f":"IF(H178<>\"\",VLOOKUP(H178,Codes!C$1:D$475,2,FALSE),\"\")","v":""}]
[{"$nulls":6},{"$f":"IF(H179<>\"\",VLOOKUP(H179,Codes!C$1:D$475,2,FALSE),\"\")","v":""}]
[{"$nulls":6},{"$f":"IF(H180<>\"\",VLOOKUP(H180,Codes!C$1:D$475,2,FALSE),\"\")","v":""}]
[{"$nulls":6},{"$f":"IF(H181<>\"\",VLOOKUP(H181,Codes!C$1:D$475,2,FALSE),\"\")","v":""}]
[{"$nulls":6},{"$f":"IF(H182<>\"\",VLOOKUP(H182,Codes!C$1:D$475,2,FALSE),\"\")","v":""}]
[{"$nulls":6},{"$f":"IF(H183<>\"\",VLOOKUP(H183,Codes!C$1:D$475,2,FALSE),\"\")","v":""}]
[{"$nulls":6},{"$f":"IF(H184<>\"\",VLOOKUP(H184,Codes!C$1:D$475,2,FALSE),\"\")","v":""}]
[{"$nulls":6},{"$f":"IF(H185<>\"\",VLOOKUP(H185,Codes!C$1:D$475,2,FALSE),\"\")","v":""}]
[{"$nulls":6},{"$f":"IF(H186<>\"\",VLOOKUP(H186,Codes!C$1:D$475,2,FALSE),\"\")","v":""}]
[{"$nulls":6},{"$f":"IF(H187<>\"\",VLOOKUP(H187,Codes!C$1:D$475,2,FALSE),\"\")","v":""}]
[{"$nulls":6},{"$f":"IF(H188<>\"\",VLOOKUP(H188,Codes!C$1:D$475,2,FALSE),\"\")","v":""}]
[{"$nulls":6},{"$f":"IF(H189<>\"\",VLOOKUP(H189,Codes!C$1:D$475,2,FALSE),\"\")","v":""}]
[{"$nulls":6},{"$f":"IF(H190<>\"\",VLOOKUP(H190,Codes!C$1:D$475,2,FALSE),\"\")","v":""}]
[{"$nulls":6},{"$f":"IF(H191<>\"\",VLOOKUP(H191,Codes!C$1:D$475,2,FALSE),\"\")","v":""}]
[{"$nulls":6},{"$f":"IF(H192<>\"\",VLOOKUP(H192,Codes!C$1:D$475,2,FALSE),\"\")","v":""}]
[{"$nulls":6},{"$f":"IF(H193<>\"\",VLOOKUP(H193,Codes!C$1:D$475,2,FALSE),\"\")","v":""}]
[{"$nulls":6},{"$f":"IF(H194<>\"\",VLOOKUP(H194,Codes!C$1:D$475,2,FALSE),\"\")","v":""}]
[{"$nulls":6},{"$f":"IF(H195<>\"\",VLOOKUP(H195,Codes!C$1:D$475,2,FALSE),\"\")","v":""}]
[{"$nulls":6},{"$f":"IF(H196<>\"\",VLOOKUP(H196,Codes!C$1:D$475,2,FALSE),\"\")","v":""}]
[{"$nulls":6},{"$f":"IF(H197<>\"\",VLOOKUP(H197,Codes!C$1:D$475,2,FALSE),\"\")","v":""}]
[{"$nulls":6},{"$f":"IF(H198<>\"\",VLOOKUP(H198,Codes!C$1:D$475,2,FALSE),\"\")","v":""}]
[{"$nulls":6},{"$f":"IF(H199<>\"\",VLOOKUP(H199,Codes!C$1:D$475,2,FALSE),\"\")","v":""}]
[{"$nulls":6},{"$f":"IF(H200<>\"\",VLOOKUP(H200,Codes!C$1:D$475,2,FALSE),\"\")","v":""}]
[{"$nulls":6},{"$f":"IF(H201<>\"\",VLOOKUP(H201,Codes!C$1:D$475,2,FALSE),\"\")","v":""}]
[{"$nulls":6},{"$f":"IF(H202<>\"\",VLOOKUP(H202,Codes!C$1:D$475,2,FALSE),\"\")","v":""}]
[{"$nulls":6},{"$f":"IF(H203<>\"\",VLOOKUP(H203,Codes!C$1:D$475,2,FALSE),\"\")","v":""}]
[{"$nulls":6},{"$f":"IF(H204<>\"\",VLOOKUP(H204,Codes!C$1:D$475,2,FALSE),\"\")","v":""}]
[{"$nulls":6},{"$f":"IF(H205<>\"\",VLOOKUP(H205,Codes!C$1:D$475,2,FALSE),\"\")","v":""}]
[{"$nulls":6},{"$f":"IF(H206<>\"\",VLOOKUP(H206,Codes!C$1:D$475,2,FALSE),\"\")","v":""}]
[{"$nulls":6},{"$f":"IF(H207<>\"\",VLOOKUP(H207,Codes!C$1:D$475,2,FALSE),\"\")","v":""}]
[{"$nulls":6},{"$f":"IF(H208<>\"\",VLOOKUP(H208,Codes!C$1:D$475,2,FALSE),\"\")","v":""}]
[{"$nulls":6},{"$f":"IF(H209<>\"\",VLOOKUP(H209,Codes!C$1:D$475,2,FALSE),\"\")","v":""}]
[{"$nulls":6},{"$f":"IF(H210<>\"\",VLOOKUP(H210,Codes!C$1:D$475,2,FALSE),\"\")","v":""}]
[{"$nulls":6},{"$f":"IF(H211<>\"\",VLOOKUP(H211,Codes!C$1:D$475,2,FALSE),\"\")","v":""}]
[{"$nulls":6},{"$f":"IF(H212<>\"\",VLOOKUP(H212,Codes!C$1:D$475,2,FALSE),\"\")","v":""}]
[{"$nulls":6},{"$f":"IF(H213<>\"\",VLOOKUP(H213,Codes!C$1:D$475,2,FALSE),\"\")","v":""}]
[{"$nulls":6},{"$f":"IF(H214<>\"\",VLOOKUP(H214,Codes!C$1:D$475,2,FALSE),\"\")","v":""}]
[{"$nulls":6},{"$f":"IF(H215<>\"\",VLOOKUP(H215,Codes!C$1:D$475,2,FALSE),\"\")","v":""}]
[{"$nulls":6},{"$f":"IF(H216<>\"\",VLOOKUP(H216,Codes!C$1:D$475,2,FALSE),\"\")","v":""}]
[{"$nulls":6},{"$f":"IF(H217<>\"\",VLOOKUP(H217,Codes!C$1:D$475,2,FALSE),\"\")","v":""}]
[{"$nulls":6},{"$f":"IF(H218<>\"\",VLOOKUP(H218,Codes!C$1:D$475,2,FALSE),\"\")","v":""}]
[{"$nulls":6},{"$f":"IF(H219<>\"\",VLOOKUP(H219,Codes!C$1:D$475,2,FALSE),\"\")","v":""}]
[{"$nulls":6},{"$f":"IF(H220<>\"\",VLOOKUP(H220,Codes!C$1:D$475,2,FALSE),\"\")","v":""}]
[{"$nulls":6},{"$f":"IF(H221<>\"\",VLOOKUP(H221,Codes!C$1:D$475,2,FALSE),\"\")","v":""}]
[{"$nulls":6},{"$f":"IF(H222<>\"\",VLOOKUP(H222,Codes!C$1:D$475,2,FALSE),\"\")","v":""}]
[{"$nulls":6},{"$f":"IF(H223<>\"\",VLOOKUP(H223,Codes!C$1:D$475,2,FALSE),\"\")","v":""}]
[{"$nulls":6},{"$f":"IF(H224<>\"\",VLOOKUP(H224,Codes!C$1:D$475,2,FALSE),\"\")","v":""}]
[{"$nulls":6},{"$f":"IF(H225<>\"\",VLOOKUP(H225,Codes!C$1:D$475,2,FALSE),\"\")","v":""}]
[{"$nulls":6},{"$f":"IF(H226<>\"\",VLOOKUP(H226,Codes!C$1:D$475,2,FALSE),\"\")","v":""}]
[{"$nulls":6},{"$f":"IF(H227<>\"\",VLOOKUP(H227,Codes!C$1:D$475,2,FALSE),\"\")","v":""}]
[{"$nulls":6},{"$f":"IF(H228<>\"\",VLOOKUP(H228,Codes!C$1:D$475,2,FALSE),\"\")","v":""}]
[{"$nulls":6},{"$f":"IF(H229<>\"\",VLOOKUP(H229,Codes!C$1:D$475,2,FALSE),\"\")","v":""}]
[{"$nulls":6},{"$f":"IF(H230<>\"\",VLOOKUP(H230,Codes!C$1:D$475,2,FALSE),\"\")","v":""}]
[{"$nulls":6},{"$f":"IF(H231<>\"\",VLOOKUP(H231,Codes!C$1:D$475,2,FALSE),\"\")","v":""}]
[{"$nulls":6},{"$f":"IF(H232<>\"\",VLOOKUP(H232,Codes!C$1:D$475,2,FALSE),\"\")","v":""}]
[{"$nulls":6},{"$f":"IF(H233<>\"\",VLOOKUP(H233,Codes!C$1:D$475,2,FALSE),\"\")","v":""},null,null,0,0,{"$f":"D71","v":{"v":0,"d":"0.00"}},{"$f":"CONCATENATE(G71,H71)","v":""}]
[{"$nulls":6},{"$f":"IF(H234<>\"\",VLOOKUP(H234,Codes!C$1:D$475,2,FALSE),\"\")","v":""},null,null,0,0,{"v":0,"d":"0.00"},""]
[{"$nulls":6},{"$f":"IF(H235<>\"\",VLOOKUP(H235,Codes!C$1:D$475,2,FALSE),\"\")","v":""},null,null,0,0,{"v":0,"d":"0.00"},""]
[{"$nulls":6},{"$f":"IF(H236<>\"\",VLOOKUP(H236,Codes!C$1:D$475,2,FALSE),\"\")","v":""},null,null,{"$f":"D236","v":0},{"$f":"H236","v":0},{"v":0,"d":"0.00"},""]
[{"$nulls":6},{"$f":"IF(H237<>\"\",VLOOKUP(H237,Codes!C$1:D$475,2,FALSE),\"\")","v":""},null,null,0,0,{"$f":"D236","v":{"v":0,"d":"0.00"}},{"$f":"CONCATENATE(G236,H236)","v":""}]
[{"$nulls":6},{"$f":"IF(H238<>\"\",VLOOKUP(H238,Codes!C$1:D$475,2,FALSE),\"\")","v":""},null,null,0,0,{"v":0,"d":"0.00"},""]
[{"$nulls":6},{"$f":"IF(H239<>\"\",VLOOKUP(H239,Codes!C$1:D$475,2,FALSE),\"\")","v":""}]
[{"$nulls":6},{"$f":"IF(H240<>\"\",VLOOKUP(H240,Codes!C$1:D$475,2,FALSE),\"\")","v":""}]
[{"$nulls":6},{"$f":"IF(H241<>\"\",VLOOKUP(H241,Codes!C$1:D$475,2,FALSE),\"\")","v":""}]
[{"$nulls":6},{"$f":"IF(H242<>\"\",VLOOKUP(H242,Codes!C$1:D$475,2,FALSE),\"\")","v":""}]
[{"$nulls":6},{"$f":"IF(H243<>\"\",VLOOKUP(H243,Codes!C$1:D$475,2,FALSE),\"\")","v":""}]
[{"$nulls":6},{"$f":"IF(H244<>\"\",VLOOKUP(H244,Codes!C$1:D$475,2,FALSE),\"\")","v":""}]
[{"$nulls":6},{"$f":"IF(H245<>\"\",VLOOKUP(H245,Codes!C$1:D$475,2,FALSE),\"\")","v":""}]
[{"$nulls":6},{"$f":"IF(H246<>\"\",VLOOKUP(H246,Codes!C$1:D$475,2,FALSE),\"\")","v":""}]
[{"$nulls":6},{"$f":"IF(H247<>\"\",VLOOKUP(H247,Codes!C$1:D$475,2,FALSE),\"\")","v":""}]
[{"$nulls":6},{"$f":"IF(H248<>\"\",VLOOKUP(H248,Codes!C$1:D$475,2,FALSE),\"\")","v":""}]
[{"$nulls":6},{"$f":"IF(H249<>\"\",VLOOKUP(H249,Codes!C$1:D$475,2,FALSE),\"\")","v":""}]
[{"$nulls":6},{"$f":"IF(H250<>\"\",VLOOKUP(H250,Codes!C$1:D$475,2,FALSE),\"\")","v":""}]
[{"$nulls":6},{"$f":"IF(H251<>\"\",VLOOKUP(H251,Codes!C$1:D$475,2,FALSE),\"\")","v":""}]
[{"$nulls":6},{"$f":"IF(H252<>\"\",VLOOKUP(H252,Codes!C$1:D$475,2,FALSE),\"\")","v":""}]
[{"$nulls":6},{"$f":"IF(H253<>\"\",VLOOKUP(H253,Codes!C$1:D$475,2,FALSE),\"\")","v":""}]
[{"$nulls":6},{"$f":"IF(H254<>\"\",VLOOKUP(H254,Codes!C$1:D$475,2,FALSE),\"\")","v":""}]
[{"$nulls":6},{"$f":"IF(H255<>\"\",VLOOKUP(H255,Codes!C$1:D$475,2,FALSE),\"\")","v":""}]
[{"$nulls":6},{"$f":"IF(H256<>\"\",VLOOKUP(H256,Codes!C$1:D$475,2,FALSE),\"\")","v":""}]
[{"$nulls":6},{"$f":"IF(H257<>\"\",VLOOKUP(H257,Codes!C$1:D$475,2,FALSE),\"\")","v":""}]
[{"$nulls":6},{"$f":"IF(H258<>\"\",VLOOKUP(H258,Codes!C$1:D$475,2,FALSE),\"\")","v":""}]
[{"$nulls":6},{"$f":"IF(H259<>\"\",VLOOKUP(H259,Codes!C$1:D$475,2,FALSE),\"\")","v":""}]
[{"$nulls":6},{"$f":"IF(H260<>\"\",VLOOKUP(H260,Codes!C$1:D$475,2,FALSE),\"\")","v":""}]
[{"$nulls":6},{"$f":"IF(H261<>\"\",VLOOKUP(H261,Codes!C$1:D$475,2,FALSE),\"\")","v":""}]
[{"$nulls":6},{"$f":"IF(H262<>\"\",VLOOKUP(H262,Codes!C$1:D$475,2,FALSE),\"\")","v":""}]
[{"$nulls":6},{"$f":"IF(H263<>\"\",VLOOKUP(H263,Codes!C$1:D$475,2,FALSE),\"\")","v":""}]
[{"$nulls":6},{"$f":"IF(H264<>\"\",VLOOKUP(H264,Codes!C$1:D$475,2,FALSE),\"\")","v":""}]
[{"$nulls":6},{"$f":"IF(H265<>\"\",VLOOKUP(H265,Codes!C$1:D$475,2,FALSE),\"\")","v":""}]
[{"$nulls":6},{"$f":"IF(H266<>\"\",VLOOKUP(H266,Codes!C$1:D$475,2,FALSE),\"\")","v":""}]
[{"$nulls":6},{"$f":"IF(H267<>\"\",VLOOKUP(H267,Codes!C$1:D$475,2,FALSE),\"\")","v":""}]
[{"$nulls":6},{"$f":"IF(H268<>\"\",VLOOKUP(H268,Codes!C$1:D$475,2,FALSE),\"\")","v":""},null,null,0,0,{"$f":"D238","v":{"v":0,"d":"0.00"}},{"$f":"CONCATENATE(G238,H238)","v":""}]
[{"$nulls":6},{"$f":"IF(H269<>\"\",VLOOKUP(H269,Codes!C$1:D$475,2,FALSE),\"\")","v":""},null,null,0,0,{"v":0,"d":"0.00"},""]
[{"$nulls":6},{"$f":"IF(H270<>\"\",VLOOKUP(H270,Codes!C$1:D$475,2,FALSE),\"\")","v":""},null,null,0,0,{"v":0,"d":"0.00"},""]
[{"$nulls":6},{"$f":"IF(H271<>\"\",VLOOKUP(H271,Codes!C$1:D$475,2,FALSE),\"\")","v":""},null,null,0,0,{"v":0,"d":"0.00"},""]
[{"$nulls":6},{"$f":"IF(H272<>\"\",VLOOKUP(H272,Codes!C$1:D$475,2,FALSE),\"\")","v":""},null,null,0,0,{"v":0,"d":"0.00"},""]
[{"$nulls":6},{"$f":"IF(H273<>\"\",VLOOKUP(H273,Codes!C$1:D$475,2,FALSE),\"\")","v":""},null,null,0,0,{"v":0,"d":"0.00"},""]
[{"$nulls":6},{"$f":"IF(H274<>\"\",VLOOKUP(H274,Codes!C$1:D$475,2,FALSE),\"\")","v":""},null,null,0,0,{"v":0,"d":"0.00"},""]
[{"$nulls":6},{"$f":"IF(H275<>\"\",VLOOKUP(H275,Codes!C$1:D$475,2,FALSE),\"\")","v":""},null,null,0,0,{"v":0,"d":"0.00"},""]
[{"$nulls":6},{"$f":"IF(H276<>\"\",VLOOKUP(H276,Codes!C$1:D$475,2,FALSE),\"\")","v":""},null,null,0,0,{"v":0,"d":"0.00"},""]
[{"$nulls":6},{"$f":"IF(H277<>\"\",VLOOKUP(H277,Codes!C$1:D$475,2,FALSE),\"\")","v":""},null,null,0,0,{"v":0,"d":"0.00"},""]
[{"$nulls":6},{"$f":"IF(H278<>\"\",VLOOKUP(H278,Codes!C$1:D$475,2,FALSE),\"\")","v":""},null,null,0,0,{"v":0,"d":"0.00"},""]
[{"$nulls":6},{"$f":"IF(H279<>\"\",VLOOKUP(H279,Codes!C$1:D$475,2,FALSE),\"\")","v":""},null,null,0,0,{"v":0,"d":"0.00"},""]
[{"$nulls":6},{"$f":"IF(H280<>\"\",VLOOKUP(H280,Codes!C$1:D$475,2,FALSE),\"\")","v":""},null,null,0,0,{"v":0,"d":"0.00"},""]
[{"$nulls":6},{"$f":"IF(H281<>\"\",VLOOKUP(H281,Codes!C$1:D$475,2,FALSE),\"\")","v":""},null,null,0,0,{"v":0,"d":"0.00"},""]
[{"$nulls":6},{"$f":"IF(H282<>\"\",VLOOKUP(H282,Codes!C$1:D$475,2,FALSE),\"\")","v":""},null,null,0,0,{"v":0,"d":"0.00"},""]
[{"$nulls":6},{"$f":"IF(H283<>\"\",VLOOKUP(H283,Codes!C$1:D$475,2,FALSE),\"\")","v":""},null,null,0,0,{"v":0,"d":"0.00"},""]
[{"$nulls":6},{"$f":"IF(H284<>\"\",VLOOKUP(H284,Codes!C$1:D$475,2,FALSE),\"\")","v":""},null,null,0,0,{"v":0,"d":"0.00"},""]
[{"$nulls":6},{"$f":"IF(H285<>\"\",VLOOKUP(H285,Codes!C$1:D$475,2,FALSE),\"\")","v":""},null,null,0,0,{"v":0,"d":"0.00"},""]
[{"$nulls":6},{"$f":"IF(H286<>\"\",VLOOKUP(H286,Codes!C$1:D$475,2,FALSE),\"\")","v":""},null,null,0,0,{"v":0,"d":"0.00"},""]
[{"$nulls":6},{"$f":"IF(H287<>\"\",VLOOKUP(H287,Codes!C$1:D$475,2,FALSE),\"\")","v":""},null,null,0,0,{"v":0,"d":"0.00"},""]
[{"$nulls":6},{"$f":"IF(H288<>\"\",VLOOKUP(H288,Codes!C$1:D$475,2,FALSE),\"\")","v":""},null,null,0,0,{"v":0,"d":"0.00"},""]
[{"$nulls":6},{"$f":"IF(H289<>\"\",VLOOKUP(H289,Codes!C$1:D$475,2,FALSE),\"\")","v":""},null,null,0,0,{"v":0,"d":"0.00"},""]
[{"$nulls":6},{"$f":"IF(H290<>\"\",VLOOKUP(H290,Codes!C$1:D$475,2,FALSE),\"\")","v":""},null,null,0,0,{"v":0,"d":"0.00"},""]
[{"$nulls":6},{"$f":"IF(H291<>\"\",VLOOKUP(H291,Codes!C$1:D$475,2,FALSE),\"\")","v":""},null,null,0,0,{"v":0,"d":"0.00"},""]
[{"$nulls":6},{"$f":"IF(H292<>\"\",VLOOKUP(H292,Codes!C$1:D$475,2,FALSE),\"\")","v":""},null,null,0,0,{"v":0,"d":"0.00"},""]
[{"$nulls":6},{"$f":"IF(H293<>\"\",VLOOKUP(H293,Codes!C$1:D$475,2,FALSE),\"\")","v":""},null,null,0,0,{"v":0,"d":"0.00"},""]
[{"$nulls":6},{"$f":"IF(H294<>\"\",VLOOKUP(H294,Codes!C$1:D$475,2,FALSE),\"\")","v":""},null,null,0,0,{"v":0,"d":"0.00"},""]
[{"$nulls":6},{"$f":"IF(H295<>\"\",VLOOKUP(H295,Codes!C$1:D$475,2,FALSE),\"\")","v":""},null,null,0,0,{"v":0,"d":"0.00"},""]
[{"$nulls":6},{"$f":"IF(H296<>\"\",VLOOKUP(H296,Codes!C$1:D$475,2,FALSE),\"\")","v":""},null,null,0,0,{"v":0,"d":"0.00"},""]
[{"$nulls":6},{"$f":"IF(H297<>\"\",VLOOKUP(H297,Codes!C$1:D$475,2,FALSE),\"\")","v":""},null,null,0,0,{"v":0,"d":"0.00"},""]
[{"$nulls":6},{"$f":"IF(H298<>\"\",VLOOKUP(H298,Codes!C$1:D$475,2,FALSE),\"\")","v":""},null,null,0,0,{"v":0,"d":"0.00"},""]
[{"$nulls":6},{"$f":"IF(H299<>\"\",VLOOKUP(H299,Codes!C$1:D$475,2,FALSE),\"\")","v":""},null,null,0,0,{"v":0,"d":"0.00"},""]
[{"$nulls":6},{"$f":"IF(H300<>\"\",VLOOKUP(H300,Codes!C$1:D$475,2,FALSE),\"\")","v":""},null,null,0,0,{"v":0,"d":"0.00"},""]
[{"$nulls":6},{"$f":"IF(H301<>\"\",VLOOKUP(H301,Codes!C$1:D$475,2,FALSE),\"\")","v":""}]
[{"$nulls":6},{"$f":"IF(H302<>\"\",VLOOKUP(H302,Codes!C$1:D$475,2,FALSE),\"\")","v":""}]
[{"$nulls":6},{"$f":"IF(H303<>\"\",VLOOKUP(H303,Codes!C$1:D$475,2,FALSE),\"\")","v":""}]
[{"$nulls":6},{"$f":"IF(H304<>\"\",VLOOKUP(H304,Codes!C$1:D$475,2,FALSE),\"\")","v":""}]
[{"$nulls":6},{"$f":"IF(H305<>\"\",VLOOKUP(H305,Codes!C$1:D$475,2,FALSE),\"\")","v":""}]
[{"$nulls":6},{"$f":"IF(H306<>\"\",VLOOKUP(H306,Codes!C$1:D$475,2,FALSE),\"\")","v":""}]
[{"$nulls":6},{"$f":"IF(H307<>\"\",VLOOKUP(H307,Codes!C$1:D$475,2,FALSE),\"\")","v":""}]
[{"$nulls":6},{"$f":"IF(H308<>\"\",VLOOKUP(H308,Codes!C$1:D$475,2,FALSE),\"\")","v":""}]
[{"$nulls":6},{"$f":"IF(H309<>\"\",VLOOKUP(H309,Codes!C$1:D$475,2,FALSE),\"\")","v":""}]
[{"$nulls":6},{"$f":"IF(H310<>\"\",VLOOKUP(H310,Codes!C$1:D$475,2,FALSE),\"\")","v":""}]
[{"$nulls":6},{"$f":"IF(H311<>\"\",VLOOKUP(H311,Codes!C$1:D$475,2,FALSE),\"\")","v":""}]
[{"$nulls":6},{"$f":"IF(H312<>\"\",VLOOKUP(H312,Codes!C$1:D$475,2,FALSE),\"\")","v":""}]
[{"$nulls":6},{"$f":"IF(H313<>\"\",VLOOKUP(H313,Codes!C$1:D$475,2,FALSE),\"\")","v":""}]
[{"$nulls":6},{"$f":"IF(H314<>\"\",VLOOKUP(H314,Codes!C$1:D$475,2,FALSE),\"\")","v":""}]
[{"$nulls":6},{"$f":"IF(H315<>\"\",VLOOKUP(H315,Codes!C$1:D$475,2,FALSE),\"\")","v":""}]
[{"$nulls":6},{"$f":"IF(H316<>\"\",VLOOKUP(H316,Codes!C$1:D$475,2,FALSE),\"\")","v":""}]
[{"$nulls":6},{"$f":"IF(H317<>\"\",VLOOKUP(H317,Codes!C$1:D$475,2,FALSE),\"\")","v":""}]
[{"$nulls":6},{"$f":"IF(H318<>\"\",VLOOKUP(H318,Codes!C$1:D$475,2,FALSE),\"\")","v":""}]
[{"$nulls":6},{"$f":"IF(H319<>\"\",VLOOKUP(H319,Codes!C$1:D$475,2,FALSE),\"\")","v":""}]
[{"$nulls":6},{"$f":"IF(H320<>\"\",VLOOKUP(H320,Codes!C$1:D$475,2,FALSE),\"\")","v":""}]
[{"$nulls":6},{"$f":"IF(H321<>\"\",VLOOKUP(H321,Codes!C$1:D$475,2,FALSE),\"\")","v":""}]
[{"$nulls":6},{"$f":"IF(H322<>\"\",VLOOKUP(H322,Codes!C$1:D$475,2,FALSE),\"\")","v":""}]
[{"$nulls":6},{"$f":"IF(H323<>\"\",VLOOKUP(H323,Codes!C$1:D$475,2,FALSE),\"\")","v":""}]
[{"$nulls":6},{"$f":"IF(H324<>\"\",VLOOKUP(H324,Codes!C$1:D$475,2,FALSE),\"\")","v":""}]
[{"$nulls":6},{"$f":"IF(H325<>\"\",VLOOKUP(H325,Codes!C$1:D$475,2,FALSE),\"\")","v":""}]
[{"$nulls":6},{"$f":"IF(H326<>\"\",VLOOKUP(H326,Codes!C$1:D$475,2,FALSE),\"\")","v":""}]
[{"$nulls":6},{"$f":"IF(H327<>\"\",VLOOKUP(H327,Codes!C$1:D$475,2,FALSE),\"\")","v":""}]
[{"$nulls":6},{"$f":"IF(H328<>\"\",VLOOKUP(H328,Codes!C$1:D$475,2,FALSE),\"\")","v":""}]
[{"$nulls":6},{"$f":"IF(H329<>\"\",VLOOKUP(H329,Codes!C$1:D$475,2,FALSE),\"\")","v":""}]
[{"$nulls":6},{"$f":"IF(H330<>\"\",VLOOKUP(H330,Codes!C$1:D$475,2,FALSE),\"\")","v":""}]
[{"$nulls":6},{"$f":"IF(H331<>\"\",VLOOKUP(H331,Codes!C$1:D$475,2,FALSE),\"\")","v":""}]
[{"$nulls":6},{"$f":"IF(H332<>\"\",VLOOKUP(H332,Codes!C$1:D$475,2,FALSE),\"\")","v":""}]
[{"$nulls":6},{"$f":"IF(H333<>\"\",VLOOKUP(H333,Codes!C$1:D$475,2,FALSE),\"\")","v":""}]
[{"$nulls":6},{"$f":"IF(H334<>\"\",VLOOKUP(H334,Codes!C$1:D$475,2,FALSE),\"\")","v":""}]
[{"$nulls":6},{"$f":"IF(H335<>\"\",VLOOKUP(H335,Codes!C$1:D$475,2,FALSE),\"\")","v":""}]
[{"$nulls":6},{"$f":"IF(H336<>\"\",VLOOKUP(H336,Codes!C$1:D$475,2,FALSE),\"\")","v":""}]
[{"$nulls":6},{"$f":"IF(H337<>\"\",VLOOKUP(H337,Codes!C$1:D$475,2,FALSE),\"\")","v":""}]
[{"$nulls":6},{"$f":"IF(H338<>\"\",VLOOKUP(H338,Codes!C$1:D$475,2,FALSE),\"\")","v":""}]
[{"$nulls":6},{"$f":"IF(H339<>\"\",VLOOKUP(H339,Codes!C$1:D$475,2,FALSE),\"\")","v":""}]
[{"$nulls":6},{"$f":"IF(H340<>\"\",VLOOKUP(H340,Codes!C$1:D$475,2,FALSE),\"\")","v":""}]
[{"$nulls":6},{"$f":"IF(H341<>\"\",VLOOKUP(H341,Codes!C$1:D$475,2,FALSE),\"\")","v":""}]
[{"$nulls":6},{"$f":"IF(H342<>\"\",VLOOKUP(H342,Codes!C$1:D$475,2,FALSE),\"\")","v":""}]
[{"$nulls":6},{"$f":"IF(H343<>\"\",VLOOKUP(H343,Codes!C$1:D$475,2,FALSE),\"\")","v":""}]
[{"$nulls":6},{"$f":"IF(H344<>\"\",VLOOKUP(H344,Codes!C$1:D$475,2,FALSE),\"\")","v":""}]
[{"$nulls":6},{"$f":"IF(H345<>\"\",VLOOKUP(H345,Codes!C$1:D$475,2,FALSE),\"\")","v":""}]
[{"$nulls":6},{"$f":"IF(H346<>\"\",VLOOKUP(H346,Codes!C$1:D$475,2,FALSE),\"\")","v":""}]
[{"$nulls":6},{"$f":"IF(H347<>\"\",VLOOKUP(H347,Codes!C$1:D$475,2,FALSE),\"\")","v":""}]
[{"$nulls":6},{"$f":"IF(H348<>\"\",VLOOKUP(H348,Codes!C$1:D$475,2,FALSE),\"\")","v":""}]
[{"$nulls":6},{"$f":"IF(H349<>\"\",VLOOKUP(H349,Codes!C$1:D$475,2,FALSE),\"\")","v":""}]
[{"$nulls":6},{"$f":"IF(H350<>\"\",VLOOKUP(H350,Codes!C$1:D$475,2,FALSE),\"\")","v":""}]
[{"$nulls":6},{"$f":"IF(H351<>\"\",VLOOKUP(H351,Codes!C$1:D$475,2,FALSE),\"\")","v":""}]
[{"$nulls":6},{"$f":"IF(H352<>\"\",VLOOKUP(H352,Codes!C$1:D$475,2,FALSE),\"\")","v":""}]
[{"$nulls":6},{"$f":"IF(H353<>\"\",VLOOKUP(H353,Codes!C$1:D$475,2,FALSE),\"\")","v":""}]
[{"$nulls":6},{"$f":"IF(H354<>\"\",VLOOKUP(H354,Codes!C$1:D$475,2,FALSE),\"\")","v":""}]
[{"$nulls":6},{"$f":"IF(H355<>\"\",VLOOKUP(H355,Codes!C$1:D$475,2,FALSE),\"\")","v":""}]
[{"$nulls":6},{"$f":"IF(H356<>\"\",VLOOKUP(H356,Codes!C$1:D$475,2,FALSE),\"\")","v":""}]
[{"$nulls":6},{"$f":"IF(H357<>\"\",VLOOKUP(H357,Codes!C$1:D$475,2,FALSE),\"\")","v":""}]
[{"$nulls":6},{"$f":"IF(H358<>\"\",VLOOKUP(H358,Codes!C$1:D$475,2,FALSE),\"\")","v":""}]
[{"$nulls":6},{"$f":"IF(H359<>\"\",VLOOKUP(H359,Codes!C$1:D$475,2,FALSE),\"\")","v":""}]
[{"$nulls":6},{"$f":"IF(H360<>\"\",VLOOKUP(H360,Codes!C$1:D$475,2,FALSE),\"\")","v":""}]
[{"$nulls":6},{"$f":"IF(H361<>\"\",VLOOKUP(H361,Codes!C$1:D$475,2,FALSE),\"\")","v":""}]
[{"$nulls":6},{"$f":"IF(H362<>\"\",VLOOKUP(H362,Codes!C$1:D$475,2,FALSE),\"\")","v":""}]
[{"$nulls":6},{"$f":"IF(H363<>\"\",VLOOKUP(H363,Codes!C$1:D$475,2,FALSE),\"\")","v":""}]
[{"$nulls":6},{"$f":"IF(H364<>\"\",VLOOKUP(H364,Codes!C$1:D$475,2,FALSE),\"\")","v":""}]
[{"$nulls":6},{"$f":"IF(H365<>\"\",VLOOKUP(H365,Codes!C$1:D$475,2,FALSE),\"\")","v":""}]
[{"$nulls":6},{"$f":"IF(H366<>\"\",VLOOKUP(H366,Codes!C$1:D$475,2,FALSE),\"\")","v":""}]
[{"$nulls":6},{"$f":"IF(H367<>\"\",VLOOKUP(H367,Codes!C$1:D$475,2,FALSE),\"\")","v":""}]
[{"$nulls":6},{"$f":"IF(H368<>\"\",VLOOKUP(H368,Codes!C$1:D$475,2,FALSE),\"\")","v":""}]
[{"$nulls":6},{"$f":"IF(H369<>\"\",VLOOKUP(H369,Codes!C$1:D$475,2,FALSE),\"\")","v":""}]
[{"$nulls":6},{"$f":"IF(H370<>\"\",VLOOKUP(H370,Codes!C$1:D$475,2,FALSE),\"\")","v":""}]
[{"$nulls":6},{"$f":"IF(H371<>\"\",VLOOKUP(H371,Codes!C$1:D$475,2,FALSE),\"\")","v":""}]
[{"$nulls":6},{"$f":"IF(H372<>\"\",VLOOKUP(H372,Codes!C$1:D$475,2,FALSE),\"\")","v":""}]
[{"$nulls":6},{"$f":"IF(H373<>\"\",VLOOKUP(H373,Codes!C$1:D$475,2,FALSE),\"\")","v":""}]
[{"$nulls":6},{"$f":"IF(H374<>\"\",VLOOKUP(H374,Codes!C$1:D$475,2,FALSE),\"\")","v":""}]
[{"$nulls":6},{"$f":"IF(H375<>\"\",VLOOKUP(H375,Codes!C$1:D$475,2,FALSE),\"\")","v":""}]
[{"$nulls":6},{"$f":"IF(H376<>\"\",VLOOKUP(H376,Codes!C$1:D$475,2,FALSE),\"\")","v":""}]
[{"$nulls":6},{"$f":"IF(H377<>\"\",VLOOKUP(H377,Codes!C$1:D$475,2,FALSE),\"\")","v":""}]
[{"$nulls":6},{"$f":"IF(H378<>\"\",VLOOKUP(H378,Codes!C$1:D$475,2,FALSE),\"\")","v":""}]
[{"$nulls":6},{"$f":"IF(H379<>\"\",VLOOKUP(H379,Codes!C$1:D$475,2,FALSE),\"\")","v":""}]
[{"$nulls":6},{"$f":"IF(H380<>\"\",VLOOKUP(H380,Codes!C$1:D$475,2,FALSE),\"\")","v":""}]
[{"$nulls":6},{"$f":"IF(H381<>\"\",VLOOKUP(H381,Codes!C$1:D$475,2,FALSE),\"\")","v":""}]
[{"$nulls":6},{"$f":"IF(H382<>\"\",VLOOKUP(H382,Codes!C$1:D$475,2,FALSE),\"\")","v":""}]
[{"$nulls":6},{"$f":"IF(H383<>\"\",VLOOKUP(H383,Codes!C$1:D$475,2,FALSE),\"\")","v":""}]
[{"$nulls":6},{"$f":"IF(H384<>\"\",VLOOKUP(H384,Codes!C$1:D$475,2,FALSE),\"\")","v":""}]
[{"$nulls":6},{"$f":"IF(H385<>\"\",VLOOKUP(H385,Codes!C$1:D$475,2,FALSE),\"\")","v":""}]
[{"$nulls":6},{"$f":"IF(H386<>\"\",VLOOKUP(H386,Codes!C$1:D$475,2,FALSE),\"\")","v":""}]
[{"$nulls":6},{"$f":"IF(H387<>\"\",VLOOKUP(H387,Codes!C$1:D$475,2,FALSE),\"\")","v":""}]
[{"$nulls":6},{"$f":"IF(H388<>\"\",VLOOKUP(H388,Codes!C$1:D$475,2,FALSE),\"\")","v":""}]
[{"$nulls":6},{"$f":"IF(H389<>\"\",VLOOKUP(H389,Codes!C$1:D$475,2,FALSE),\"\")","v":""}]
[{"$nulls":6},{"$f":"IF(H390<>\"\",VLOOKUP(H390,Codes!C$1:D$475,2,FALSE),\"\")","v":""}]
[{"$nulls":6},{"$f":"IF(H391<>\"\",VLOOKUP(H391,Codes!C$1:D$475,2,FALSE),\"\")","v":""}]
[{"$nulls":6},{"$f":"IF(H392<>\"\",VLOOKUP(H392,Codes!C$1:D$475,2,FALSE),\"\")","v":""}]
[{"$nulls":6},{"$f":"IF(H393<>\"\",VLOOKUP(H393,Codes!C$1:D$475,2,FALSE),\"\")","v":""}]
[{"$nulls":6},{"$f":"IF(H394<>\"\",VLOOKUP(H394,Codes!C$1:D$475,2,FALSE),\"\")","v":""}]
[{"$nulls":6},{"$f":"IF(H395<>\"\",VLOOKUP(H395,Codes!C$1:D$475,2,FALSE),\"\")","v":""}]
[{"$nulls":6},{"$f":"IF(H396<>\"\",VLOOKUP(H396,Codes!C$1:D$475,2,FALSE),\"\")","v":""}]
[{"$nulls":6},{"$f":"IF(H397<>\"\",VLOOKUP(H397,Codes!C$1:D$475,2,FALSE),\"\")","v":""}]
[{"$nulls":6},{"$f":"IF(H398<>\"\",VLOOKUP(H398,Codes!C$1:D$475,2,FALSE),\"\")","v":""}]
[{"$nulls":6},{"$f":"IF(H399<>\"\",VLOOKUP(H399,Codes!C$1:D$475,2,FALSE),\"\")","v":""}]
[{"$nulls":6},{"$f":"IF(H400<>\"\",VLOOKUP(H400,Codes!C$1:D$475,2,FALSE),\"\")","v":""}]
[{"$nulls":6},{"$f":"IF(H401<>\"\",VLOOKUP(H401,Codes!C$1:D$475,2,FALSE),\"\")","v":""}]
[{"$nulls":6},{"$f":"IF(H402<>\"\",VLOOKUP(H402,Codes!C$1:D$475,2,FALSE),\"\")","v":""}]
[{"$nulls":6},{"$f":"IF(H403<>\"\",VLOOKUP(H403,Codes!C$1:D$475,2,FALSE),\"\")","v":""}]
[{"$nulls":6},{"$f":"IF(H404<>\"\",VLOOKUP(H404,Codes!C$1:D$475,2,FALSE),\"\")","v":""}]
[{"$nulls":6},{"$f":"IF(H405<>\"\",VLOOKUP(H405,Codes!C$1:D$475,2,FALSE),\"\")","v":""}]
[{"$nulls":6},{"$f":"IF(H406<>\"\",VLOOKUP(H406,Codes!C$1:D$475,2,FALSE),\"\")","v":""}]
[{"$nulls":6},{"$f":"IF(H407<>\"\",VLOOKUP(H407,Codes!C$1:D$475,2,FALSE),\"\")","v":""}]
[{"$nulls":6},{"$f":"IF(H408<>\"\",VLOOKUP(H408,Codes!C$1:D$475,2,FALSE),\"\")","v":""}]
[{"$nulls":6},{"$f":"IF(H409<>\"\",VLOOKUP(H409,Codes!C$1:D$475,2,FALSE),\"\")","v":""}]
[{"$nulls":6},{"$f":"IF(H410<>\"\",VLOOKUP(H410,Codes!C$1:D$475,2,FALSE),\"\")","v":""}]
[{"$nulls":6},{"$f":"IF(H411<>\"\",VLOOKUP(H411,Codes!C$1:D$475,2,FALSE),\"\")","v":""}]
[{"$nulls":6},{"$f":"IF(H412<>\"\",VLOOKUP(H412,Codes!C$1:D$475,2,FALSE),\"\")","v":""}]
[{"$nulls":6},{"$f":"IF(H413<>\"\",VLOOKUP(H413,Codes!C$1:D$475,2,FALSE),\"\")","v":""}]
[{"$nulls":6},{"$f":"IF(H414<>\"\",VLOOKUP(H414,Codes!C$1:D$475,2,FALSE),\"\")","v":""}]
[{"$nulls":6},{"$f":"IF(H415<>\"\",VLOOKUP(H415,Codes!C$1:D$475,2,FALSE),\"\")","v":""}]
[{"$nulls":6},{"$f":"IF(H416<>\"\",VLOOKUP(H416,Codes!C$1:D$475,2,FALSE),\"\")","v":""}]
[{"$nulls":6},{"$f":"IF(H417<>\"\",VLOOKUP(H417,Codes!C$1:D$475,2,FALSE),\"\")","v":""}]
[{"$nulls":6},{"$f":"IF(H418<>\"\",VLOOKUP(H418,Codes!C$1:D$475,2,FALSE),\"\")","v":""}]
[{"$nulls":6},{"$f":"IF(H419<>\"\",VLOOKUP(H419,Codes!C$1:D$475,2,FALSE),\"\")","v":""}]
[{"$nulls":6},{"$f":"IF(H420<>\"\",VLOOKUP(H420,Codes!C$1:D$475,2,FALSE),\"\")","v":""}]
[{"$nulls":6},{"$f":"IF(H421<>\"\",VLOOKUP(H421,Codes!C$1:D$475,2,FALSE),\"\")","v":""}]
[{"$nulls":6},{"$f":"IF(H422<>\"\",VLOOKUP(H422,Codes!C$1:D$475,2,FALSE),\"\")","v":""}]
[{"$nulls":6},{"$f":"IF(H423<>\"\",VLOOKUP(H423,Codes!C$1:D$475,2,FALSE),\"\")","v":""}]
[{"$nulls":6},{"$f":"IF(H424<>\"\",VLOOKUP(H424,Codes!C$1:D$475,2,FALSE),\"\")","v":""}]
[{"$nulls":6},{"$f":"IF(H425<>\"\",VLOOKUP(H425,Codes!C$1:D$475,2,FALSE),\"\")","v":""}]
[{"$nulls":6},{"$f":"IF(H426<>\"\",VLOOKUP(H426,Codes!C$1:D$475,2,FALSE),\"\")","v":""}]
[{"$nulls":6},{"$f":"IF(H427<>\"\",VLOOKUP(H427,Codes!C$1:D$475,2,FALSE),\"\")","v":""}]
[{"$nulls":6},{"$f":"IF(H428<>\"\",VLOOKUP(H428,Codes!C$1:D$475,2,FALSE),\"\")","v":""}]
[{"$nulls":6},{"$f":"IF(H429<>\"\",VLOOKUP(H429,Codes!C$1:D$475,2,FALSE),\"\")","v":""}]
[{"$nulls":6},{"$f":"IF(H430<>\"\",VLOOKUP(H430,Codes!C$1:D$475,2,FALSE),\"\")","v":""}]
[{"$nulls":6},{"$f":"IF(H431<>\"\",VLOOKUP(H431,Codes!C$1:D$475,2,FALSE),\"\")","v":""}]
[{"$nulls":6},{"$f":"IF(H432<>\"\",VLOOKUP(H432,Codes!C$1:D$475,2,FALSE),\"\")","v":""}]
[{"$nulls":6},{"$f":"IF(H433<>\"\",VLOOKUP(H433,Codes!C$1:D$475,2,FALSE),\"\")","v":""}]
[{"$nulls":6},{"$f":"IF(H434<>\"\",VLOOKUP(H434,Codes!C$1:D$475,2,FALSE),\"\")","v":""}]
[{"$nulls":6},{"$f":"IF(H435<>\"\",VLOOKUP(H435,Codes!C$1:D$475,2,FALSE),\"\")","v":""}]
[{"$nulls":6},{"$f":"IF(H436<>\"\",VLOOKUP(H436,Codes!C$1:D$475,2,FALSE),\"\")","v":""}]
[{"$nulls":6},{"$f":"IF(H437<>\"\",VLOOKUP(H437,Codes!C$1:D$475,2,FALSE),\"\")","v":""}]
[{"$nulls":6},{"$f":"IF(H438<>\"\",VLOOKUP(H438,Codes!C$1:D$475,2,FALSE),\"\")","v":""}]
[{"$nulls":6},{"$f":"IF(H439<>\"\",VLOOKUP(H439,Codes!C$1:D$475,2,FALSE),\"\")","v":""}]
[{"$nulls":6},{"$f":"IF(H440<>\"\",VLOOKUP(H440,Codes!C$1:D$475,2,FALSE),\"\")","v":""}]
[{"$nulls":6},{"$f":"IF(H441<>\"\",VLOOKUP(H441,Codes!C$1:D$475,2,FALSE),\"\")","v":""}]
[{"$nulls":6},{"$f":"IF(H442<>\"\",VLOOKUP(H442,Codes!C$1:D$475,2,FALSE),\"\")","v":""}]
[{"$nulls":6},{"$f":"IF(H443<>\"\",VLOOKUP(H443,Codes!C$1:D$475,2,FALSE),\"\")","v":""}]
[{"$nulls":6},{"$f":"IF(H444<>\"\",VLOOKUP(H444,Codes!C$1:D$475,2,FALSE),\"\")","v":""}]
[{"$nulls":6},{"$f":"IF(H445<>\"\",VLOOKUP(H445,Codes!C$1:D$475,2,FALSE),\"\")","v":""}]
[{"$nulls":6},{"$f":"IF(H446<>\"\",VLOOKUP(H446,Codes!C$1:D$475,2,FALSE),\"\")","v":""}]
[{"$nulls":6},{"$f":"IF(H447<>\"\",VLOOKUP(H447,Codes!C$1:D$475,2,FALSE),\"\")","v":""}]
[{"$nulls":6},{"$f":"IF(H448<>\"\",VLOOKUP(H448,Codes!C$1:D$475,2,FALSE),\"\")","v":""}]
[{"$nulls":6},{"$f":"IF(H449<>\"\",VLOOKUP(H449,Codes!C$1:D$475,2,FALSE),\"\")","v":""}]
[{"$nulls":6},{"$f":"IF(H450<>\"\",VLOOKUP(H450,Codes!C$1:D$475,2,FALSE),\"\")","v":""}]
[{"$nulls":6},{"$f":"IF(H451<>\"\",VLOOKUP(H451,Codes!C$1:D$475,2,FALSE),\"\")","v":""}]
[{"$nulls":6},{"$f":"IF(H452<>\"\",VLOOKUP(H452,Codes!C$1:D$475,2,FALSE),\"\")","v":""}]
[{"$nulls":6},{"$f":"IF(H453<>\"\",VLOOKUP(H453,Codes!C$1:D$475,2,FALSE),\"\")","v":""}]
[{"$nulls":6},{"$f":"IF(H454<>\"\",VLOOKUP(H454,Codes!C$1:D$475,2,FALSE),\"\")","v":""}]
[{"$nulls":6},{"$f":"IF(H455<>\"\",VLOOKUP(H455,Codes!C$1:D$475,2,FALSE),\"\")","v":""}]
[{"$nulls":6},{"$f":"IF(H456<>\"\",VLOOKUP(H456,Codes!C$1:D$475,2,FALSE),\"\")","v":""}]
[{"$nulls":6},{"$f":"IF(H457<>\"\",VLOOKUP(H457,Codes!C$1:D$475,2,FALSE),\"\")","v":""}]
[{"$nulls":6},{"$f":"IF(H458<>\"\",VLOOKUP(H458,Codes!C$1:D$475,2,FALSE),\"\")","v":""}]
[{"$nulls":6},{"$f":"IF(H459<>\"\",VLOOKUP(H459,Codes!C$1:D$475,2,FALSE),\"\")","v":""}]
[{"$nulls":6},{"$f":"IF(H460<>\"\",VLOOKUP(H460,Codes!C$1:D$475,2,FALSE),\"\")","v":""}]
[{"$nulls":6},{"$f":"IF(H461<>\"\",VLOOKUP(H461,Codes!C$1:D$475,2,FALSE),\"\")","v":""}]
[{"$nulls":6},{"$f":"IF(H462<>\"\",VLOOKUP(H462,Codes!C$1:D$475,2,FALSE),\"\")","v":""}]
[{"$nulls":6},{"$f":"IF(H463<>\"\",VLOOKUP(H463,Codes!C$1:D$475,2,FALSE),\"\")","v":""}]
[{"$nulls":6},{"$f":"IF(H464<>\"\",VLOOKUP(H464,Codes!C$1:D$475,2,FALSE),\"\")","v":""}]
[{"$nulls":6},{"$f":"IF(H465<>\"\",VLOOKUP(H465,Codes!C$1:D$475,2,FALSE),\"\")","v":""}]
[{"$nulls":6},{"$f":"IF(H466<>\"\",VLOOKUP(H466,Codes!C$1:D$475,2,FALSE),\"\")","v":""}]
[{"$nulls":6},{"$f":"IF(H467<>\"\",VLOOKUP(H467,Codes!C$1:D$475,2,FALSE),\"\")","v":""}]
[{"$nulls":6},{"$f":"IF(H468<>\"\",VLOOKUP(H468,Codes!C$1:D$475,2,FALSE),\"\")","v":""}]
[{"$nulls":6},{"$f":"IF(H469<>\"\",VLOOKUP(H469,Codes!C$1:D$475,2,FALSE),\"\")","v":""}]
[{"$nulls":6},{"$f":"IF(H470<>\"\",VLOOKUP(H470,Codes!C$1:D$475,2,FALSE),\"\")","v":""}]
[{"$nulls":6},{"$f":"IF(H471<>\"\",VLOOKUP(H471,Codes!C$1:D$475,2,FALSE),\"\")","v":""}]
[{"$nulls":6},{"$f":"IF(H472<>\"\",VLOOKUP(H472,Codes!C$1:D$475,2,FALSE),\"\")","v":""}]
[{"$nulls":6},{"$f":"IF(H473<>\"\",VLOOKUP(H473,Codes!C$1:D$475,2,FALSE),\"\")","v":""}]
[{"$nulls":6},{"$f":"IF(H474<>\"\",VLOOKUP(H474,Codes!C$1:D$475,2,FALSE),\"\")","v":""}]
[{"$nulls":6},{"$f":"IF(H475<>\"\",VLOOKUP(H475,Codes!C$1:D$475,2,FALSE),\"\")","v":""}]
[{"$nulls":6},{"$f":"IF(H476<>\"\",VLOOKUP(H476,Codes!C$1:D$475,2,FALSE),\"\")","v":""}]
[{"$nulls":6},{"$f":"IF(H477<>\"\",VLOOKUP(H477,Codes!C$1:D$475,2,FALSE),\"\")","v":""}]
[{"$nulls":6},{"$f":"IF(H478<>\"\",VLOOKUP(H478,Codes!C$1:D$475,2,FALSE),\"\")","v":""}]
[{"$nulls":6},{"$f":"IF(H479<>\"\",VLOOKUP(H479,Codes!C$1:D$475,2,FALSE),\"\")","v":""}]
[{"$nulls":6},{"$f":"IF(H480<>\"\",VLOOKUP(H480,Codes!C$1:D$475,2,FALSE),\"\")","v":""}]
[{"$nulls":6},{"$f":"IF(H481<>\"\",VLOOKUP(H481,Codes!C$1:D$475,2,FALSE),\"\")","v":""}]
[{"$nulls":6},{"$f":"IF(H482<>\"\",VLOOKUP(H482,Codes!C$1:D$475,2,FALSE),\"\")","v":""}]
[{"$nulls":6},{"$f":"IF(H483<>\"\",VLOOKUP(H483,Codes!C$1:D$475,2,FALSE),\"\")","v":""}]
[{"$nulls":6},{"$f":"IF(H484<>\"\",VLOOKUP(H484,Codes!C$1:D$475,2,FALSE),\"\")","v":""}]
[{"$nulls":6},{"$f":"IF(H485<>\"\",VLOOKUP(H485,Codes!C$1:D$475,2,FALSE),\"\")","v":""}]
[{"$nulls":6},{"$f":"IF(H486<>\"\",VLOOKUP(H486,Codes!C$1:D$475,2,FALSE),\"\")","v":""}]
[{"$nulls":6},{"$f":"IF(H487<>\"\",VLOOKUP(H487,Codes!C$1:D$475,2,FALSE),\"\")","v":""}]
[{"$nulls":6},{"$f":"IF(H488<>\"\",VLOOKUP(H488,Codes!C$1:D$475,2,FALSE),\"\")","v":""}]
[{"$nulls":6},{"$f":"IF(H489<>\"\",VLOOKUP(H489,Codes!C$1:D$475,2,FALSE),\"\")","v":""}]
[{"$nulls":6},{"$f":"IF(H490<>\"\",VLOOKUP(H490,Codes!C$1:D$475,2,FALSE),\"\")","v":""}]
[{"$nulls":6},{"$f":"IF(H491<>\"\",VLOOKUP(H491,Codes!C$1:D$475,2,FALSE),\"\")","v":""}]
[{"$nulls":6},{"$f":"IF(H492<>\"\",VLOOKUP(H492,Codes!C$1:D$475,2,FALSE),\"\")","v":""}]
[{"$nulls":6},{"$f":"IF(H493<>\"\",VLOOKUP(H493,Codes!C$1:D$475,2,FALSE),\"\")","v":""}]
[{"$nulls":6},{"$f":"IF(H494<>\"\",VLOOKUP(H494,Codes!C$1:D$475,2,FALSE),\"\")","v":""}]
[{"$nulls":6},{"$f":"IF(H495<>\"\",VLOOKUP(H495,Codes!C$1:D$475,2,FALSE),\"\")","v":""}]
[{"$nulls":6},{"$f":"IF(H496<>\"\",VLOOKUP(H496,Codes!C$1:D$475,2,FALSE),\"\")","v":""}]
[{"$nulls":6},{"$f":"IF(H497<>\"\",VLOOKUP(H497,Codes!C$1:D$475,2,FALSE),\"\")","v":""}]
[{"$nulls":6},{"$f":"IF(H498<>\"\",VLOOKUP(H498,Codes!C$1:D$475,2,FALSE),\"\")","v":""}]
[{"$nulls":6},{"$f":"IF(H499<>\"\",VLOOKUP(H499,Codes!C$1:D$475,2,FALSE),\"\")","v":""}]
[{"$nulls":6},{"$f":"IF(H500<>\"\",VLOOKUP(H500,Codes!C$1:D$475,2,FALSE),\"\")","v":""}]

{"sheet":"Regroupement caisse","index":7,"n_rows":3,"n_cols":2,"rows_kept":3,"hidden":true}
["Étiquettes de lignes","Somme de Montant"]
[null,0]
["Total général",0]

{"sheet":" code comptes ","index":8,"n_rows":149,"n_cols":3,"rows_kept":149,"hidden":true}
["      Codes","Nederlands","Français"]
[100000,null,"Fonds associatifs - Patrimoine de départ"]
[101000,null,"Fonds (Moyens) permanents ( Dons, Libéralités & Subsides )"]
[101100,null,"Moyens permanents reçus en espèces"]
[101200,"Fondsen van","Moyens permanents reçus en nature"]
[130000,"Fondsen ","Fonds affectés pour investissements"]
[131000,"Fondsen van","Fonds affectés pour passif social"]
[132000,null,"Autres fonds affectés"]
[173000,"Schulden onroerende","Crédit hypothécaire"]
[174100,"Overige leningen - verschuldigde MIB","Autres emprunts - dûs au MIB"]
[212010,"Licenties (software)","Licence (software)"]
[221002,"Gebouw - Kerk","Bâtiment - Eglise"]
[240000,"Meubilair & Kantoormachines","Mobilier & Machines"]
[240010,"Computermaterieel","Ordinateur"]
[240020,"Meubilair","Mobiliers "]
[240030,"Kantoormachines","Machines"]
[241010,"Bedrijfswagens","Matériel roulant : camions e.a"]
[241015,"Personenwagens","Matériel roulant : voitures"]
[291200,"Aide aux pasteurs (à recevoir pour MIB)","Aide aux pasteurs (à recevoir pour MIB)"]
[406000,"Vooruitbetalingen","Acomptes versés"]
[407000,"Dubieuze debiteuren","Créances douteuses"]
[410000,"Bijdragen.,niet gestorte","Cotisations non versées"]
[412000,"Vordering Notaris Muylle","Créance Notaire Muylle"]
[416200,"R/C vennoot in een vzw","Compte courant / Membre = prêt à un membre"]
[416300,"R/C bestuurders, zaakvoerders","Compte courant / Administrateur = prêt à un administrateur"]
[416700,"Vorderingen o/openb. besturen","Créances s/pouvoirs publics"]
[418000,"Borgtochten betaald in contant","Cautionnements versés e/numér."]
[420000,"Leasingsschulden < 1 jaar","Dettes >1 an échéant d/l'année"]
[424000,"Overige leningen","Autres emprunts"]
[429200,"Over. schulden best,zaakv,venn","Dettes envers Administrateurs, Membres"]
[430040,"Straight loan","Straight loan"]
[440000,"Leveranciers","Fournisseurs"]
[452500,"Onroerende voorheffing","Dette - Précompte immobilier"]
[452510,"Gemeente en Provinciale belastingen","Dette - Taxes communales & provinciales"]
[452530,"Overige belastingen en taksen","Dette - Autres impots & taxes"]
[455020,"Loon","Salaires"]
[456100,"Voorziening vakantiegeld","Povisions pour pécule de vacan"]
[489700,"Schulden aan VIM vzw","Dettes VIM VZW"]
[490000,"Over te dragen kosten","Charges à reporter"]
[493000,"Over te dragen opbrengsten","Produits à reporter"]
[499000,"Wachtrekening","Comptes d'attente"]
[550000,"Bank","Banque"]
[570000,"Kas","Caisse"]
[580000,"Interne overboekingen","Virements internes"]
[611110,"Huur terreinen","Location terrain"]
[611120,"Huur gebouwen","Loyer immeuble"]
[611125,"Huur parking","Location parking"]
[611130,"Huur inst., mach. & gereedsch.","Location installation, machine & outillage"]
[611135,"Huur container","Location container"]
[611150,"Huur bedrijfswagens","Location matériel roulant - camoin"]
[611151,"Huur personenwagens","Location matériel roulant - auto"]
[611200,"Buitenlandse leasing","Leasing - Location financement"]
[611310,"Onderhoud-herstellingen  ","Entretien & réparation terrain"]
[611320,"Onderhoud-herstellingen  ","Entretien & réparation bâtIment"]
[611330,"Onderhoud-herstellingen  ","Entretien & réparation instal. machine & outillage"]
[611340,"Onderhoud-herstellingen  ","Entretien & réparation mobilier"]
[611350,"Onderhoud-herstellingen  ","Entretien & réparation matériel roulant - camion"]
[611351,"Onderhoud-herstellingen  ","Entretien & réparation matériel roulant - auto"]
[611360,"Onderhoud-herstellingen  ","Entretien & réparation matériel de bureau"]
[611390,"Onderhoud-herstellingen","Ramassage de déchets"]
[612000,"Telefoon, fax en internet - Kerk","Téléphone, fax & internet - Eglise"]
[612010,"Telefoon, fax en internet - Dominee","Téléphone, fax & internet - Pasteur"]
[612120,"Electriciteit en Gas","Electricité & Gaz"]
[612130,"Water","Eau"]
[612160,"Verwarming","Chauffage"]
[612170,"TV Distributie","Télédistribution"]
[612225,"Onderhoudsprodukten","Produits d'entretien "]
[612229,"Groot gereedschap","Grand outillage - achat"]
[612230,"Klein gereedschap","Petit outillage - achat"]
[612231,"Animatiemateriaal","Achat matériel d'animation"]
[612240,"Kantoorbenodigdheden","Fourniture de bureau"]
[612300,"Aankoop van literatuur","Livres, périodiques, documentations,.."]
[612400,"Avondmaal","Sainte Cêne"]
[612410,"Agape - Broederlijke gemeenschap","Agape - communion fraternelle"]
[612420,"Plechtige vieringen ( Kerst, Pasen, ..)","Fêtes Solennelles ( Noêl, Pâques, ..)"]
[612430,"Retraite","Retraite - récollection"]
[612440,"Organist / Koorzangers","Organistes / Choristes"]
[612500,"Diaconie (Speciale collecten)","Diaconie (Offrandes spéciales)"]
[612510,"Diaconie (Voedselbank)","Diaconie (Banque alimentaire)"]
[612520,"Diaconie (Gerichte hulp)","Diaconie (Secours ponctuels)"]
[612530,"Diaconie (PUCIS)","Diaconie (CUPEI)"]
[612540,"Diaconie (Geschenken voor bepaalde gebeurtenissen)","Diaconie (Cadeaux événementiels)"]
[612550,"Reisvergoedingen","Frais de déplacement"]
[612560,"Terugbetaling (vrijwilliger(ster)s)","Défraiement (bénévoles)"]
[613100,"Verzekeringen","Assurances"]
[613130,"Verzekeringen jongkamp","Assurances camp de jeunesse"]
[613210,"Administratie","Administration"]
[613211,"Honoraria advocaten","Honoraires avocats"]
[613212,"Honoraria notaris","Honoraires notaires"]
[613214,"Honoraria ????","Honoraires experts"]
[613215,"Honoraria accountants","Honoraires comptables"]
[613216,"Honoraria bedrijfsrevisoren","Honoraires reviseurs d'entreprise"]
[613217,"Honoraria architecten","Honoraires architectes"]
[613220,"Pastorale kosten","Frais pastoraux - toges - habits de céremonie"]
[613230,"Andere kosten","Autres frais"]
[613240,"Terugbetaling inschrijving voor kampen","Remboursement inscriptions aux camps"]
[613248,"Evangelisatie","Evangélisation"]
[613249,"Zondagsschool","Ecole du dimanche"]
[613250,"Jeugdgroep","Groupe des jeunes - Jeunesse"]
[613251,"Vrouwenkring","Groupe des dames"]
[613252,"Mannenkring","Groupe des hommes"]
[613253,"Diversen","Divers"]
[613260,"Vergoeding vervangers","PAF pasteur visiteur"]
[614100,"Verpl. & reiskosten binnenland ","Voyages & déplacements (B)"]
[614110,"Verpl. & reiskosten buitenland","Voyages & déplac. à l'étranger"]
[614150,"Restaurantkosten binnenland","Restaurants Belges"]
[614160,"Restaurantkosten buitenland","Restaurants à l'étranger"]
[614210,"Affiches,folders,catalogi,adve","Affiches,dépliants,catal.,ann."]
[614230,"Decoratie-bloemen-geschenken","Décoration-fleurs-cadeaux"]
[614400,"Bijdragen","Participation aux frais"]
[614410,"Solidariteitsbijdrage","Cotisation de solidarité"]
[614420,"Deelnemingskosten","Participation aux frais"]
[614500,"Gaven - Steun aan de zending - Ondersteuning","Dons - Soutien mission - entraide"]
[614700,"Participatie Wedden","Participation aux salaires"]
[620000,"Bezoldigingen","Salaires"]
[620100,"Bezoldiging Directiepersoneel","Appointement - Direction"]
[620210,"Bezoldigingen","Appointement - Employés"]
[630000,"T / afschrijvingen","Dotations aux amortissements"]
[640110,"Verkeersbelasting P.W.","Taxe immatriculation - auto"]
[640120,"Belasting o/inverkeersstelling","Taxe de mise en circulation"]
[640300,"Patrimoniumtaks","Taxe de patrimoine"]
[640400,"Roerende Voorheffing","Droits d'enregistrement"]
[640500,"Provincie- & gemeentebelasting","Taxes communales & provinciales"]
[640550,"Sabam / Auteursrechten","Sabam / droits d'auteurs"]
[645100,"Wettelijke formaliteiten","Formalités légales & administratives"]
[646400,"Verhuiskosten","Frais de déménagement"]
[650000,"Bankintresten","Intérêts bancaires"]
[650900,"Interest krediet","Intérêts crédit - emprunt"]
[656000,"Bankkosten  ","Frais bancaires"]
[656090,"Handlichtingskosten","Frais Mainlevée"]
[656200,"Betalingsverschillen (-)","Différences de paiements (-)"]
[662000,"Voorzien.uitz.risico's & kost.","Prov.risques & charges except."]
[670010,"Roerende Voorheffing","Précompte mobilier"]
[730400,"Collecten","Collectes - Offrandes"]
[730500,"Diverse gaven","Dons divers"]
[730600,"Boekentafels en verkoop","Table de littérature"]
[730700,"Andere ontvangsten","Autres recettes"]
[730710,"Diaconie (Speciale collecten)","Diaconie (Offrandes spéciales)"]
[730720,"Diaconie (Voedselbank)","Diaconie (Banque alimentaire)"]
[730730,"Diaconie (Gerichte hulp)","Diaconie (Secours ponctuels)"]
[730740,"Diaconie (PUCIS)","Diaconie (CUPEI)"]
[730750,"Diaconie (Geschenken voor bepaalde gebeurtenissen)","Diaconie (Cadeaux événementiels)"]
[730800,"Deelneming kampen Jongerenafdeling","Contributions camp des jeunes"]
[730810,"Deelneming kampen Kinderenafdeling","Contributions camp des enfants"]
[730900,"Spaarplan","Plan d'épargne"]
[730900,"Banktransfert","Transfert bancaire"]
[750100,"Bankintresten","Intérêts bancaires"]
[751300,"Bankintresten  ","Intérêts bancaires"]
[756200,"Betalingsverschil (positief)","Différence de paiement (+)"]

{"sheet":"Contacts","index":9,"n_rows":7,"n_cols":4,"rows_kept":7,"hidden":true}
[null,null,"Email","Gsm"]
[]
["Emmanuel Jacquemin",null,"emmanuel.jacqmin@skynet.be","0473.45.34.71"]
[]
["Maurice Liwoke",null,"liwoke1@yahoo.fr","0479.87.18.96"]
[]
["Eric Delcourt",null,"eric.delcourt2@mil.be","0474.45.30.67"]

{"sheet":"CAISSE 2","index":10,"n_rows":500,"n_cols":14,"rows_kept":500,"hidden":true,"merged":[[1,2,1,4]]}
[]
[null,"Eglise :"]
[null,"Caisse 2"]
[{"$nulls":4},"Date","Montant"]
[null,"Solde initial",null,null,{"$f":"+'BANQUE 1'!E5","v":"2014-01-01"}]
[null,"Solde intermédiaire"]
[null,"Solde total ",{"$nulls":3},{"$f":"+SUM(D11:D20191)","v":{"v":0,"d":"0.00"}}]
[null,"Contrôle:  si ok = rien; sinon  pas ok !!!",{"$nulls":3},{"$f":"+IF(F6<>F7,\"PAS OK !!!\",\"ok\")","v":"ok"}]
[null,"Entrées & Sorties de Caisse",null,null,"        Entrées & Sorties de Caisse","    Entrées & Sorties de Caisse","    Entrées & Sorties de Caisse","  Entrées & Sorties de Caisse"]
[null,"Date","N° pièce de caisse","Montant","Description","Commentaire","Compte comptable","Libellé compte comptable",null,{"$f":"D10","v":"Montant"},{"$f":"H10","v":"Libellé compte comptable"}]
[null,{"$f":"+E5","v":"2014-01-01"},null,{"$f":"+F5","v":{"v":0,"d":"0.00"}},null,null,{"$f":"IF(H11<>\"\",VLOOKUP(H11,Codes!C$1:D$475,2,FALSE),\"\")","v":""},null,null,{"$f":"D11","v":0},{"$f":"H11","v":0},{"$f":"D10","v":"Montant"},{"$f":"CONCATENATE(G10,H10)","v":"Compte comptableLibellé compte comptable"}]
[{"$nulls":6},{"$f":"IF(H12<>\"\",VLOOKUP(H12,Codes!C$1:D$475,2,FALSE),\"\")","v":""},null,null,0,0,{"$f":"D11","v":{"v":0,"d":"0.00"}},{"$f":"CONCATENATE(G11,H11)","v":""}]
[{"$nulls":6},{"$f":"IF(H13<>\"\",VLOOKUP(H13,Codes!C$1:D$475,2,FALSE),\"\")","v":""},null,null,0,0,{"v":0,"d":"0.00"},""]
[{"$nulls":6},{"$f":"IF(H14<>\"\",VLOOKUP(H14,Codes!C$1:D$475,2,FALSE),\"\")","v":""},null,null,0,0,{"v":0,"d":"0.00"},""]
[{"$nulls":6},{"$f":"IF(H15<>\"\",VLOOKUP(H15,Codes!C$1:D$475,2,FALSE),\"\")","v":""},null,null,0,0,{"v":0,"d":"0.00"},"","ok"]
[{"$nulls":6},{"$f":"IF(H16<>\"\",VLOOKUP(H16,Codes!C$1:D$475,2,FALSE),\"\")","v":""},null,null,0,0,{"v":0,"d":"0.00"},"","Erreur"]
[{"$nulls":6},{"$f":"IF(H17<>\"\",VLOOKUP(H17,Codes!C$1:D$475,2,FALSE),\"\")","v":""},null,null,0,0,{"v":0,"d":"0.00"},""]
[{"$nulls":6},{"$f":"IF(H18<>\"\",VLOOKUP(H18,Codes!C$1:D$475,2,FALSE),\"\")","v":""},null,null,0,0,{"v":0,"d":"0.00"},""]
[{"$nulls":6},{"$f":"IF(H19<>\"\",VLOOKUP(H19,Codes!C$1:D$475,2,FALSE),\"\")","v":""},null,null,0,0,{"v":0,"d":"0.00"},""]
[{"$nulls":6},{"$f":"IF(H20<>\"\",VLOOKUP(H20,Codes!C$1:D$475,2,FALSE),\"\")","v":""},null,null,0,0,{"v":0,"d":"0.00"},""]
[{"$nulls":6},{"$f":"IF(H21<>\"\",VLOOKUP(H21,Codes!C$1:D$475,2,FALSE),\"\")","v":""},null,null,0,0,{"v":0,"d":"0.00"},""]
[{"$nulls":6},{"$f":"IF(H22<>\"\",VLOOKUP(H22,Codes!C$1:D$475,2,FALSE),\"\")","v":""},null,null,0,0,{"v":0,"d":"0.00"},""]
[{"$nulls":6},{"$f":"IF(H23<>\"\",VLOOKUP(H23,Codes!C$1:D$475,2,FALSE),\"\")","v":""},null,null,0,0,{"v":0,"d":"0.00"},""]
[{"$nulls":6},{"$f":"IF(H24<>\"\",VLOOKUP(H24,Codes!C$1:D$475,2,FALSE),\"\")","v":""},null,null,0,0,{"v":0,"d":"0.00"},""]
[{"$nulls":6},{"$f":"IF(H25<>\"\",VLOOKUP(H25,Codes!C$1:D$475,2,FALSE),\"\")","v":""},null,null,0,0,{"v":0,"d":"0.00"},""]
[{"$nulls":6},{"$f":"IF(H26<>\"\",VLOOKUP(H26,Codes!C$1:D$475,2,FALSE),\"\")","v":""},null,null,0,0,{"v":0,"d":"0.00"},""]
[{"$nulls":6},{"$f":"IF(H27<>\"\",VLOOKUP(H27,Codes!C$1:D$475,2,FALSE),\"\")","v":""},null,null,0,0,{"v":0,"d":"0.00"},""]
[{"$nulls":6},{"$f":"IF(H28<>\"\",VLOOKUP(H28,Codes!C$1:D$475,2,FALSE),\"\")","v":""},null,null,0,0,{"v":0,"d":"0.00"},""]
[{"$nulls":6},{"$f":"IF(H29<>\"\",VLOOKUP(H29,Codes!C$1:D$475,2,FALSE),\"\")","v":""},null,null,0,0,{"v":0,"d":"0.00"},""]
[{"$nulls":6},{"$f":"IF(H30<>\"\",VLOOKUP(H30,Codes!C$1:D$475,2,FALSE),\"\")","v":""},null,null,0,0,{"v":0,"d":"0.00"},""]
[{"$nulls":6},{"$f":"IF(H31<>\"\",VLOOKUP(H31,Codes!C$1:D$475,2,FALSE),\"\")","v":""},null,null,0,0,{"v":0,"d":"0.00"},""]
[{"$nulls":6},{"$f":"IF(H32<>\"\",VLOOKUP(H32,Codes!C$1:D$475,2,FALSE),\"\")","v":""},null,null,0,0,{"v":0,"d":"0.00"},""]
[{"$nulls":6},{"$f":"IF(H33<>\"\",VLOOKUP(H33,Codes!C$1:D$475,2,FALSE),\"\")","v":""},null,null,0,0,{"v":0,"d":"0.00"},""]
[{"$nulls":6},{"$f":"IF(H34<>\"\",VLOOKUP(H34,Codes!C$1:D$475,2,FALSE),\"\")","v":""},null,null,0,0,{"v":0,"d":"0.00"},""]
[{"$nulls":6},{"$f":"IF(H35<>\"\",VLOOKUP(H35,Codes!C$1:D$475,2,FALSE),\"\")","v":""},null,null,0,0,{"v":0,"d":"0.00"},""]
[{"$nulls":6},{"$f":"IF(H36<>\"\",VLOOKUP(H36,Codes!C$1:D$475,2,FALSE),\"\")","v":""},null,null,0,0,{"v":0,"d":"0.00"},""]
[{"$nulls":6},{"$f":"IF(H37<>\"\",VLOOKUP(H37,Codes!C$1:D$475,2,FALSE),\"\")","v":""},null,null,0,0,{"v":0,"d":"0.00"},""]
[{"$nulls":6},{"$f":"IF(H38<>\"\",VLOOKUP(H38,Codes!C$1:D$475,2,FALSE),\"\")","v":""},null,null,0,0,{"v":0,"d":"0.00"},""]
[{"$nulls":6},{"$f":"IF(H39<>\"\",VLOOKUP(H39,Codes!C$1:D$475,2,FALSE),\"\")","v":""},null,null,0,0,{"v":0,"d":"0.00"},""]
[{"$nulls":6},{"$f":"IF(H40<>\"\",VLOOKUP(H40,Codes!C$1:D$475,2,FALSE),\"\")","v":""},null,null,0,0,{"v":0,"d":"0.00"},""]
[{"$nulls":6},{"$f":"IF(H41<>\"\",VLOOKUP(H41,Codes!C$1:D$475,2,FALSE),\"\")","v":""},null,null,0,0,{"v":0,"d":"0.00"},""]
[{"$nulls":6},{"$f":"IF(H42<>\"\",VLOOKUP(H42,Codes!C$1:D$475,2,FALSE),\"\")","v":""},null,null,0,0,{"v":0,"d":"0.00"},""]
[{"$nulls":6},{"$f":"IF(H43<>\"\",VLOOKUP(H43,Codes!C$1:D$475,2,FALSE),\"\")","v":""},null,null,0,0,{"v":0,"d":"0.00"},""]
[{"$nulls":6},{"$f":"IF(H44<>\"\",VLOOKUP(H44,Codes!C$1:D$475,2,FALSE),\"\")","v":""},null,null,0,0,{"v":0,"d":"0.00"},""]
[{"$nulls":6},{"$f":"IF(H45<>\"\",VLOOKUP(H45,Codes!C$1:D$475,2,FALSE),\"\")","v":""},null,null,0,0,{"v":0,"d":"0.00"},""]
[{"$nulls":6},{"$f":"IF(H46<>\"\",VLOOKUP(H46,Codes!C$1:D$475,2,FALSE),\"\")","v":""},null,null,0,0,{"v":0,"d":"0.00"},""]
[{"$nulls":6},{"$f":"IF(H47<>\"\",VLOOKUP(H47,Codes!C$1:D$475,2,FALSE),\"\")","v":""},null,null,0,0,{"v":0,"d":"0.00"},""]
[{"$nulls":6},{"$f":"IF(H48<>\"\",VLOOKUP(H48,Codes!C$1:D$475,2,FALSE),\"\")","v":""},null,null,0,0,{"v":0,"d":"0.00"},""]
[{"$nulls":6},{"$f":"IF(H49<>\"\",VLOOKUP(H49,Codes!C$1:D$475,2,FALSE),\"\")","v":""},null,null,0,0,{"v":0,"d":"0.00"},""]
[{"$nulls":6},{"$f":"IF(H50<>\"\",VLOOKUP(H50,Codes!C$1:D$475,2,FALSE),\"\")","v":""},null,null,0,0,{"v":0,"d":"0.00"},""]
[{"$nulls":6},{"$f":"IF(H51<>\"\",VLOOKUP(H51,Codes!C$1:D$475,2,FALSE),\"\")","v":""},null,null,0,0,{"v":0,"d":"0.00"},""]
[{"$nulls":6},{"$f":"IF(H52<>\"\",VLOOKUP(H52,Codes!C$1:D$475,2,FALSE),\"\")","v":""},null,null,0,0,{"v":0,"d":"0.00"},""]
[{"$nulls":6},{"$f":"IF(H53<>\"\",VLOOKUP(H53,Codes!C$1:D$475,2,FALSE),\"\")","v":""},null,null,0,0,{"v":0,"d":"0.00"},""]
[{"$nulls":6},{"$f":"IF(H54<>\"\",VLOOKUP(H54,Codes!C$1:D$475,2,FALSE),\"\")","v":""},null,null,0,0,{"v":0,"d":"0.00"},""]
[{"$nulls":6},{"$f":"IF(H55<>\"\",VLOOKUP(H55,Codes!C$1:D$475,2,FALSE),\"\")","v":""},null,null,0,0,{"v":0,"d":"0.00"},""]
[{"$nulls":6},{"$f":"IF(H56<>\"\",VLOOKUP(H56,Codes!C$1:D$475,2,FALSE),\"\")","v":""},null,null,0,0,{"v":0,"d":"0.00"},""]
[{"$nulls":6},{"$f":"IF(H57<>\"\",VLOOKUP(H57,Codes!C$1:D$475,2,FALSE),\"\")","v":""},null,null,0,0,{"v":0,"d":"0.00"},""]
[{"$nulls":6},{"$f":"IF(H58<>\"\",VLOOKUP(H58,Codes!C$1:D$475,2,FALSE),\"\")","v":""},null,null,0,0,{"v":0,"d":"0.00"},""]
[{"$nulls":6},{"$f":"IF(H59<>\"\",VLOOKUP(H59,Codes!C$1:D$475,2,FALSE),\"\")","v":""},null,null,0,0,{"v":0,"d":"0.00"},""]
[{"$nulls":6},{"$f":"IF(H60<>\"\",VLOOKUP(H60,Codes!C$1:D$475,2,FALSE),\"\")","v":""},null,null,0,0,{"v":0,"d":"0.00"},""]
[{"$nulls":6},{"$f":"IF(H61<>\"\",VLOOKUP(H61,Codes!C$1:D$475,2,FALSE),\"\")","v":""},null,null,0,0,{"v":0,"d":"0.00"},""]
[{"$nulls":6},{"$f":"IF(H62<>\"\",VLOOKUP(H62,Codes!C$1:D$475,2,FALSE),\"\")","v":""},null,null,0,0,{"v":0,"d":"0.00"},""]
[{"$nulls":6},{"$f":"IF(H63<>\"\",VLOOKUP(H63,Codes!C$1:D$475,2,FALSE),\"\")","v":""},null,null,0,0,{"v":0,"d":"0.00"},""]
[{"$nulls":6},{"$f":"IF(H64<>\"\",VLOOKUP(H64,Codes!C$1:D$475,2,FALSE),\"\")","v":""},null,null,0,0,{"v":0,"d":"0.00"},""]
[{"$nulls":6},{"$f":"IF(H65<>\"\",VLOOKUP(H65,Codes!C$1:D$475,2,FALSE),\"\")","v":""},null,null,0,0,{"v":0,"d":"0.00"},""]
[{"$nulls":6},{"$f":"IF(H66<>\"\",VLOOKUP(H66,Codes!C$1:D$475,2,FALSE),\"\")","v":""},null,null,0,0,{"v":0,"d":"0.00"},""]
[{"$nulls":6},{"$f":"IF(H67<>\"\",VLOOKUP(H67,Codes!C$1:D$475,2,FALSE),\"\")","v":""},null,null,0,0,{"v":0,"d":"0.00"},""]
[{"$nulls":6},{"$f":"IF(H68<>\"\",VLOOKUP(H68,Codes!C$1:D$475,2,FALSE),\"\")","v":""},null,null,0,0,{"v":0,"d":"0.00"},""]
[{"$nulls":6},{"$f":"IF(H69<>\"\",VLOOKUP(H69,Codes!C$1:D$475,2,FALSE),\"\")","v":""},null,null,0,0,{"v":0,"d":"0.00"},""]
[{"$nulls":6},{"$f":"IF(H70<>\"\",VLOOKUP(H70,Codes!C$1:D$475,2,FALSE),\"\")","v":""},null,null,0,0,{"v":0,"d":"0.00"},""]
[{"$nulls":6},{"$f":"IF(H71<>\"\",VLOOKUP(H71,Codes!C$1:D$475,2,FALSE),\"\")","v":""},null,null,0,0,{"v":0,"d":"0.00"},""]
[{"$nulls":6},{"$f":"IF(H72<>\"\",VLOOKUP(H72,Codes!C$1:D$475,2,FALSE),\"\")","v":""}]
[{"$nulls":6},{"$f":"IF(H73<>\"\",VLOOKUP(H73,Codes!C$1:D$475,2,FALSE),\"\")","v":""}]
[{"$nulls":6},{"$f":"IF(H74<>\"\",VLOOKUP(H74,Codes!C$1:D$475,2,FALSE),\"\")","v":""}]
[{"$nulls":6},{"$f":"IF(H75<>\"\",VLOOKUP(H75,Codes!C$1:D$475,2,FALSE),\"\")","v":""}]
[{"$nulls":6},{"$f":"IF(H76<>\"\",VLOOKUP(H76,Codes!C$1:D$475,2,FALSE),\"\")","v":""}]
[{"$nulls":6},{"$f":"IF(H77<>\"\",VLOOKUP(H77,Codes!C$1:D$475,2,FALSE),\"\")","v":""}]
[{"$nulls":6},{"$f":"IF(H78<>\"\",VLOOKUP(H78,Codes!C$1:D$475,2,FALSE),\"\")","v":""}]
[{"$nulls":6},{"$f":"IF(H79<>\"\",VLOOKUP(H79,Codes!C$1:D$475,2,FALSE),\"\")","v":""}]
[{"$nulls":6},{"$f":"IF(H80<>\"\",VLOOKUP(H80,Codes!C$1:D$475,2,FALSE),\"\")","v":""}]
[{"$nulls":6},{"$f":"IF(H81<>\"\",VLOOKUP(H81,Codes!C$1:D$475,2,FALSE),\"\")","v":""}]
[{"$nulls":6},{"$f":"IF(H82<>\"\",VLOOKUP(H82,Codes!C$1:D$475,2,FALSE),\"\")","v":""}]
[{"$nulls":6},{"$f":"IF(H83<>\"\",VLOOKUP(H83,Codes!C$1:D$475,2,FALSE),\"\")","v":""}]
[{"$nulls":6},{"$f":"IF(H84<>\"\",VLOOKUP(H84,Codes!C$1:D$475,2,FALSE),\"\")","v":""}]
[{"$nulls":6},{"$f":"IF(H85<>\"\",VLOOKUP(H85,Codes!C$1:D$475,2,FALSE),\"\")","v":""}]
[{"$nulls":6},{"$f":"IF(H86<>\"\",VLOOKUP(H86,Codes!C$1:D$475,2,FALSE),\"\")","v":""}]
[{"$nulls":6},{"$f":"IF(H87<>\"\",VLOOKUP(H87,Codes!C$1:D$475,2,FALSE),\"\")","v":""}]
[{"$nulls":6},{"$f":"IF(H88<>\"\",VLOOKUP(H88,Codes!C$1:D$475,2,FALSE),\"\")","v":""}]
[{"$nulls":6},{"$f":"IF(H89<>\"\",VLOOKUP(H89,Codes!C$1:D$475,2,FALSE),\"\")","v":""}]
[{"$nulls":6},{"$f":"IF(H90<>\"\",VLOOKUP(H90,Codes!C$1:D$475,2,FALSE),\"\")","v":""}]
[{"$nulls":6},{"$f":"IF(H91<>\"\",VLOOKUP(H91,Codes!C$1:D$475,2,FALSE),\"\")","v":""}]
[{"$nulls":6},{"$f":"IF(H92<>\"\",VLOOKUP(H92,Codes!C$1:D$475,2,FALSE),\"\")","v":""}]
[{"$nulls":6},{"$f":"IF(H93<>\"\",VLOOKUP(H93,Codes!C$1:D$475,2,FALSE),\"\")","v":""}]
[{"$nulls":6},{"$f":"IF(H94<>\"\",VLOOKUP(H94,Codes!C$1:D$475,2,FALSE),\"\")","v":""}]
[{"$nulls":6},{"$f":"IF(H95<>\"\",VLOOKUP(H95,Codes!C$1:D$475,2,FALSE),\"\")","v":""}]
[{"$nulls":6},{"$f":"IF(H96<>\"\",VLOOKUP(H96,Codes!C$1:D$475,2,FALSE),\"\")","v":""}]
[{"$nulls":6},{"$f":"IF(H97<>\"\",VLOOKUP(H97,Codes!C$1:D$475,2,FALSE),\"\")","v":""}]
[{"$nulls":6},{"$f":"IF(H98<>\"\",VLOOKUP(H98,Codes!C$1:D$475,2,FALSE),\"\")","v":""}]
[{"$nulls":6},{"$f":"IF(H99<>\"\",VLOOKUP(H99,Codes!C$1:D$475,2,FALSE),\"\")","v":""}]
[{"$nulls":6},{"$f":"IF(H100<>\"\",VLOOKUP(H100,Codes!C$1:D$475,2,FALSE),\"\")","v":""}]
[{"$nulls":6},{"$f":"IF(H101<>\"\",VLOOKUP(H101,Codes!C$1:D$475,2,FALSE),\"\")","v":""}]
[{"$nulls":6},{"$f":"IF(H102<>\"\",VLOOKUP(H102,Codes!C$1:D$475,2,FALSE),\"\")","v":""}]
[{"$nulls":6},{"$f":"IF(H103<>\"\",VLOOKUP(H103,Codes!C$1:D$475,2,FALSE),\"\")","v":""}]
[{"$nulls":6},{"$f":"IF(H104<>\"\",VLOOKUP(H104,Codes!C$1:D$475,2,FALSE),\"\")","v":""}]
[{"$nulls":6},{"$f":"IF(H105<>\"\",VLOOKUP(H105,Codes!C$1:D$475,2,FALSE),\"\")","v":""}]
[{"$nulls":6},{"$f":"IF(H106<>\"\",VLOOKUP(H106,Codes!C$1:D$475,2,FALSE),\"\")","v":""}]
[{"$nulls":6},{"$f":"IF(H107<>\"\",VLOOKUP(H107,Codes!C$1:D$475,2,FALSE),\"\")","v":""}]
[{"$nulls":6},{"$f":"IF(H108<>\"\",VLOOKUP(H108,Codes!C$1:D$475,2,FALSE),\"\")","v":""}]
[{"$nulls":6},{"$f":"IF(H109<>\"\",VLOOKUP(H109,Codes!C$1:D$475,2,FALSE),\"\")","v":""}]
[{"$nulls":6},{"$f":"IF(H110<>\"\",VLOOKUP(H110,Codes!C$1:D$475,2,FALSE),\"\")","v":""}]
[{"$nulls":6},{"$f":"IF(H111<>\"\",VLOOKUP(H111,Codes!C$1:D$475,2,FALSE),\"\")","v":""}]
[{"$nulls":6},{"$f":"IF(H112<>\"\",VLOOKUP(H112,Codes!C$1:D$475,2,FALSE),\"\")","v":""}]
[{"$nulls":6},{"$f":"IF(H113<>\"\",VLOOKUP(H113,Codes!C$1:D$475,2,FALSE),\"\")","v":""}]
[{"$nulls":6},{"$f":"IF(H114<>\"\",VLOOKUP(H114,Codes!C$1:D$475,2,FALSE),\"\")","v":""}]
[{"$nulls":6},{"$f":"IF(H115<>\"\",VLOOKUP(H115,Codes!C$1:D$475,2,FALSE),\"\")","v":""}]
[{"$nulls":6},{"$f":"IF(H116<>\"\",VLOOKUP(H116,Codes!C$1:D$475,2,FALSE),\"\")","v":""}]
[{"$nulls":6},{"$f":"IF(H117<>\"\",VLOOKUP(H117,Codes!C$1:D$475,2,FALSE),\"\")","v":""}]
[{"$nulls":6},{"$f":"IF(H118<>\"\",VLOOKUP(H118,Codes!C$1:D$475,2,FALSE),\"\")","v":""}]
[{"$nulls":6},{"$f":"IF(H119<>\"\",VLOOKUP(H119,Codes!C$1:D$475,2,FALSE),\"\")","v":""}]
[{"$nulls":6},{"$f":"IF(H120<>\"\",VLOOKUP(H120,Codes!C$1:D$475,2,FALSE),\"\")","v":""}]
[{"$nulls":6},{"$f":"IF(H121<>\"\",VLOOKUP(H121,Codes!C$1:D$475,2,FALSE),\"\")","v":""}]
[{"$nulls":6},{"$f":"IF(H122<>\"\",VLOOKUP(H122,Codes!C$1:D$475,2,FALSE),\"\")","v":""}]
[{"$nulls":6},{"$f":"IF(H123<>\"\",VLOOKUP(H123,Codes!C$1:D$475,2,FALSE),\"\")","v":""}]
[{"$nulls":6},{"$f":"IF(H124<>\"\",VLOOKUP(H124,Codes!C$1:D$475,2,FALSE),\"\")","v":""}]
[{"$nulls":6},{"$f":"IF(H125<>\"\",VLOOKUP(H125,Codes!C$1:D$475,2,FALSE),\"\")","v":""}]
[{"$nulls":6},{"$f":"IF(H126<>\"\",VLOOKUP(H126,Codes!C$1:D$475,2,FALSE),\"\")","v":""}]
[{"$nulls":6},{"$f":"IF(H127<>\"\",VLOOKUP(H127,Codes!C$1:D$475,2,FALSE),\"\")","v":""}]
[{"$nulls":6},{"$f":"IF(H128<>\"\",VLOOKUP(H128,Codes!C$1:D$475,2,FALSE),\"\")","v":""}]
[{"$nulls":6},{"$f":"IF(H129<>\"\",VLOOKUP(H129,Codes!C$1:D$475,2,FALSE),\"\")","v":""}]
[{"$nulls":6},{"$f":"IF(H130<>\"\",VLOOKUP(H130,Codes!C$1:D$475,2,FALSE),\"\")","v":""}]
[{"$nulls":6},{"$f":"IF(H131<>\"\",VLOOKUP(H131,Codes!C$1:D$475,2,FALSE),\"\")","v":""}]
[{"$nulls":6},{"$f":"IF(H132<>\"\",VLOOKUP(H132,Codes!C$1:D$475,2,FALSE),\"\")","v":""}]
[{"$nulls":6},{"$f":"IF(H133<>\"\",VLOOKUP(H133,Codes!C$1:D$475,2,FALSE),\"\")","v":""}]
[{"$nulls":6},{"$f":"IF(H134<>\"\",VLOOKUP(H134,Codes!C$1:D$475,2,FALSE),\"\")","v":""}]
[{"$nulls":6},{"$f":"IF(H135<>\"\",VLOOKUP(H135,Codes!C$1:D$475,2,FALSE),\"\")","v":""}]
[{"$nulls":6},{"$f":"IF(H136<>\"\",VLOOKUP(H136,Codes!C$1:D$475,2,FALSE),\"\")","v":""}]
[{"$nulls":6},{"$f":"IF(H137<>\"\",VLOOKUP(H137,Codes!C$1:D$475,2,FALSE),\"\")","v":""}]
[{"$nulls":6},{"$f":"IF(H138<>\"\",VLOOKUP(H138,Codes!C$1:D$475,2,FALSE),\"\")","v":""}]
[{"$nulls":6},{"$f":"IF(H139<>\"\",VLOOKUP(H139,Codes!C$1:D$475,2,FALSE),\"\")","v":""}]
[{"$nulls":6},{"$f":"IF(H140<>\"\",VLOOKUP(H140,Codes!C$1:D$475,2,FALSE),\"\")","v":""}]
[{"$nulls":6},{"$f":"IF(H141<>\"\",VLOOKUP(H141,Codes!C$1:D$475,2,FALSE),\"\")","v":""}]
[{"$nulls":6},{"$f":"IF(H142<>\"\",VLOOKUP(H142,Codes!C$1:D$475,2,FALSE),\"\")","v":""}]
[{"$nulls":6},{"$f":"IF(H143<>\"\",VLOOKUP(H143,Codes!C$1:D$475,2,FALSE),\"\")","v":""}]
[{"$nulls":6},{"$f":"IF(H144<>\"\",VLOOKUP(H144,Codes!C$1:D$475,2,FALSE),\"\")","v":""}]
[{"$nulls":6},{"$f":"IF(H145<>\"\",VLOOKUP(H145,Codes!C$1:D$475,2,FALSE),\"\")","v":""}]
[{"$nulls":6},{"$f":"IF(H146<>\"\",VLOOKUP(H146,Codes!C$1:D$475,2,FALSE),\"\")","v":""}]
[{"$nulls":6},{"$f":"IF(H147<>\"\",VLOOKUP(H147,Codes!C$1:D$475,2,FALSE),\"\")","v":""}]
[{"$nulls":6},{"$f":"IF(H148<>\"\",VLOOKUP(H148,Codes!C$1:D$475,2,FALSE),\"\")","v":""}]
[{"$nulls":6},{"$f":"IF(H149<>\"\",VLOOKUP(H149,Codes!C$1:D$475,2,FALSE),\"\")","v":""}]
[{"$nulls":6},{"$f":"IF(H150<>\"\",VLOOKUP(H150,Codes!C$1:D$475,2,FALSE),\"\")","v":""}]
[{"$nulls":6},{"$f":"IF(H151<>\"\",VLOOKUP(H151,Codes!C$1:D$475,2,FALSE),\"\")","v":""}]
[{"$nulls":6},{"$f":"IF(H152<>\"\",VLOOKUP(H152,Codes!C$1:D$475,2,FALSE),\"\")","v":""}]
[{"$nulls":6},{"$f":"IF(H153<>\"\",VLOOKUP(H153,Codes!C$1:D$475,2,FALSE),\"\")","v":""}]
[{"$nulls":6},{"$f":"IF(H154<>\"\",VLOOKUP(H154,Codes!C$1:D$475,2,FALSE),\"\")","v":""}]
[{"$nulls":6},{"$f":"IF(H155<>\"\",VLOOKUP(H155,Codes!C$1:D$475,2,FALSE),\"\")","v":""}]
[{"$nulls":6},{"$f":"IF(H156<>\"\",VLOOKUP(H156,Codes!C$1:D$475,2,FALSE),\"\")","v":""}]
[{"$nulls":6},{"$f":"IF(H157<>\"\",VLOOKUP(H157,Codes!C$1:D$475,2,FALSE),\"\")","v":""}]
[{"$nulls":6},{"$f":"IF(H158<>\"\",VLOOKUP(H158,Codes!C$1:D$475,2,FALSE),\"\")","v":""}]
[{"$nulls":6},{"$f":"IF(H159<>\"\",VLOOKUP(H159,Codes!C$1:D$475,2,FALSE),\"\")","v":""}]
[{"$nulls":6},{"$f":"IF(H160<>\"\",VLOOKUP(H160,Codes!C$1:D$475,2,FALSE),\"\")","v":""}]
[{"$nulls":6},{"$f":"IF(H161<>\"\",VLOOKUP(H161,Codes!C$1:D$475,2,FALSE),\"\")","v":""}]
[{"$nulls":6},{"$f":"IF(H162<>\"\",VLOOKUP(H162,Codes!C$1:D$475,2,FALSE),\"\")","v":""}]
[{"$nulls":6},{"$f":"IF(H163<>\"\",VLOOKUP(H163,Codes!C$1:D$475,2,FALSE),\"\")","v":""}]
[{"$nulls":6},{"$f":"IF(H164<>\"\",VLOOKUP(H164,Codes!C$1:D$475,2,FALSE),\"\")","v":""}]
[{"$nulls":6},{"$f":"IF(H165<>\"\",VLOOKUP(H165,Codes!C$1:D$475,2,FALSE),\"\")","v":""}]
[{"$nulls":6},{"$f":"IF(H166<>\"\",VLOOKUP(H166,Codes!C$1:D$475,2,FALSE),\"\")","v":""}]
[{"$nulls":6},{"$f":"IF(H167<>\"\",VLOOKUP(H167,Codes!C$1:D$475,2,FALSE),\"\")","v":""}]
[{"$nulls":6},{"$f":"IF(H168<>\"\",VLOOKUP(H168,Codes!C$1:D$475,2,FALSE),\"\")","v":""}]
[{"$nulls":6},{"$f":"IF(H169<>\"\",VLOOKUP(H169,Codes!C$1:D$475,2,FALSE),\"\")","v":""}]
[{"$nulls":6},{"$f":"IF(H170<>\"\",VLOOKUP(H170,Codes!C$1:D$475,2,FALSE),\"\")","v":""}]
[{"$nulls":6},{"$f":"IF(H171<>\"\",VLOOKUP(H171,Codes!C$1:D$475,2,FALSE),\"\")","v":""}]
[{"$nulls":6},{"$f":"IF(H172<>\"\",VLOOKUP(H172,Codes!C$1:D$475,2,FALSE),\"\")","v":""}]
[{"$nulls":6},{"$f":"IF(H173<>\"\",VLOOKUP(H173,Codes!C$1:D$475,2,FALSE),\"\")","v":""}]
[{"$nulls":6},{"$f":"IF(H174<>\"\",VLOOKUP(H174,Codes!C$1:D$475,2,FALSE),\"\")","v":""}]
[{"$nulls":6},{"$f":"IF(H175<>\"\",VLOOKUP(H175,Codes!C$1:D$475,2,FALSE),\"\")","v":""}]
[{"$nulls":6},{"$f":"IF(H176<>\"\",VLOOKUP(H176,Codes!C$1:D$475,2,FALSE),\"\")","v":""}]
[{"$nulls":6},{"$f":"IF(H177<>\"\",VLOOKUP(H177,Codes!C$1:D$475,2,FALSE),\"\")","v":""}]
[{"$nulls":6},{"$f":"IF(H178<>\"\",VLOOKUP(H178,Codes!C$1:D$475,2,FALSE),\"\")","v":""}]
[{"$nulls":6},{"$f":"IF(H179<>\"\",VLOOKUP(H179,Codes!C$1:D$475,2,FALSE),\"\")","v":""}]
[{"$nulls":6},{"$f":"IF(H180<>\"\",VLOOKUP(H180,Codes!C$1:D$475,2,FALSE),\"\")","v":""}]
[{"$nulls":6},{"$f":"IF(H181<>\"\",VLOOKUP(H181,Codes!C$1:D$475,2,FALSE),\"\")","v":""}]
[{"$nulls":6},{"$f":"IF(H182<>\"\",VLOOKUP(H182,Codes!C$1:D$475,2,FALSE),\"\")","v":""}]
[{"$nulls":6},{"$f":"IF(H183<>\"\",VLOOKUP(H183,Codes!C$1:D$475,2,FALSE),\"\")","v":""}]
[{"$nulls":6},{"$f":"IF(H184<>\"\",VLOOKUP(H184,Codes!C$1:D$475,2,FALSE),\"\")","v":""}]
[{"$nulls":6},{"$f":"IF(H185<>\"\",VLOOKUP(H185,Codes!C$1:D$475,2,FALSE),\"\")","v":""}]
[{"$nulls":6},{"$f":"IF(H186<>\"\",VLOOKUP(H186,Codes!C$1:D$475,2,FALSE),\"\")","v":""}]
[{"$nulls":6},{"$f":"IF(H187<>\"\",VLOOKUP(H187,Codes!C$1:D$475,2,FALSE),\"\")","v":""}]
[{"$nulls":6},{"$f":"IF(H188<>\"\",VLOOKUP(H188,Codes!C$1:D$475,2,FALSE),\"\")","v":""}]
[{"$nulls":6},{"$f":"IF(H189<>\"\",VLOOKUP(H189,Codes!C$1:D$475,2,FALSE),\"\")","v":""}]
[{"$nulls":6},{"$f":"IF(H190<>\"\",VLOOKUP(H190,Codes!C$1:D$475,2,FALSE),\"\")","v":""}]
[{"$nulls":6},{"$f":"IF(H191<>\"\",VLOOKUP(H191,Codes!C$1:D$475,2,FALSE),\"\")","v":""}]
[{"$nulls":6},{"$f":"IF(H192<>\"\",VLOOKUP(H192,Codes!C$1:D$475,2,FALSE),\"\")","v":""}]
[{"$nulls":6},{"$f":"IF(H193<>\"\",VLOOKUP(H193,Codes!C$1:D$475,2,FALSE),\"\")","v":""}]
[{"$nulls":6},{"$f":"IF(H194<>\"\",VLOOKUP(H194,Codes!C$1:D$475,2,FALSE),\"\")","v":""}]
[{"$nulls":6},{"$f":"IF(H195<>\"\",VLOOKUP(H195,Codes!C$1:D$475,2,FALSE),\"\")","v":""}]
[{"$nulls":6},{"$f":"IF(H196<>\"\",VLOOKUP(H196,Codes!C$1:D$475,2,FALSE),\"\")","v":""}]
[{"$nulls":6},{"$f":"IF(H197<>\"\",VLOOKUP(H197,Codes!C$1:D$475,2,FALSE),\"\")","v":""}]
[{"$nulls":6},{"$f":"IF(H198<>\"\",VLOOKUP(H198,Codes!C$1:D$475,2,FALSE),\"\")","v":""}]
[{"$nulls":6},{"$f":"IF(H199<>\"\",VLOOKUP(H199,Codes!C$1:D$475,2,FALSE),\"\")","v":""}]
[{"$nulls":6},{"$f":"IF(H200<>\"\",VLOOKUP(H200,Codes!C$1:D$475,2,FALSE),\"\")","v":""}]
[{"$nulls":6},{"$f":"IF(H201<>\"\",VLOOKUP(H201,Codes!C$1:D$475,2,FALSE),\"\")","v":""}]
[{"$nulls":6},{"$f":"IF(H202<>\"\",VLOOKUP(H202,Codes!C$1:D$475,2,FALSE),\"\")","v":""}]
[{"$nulls":6},{"$f":"IF(H203<>\"\",VLOOKUP(H203,Codes!C$1:D$475,2,FALSE),\"\")","v":""}]
[{"$nulls":6},{"$f":"IF(H204<>\"\",VLOOKUP(H204,Codes!C$1:D$475,2,FALSE),\"\")","v":""}]
[{"$nulls":6},{"$f":"IF(H205<>\"\",VLOOKUP(H205,Codes!C$1:D$475,2,FALSE),\"\")","v":""}]
[{"$nulls":6},{"$f":"IF(H206<>\"\",VLOOKUP(H206,Codes!C$1:D$475,2,FALSE),\"\")","v":""}]
[{"$nulls":6},{"$f":"IF(H207<>\"\",VLOOKUP(H207,Codes!C$1:D$475,2,FALSE),\"\")","v":""}]
[{"$nulls":6},{"$f":"IF(H208<>\"\",VLOOKUP(H208,Codes!C$1:D$475,2,FALSE),\"\")","v":""}]
[{"$nulls":6},{"$f":"IF(H209<>\"\",VLOOKUP(H209,Codes!C$1:D$475,2,FALSE),\"\")","v":""}]
[{"$nulls":6},{"$f":"IF(H210<>\"\",VLOOKUP(H210,Codes!C$1:D$475,2,FALSE),\"\")","v":""}]
[{"$nulls":6},{"$f":"IF(H211<>\"\",VLOOKUP(H211,Codes!C$1:D$475,2,FALSE),\"\")","v":""}]
[{"$nulls":6},{"$f":"IF(H212<>\"\",VLOOKUP(H212,Codes!C$1:D$475,2,FALSE),\"\")","v":""}]
[{"$nulls":6},{"$f":"IF(H213<>\"\",VLOOKUP(H213,Codes!C$1:D$475,2,FALSE),\"\")","v":""}]
[{"$nulls":6},{"$f":"IF(H214<>\"\",VLOOKUP(H214,Codes!C$1:D$475,2,FALSE),\"\")","v":""}]
[{"$nulls":6},{"$f":"IF(H215<>\"\",VLOOKUP(H215,Codes!C$1:D$475,2,FALSE),\"\")","v":""}]
[{"$nulls":6},{"$f":"IF(H216<>\"\",VLOOKUP(H216,Codes!C$1:D$475,2,FALSE),\"\")","v":""}]
[{"$nulls":6},{"$f":"IF(H217<>\"\",VLOOKUP(H217,Codes!C$1:D$475,2,FALSE),\"\")","v":""}]
[{"$nulls":6},{"$f":"IF(H218<>\"\",VLOOKUP(H218,Codes!C$1:D$475,2,FALSE),\"\")","v":""}]
[{"$nulls":6},{"$f":"IF(H219<>\"\",VLOOKUP(H219,Codes!C$1:D$475,2,FALSE),\"\")","v":""}]
[{"$nulls":6},{"$f":"IF(H220<>\"\",VLOOKUP(H220,Codes!C$1:D$475,2,FALSE),\"\")","v":""}]
[{"$nulls":6},{"$f":"IF(H221<>\"\",VLOOKUP(H221,Codes!C$1:D$475,2,FALSE),\"\")","v":""}]
[{"$nulls":6},{"$f":"IF(H222<>\"\",VLOOKUP(H222,Codes!C$1:D$475,2,FALSE),\"\")","v":""}]
[{"$nulls":6},{"$f":"IF(H223<>\"\",VLOOKUP(H223,Codes!C$1:D$475,2,FALSE),\"\")","v":""}]
[{"$nulls":6},{"$f":"IF(H224<>\"\",VLOOKUP(H224,Codes!C$1:D$475,2,FALSE),\"\")","v":""}]
[{"$nulls":6},{"$f":"IF(H225<>\"\",VLOOKUP(H225,Codes!C$1:D$475,2,FALSE),\"\")","v":""}]
[{"$nulls":6},{"$f":"IF(H226<>\"\",VLOOKUP(H226,Codes!C$1:D$475,2,FALSE),\"\")","v":""}]
[{"$nulls":6},{"$f":"IF(H227<>\"\",VLOOKUP(H227,Codes!C$1:D$475,2,FALSE),\"\")","v":""}]
[{"$nulls":6},{"$f":"IF(H228<>\"\",VLOOKUP(H228,Codes!C$1:D$475,2,FALSE),\"\")","v":""}]
[{"$nulls":6},{"$f":"IF(H229<>\"\",VLOOKUP(H229,Codes!C$1:D$475,2,FALSE),\"\")","v":""}]
[{"$nulls":6},{"$f":"IF(H230<>\"\",VLOOKUP(H230,Codes!C$1:D$475,2,FALSE),\"\")","v":""}]
[{"$nulls":6},{"$f":"IF(H231<>\"\",VLOOKUP(H231,Codes!C$1:D$475,2,FALSE),\"\")","v":""}]
[{"$nulls":6},{"$f":"IF(H232<>\"\",VLOOKUP(H232,Codes!C$1:D$475,2,FALSE),\"\")","v":""}]
[{"$nulls":6},{"$f":"IF(H233<>\"\",VLOOKUP(H233,Codes!C$1:D$475,2,FALSE),\"\")","v":""},null,null,0,0,{"$f":"D71","v":{"v":0,"d":"0.00"}},{"$f":"CONCATENATE(G71,H71)","v":""}]
[{"$nulls":6},{"$f":"IF(H234<>\"\",VLOOKUP(H234,Codes!C$1:D$475,2,FALSE),\"\")","v":""},null,null,0,0,{"v":0,"d":"0.00"},""]
[{"$nulls":6},{"$f":"IF(H235<>\"\",VLOOKUP(H235,Codes!C$1:D$475,2,FALSE),\"\")","v":""},null,null,0,0,{"v":0,"d":"0.00"},""]
[{"$nulls":6},{"$f":"IF(H236<>\"\",VLOOKUP(H236,Codes!C$1:D$475,2,FALSE),\"\")","v":""},null,null,{"$f":"D236","v":0},{"$f":"H236","v":0},{"v":0,"d":"0.00"},""]
[{"$nulls":6},{"$f":"IF(H237<>\"\",VLOOKUP(H237,Codes!C$1:D$475,2,FALSE),\"\")","v":""},null,null,0,0,{"$f":"D236","v":{"v":0,"d":"0.00"}},{"$f":"CONCATENATE(G236,H236)","v":""}]
[{"$nulls":6},{"$f":"IF(H238<>\"\",VLOOKUP(H238,Codes!C$1:D$475,2,FALSE),\"\")","v":""},null,null,0,0,{"v":0,"d":"0.00"},""]
[{"$nulls":6},{"$f":"IF(H239<>\"\",VLOOKUP(H239,Codes!C$1:D$475,2,FALSE),\"\")","v":""}]
[{"$nulls":6},{"$f":"IF(H240<>\"\",VLOOKUP(H240,Codes!C$1:D$475,2,FALSE),\"\")","v":""}]
[{"$nulls":6},{"$f":"IF(H241<>\"\",VLOOKUP(H241,Codes!C$1:D$475,2,FALSE),\"\")","v":""}]
[{"$nulls":6},{"$f":"IF(H242<>\"\",VLOOKUP(H242,Codes!C$1:D$475,2,FALSE),\"\")","v":""}]
[{"$nulls":6},{"$f":"IF(H243<>\"\",VLOOKUP(H243,Codes!C$1:D$475,2,FALSE),\"\")","v":""}]
[{"$nulls":6},{"$f":"IF(H244<>\"\",VLOOKUP(H244,Codes!C$1:D$475,2,FALSE),\"\")","v":""}]
[{"$nulls":6},{"$f":"IF(H245<>\"\",VLOOKUP(H245,Codes!C$1:D$475,2,FALSE),\"\")","v":""}]
[{"$nulls":6},{"$f":"IF(H246<>\"\",VLOOKUP(H246,Codes!C$1:D$475,2,FALSE),\"\")","v":""}]
[{"$nulls":6},{"$f":"IF(H247<>\"\",VLOOKUP(H247,Codes!C$1:D$475,2,FALSE),\"\")","v":""}]
[{"$nulls":6},{"$f":"IF(H248<>\"\",VLOOKUP(H248,Codes!C$1:D$475,2,FALSE),\"\")","v":""}]
[{"$nulls":6},{"$f":"IF(H249<>\"\",VLOOKUP(H249,Codes!C$1:D$475,2,FALSE),\"\")","v":""}]
[{"$nulls":6},{"$f":"IF(H250<>\"\",VLOOKUP(H250,Codes!C$1:D$475,2,FALSE),\"\")","v":""}]
[{"$nulls":6},{"$f":"IF(H251<>\"\",VLOOKUP(H251,Codes!C$1:D$475,2,FALSE),\"\")","v":""}]
[{"$nulls":6},{"$f":"IF(H252<>\"\",VLOOKUP(H252,Codes!C$1:D$475,2,FALSE),\"\")","v":""}]
[{"$nulls":6},{"$f":"IF(H253<>\"\",VLOOKUP(H253,Codes!C$1:D$475,2,FALSE),\"\")","v":""}]
[{"$nulls":6},{"$f":"IF(H254<>\"\",VLOOKUP(H254,Codes!C$1:D$475,2,FALSE),\"\")","v":""}]
[{"$nulls":6},{"$f":"IF(H255<>\"\",VLOOKUP(H255,Codes!C$1:D$475,2,FALSE),\"\")","v":""}]
[{"$nulls":6},{"$f":"IF(H256<>\"\",VLOOKUP(H256,Codes!C$1:D$475,2,FALSE),\"\")","v":""}]
[{"$nulls":6},{"$f":"IF(H257<>\"\",VLOOKUP(H257,Codes!C$1:D$475,2,FALSE),\"\")","v":""}]
[{"$nulls":6},{"$f":"IF(H258<>\"\",VLOOKUP(H258,Codes!C$1:D$475,2,FALSE),\"\")","v":""}]
[{"$nulls":6},{"$f":"IF(H259<>\"\",VLOOKUP(H259,Codes!C$1:D$475,2,FALSE),\"\")","v":""}]
[{"$nulls":6},{"$f":"IF(H260<>\"\",VLOOKUP(H260,Codes!C$1:D$475,2,FALSE),\"\")","v":""}]
[{"$nulls":6},{"$f":"IF(H261<>\"\",VLOOKUP(H261,Codes!C$1:D$475,2,FALSE),\"\")","v":""}]
[{"$nulls":6},{"$f":"IF(H262<>\"\",VLOOKUP(H262,Codes!C$1:D$475,2,FALSE),\"\")","v":""}]
[{"$nulls":6},{"$f":"IF(H263<>\"\",VLOOKUP(H263,Codes!C$1:D$475,2,FALSE),\"\")","v":""}]
[{"$nulls":6},{"$f":"IF(H264<>\"\",VLOOKUP(H264,Codes!C$1:D$475,2,FALSE),\"\")","v":""}]
[{"$nulls":6},{"$f":"IF(H265<>\"\",VLOOKUP(H265,Codes!C$1:D$475,2,FALSE),\"\")","v":""}]
[{"$nulls":6},{"$f":"IF(H266<>\"\",VLOOKUP(H266,Codes!C$1:D$475,2,FALSE),\"\")","v":""}]
[{"$nulls":6},{"$f":"IF(H267<>\"\",VLOOKUP(H267,Codes!C$1:D$475,2,FALSE),\"\")","v":""}]
[{"$nulls":6},{"$f":"IF(H268<>\"\",VLOOKUP(H268,Codes!C$1:D$475,2,FALSE),\"\")","v":""},null,null,0,0,{"$f":"D238","v":{"v":0,"d":"0.00"}},{"$f":"CONCATENATE(G238,H238)","v":""}]
[{"$nulls":6},{"$f":"IF(H269<>\"\",VLOOKUP(H269,Codes!C$1:D$475,2,FALSE),\"\")","v":""},null,null,0,0,{"v":0,"d":"0.00"},""]
[{"$nulls":6},{"$f":"IF(H270<>\"\",VLOOKUP(H270,Codes!C$1:D$475,2,FALSE),\"\")","v":""},null,null,0,0,{"v":0,"d":"0.00"},""]
[{"$nulls":6},{"$f":"IF(H271<>\"\",VLOOKUP(H271,Codes!C$1:D$475,2,FALSE),\"\")","v":""},null,null,0,0,{"v":0,"d":"0.00"},""]
[{"$nulls":6},{"$f":"IF(H272<>\"\",VLOOKUP(H272,Codes!C$1:D$475,2,FALSE),\"\")","v":""},null,null,0,0,{"v":0,"d":"0.00"},""]
[{"$nulls":6},{"$f":"IF(H273<>\"\",VLOOKUP(H273,Codes!C$1:D$475,2,FALSE),\"\")","v":""},null,null,0,0,{"v":0,"d":"0.00"},""]
[{"$nulls":6},{"$f":"IF(H274<>\"\",VLOOKUP(H274,Codes!C$1:D$475,2,FALSE),\"\")","v":""},null,null,0,0,{"v":0,"d":"0.00"},""]
[{"$nulls":6},{"$f":"IF(H275<>\"\",VLOOKUP(H275,Codes!C$1:D$475,2,FALSE),\"\")","v":""},null,null,0,0,{"v":0,"d":"0.00"},""]
[{"$nulls":6},{"$f":"IF(H276<>\"\",VLOOKUP(H276,Codes!C$1:D$475,2,FALSE),\"\")","v":""},null,null,0,0,{"v":0,"d":"0.00"},""]
[{"$nulls":6},{"$f":"IF(H277<>\"\",VLOOKUP(H277,Codes!C$1:D$475,2,FALSE),\"\")","v":""},null,null,0,0,{"v":0,"d":"0.00"},""]
[{"$nulls":6},{"$f":"IF(H278<>\"\",VLOOKUP(H278,Codes!C$1:D$475,2,FALSE),\"\")","v":""},null,null,0,0,{"v":0,"d":"0.00"},""]
[{"$nulls":6},{"$f":"IF(H279<>\"\",VLOOKUP(H279,Codes!C$1:D$475,2,FALSE),\"\")","v":""},null,null,0,0,{"v":0,"d":"0.00"},""]
[{"$nulls":6},{"$f":"IF(H280<>\"\",VLOOKUP(H280,Codes!C$1:D$475,2,FALSE),\"\")","v":""},null,null,0,0,{"v":0,"d":"0.00"},""]
[{"$nulls":6},{"$f":"IF(H281<>\"\",VLOOKUP(H281,Codes!C$1:D$475,2,FALSE),\"\")","v":""},null,null,0,0,{"v":0,"d":"0.00"},""]
[{"$nulls":6},{"$f":"IF(H282<>\"\",VLOOKUP(H282,Codes!C$1:D$475,2,FALSE),\"\")","v":""},null,null,0,0,{"v":0,"d":"0.00"},""]
[{"$nulls":6},{"$f":"IF(H283<>\"\",VLOOKUP(H283,Codes!C$1:D$475,2,FALSE),\"\")","v":""},null,null,0,0,{"v":0,"d":"0.00"},""]
[{"$nulls":6},{"$f":"IF(H284<>\"\",VLOOKUP(H284,Codes!C$1:D$475,2,FALSE),\"\")","v":""},null,null,0,0,{"v":0,"d":"0.00"},""]
[{"$nulls":6},{"$f":"IF(H285<>\"\",VLOOKUP(H285,Codes!C$1:D$475,2,FALSE),\"\")","v":""},null,null,0,0,{"v":0,"d":"0.00"},""]
[{"$nulls":6},{"$f":"IF(H286<>\"\",VLOOKUP(H286,Codes!C$1:D$475,2,FALSE),\"\")","v":""},null,null,0,0,{"v":0,"d":"0.00"},""]
[{"$nulls":6},{"$f":"IF(H287<>\"\",VLOOKUP(H287,Codes!C$1:D$475,2,FALSE),\"\")","v":""},null,null,0,0,{"v":0,"d":"0.00"},""]
[{"$nulls":6},{"$f":"IF(H288<>\"\",VLOOKUP(H288,Codes!C$1:D$475,2,FALSE),\"\")","v":""},null,null,0,0,{"v":0,"d":"0.00"},""]
[{"$nulls":6},{"$f":"IF(H289<>\"\",VLOOKUP(H289,Codes!C$1:D$475,2,FALSE),\"\")","v":""},null,null,0,0,{"v":0,"d":"0.00"},""]
[{"$nulls":6},{"$f":"IF(H290<>\"\",VLOOKUP(H290,Codes!C$1:D$475,2,FALSE),\"\")","v":""},null,null,0,0,{"v":0,"d":"0.00"},""]
[{"$nulls":6},{"$f":"IF(H291<>\"\",VLOOKUP(H291,Codes!C$1:D$475,2,FALSE),\"\")","v":""},null,null,0,0,{"v":0,"d":"0.00"},""]
[{"$nulls":6},{"$f":"IF(H292<>\"\",VLOOKUP(H292,Codes!C$1:D$475,2,FALSE),\"\")","v":""},null,null,0,0,{"v":0,"d":"0.00"},""]
[{"$nulls":6},{"$f":"IF(H293<>\"\",VLOOKUP(H293,Codes!C$1:D$475,2,FALSE),\"\")","v":""},null,null,0,0,{"v":0,"d":"0.00"},""]
[{"$nulls":6},{"$f":"IF(H294<>\"\",VLOOKUP(H294,Codes!C$1:D$475,2,FALSE),\"\")","v":""},null,null,0,0,{"v":0,"d":"0.00"},""]
[{"$nulls":6},{"$f":"IF(H295<>\"\",VLOOKUP(H295,Codes!C$1:D$475,2,FALSE),\"\")","v":""},null,null,0,0,{"v":0,"d":"0.00"},""]
[{"$nulls":6},{"$f":"IF(H296<>\"\",VLOOKUP(H296,Codes!C$1:D$475,2,FALSE),\"\")","v":""},null,null,0,0,{"v":0,"d":"0.00"},""]
[{"$nulls":6},{"$f":"IF(H297<>\"\",VLOOKUP(H297,Codes!C$1:D$475,2,FALSE),\"\")","v":""},null,null,0,0,{"v":0,"d":"0.00"},""]
[{"$nulls":6},{"$f":"IF(H298<>\"\",VLOOKUP(H298,Codes!C$1:D$475,2,FALSE),\"\")","v":""},null,null,0,0,{"v":0,"d":"0.00"},""]
[{"$nulls":6},{"$f":"IF(H299<>\"\",VLOOKUP(H299,Codes!C$1:D$475,2,FALSE),\"\")","v":""},null,null,0,0,{"v":0,"d":"0.00"},""]
[{"$nulls":6},{"$f":"IF(H300<>\"\",VLOOKUP(H300,Codes!C$1:D$475,2,FALSE),\"\")","v":""},null,null,0,0,{"v":0,"d":"0.00"},""]
[{"$nulls":6},{"$f":"IF(H301<>\"\",VLOOKUP(H301,Codes!C$1:D$475,2,FALSE),\"\")","v":""}]
[{"$nulls":6},{"$f":"IF(H302<>\"\",VLOOKUP(H302,Codes!C$1:D$475,2,FALSE),\"\")","v":""}]
[{"$nulls":6},{"$f":"IF(H303<>\"\",VLOOKUP(H303,Codes!C$1:D$475,2,FALSE),\"\")","v":""}]
[{"$nulls":6},{"$f":"IF(H304<>\"\",VLOOKUP(H304,Codes!C$1:D$475,2,FALSE),\"\")","v":""}]
[{"$nulls":6},{"$f":"IF(H305<>\"\",VLOOKUP(H305,Codes!C$1:D$475,2,FALSE),\"\")","v":""}]
[{"$nulls":6},{"$f":"IF(H306<>\"\",VLOOKUP(H306,Codes!C$1:D$475,2,FALSE),\"\")","v":""}]
[{"$nulls":6},{"$f":"IF(H307<>\"\",VLOOKUP(H307,Codes!C$1:D$475,2,FALSE),\"\")","v":""}]
[{"$nulls":6},{"$f":"IF(H308<>\"\",VLOOKUP(H308,Codes!C$1:D$475,2,FALSE),\"\")","v":""}]
[{"$nulls":6},{"$f":"IF(H309<>\"\",VLOOKUP(H309,Codes!C$1:D$475,2,FALSE),\"\")","v":""}]
[{"$nulls":6},{"$f":"IF(H310<>\"\",VLOOKUP(H310,Codes!C$1:D$475,2,FALSE),\"\")","v":""}]
[{"$nulls":6},{"$f":"IF(H311<>\"\",VLOOKUP(H311,Codes!C$1:D$475,2,FALSE),\"\")","v":""}]
[{"$nulls":6},{"$f":"IF(H312<>\"\",VLOOKUP(H312,Codes!C$1:D$475,2,FALSE),\"\")","v":""}]
[{"$nulls":6},{"$f":"IF(H313<>\"\",VLOOKUP(H313,Codes!C$1:D$475,2,FALSE),\"\")","v":""}]
[{"$nulls":6},{"$f":"IF(H314<>\"\",VLOOKUP(H314,Codes!C$1:D$475,2,FALSE),\"\")","v":""}]
[{"$nulls":6},{"$f":"IF(H315<>\"\",VLOOKUP(H315,Codes!C$1:D$475,2,FALSE),\"\")","v":""}]
[{"$nulls":6},{"$f":"IF(H316<>\"\",VLOOKUP(H316,Codes!C$1:D$475,2,FALSE),\"\")","v":""}]
[{"$nulls":6},{"$f":"IF(H317<>\"\",VLOOKUP(H317,Codes!C$1:D$475,2,FALSE),\"\")","v":""}]
[{"$nulls":6},{"$f":"IF(H318<>\"\",VLOOKUP(H318,Codes!C$1:D$475,2,FALSE),\"\")","v":""}]
[{"$nulls":6},{"$f":"IF(H319<>\"\",VLOOKUP(H319,Codes!C$1:D$475,2,FALSE),\"\")","v":""}]
[{"$nulls":6},{"$f":"IF(H320<>\"\",VLOOKUP(H320,Codes!C$1:D$475,2,FALSE),\"\")","v":""}]
[{"$nulls":6},{"$f":"IF(H321<>\"\",VLOOKUP(H321,Codes!C$1:D$475,2,FALSE),\"\")","v":""}]
[{"$nulls":6},{"$f":"IF(H322<>\"\",VLOOKUP(H322,Codes!C$1:D$475,2,FALSE),\"\")","v":""}]
[{"$nulls":6},{"$f":"IF(H323<>\"\",VLOOKUP(H323,Codes!C$1:D$475,2,FALSE),\"\")","v":""}]
[{"$nulls":6},{"$f":"IF(H324<>\"\",VLOOKUP(H324,Codes!C$1:D$475,2,FALSE),\"\")","v":""}]
[{"$nulls":6},{"$f":"IF(H325<>\"\",VLOOKUP(H325,Codes!C$1:D$475,2,FALSE),\"\")","v":""}]
[{"$nulls":6},{"$f":"IF(H326<>\"\",VLOOKUP(H326,Codes!C$1:D$475,2,FALSE),\"\")","v":""}]
[{"$nulls":6},{"$f":"IF(H327<>\"\",VLOOKUP(H327,Codes!C$1:D$475,2,FALSE),\"\")","v":""}]
[{"$nulls":6},{"$f":"IF(H328<>\"\",VLOOKUP(H328,Codes!C$1:D$475,2,FALSE),\"\")","v":""}]
[{"$nulls":6},{"$f":"IF(H329<>\"\",VLOOKUP(H329,Codes!C$1:D$475,2,FALSE),\"\")","v":""}]
[{"$nulls":6},{"$f":"IF(H330<>\"\",VLOOKUP(H330,Codes!C$1:D$475,2,FALSE),\"\")","v":""}]
[{"$nulls":6},{"$f":"IF(H331<>\"\",VLOOKUP(H331,Codes!C$1:D$475,2,FALSE),\"\")","v":""}]
[{"$nulls":6},{"$f":"IF(H332<>\"\",VLOOKUP(H332,Codes!C$1:D$475,2,FALSE),\"\")","v":""}]
[{"$nulls":6},{"$f":"IF(H333<>\"\",VLOOKUP(H333,Codes!C$1:D$475,2,FALSE),\"\")","v":""}]
[{"$nulls":6},{"$f":"IF(H334<>\"\",VLOOKUP(H334,Codes!C$1:D$475,2,FALSE),\"\")","v":""}]
[{"$nulls":6},{"$f":"IF(H335<>\"\",VLOOKUP(H335,Codes!C$1:D$475,2,FALSE),\"\")","v":""}]
[{"$nulls":6},{"$f":"IF(H336<>\"\",VLOOKUP(H336,Codes!C$1:D$475,2,FALSE),\"\")","v":""}]
[{"$nulls":6},{"$f":"IF(H337<>\"\",VLOOKUP(H337,Codes!C$1:D$475,2,FALSE),\"\")","v":""}]
[{"$nulls":6},{"$f":"IF(H338<>\"\",VLOOKUP(H338,Codes!C$1:D$475,2,FALSE),\"\")","v":""}]
[{"$nulls":6},{"$f":"IF(H339<>\"\",VLOOKUP(H339,Codes!C$1:D$475,2,FALSE),\"\")","v":""}]
[{"$nulls":6},{"$f":"IF(H340<>\"\",VLOOKUP(H340,Codes!C$1:D$475,2,FALSE),\"\")","v":""}]
[{"$nulls":6},{"$f":"IF(H341<>\"\",VLOOKUP(H341,Codes!C$1:D$475,2,FALSE),\"\")","v":""}]
[{"$nulls":6},{"$f":"IF(H342<>\"\",VLOOKUP(H342,Codes!C$1:D$475,2,FALSE),\"\")","v":""}]
[{"$nulls":6},{"$f":"IF(H343<>\"\",VLOOKUP(H343,Codes!C$1:D$475,2,FALSE),\"\")","v":""}]
[{"$nulls":6},{"$f":"IF(H344<>\"\",VLOOKUP(H344,Codes!C$1:D$475,2,FALSE),\"\")","v":""}]
[{"$nulls":6},{"$f":"IF(H345<>\"\",VLOOKUP(H345,Codes!C$1:D$475,2,FALSE),\"\")","v":""}]
[{"$nulls":6},{"$f":"IF(H346<>\"\",VLOOKUP(H346,Codes!C$1:D$475,2,FALSE),\"\")","v":""}]
[{"$nulls":6},{"$f":"IF(H347<>\"\",VLOOKUP(H347,Codes!C$1:D$475,2,FALSE),\"\")","v":""}]
[{"$nulls":6},{"$f":"IF(H348<>\"\",VLOOKUP(H348,Codes!C$1:D$475,2,FALSE),\"\")","v":""}]
[{"$nulls":6},{"$f":"IF(H349<>\"\",VLOOKUP(H349,Codes!C$1:D$475,2,FALSE),\"\")","v":""}]
[{"$nulls":6},{"$f":"IF(H350<>\"\",VLOOKUP(H350,Codes!C$1:D$475,2,FALSE),\"\")","v":""}]
[{"$nulls":6},{"$f":"IF(H351<>\"\",VLOOKUP(H351,Codes!C$1:D$475,2,FALSE),\"\")","v":""}]
[{"$nulls":6},{"$f":"IF(H352<>\"\",VLOOKUP(H352,Codes!C$1:D$475,2,FALSE),\"\")","v":""}]
[{"$nulls":6},{"$f":"IF(H353<>\"\",VLOOKUP(H353,Codes!C$1:D$475,2,FALSE),\"\")","v":""}]
[{"$nulls":6},{"$f":"IF(H354<>\"\",VLOOKUP(H354,Codes!C$1:D$475,2,FALSE),\"\")","v":""}]
[{"$nulls":6},{"$f":"IF(H355<>\"\",VLOOKUP(H355,Codes!C$1:D$475,2,FALSE),\"\")","v":""}]
[{"$nulls":6},{"$f":"IF(H356<>\"\",VLOOKUP(H356,Codes!C$1:D$475,2,FALSE),\"\")","v":""}]
[{"$nulls":6},{"$f":"IF(H357<>\"\",VLOOKUP(H357,Codes!C$1:D$475,2,FALSE),\"\")","v":""}]
[{"$nulls":6},{"$f":"IF(H358<>\"\",VLOOKUP(H358,Codes!C$1:D$475,2,FALSE),\"\")","v":""}]
[{"$nulls":6},{"$f":"IF(H359<>\"\",VLOOKUP(H359,Codes!C$1:D$475,2,FALSE),\"\")","v":""}]
[{"$nulls":6},{"$f":"IF(H360<>\"\",VLOOKUP(H360,Codes!C$1:D$475,2,FALSE),\"\")","v":""}]
[{"$nulls":6},{"$f":"IF(H361<>\"\",VLOOKUP(H361,Codes!C$1:D$475,2,FALSE),\"\")","v":""}]
[{"$nulls":6},{"$f":"IF(H362<>\"\",VLOOKUP(H362,Codes!C$1:D$475,2,FALSE),\"\")","v":""}]
[{"$nulls":6},{"$f":"IF(H363<>\"\",VLOOKUP(H363,Codes!C$1:D$475,2,FALSE),\"\")","v":""}]
[{"$nulls":6},{"$f":"IF(H364<>\"\",VLOOKUP(H364,Codes!C$1:D$475,2,FALSE),\"\")","v":""}]
[{"$nulls":6},{"$f":"IF(H365<>\"\",VLOOKUP(H365,Codes!C$1:D$475,2,FALSE),\"\")","v":""}]
[{"$nulls":6},{"$f":"IF(H366<>\"\",VLOOKUP(H366,Codes!C$1:D$475,2,FALSE),\"\")","v":""}]
[{"$nulls":6},{"$f":"IF(H367<>\"\",VLOOKUP(H367,Codes!C$1:D$475,2,FALSE),\"\")","v":""}]
[{"$nulls":6},{"$f":"IF(H368<>\"\",VLOOKUP(H368,Codes!C$1:D$475,2,FALSE),\"\")","v":""}]
[{"$nulls":6},{"$f":"IF(H369<>\"\",VLOOKUP(H369,Codes!C$1:D$475,2,FALSE),\"\")","v":""}]
[{"$nulls":6},{"$f":"IF(H370<>\"\",VLOOKUP(H370,Codes!C$1:D$475,2,FALSE),\"\")","v":""}]
[{"$nulls":6},{"$f":"IF(H371<>\"\",VLOOKUP(H371,Codes!C$1:D$475,2,FALSE),\"\")","v":""}]
[{"$nulls":6},{"$f":"IF(H372<>\"\",VLOOKUP(H372,Codes!C$1:D$475,2,FALSE),\"\")","v":""}]
[{"$nulls":6},{"$f":"IF(H373<>\"\",VLOOKUP(H373,Codes!C$1:D$475,2,FALSE),\"\")","v":""}]
[{"$nulls":6},{"$f":"IF(H374<>\"\",VLOOKUP(H374,Codes!C$1:D$475,2,FALSE),\"\")","v":""}]
[{"$nulls":6},{"$f":"IF(H375<>\"\",VLOOKUP(H375,Codes!C$1:D$475,2,FALSE),\"\")","v":""}]
[{"$nulls":6},{"$f":"IF(H376<>\"\",VLOOKUP(H376,Codes!C$1:D$475,2,FALSE),\"\")","v":""}]
[{"$nulls":6},{"$f":"IF(H377<>\"\",VLOOKUP(H377,Codes!C$1:D$475,2,FALSE),\"\")","v":""}]
[{"$nulls":6},{"$f":"IF(H378<>\"\",VLOOKUP(H378,Codes!C$1:D$475,2,FALSE),\"\")","v":""}]
[{"$nulls":6},{"$f":"IF(H379<>\"\",VLOOKUP(H379,Codes!C$1:D$475,2,FALSE),\"\")","v":""}]
[{"$nulls":6},{"$f":"IF(H380<>\"\",VLOOKUP(H380,Codes!C$1:D$475,2,FALSE),\"\")","v":""}]
[{"$nulls":6},{"$f":"IF(H381<>\"\",VLOOKUP(H381,Codes!C$1:D$475,2,FALSE),\"\")","v":""}]
[{"$nulls":6},{"$f":"IF(H382<>\"\",VLOOKUP(H382,Codes!C$1:D$475,2,FALSE),\"\")","v":""}]
[{"$nulls":6},{"$f":"IF(H383<>\"\",VLOOKUP(H383,Codes!C$1:D$475,2,FALSE),\"\")","v":""}]
[{"$nulls":6},{"$f":"IF(H384<>\"\",VLOOKUP(H384,Codes!C$1:D$475,2,FALSE),\"\")","v":""}]
[{"$nulls":6},{"$f":"IF(H385<>\"\",VLOOKUP(H385,Codes!C$1:D$475,2,FALSE),\"\")","v":""}]
[{"$nulls":6},{"$f":"IF(H386<>\"\",VLOOKUP(H386,Codes!C$1:D$475,2,FALSE),\"\")","v":""}]
[{"$nulls":6},{"$f":"IF(H387<>\"\",VLOOKUP(H387,Codes!C$1:D$475,2,FALSE),\"\")","v":""}]
[{"$nulls":6},{"$f":"IF(H388<>\"\",VLOOKUP(H388,Codes!C$1:D$475,2,FALSE),\"\")","v":""}]
[{"$nulls":6},{"$f":"IF(H389<>\"\",VLOOKUP(H389,Codes!C$1:D$475,2,FALSE),\"\")","v":""}]
[{"$nulls":6},{"$f":"IF(H390<>\"\",VLOOKUP(H390,Codes!C$1:D$475,2,FALSE),\"\")","v":""}]
[{"$nulls":6},{"$f":"IF(H391<>\"\",VLOOKUP(H391,Codes!C$1:D$475,2,FALSE),\"\")","v":""}]
[{"$nulls":6},{"$f":"IF(H392<>\"\",VLOOKUP(H392,Codes!C$1:D$475,2,FALSE),\"\")","v":""}]
[{"$nulls":6},{"$f":"IF(H393<>\"\",VLOOKUP(H393,Codes!C$1:D$475,2,FALSE),\"\")","v":""}]
[{"$nulls":6},{"$f":"IF(H394<>\"\",VLOOKUP(H394,Codes!C$1:D$475,2,FALSE),\"\")","v":""}]
[{"$nulls":6},{"$f":"IF(H395<>\"\",VLOOKUP(H395,Codes!C$1:D$475,2,FALSE),\"\")","v":""}]
[{"$nulls":6},{"$f":"IF(H396<>\"\",VLOOKUP(H396,Codes!C$1:D$475,2,FALSE),\"\")","v":""}]
[{"$nulls":6},{"$f":"IF(H397<>\"\",VLOOKUP(H397,Codes!C$1:D$475,2,FALSE),\"\")","v":""}]
[{"$nulls":6},{"$f":"IF(H398<>\"\",VLOOKUP(H398,Codes!C$1:D$475,2,FALSE),\"\")","v":""}]
[{"$nulls":6},{"$f":"IF(H399<>\"\",VLOOKUP(H399,Codes!C$1:D$475,2,FALSE),\"\")","v":""}]
[{"$nulls":6},{"$f":"IF(H400<>\"\",VLOOKUP(H400,Codes!C$1:D$475,2,FALSE),\"\")","v":""}]
[{"$nulls":6},{"$f":"IF(H401<>\"\",VLOOKUP(H401,Codes!C$1:D$475,2,FALSE),\"\")","v":""}]
[{"$nulls":6},{"$f":"IF(H402<>\"\",VLOOKUP(H402,Codes!C$1:D$475,2,FALSE),\"\")","v":""}]
[{"$nulls":6},{"$f":"IF(H403<>\"\",VLOOKUP(H403,Codes!C$1:D$475,2,FALSE),\"\")","v":""}]
[{"$nulls":6},{"$f":"IF(H404<>\"\",VLOOKUP(H404,Codes!C$1:D$475,2,FALSE),\"\")","v":""}]
[{"$nulls":6},{"$f":"IF(H405<>\"\",VLOOKUP(H405,Codes!C$1:D$475,2,FALSE),\"\")","v":""}]
[{"$nulls":6},{"$f":"IF(H406<>\"\",VLOOKUP(H406,Codes!C$1:D$475,2,FALSE),\"\")","v":""}]
[{"$nulls":6},{"$f":"IF(H407<>\"\",VLOOKUP(H407,Codes!C$1:D$475,2,FALSE),\"\")","v":""}]
[{"$nulls":6},{"$f":"IF(H408<>\"\",VLOOKUP(H408,Codes!C$1:D$475,2,FALSE),\"\")","v":""}]
[{"$nulls":6},{"$f":"IF(H409<>\"\",VLOOKUP(H409,Codes!C$1:D$475,2,FALSE),\"\")","v":""}]
[{"$nulls":6},{"$f":"IF(H410<>\"\",VLOOKUP(H410,Codes!C$1:D$475,2,FALSE),\"\")","v":""}]
[{"$nulls":6},{"$f":"IF(H411<>\"\",VLOOKUP(H411,Codes!C$1:D$475,2,FALSE),\"\")","v":""}]
[{"$nulls":6},{"$f":"IF(H412<>\"\",VLOOKUP(H412,Codes!C$1:D$475,2,FALSE),\"\")","v":""}]
[{"$nulls":6},{"$f":"IF(H413<>\"\",VLOOKUP(H413,Codes!C$1:D$475,2,FALSE),\"\")","v":""}]
[{"$nulls":6},{"$f":"IF(H414<>\"\",VLOOKUP(H414,Codes!C$1:D$475,2,FALSE),\"\")","v":""}]
[{"$nulls":6},{"$f":"IF(H415<>\"\",VLOOKUP(H415,Codes!C$1:D$475,2,FALSE),\"\")","v":""}]
[{"$nulls":6},{"$f":"IF(H416<>\"\",VLOOKUP(H416,Codes!C$1:D$475,2,FALSE),\"\")","v":""}]
[{"$nulls":6},{"$f":"IF(H417<>\"\",VLOOKUP(H417,Codes!C$1:D$475,2,FALSE),\"\")","v":""}]
[{"$nulls":6},{"$f":"IF(H418<>\"\",VLOOKUP(H418,Codes!C$1:D$475,2,FALSE),\"\")","v":""}]
[{"$nulls":6},{"$f":"IF(H419<>\"\",VLOOKUP(H419,Codes!C$1:D$475,2,FALSE),\"\")","v":""}]
[{"$nulls":6},{"$f":"IF(H420<>\"\",VLOOKUP(H420,Codes!C$1:D$475,2,FALSE),\"\")","v":""}]
[{"$nulls":6},{"$f":"IF(H421<>\"\",VLOOKUP(H421,Codes!C$1:D$475,2,FALSE),\"\")","v":""}]
[{"$nulls":6},{"$f":"IF(H422<>\"\",VLOOKUP(H422,Codes!C$1:D$475,2,FALSE),\"\")","v":""}]
[{"$nulls":6},{"$f":"IF(H423<>\"\",VLOOKUP(H423,Codes!C$1:D$475,2,FALSE),\"\")","v":""}]
[{"$nulls":6},{"$f":"IF(H424<>\"\",VLOOKUP(H424,Codes!C$1:D$475,2,FALSE),\"\")","v":""}]
[{"$nulls":6},{"$f":"IF(H425<>\"\",VLOOKUP(H425,Codes!C$1:D$475,2,FALSE),\"\")","v":""}]
[{"$nulls":6},{"$f":"IF(H426<>\"\",VLOOKUP(H426,Codes!C$1:D$475,2,FALSE),\"\")","v":""}]
[{"$nulls":6},{"$f":"IF(H427<>\"\",VLOOKUP(H427,Codes!C$1:D$475,2,FALSE),\"\")","v":""}]
[{"$nulls":6},{"$f":"IF(H428<>\"\",VLOOKUP(H428,Codes!C$1:D$475,2,FALSE),\"\")","v":""}]
[{"$nulls":6},{"$f":"IF(H429<>\"\",VLOOKUP(H429,Codes!C$1:D$475,2,FALSE),\"\")","v":""}]
[{"$nulls":6},{"$f":"IF(H430<>\"\",VLOOKUP(H430,Codes!C$1:D$475,2,FALSE),\"\")","v":""}]
[{"$nulls":6},{"$f":"IF(H431<>\"\",VLOOKUP(H431,Codes!C$1:D$475,2,FALSE),\"\")","v":""}]
[{"$nulls":6},{"$f":"IF(H432<>\"\",VLOOKUP(H432,Codes!C$1:D$475,2,FALSE),\"\")","v":""}]
[{"$nulls":6},{"$f":"IF(H433<>\"\",VLOOKUP(H433,Codes!C$1:D$475,2,FALSE),\"\")","v":""}]
[{"$nulls":6},{"$f":"IF(H434<>\"\",VLOOKUP(H434,Codes!C$1:D$475,2,FALSE),\"\")","v":""}]
[{"$nulls":6},{"$f":"IF(H435<>\"\",VLOOKUP(H435,Codes!C$1:D$475,2,FALSE),\"\")","v":""}]
[{"$nulls":6},{"$f":"IF(H436<>\"\",VLOOKUP(H436,Codes!C$1:D$475,2,FALSE),\"\")","v":""}]
[{"$nulls":6},{"$f":"IF(H437<>\"\",VLOOKUP(H437,Codes!C$1:D$475,2,FALSE),\"\")","v":""}]
[{"$nulls":6},{"$f":"IF(H438<>\"\",VLOOKUP(H438,Codes!C$1:D$475,2,FALSE),\"\")","v":""}]
[{"$nulls":6},{"$f":"IF(H439<>\"\",VLOOKUP(H439,Codes!C$1:D$475,2,FALSE),\"\")","v":""}]
[{"$nulls":6},{"$f":"IF(H440<>\"\",VLOOKUP(H440,Codes!C$1:D$475,2,FALSE),\"\")","v":""}]
[{"$nulls":6},{"$f":"IF(H441<>\"\",VLOOKUP(H441,Codes!C$1:D$475,2,FALSE),\"\")","v":""}]
[{"$nulls":6},{"$f":"IF(H442<>\"\",VLOOKUP(H442,Codes!C$1:D$475,2,FALSE),\"\")","v":""}]
[{"$nulls":6},{"$f":"IF(H443<>\"\",VLOOKUP(H443,Codes!C$1:D$475,2,FALSE),\"\")","v":""}]
[{"$nulls":6},{"$f":"IF(H444<>\"\",VLOOKUP(H444,Codes!C$1:D$475,2,FALSE),\"\")","v":""}]
[{"$nulls":6},{"$f":"IF(H445<>\"\",VLOOKUP(H445,Codes!C$1:D$475,2,FALSE),\"\")","v":""}]
[{"$nulls":6},{"$f":"IF(H446<>\"\",VLOOKUP(H446,Codes!C$1:D$475,2,FALSE),\"\")","v":""}]
[{"$nulls":6},{"$f":"IF(H447<>\"\",VLOOKUP(H447,Codes!C$1:D$475,2,FALSE),\"\")","v":""}]
[{"$nulls":6},{"$f":"IF(H448<>\"\",VLOOKUP(H448,Codes!C$1:D$475,2,FALSE),\"\")","v":""}]
[{"$nulls":6},{"$f":"IF(H449<>\"\",VLOOKUP(H449,Codes!C$1:D$475,2,FALSE),\"\")","v":""}]
[{"$nulls":6},{"$f":"IF(H450<>\"\",VLOOKUP(H450,Codes!C$1:D$475,2,FALSE),\"\")","v":""}]
[{"$nulls":6},{"$f":"IF(H451<>\"\",VLOOKUP(H451,Codes!C$1:D$475,2,FALSE),\"\")","v":""}]
[{"$nulls":6},{"$f":"IF(H452<>\"\",VLOOKUP(H452,Codes!C$1:D$475,2,FALSE),\"\")","v":""}]
[{"$nulls":6},{"$f":"IF(H453<>\"\",VLOOKUP(H453,Codes!C$1:D$475,2,FALSE),\"\")","v":""}]
[{"$nulls":6},{"$f":"IF(H454<>\"\",VLOOKUP(H454,Codes!C$1:D$475,2,FALSE),\"\")","v":""}]
[{"$nulls":6},{"$f":"IF(H455<>\"\",VLOOKUP(H455,Codes!C$1:D$475,2,FALSE),\"\")","v":""}]
[{"$nulls":6},{"$f":"IF(H456<>\"\",VLOOKUP(H456,Codes!C$1:D$475,2,FALSE),\"\")","v":""}]
[{"$nulls":6},{"$f":"IF(H457<>\"\",VLOOKUP(H457,Codes!C$1:D$475,2,FALSE),\"\")","v":""}]
[{"$nulls":6},{"$f":"IF(H458<>\"\",VLOOKUP(H458,Codes!C$1:D$475,2,FALSE),\"\")","v":""}]
[{"$nulls":6},{"$f":"IF(H459<>\"\",VLOOKUP(H459,Codes!C$1:D$475,2,FALSE),\"\")","v":""}]
[{"$nulls":6},{"$f":"IF(H460<>\"\",VLOOKUP(H460,Codes!C$1:D$475,2,FALSE),\"\")","v":""}]
[{"$nulls":6},{"$f":"IF(H461<>\"\",VLOOKUP(H461,Codes!C$1:D$475,2,FALSE),\"\")","v":""}]
[{"$nulls":6},{"$f":"IF(H462<>\"\",VLOOKUP(H462,Codes!C$1:D$475,2,FALSE),\"\")","v":""}]
[{"$nulls":6},{"$f":"IF(H463<>\"\",VLOOKUP(H463,Codes!C$1:D$475,2,FALSE),\"\")","v":""}]
[{"$nulls":6},{"$f":"IF(H464<>\"\",VLOOKUP(H464,Codes!C$1:D$475,2,FALSE),\"\")","v":""}]
[{"$nulls":6},{"$f":"IF(H465<>\"\",VLOOKUP(H465,Codes!C$1:D$475,2,FALSE),\"\")","v":""}]
[{"$nulls":6},{"$f":"IF(H466<>\"\",VLOOKUP(H466,Codes!C$1:D$475,2,FALSE),\"\")","v":""}]
[{"$nulls":6},{"$f":"IF(H467<>\"\",VLOOKUP(H467,Codes!C$1:D$475,2,FALSE),\"\")","v":""}]
[{"$nulls":6},{"$f":"IF(H468<>\"\",VLOOKUP(H468,Codes!C$1:D$475,2,FALSE),\"\")","v":""}]
[{"$nulls":6},{"$f":"IF(H469<>\"\",VLOOKUP(H469,Codes!C$1:D$475,2,FALSE),\"\")","v":""}]
[{"$nulls":6},{"$f":"IF(H470<>\"\",VLOOKUP(H470,Codes!C$1:D$475,2,FALSE),\"\")","v":""}]
[{"$nulls":6},{"$f":"IF(H471<>\"\",VLOOKUP(H471,Codes!C$1:D$475,2,FALSE),\"\")","v":""}]
[{"$nulls":6},{"$f":"IF(H472<>\"\",VLOOKUP(H472,Codes!C$1:D$475,2,FALSE),\"\")","v":""}]
[{"$nulls":6},{"$f":"IF(H473<>\"\",VLOOKUP(H473,Codes!C$1:D$475,2,FALSE),\"\")","v":""}]
[{"$nulls":6},{"$f":"IF(H474<>\"\",VLOOKUP(H474,Codes!C$1:D$475,2,FALSE),\"\")","v":""}]
[{"$nulls":6},{"$f":"IF(H475<>\"\",VLOOKUP(H475,Codes!C$1:D$475,2,FALSE),\"\")","v":""}]
[{"$nulls":6},{"$f":"IF(H476<>\"\",VLOOKUP(H476,Codes!C$1:D$475,2,FALSE),\"\")","v":""}]
[{"$nulls":6},{"$f":"IF(H477<>\"\",VLOOKUP(H477,Codes!C$1:D$475,2,FALSE),\"\")","v":""}]
[{"$nulls":6},{"$f":"IF(H478<>\"\",VLOOKUP(H478,Codes!C$1:D$475,2,FALSE),\"\")","v":""}]
[{"$nulls":6},{"$f":"IF(H479<>\"\",VLOOKUP(H479,Codes!C$1:D$475,2,FALSE),\"\")","v":""}]
[{"$nulls":6},{"$f":"IF(H480<>\"\",VLOOKUP(H480,Codes!C$1:D$475,2,FALSE),\"\")","v":""}]
[{"$nulls":6},{"$f":"IF(H481<>\"\",VLOOKUP(H481,Codes!C$1:D$475,2,FALSE),\"\")","v":""}]
[{"$nulls":6},{"$f":"IF(H482<>\"\",VLOOKUP(H482,Codes!C$1:D$475,2,FALSE),\"\")","v":""}]
[{"$nulls":6},{"$f":"IF(H483<>\"\",VLOOKUP(H483,Codes!C$1:D$475,2,FALSE),\"\")","v":""}]
[{"$nulls":6},{"$f":"IF(H484<>\"\",VLOOKUP(H484,Codes!C$1:D$475,2,FALSE),\"\")","v":""}]
[{"$nulls":6},{"$f":"IF(H485<>\"\",VLOOKUP(H485,Codes!C$1:D$475,2,FALSE),\"\")","v":""}]
[{"$nulls":6},{"$f":"IF(H486<>\"\",VLOOKUP(H486,Codes!C$1:D$475,2,FALSE),\"\")","v":""}]
[{"$nulls":6},{"$f":"IF(H487<>\"\",VLOOKUP(H487,Codes!C$1:D$475,2,FALSE),\"\")","v":""}]
[{"$nulls":6},{"$f":"IF(H488<>\"\",VLOOKUP(H488,Codes!C$1:D$475,2,FALSE),\"\")","v":""}]
[{"$nulls":6},{"$f":"IF(H489<>\"\",VLOOKUP(H489,Codes!C$1:D$475,2,FALSE),\"\")","v":""}]
[{"$nulls":6},{"$f":"IF(H490<>\"\",VLOOKUP(H490,Codes!C$1:D$475,2,FALSE),\"\")","v":""}]
[{"$nulls":6},{"$f":"IF(H491<>\"\",VLOOKUP(H491,Codes!C$1:D$475,2,FALSE),\"\")","v":""}]
[{"$nulls":6},{"$f":"IF(H492<>\"\",VLOOKUP(H492,Codes!C$1:D$475,2,FALSE),\"\")","v":""}]
[{"$nulls":6},{"$f":"IF(H493<>\"\",VLOOKUP(H493,Codes!C$1:D$475,2,FALSE),\"\")","v":""}]
[{"$nulls":6},{"$f":"IF(H494<>\"\",VLOOKUP(H494,Codes!C$1:D$475,2,FALSE),\"\")","v":""}]
[{"$nulls":6},{"$f":"IF(H495<>\"\",VLOOKUP(H495,Codes!C$1:D$475,2,FALSE),\"\")","v":""}]
[{"$nulls":6},{"$f":"IF(H496<>\"\",VLOOKUP(H496,Codes!C$1:D$475,2,FALSE),\"\")","v":""}]
[{"$nulls":6},{"$f":"IF(H497<>\"\",VLOOKUP(H497,Codes!C$1:D$475,2,FALSE),\"\")","v":""}]
[{"$nulls":6},{"$f":"IF(H498<>\"\",VLOOKUP(H498,Codes!C$1:D$475,2,FALSE),\"\")","v":""}]
[{"$nulls":6},{"$f":"IF(H499<>\"\",VLOOKUP(H499,Codes!C$1:D$475,2,FALSE),\"\")","v":""}]
[{"$nulls":6},{"$f":"IF(H500<>\"\",VLOOKUP(H500,Codes!C$1:D$475,2,FALSE),\"\")","v":""}]

{"sheet":"CAISSE 3","index":11,"n_rows":500,"n_cols":14,"rows_kept":500,"hidden":true,"merged":[[1,2,1,4]]}
[]
[null,"Eglise :"]
[null,"Caisse 3"]
[{"$nulls":4},"Date","Montant"]
[null,"Solde initial",null,null,{"$f":"+'BANQUE 1'!E5","v":"2014-01-01"}]
[null,"Solde intermédiaire"]
[null,"Solde total ",{"$nulls":3},{"$f":"+SUM(D11:D20191)","v":{"v":0,"d":"0.00"}}]
[null,"Contrôle:  si ok = rien; sinon  pas ok !!!",{"$nulls":3},{"$f":"+IF(F6<>F7,\"PAS OK !!!\",\"ok\")","v":"ok"}]
[null,"Entrées & Sorties de Caisse",null,null,"        Entrées & Sorties de Caisse","    Entrées & Sorties de Caisse","    Entrées & Sorties de Caisse","  Entrées & Sorties de Caisse"]
[null,"Date","N° pièce de caisse","Montant","Description","Commentaire","Compte comptable","Libellé compte comptable",null,{"$f":"D10","v":"Montant"},{"$f":"H10","v":"Libellé compte comptable"}]
[null,{"$f":"+E5","v":"2014-01-01"},null,{"$f":"+F5","v":{"v":0,"d":"0.00"}},null,null,{"$f":"IF(H11<>\"\",VLOOKUP(H11,Codes!C$1:D$475,2,FALSE),\"\")","v":""},null,null,{"$f":"D11","v":0},{"$f":"H11","v":0},{"$f":"D10","v":"Montant"},{"$f":"CONCATENATE(G10,H10)","v":"Compte comptableLibellé compte comptable"}]
[{"$nulls":6},{"$f":"IF(H12<>\"\",VLOOKUP(H12,Codes!C$1:D$475,2,FALSE),\"\")","v":""},null,null,0,0,{"$f":"D11","v":{"v":0,"d":"0.00"}},{"$f":"CONCATENATE(G11,H11)","v":""}]
[{"$nulls":6},{"$f":"IF(H13<>\"\",VLOOKUP(H13,Codes!C$1:D$475,2,FALSE),\"\")","v":""},null,null,0,0,{"v":0,"d":"0.00"},""]
[{"$nulls":6},{"$f":"IF(H14<>\"\",VLOOKUP(H14,Codes!C$1:D$475,2,FALSE),\"\")","v":""},null,null,0,0,{"v":0,"d":"0.00"},""]
[{"$nulls":6},{"$f":"IF(H15<>\"\",VLOOKUP(H15,Codes!C$1:D$475,2,FALSE),\"\")","v":""},null,null,0,0,{"v":0,"d":"0.00"},"","ok"]
[{"$nulls":6},{"$f":"IF(H16<>\"\",VLOOKUP(H16,Codes!C$1:D$475,2,FALSE),\"\")","v":""},null,null,0,0,{"v":0,"d":"0.00"},"","Erreur"]
[{"$nulls":6},{"$f":"IF(H17<>\"\",VLOOKUP(H17,Codes!C$1:D$475,2,FALSE),\"\")","v":""},null,null,0,0,{"v":0,"d":"0.00"},""]
[{"$nulls":6},{"$f":"IF(H18<>\"\",VLOOKUP(H18,Codes!C$1:D$475,2,FALSE),\"\")","v":""},null,null,0,0,{"v":0,"d":"0.00"},""]
[{"$nulls":6},{"$f":"IF(H19<>\"\",VLOOKUP(H19,Codes!C$1:D$475,2,FALSE),\"\")","v":""},null,null,0,0,{"v":0,"d":"0.00"},""]
[{"$nulls":6},{"$f":"IF(H20<>\"\",VLOOKUP(H20,Codes!C$1:D$475,2,FALSE),\"\")","v":""},null,null,0,0,{"v":0,"d":"0.00"},""]
[{"$nulls":6},{"$f":"IF(H21<>\"\",VLOOKUP(H21,Codes!C$1:D$475,2,FALSE),\"\")","v":""},null,null,0,0,{"v":0,"d":"0.00"},""]
[{"$nulls":6},{"$f":"IF(H22<>\"\",VLOOKUP(H22,Codes!C$1:D$475,2,FALSE),\"\")","v":""},null,null,0,0,{"v":0,"d":"0.00"},""]
[{"$nulls":6},{"$f":"IF(H23<>\"\",VLOOKUP(H23,Codes!C$1:D$475,2,FALSE),\"\")","v":""},null,null,0,0,{"v":0,"d":"0.00"},""]
[{"$nulls":6},{"$f":"IF(H24<>\"\",VLOOKUP(H24,Codes!C$1:D$475,2,FALSE),\"\")","v":""},null,null,0,0,{"v":0,"d":"0.00"},""]
[{"$nulls":6},{"$f":"IF(H25<>\"\",VLOOKUP(H25,Codes!C$1:D$475,2,FALSE),\"\")","v":""},null,null,0,0,{"v":0,"d":"0.00"},""]
[{"$nulls":6},{"$f":"IF(H26<>\"\",VLOOKUP(H26,Codes!C$1:D$475,2,FALSE),\"\")","v":""},null,null,0,0,{"v":0,"d":"0.00"},""]
[{"$nulls":6},{"$f":"IF(H27<>\"\",VLOOKUP(H27,Codes!C$1:D$475,2,FALSE),\"\")","v":""},null,null,0,0,{"v":0,"d":"0.00"},""]
[{"$nulls":6},{"$f":"IF(H28<>\"\",VLOOKUP(H28,Codes!C$1:D$475,2,FALSE),\"\")","v":""},null,null,0,0,{"v":0,"d":"0.00"},""]
[{"$nulls":6},{"$f":"IF(H29<>\"\",VLOOKUP(H29,Codes!C$1:D$475,2,FALSE),\"\")","v":""},null,null,0,0,{"v":0,"d":"0.00"},""]
[{"$nulls":6},{"$f":"IF(H30<>\"\",VLOOKUP(H30,Codes!C$1:D$475,2,FALSE),\"\")","v":""},null,null,0,0,{"v":0,"d":"0.00"},""]
[{"$nulls":6},{"$f":"IF(H31<>\"\",VLOOKUP(H31,Codes!C$1:D$475,2,FALSE),\"\")","v":""},null,null,0,0,{"v":0,"d":"0.00"},""]
[{"$nulls":6},{"$f":"IF(H32<>\"\",VLOOKUP(H32,Codes!C$1:D$475,2,FALSE),\"\")","v":""},null,null,0,0,{"v":0,"d":"0.00"},""]
[{"$nulls":6},{"$f":"IF(H33<>\"\",VLOOKUP(H33,Codes!C$1:D$475,2,FALSE),\"\")","v":""},null,null,0,0,{"v":0,"d":"0.00"},""]
[{"$nulls":6},{"$f":"IF(H34<>\"\",VLOOKUP(H34,Codes!C$1:D$475,2,FALSE),\"\")","v":""},null,null,0,0,{"v":0,"d":"0.00"},""]
[{"$nulls":6},{"$f":"IF(H35<>\"\",VLOOKUP(H35,Codes!C$1:D$475,2,FALSE),\"\")","v":""},null,null,0,0,{"v":0,"d":"0.00"},""]
[{"$nulls":6},{"$f":"IF(H36<>\"\",VLOOKUP(H36,Codes!C$1:D$475,2,FALSE),\"\")","v":""},null,null,0,0,{"v":0,"d":"0.00"},""]
[{"$nulls":6},{"$f":"IF(H37<>\"\",VLOOKUP(H37,Codes!C$1:D$475,2,FALSE),\"\")","v":""},null,null,0,0,{"v":0,"d":"0.00"},""]
[{"$nulls":6},{"$f":"IF(H38<>\"\",VLOOKUP(H38,Codes!C$1:D$475,2,FALSE),\"\")","v":""},null,null,0,0,{"v":0,"d":"0.00"},""]
[{"$nulls":6},{"$f":"IF(H39<>\"\",VLOOKUP(H39,Codes!C$1:D$475,2,FALSE),\"\")","v":""},null,null,0,0,{"v":0,"d":"0.00"},""]
[{"$nulls":6},{"$f":"IF(H40<>\"\",VLOOKUP(H40,Codes!C$1:D$475,2,FALSE),\"\")","v":""},null,null,0,0,{"v":0,"d":"0.00"},""]
[{"$nulls":6},{"$f":"IF(H41<>\"\",VLOOKUP(H41,Codes!C$1:D$475,2,FALSE),\"\")","v":""},null,null,0,0,{"v":0,"d":"0.00"},""]
[{"$nulls":6},{"$f":"IF(H42<>\"\",VLOOKUP(H42,Codes!C$1:D$475,2,FALSE),\"\")","v":""},null,null,0,0,{"v":0,"d":"0.00"},""]
[{"$nulls":6},{"$f":"IF(H43<>\"\",VLOOKUP(H43,Codes!C$1:D$475,2,FALSE),\"\")","v":""},null,null,0,0,{"v":0,"d":"0.00"},""]
[{"$nulls":6},{"$f":"IF(H44<>\"\",VLOOKUP(H44,Codes!C$1:D$475,2,FALSE),\"\")","v":""},null,null,0,0,{"v":0,"d":"0.00"},""]
[{"$nulls":6},{"$f":"IF(H45<>\"\",VLOOKUP(H45,Codes!C$1:D$475,2,FALSE),\"\")","v":""},null,null,0,0,{"v":0,"d":"0.00"},""]
[{"$nulls":6},{"$f":"IF(H46<>\"\",VLOOKUP(H46,Codes!C$1:D$475,2,FALSE),\"\")","v":""},null,null,0,0,{"v":0,"d":"0.00"},""]
[{"$nulls":6},{"$f":"IF(H47<>\"\",VLOOKUP(H47,Codes!C$1:D$475,2,FALSE),\"\")","v":""},null,null,0,0,{"v":0,"d":"0.00"},""]
[{"$nulls":6},{"$f":"IF(H48<>\"\",VLOOKUP(H48,Codes!C$1:D$475,2,FALSE),\"\")","v":""},null,null,0,0,{"v":0,"d":"0.00"},""]
[{"$nulls":6},{"$f":"IF(H49<>\"\",VLOOKUP(H49,Codes!C$1:D$475,2,FALSE),\"\")","v":""},null,null,0,0,{"v":0,"d":"0.00"},""]
[{"$nulls":6},{"$f":"IF(H50<>\"\",VLOOKUP(H50,Codes!C$1:D$475,2,FALSE),\"\")","v":""},null,null,0,0,{"v":0,"d":"0.00"},""]
[{"$nulls":6},{"$f":"IF(H51<>\"\",VLOOKUP(H51,Codes!C$1:D$475,2,FALSE),\"\")","v":""},null,null,0,0,{"v":0,"d":"0.00"},""]
[{"$nulls":6},{"$f":"IF(H52<>\"\",VLOOKUP(H52,Codes!C$1:D$475,2,FALSE),\"\")","v":""},null,null,0,0,{"v":0,"d":"0.00"},""]
[{"$nulls":6},{"$f":"IF(H53<>\"\",VLOOKUP(H53,Codes!C$1:D$475,2,FALSE),\"\")","v":""},null,null,0,0,{"v":0,"d":"0.00"},""]
[{"$nulls":6},{"$f":"IF(H54<>\"\",VLOOKUP(H54,Codes!C$1:D$475,2,FALSE),\"\")","v":""},null,null,0,0,{"v":0,"d":"0.00"},""]
[{"$nulls":6},{"$f":"IF(H55<>\"\",VLOOKUP(H55,Codes!C$1:D$475,2,FALSE),\"\")","v":""},null,null,0,0,{"v":0,"d":"0.00"},""]
[{"$nulls":6},{"$f":"IF(H56<>\"\",VLOOKUP(H56,Codes!C$1:D$475,2,FALSE),\"\")","v":""},null,null,0,0,{"v":0,"d":"0.00"},""]
[{"$nulls":6},{"$f":"IF(H57<>\"\",VLOOKUP(H57,Codes!C$1:D$475,2,FALSE),\"\")","v":""},null,null,0,0,{"v":0,"d":"0.00"},""]
[{"$nulls":6},{"$f":"IF(H58<>\"\",VLOOKUP(H58,Codes!C$1:D$475,2,FALSE),\"\")","v":""},null,null,0,0,{"v":0,"d":"0.00"},""]
[{"$nulls":6},{"$f":"IF(H59<>\"\",VLOOKUP(H59,Codes!C$1:D$475,2,FALSE),\"\")","v":""},null,null,0,0,{"v":0,"d":"0.00"},""]
[{"$nulls":6},{"$f":"IF(H60<>\"\",VLOOKUP(H60,Codes!C$1:D$475,2,FALSE),\"\")","v":""},null,null,0,0,{"v":0,"d":"0.00"},""]
[{"$nulls":6},{"$f":"IF(H61<>\"\",VLOOKUP(H61,Codes!C$1:D$475,2,FALSE),\"\")","v":""},null,null,0,0,{"v":0,"d":"0.00"},""]
[{"$nulls":6},{"$f":"IF(H62<>\"\",VLOOKUP(H62,Codes!C$1:D$475,2,FALSE),\"\")","v":""},null,null,0,0,{"v":0,"d":"0.00"},""]
[{"$nulls":6},{"$f":"IF(H63<>\"\",VLOOKUP(H63,Codes!C$1:D$475,2,FALSE),\"\")","v":""},null,null,0,0,{"v":0,"d":"0.00"},""]
[{"$nulls":6},{"$f":"IF(H64<>\"\",VLOOKUP(H64,Codes!C$1:D$475,2,FALSE),\"\")","v":""},null,null,0,0,{"v":0,"d":"0.00"},""]
[{"$nulls":6},{"$f":"IF(H65<>\"\",VLOOKUP(H65,Codes!C$1:D$475,2,FALSE),\"\")","v":""},null,null,0,0,{"v":0,"d":"0.00"},""]
[{"$nulls":6},{"$f":"IF(H66<>\"\",VLOOKUP(H66,Codes!C$1:D$475,2,FALSE),\"\")","v":""},null,null,0,0,{"v":0,"d":"0.00"},""]
[{"$nulls":6},{"$f":"IF(H67<>\"\",VLOOKUP(H67,Codes!C$1:D$475,2,FALSE),\"\")","v":""},null,null,0,0,{"v":0,"d":"0.00"},""]
[{"$nulls":6},{"$f":"IF(H68<>\"\",VLOOKUP(H68,Codes!C$1:D$475,2,FALSE),\"\")","v":""},null,null,0,0,{"v":0,"d":"0.00"},""]
[{"$nulls":6},{"$f":"IF(H69<>\"\",VLOOKUP(H69,Codes!C$1:D$475,2,FALSE),\"\")","v":""},null,null,0,0,{"v":0,"d":"0.00"},""]
[{"$nulls":6},{"$f":"IF(H70<>\"\",VLOOKUP(H70,Codes!C$1:D$475,2,FALSE),\"\")","v":""},null,null,0,0,{"v":0,"d":"0.00"},""]
[{"$nulls":6},{"$f":"IF(H71<>\"\",VLOOKUP(H71,Codes!C$1:D$475,2,FALSE),\"\")","v":""},null,null,0,0,{"v":0,"d":"0.00"},""]
[{"$nulls":6},{"$f":"IF(H72<>\"\",VLOOKUP(H72,Codes!C$1:D$475,2,FALSE),\"\")","v":""}]
[{"$nulls":6},{"$f":"IF(H73<>\"\",VLOOKUP(H73,Codes!C$1:D$475,2,FALSE),\"\")","v":""}]
[{"$nulls":6},{"$f":"IF(H74<>\"\",VLOOKUP(H74,Codes!C$1:D$475,2,FALSE),\"\")","v":""}]
[{"$nulls":6},{"$f":"IF(H75<>\"\",VLOOKUP(H75,Codes!C$1:D$475,2,FALSE),\"\")","v":""}]
[{"$nulls":6},{"$f":"IF(H76<>\"\",VLOOKUP(H76,Codes!C$1:D$475,2,FALSE),\"\")","v":""}]
[{"$nulls":6},{"$f":"IF(H77<>\"\",VLOOKUP(H77,Codes!C$1:D$475,2,FALSE),\"\")","v":""}]
[{"$nulls":6},{"$f":"IF(H78<>\"\",VLOOKUP(H78,Codes!C$1:D$475,2,FALSE),\"\")","v":""}]
[{"$nulls":6},{"$f":"IF(H79<>\"\",VLOOKUP(H79,Codes!C$1:D$475,2,FALSE),\"\")","v":""}]
[{"$nulls":6},{"$f":"IF(H80<>\"\",VLOOKUP(H80,Codes!C$1:D$475,2,FALSE),\"\")","v":""}]
[{"$nulls":6},{"$f":"IF(H81<>\"\",VLOOKUP(H81,Codes!C$1:D$475,2,FALSE),\"\")","v":""}]
[{"$nulls":6},{"$f":"IF(H82<>\"\",VLOOKUP(H82,Codes!C$1:D$475,2,FALSE),\"\")","v":""}]
[{"$nulls":6},{"$f":"IF(H83<>\"\",VLOOKUP(H83,Codes!C$1:D$475,2,FALSE),\"\")","v":""}]
[{"$nulls":6},{"$f":"IF(H84<>\"\",VLOOKUP(H84,Codes!C$1:D$475,2,FALSE),\"\")","v":""}]
[{"$nulls":6},{"$f":"IF(H85<>\"\",VLOOKUP(H85,Codes!C$1:D$475,2,FALSE),\"\")","v":""}]
[{"$nulls":6},{"$f":"IF(H86<>\"\",VLOOKUP(H86,Codes!C$1:D$475,2,FALSE),\"\")","v":""}]
[{"$nulls":6},{"$f":"IF(H87<>\"\",VLOOKUP(H87,Codes!C$1:D$475,2,FALSE),\"\")","v":""}]
[{"$nulls":6},{"$f":"IF(H88<>\"\",VLOOKUP(H88,Codes!C$1:D$475,2,FALSE),\"\")","v":""}]
[{"$nulls":6},{"$f":"IF(H89<>\"\",VLOOKUP(H89,Codes!C$1:D$475,2,FALSE),\"\")","v":""}]
[{"$nulls":6},{"$f":"IF(H90<>\"\",VLOOKUP(H90,Codes!C$1:D$475,2,FALSE),\"\")","v":""}]
[{"$nulls":6},{"$f":"IF(H91<>\"\",VLOOKUP(H91,Codes!C$1:D$475,2,FALSE),\"\")","v":""}]
[{"$nulls":6},{"$f":"IF(H92<>\"\",VLOOKUP(H92,Codes!C$1:D$475,2,FALSE),\"\")","v":""}]
[{"$nulls":6},{"$f":"IF(H93<>\"\",VLOOKUP(H93,Codes!C$1:D$475,2,FALSE),\"\")","v":""}]
[{"$nulls":6},{"$f":"IF(H94<>\"\",VLOOKUP(H94,Codes!C$1:D$475,2,FALSE),\"\")","v":""}]
[{"$nulls":6},{"$f":"IF(H95<>\"\",VLOOKUP(H95,Codes!C$1:D$475,2,FALSE),\"\")","v":""}]
[{"$nulls":6},{"$f":"IF(H96<>\"\",VLOOKUP(H96,Codes!C$1:D$475,2,FALSE),\"\")","v":""}]
[{"$nulls":6},{"$f":"IF(H97<>\"\",VLOOKUP(H97,Codes!C$1:D$475,2,FALSE),\"\")","v":""}]
[{"$nulls":6},{"$f":"IF(H98<>\"\",VLOOKUP(H98,Codes!C$1:D$475,2,FALSE),\"\")","v":""}]
[{"$nulls":6},{"$f":"IF(H99<>\"\",VLOOKUP(H99,Codes!C$1:D$475,2,FALSE),\"\")","v":""}]
[{"$nulls":6},{"$f":"IF(H100<>\"\",VLOOKUP(H100,Codes!C$1:D$475,2,FALSE),\"\")","v":""}]
[{"$nulls":6},{"$f":"IF(H101<>\"\",VLOOKUP(H101,Codes!C$1:D$475,2,FALSE),\"\")","v":""}]
[{"$nulls":6},{"$f":"IF(H102<>\"\",VLOOKUP(H102,Codes!C$1:D$475,2,FALSE),\"\")","v":""}]
[{"$nulls":6},{"$f":"IF(H103<>\"\",VLOOKUP(H103,Codes!C$1:D$475,2,FALSE),\"\")","v":""}]
[{"$nulls":6},{"$f":"IF(H104<>\"\",VLOOKUP(H104,Codes!C$1:D$475,2,FALSE),\"\")","v":""}]
[{"$nulls":6},{"$f":"IF(H105<>\"\",VLOOKUP(H105,Codes!C$1:D$475,2,FALSE),\"\")","v":""}]
[{"$nulls":6},{"$f":"IF(H106<>\"\",VLOOKUP(H106,Codes!C$1:D$475,2,FALSE),\"\")","v":""}]
[{"$nulls":6},{"$f":"IF(H107<>\"\",VLOOKUP(H107,Codes!C$1:D$475,2,FALSE),\"\")","v":""}]
[{"$nulls":6},{"$f":"IF(H108<>\"\",VLOOKUP(H108,Codes!C$1:D$475,2,FALSE),\"\")","v":""}]
[{"$nulls":6},{"$f":"IF(H109<>\"\",VLOOKUP(H109,Codes!C$1:D$475,2,FALSE),\"\")","v":""}]
[{"$nulls":6},{"$f":"IF(H110<>\"\",VLOOKUP(H110,Codes!C$1:D$475,2,FALSE),\"\")","v":""}]
[{"$nulls":6},{"$f":"IF(H111<>\"\",VLOOKUP(H111,Codes!C$1:D$475,2,FALSE),\"\")","v":""}]
[{"$nulls":6},{"$f":"IF(H112<>\"\",VLOOKUP(H112,Codes!C$1:D$475,2,FALSE),\"\")","v":""}]
[{"$nulls":6},{"$f":"IF(H113<>\"\",VLOOKUP(H113,Codes!C$1:D$475,2,FALSE),\"\")","v":""}]
[{"$nulls":6},{"$f":"IF(H114<>\"\",VLOOKUP(H114,Codes!C$1:D$475,2,FALSE),\"\")","v":""}]
[{"$nulls":6},{"$f":"IF(H115<>\"\",VLOOKUP(H115,Codes!C$1:D$475,2,FALSE),\"\")","v":""}]
[{"$nulls":6},{"$f":"IF(H116<>\"\",VLOOKUP(H116,Codes!C$1:D$475,2,FALSE),\"\")","v":""}]
[{"$nulls":6},{"$f":"IF(H117<>\"\",VLOOKUP(H117,Codes!C$1:D$475,2,FALSE),\"\")","v":""}]
[{"$nulls":6},{"$f":"IF(H118<>\"\",VLOOKUP(H118,Codes!C$1:D$475,2,FALSE),\"\")","v":""}]
[{"$nulls":6},{"$f":"IF(H119<>\"\",VLOOKUP(H119,Codes!C$1:D$475,2,FALSE),\"\")","v":""}]
[{"$nulls":6},{"$f":"IF(H120<>\"\",VLOOKUP(H120,Codes!C$1:D$475,2,FALSE),\"\")","v":""}]
[{"$nulls":6},{"$f":"IF(H121<>\"\",VLOOKUP(H121,Codes!C$1:D$475,2,FALSE),\"\")","v":""}]
[{"$nulls":6},{"$f":"IF(H122<>\"\",VLOOKUP(H122,Codes!C$1:D$475,2,FALSE),\"\")","v":""}]
[{"$nulls":6},{"$f":"IF(H123<>\"\",VLOOKUP(H123,Codes!C$1:D$475,2,FALSE),\"\")","v":""}]
[{"$nulls":6},{"$f":"IF(H124<>\"\",VLOOKUP(H124,Codes!C$1:D$475,2,FALSE),\"\")","v":""}]
[{"$nulls":6},{"$f":"IF(H125<>\"\",VLOOKUP(H125,Codes!C$1:D$475,2,FALSE),\"\")","v":""}]
[{"$nulls":6},{"$f":"IF(H126<>\"\",VLOOKUP(H126,Codes!C$1:D$475,2,FALSE),\"\")","v":""}]
[{"$nulls":6},{"$f":"IF(H127<>\"\",VLOOKUP(H127,Codes!C$1:D$475,2,FALSE),\"\")","v":""}]
[{"$nulls":6},{"$f":"IF(H128<>\"\",VLOOKUP(H128,Codes!C$1:D$475,2,FALSE),\"\")","v":""}]
[{"$nulls":6},{"$f":"IF(H129<>\"\",VLOOKUP(H129,Codes!C$1:D$475,2,FALSE),\"\")","v":""}]
[{"$nulls":6},{"$f":"IF(H130<>\"\",VLOOKUP(H130,Codes!C$1:D$475,2,FALSE),\"\")","v":""}]
[{"$nulls":6},{"$f":"IF(H131<>\"\",VLOOKUP(H131,Codes!C$1:D$475,2,FALSE),\"\")","v":""}]
[{"$nulls":6},{"$f":"IF(H132<>\"\",VLOOKUP(H132,Codes!C$1:D$475,2,FALSE),\"\")","v":""}]
[{"$nulls":6},{"$f":"IF(H133<>\"\",VLOOKUP(H133,Codes!C$1:D$475,2,FALSE),\"\")","v":""}]
[{"$nulls":6},{"$f":"IF(H134<>\"\",VLOOKUP(H134,Codes!C$1:D$475,2,FALSE),\"\")","v":""}]
[{"$nulls":6},{"$f":"IF(H135<>\"\",VLOOKUP(H135,Codes!C$1:D$475,2,FALSE),\"\")","v":""}]
[{"$nulls":6},{"$f":"IF(H136<>\"\",VLOOKUP(H136,Codes!C$1:D$475,2,FALSE),\"\")","v":""}]
[{"$nulls":6},{"$f":"IF(H137<>\"\",VLOOKUP(H137,Codes!C$1:D$475,2,FALSE),\"\")","v":""}]
[{"$nulls":6},{"$f":"IF(H138<>\"\",VLOOKUP(H138,Codes!C$1:D$475,2,FALSE),\"\")","v":""}]
[{"$nulls":6},{"$f":"IF(H139<>\"\",VLOOKUP(H139,Codes!C$1:D$475,2,FALSE),\"\")","v":""}]
[{"$nulls":6},{"$f":"IF(H140<>\"\",VLOOKUP(H140,Codes!C$1:D$475,2,FALSE),\"\")","v":""}]
[{"$nulls":6},{"$f":"IF(H141<>\"\",VLOOKUP(H141,Codes!C$1:D$475,2,FALSE),\"\")","v":""}]
[{"$nulls":6},{"$f":"IF(H142<>\"\",VLOOKUP(H142,Codes!C$1:D$475,2,FALSE),\"\")","v":""}]
[{"$nulls":6},{"$f":"IF(H143<>\"\",VLOOKUP(H143,Codes!C$1:D$475,2,FALSE),\"\")","v":""}]
[{"$nulls":6},{"$f":"IF(H144<>\"\",VLOOKUP(H144,Codes!C$1:D$475,2,FALSE),\"\")","v":""}]
[{"$nulls":6},{"$f":"IF(H145<>\"\",VLOOKUP(H145,Codes!C$1:D$475,2,FALSE),\"\")","v":""}]
[{"$nulls":6},{"$f":"IF(H146<>\"\",VLOOKUP(H146,Codes!C$1:D$475,2,FALSE),\"\")","v":""}]
[{"$nulls":6},{"$f":"IF(H147<>\"\",VLOOKUP(H147,Codes!C$1:D$475,2,FALSE),\"\")","v":""}]
[{"$nulls":6},{"$f":"IF(H148<>\"\",VLOOKUP(H148,Codes!C$1:D$475,2,FALSE),\"\")","v":""}]
[{"$nulls":6},{"$f":"IF(H149<>\"\",VLOOKUP(H149,Codes!C$1:D$475,2,FALSE),\"\")","v":""}]
[{"$nulls":6},{"$f":"IF(H150<>\"\",VLOOKUP(H150,Codes!C$1:D$475,2,FALSE),\"\")","v":""}]
[{"$nulls":6},{"$f":"IF(H151<>\"\",VLOOKUP(H151,Codes!C$1:D$475,2,FALSE),\"\")","v":""}]
[{"$nulls":6},{"$f":"IF(H152<>\"\",VLOOKUP(H152,Codes!C$1:D$475,2,FALSE),\"\")","v":""}]
[{"$nulls":6},{"$f":"IF(H153<>\"\",VLOOKUP(H153,Codes!C$1:D$475,2,FALSE),\"\")","v":""}]
[{"$nulls":6},{"$f":"IF(H154<>\"\",VLOOKUP(H154,Codes!C$1:D$475,2,FALSE),\"\")","v":""}]
[{"$nulls":6},{"$f":"IF(H155<>\"\",VLOOKUP(H155,Codes!C$1:D$475,2,FALSE),\"\")","v":""}]
[{"$nulls":6},{"$f":"IF(H156<>\"\",VLOOKUP(H156,Codes!C$1:D$475,2,FALSE),\"\")","v":""}]
[{"$nulls":6},{"$f":"IF(H157<>\"\",VLOOKUP(H157,Codes!C$1:D$475,2,FALSE),\"\")","v":""}]
[{"$nulls":6},{"$f":"IF(H158<>\"\",VLOOKUP(H158,Codes!C$1:D$475,2,FALSE),\"\")","v":""}]
[{"$nulls":6},{"$f":"IF(H159<>\"\",VLOOKUP(H159,Codes!C$1:D$475,2,FALSE),\"\")","v":""}]
[{"$nulls":6},{"$f":"IF(H160<>\"\",VLOOKUP(H160,Codes!C$1:D$475,2,FALSE),\"\")","v":""}]
[{"$nulls":6},{"$f":"IF(H161<>\"\",VLOOKUP(H161,Codes!C$1:D$475,2,FALSE),\"\")","v":""}]
[{"$nulls":6},{"$f":"IF(H162<>\"\",VLOOKUP(H162,Codes!C$1:D$475,2,FALSE),\"\")","v":""}]
[{"$nulls":6},{"$f":"IF(H163<>\"\",VLOOKUP(H163,Codes!C$1:D$475,2,FALSE),\"\")","v":""}]
[{"$nulls":6},{"$f":"IF(H164<>\"\",VLOOKUP(H164,Codes!C$1:D$475,2,FALSE),\"\")","v":""}]
[{"$nulls":6},{"$f":"IF(H165<>\"\",VLOOKUP(H165,Codes!C$1:D$475,2,FALSE),\"\")","v":""}]
[{"$nulls":6},{"$f":"IF(H166<>\"\",VLOOKUP(H166,Codes!C$1:D$475,2,FALSE),\"\")","v":""}]
[{"$nulls":6},{"$f":"IF(H167<>\"\",VLOOKUP(H167,Codes!C$1:D$475,2,FALSE),\"\")","v":""}]
[{"$nulls":6},{"$f":"IF(H168<>\"\",VLOOKUP(H168,Codes!C$1:D$475,2,FALSE),\"\")","v":""}]
[{"$nulls":6},{"$f":"IF(H169<>\"\",VLOOKUP(H169,Codes!C$1:D$475,2,FALSE),\"\")","v":""}]
[{"$nulls":6},{"$f":"IF(H170<>\"\",VLOOKUP(H170,Codes!C$1:D$475,2,FALSE),\"\")","v":""}]
[{"$nulls":6},{"$f":"IF(H171<>\"\",VLOOKUP(H171,Codes!C$1:D$475,2,FALSE),\"\")","v":""}]
[{"$nulls":6},{"$f":"IF(H172<>\"\",VLOOKUP(H172,Codes!C$1:D$475,2,FALSE),\"\")","v":""}]
[{"$nulls":6},{"$f":"IF(H173<>\"\",VLOOKUP(H173,Codes!C$1:D$475,2,FALSE),\"\")","v":""}]
[{"$nulls":6},{"$f":"IF(H174<>\"\",VLOOKUP(H174,Codes!C$1:D$475,2,FALSE),\"\")","v":""}]
[{"$nulls":6},{"$f":"IF(H175<>\"\",VLOOKUP(H175,Codes!C$1:D$475,2,FALSE),\"\")","v":""}]
[{"$nulls":6},{"$f":"IF(H176<>\"\",VLOOKUP(H176,Codes!C$1:D$475,2,FALSE),\"\")","v":""}]
[{"$nulls":6},{"$f":"IF(H177<>\"\",VLOOKUP(H177,Codes!C$1:D$475,2,FALSE),\"\")","v":""}]
[{"$nulls":6},{"$f":"IF(H178<>\"\",VLOOKUP(H178,Codes!C$1:D$475,2,FALSE),\"\")","v":""}]
[{"$nulls":6},{"$f":"IF(H179<>\"\",VLOOKUP(H179,Codes!C$1:D$475,2,FALSE),\"\")","v":""}]
[{"$nulls":6},{"$f":"IF(H180<>\"\",VLOOKUP(H180,Codes!C$1:D$475,2,FALSE),\"\")","v":""}]
[{"$nulls":6},{"$f":"IF(H181<>\"\",VLOOKUP(H181,Codes!C$1:D$475,2,FALSE),\"\")","v":""}]
[{"$nulls":6},{"$f":"IF(H182<>\"\",VLOOKUP(H182,Codes!C$1:D$475,2,FALSE),\"\")","v":""}]
[{"$nulls":6},{"$f":"IF(H183<>\"\",VLOOKUP(H183,Codes!C$1:D$475,2,FALSE),\"\")","v":""}]
[{"$nulls":6},{"$f":"IF(H184<>\"\",VLOOKUP(H184,Codes!C$1:D$475,2,FALSE),\"\")","v":""}]
[{"$nulls":6},{"$f":"IF(H185<>\"\",VLOOKUP(H185,Codes!C$1:D$475,2,FALSE),\"\")","v":""}]
[{"$nulls":6},{"$f":"IF(H186<>\"\",VLOOKUP(H186,Codes!C$1:D$475,2,FALSE),\"\")","v":""}]
[{"$nulls":6},{"$f":"IF(H187<>\"\",VLOOKUP(H187,Codes!C$1:D$475,2,FALSE),\"\")","v":""}]
[{"$nulls":6},{"$f":"IF(H188<>\"\",VLOOKUP(H188,Codes!C$1:D$475,2,FALSE),\"\")","v":""}]
[{"$nulls":6},{"$f":"IF(H189<>\"\",VLOOKUP(H189,Codes!C$1:D$475,2,FALSE),\"\")","v":""}]
[{"$nulls":6},{"$f":"IF(H190<>\"\",VLOOKUP(H190,Codes!C$1:D$475,2,FALSE),\"\")","v":""}]
[{"$nulls":6},{"$f":"IF(H191<>\"\",VLOOKUP(H191,Codes!C$1:D$475,2,FALSE),\"\")","v":""}]
[{"$nulls":6},{"$f":"IF(H192<>\"\",VLOOKUP(H192,Codes!C$1:D$475,2,FALSE),\"\")","v":""}]
[{"$nulls":6},{"$f":"IF(H193<>\"\",VLOOKUP(H193,Codes!C$1:D$475,2,FALSE),\"\")","v":""}]
[{"$nulls":6},{"$f":"IF(H194<>\"\",VLOOKUP(H194,Codes!C$1:D$475,2,FALSE),\"\")","v":""}]
[{"$nulls":6},{"$f":"IF(H195<>\"\",VLOOKUP(H195,Codes!C$1:D$475,2,FALSE),\"\")","v":""}]
[{"$nulls":6},{"$f":"IF(H196<>\"\",VLOOKUP(H196,Codes!C$1:D$475,2,FALSE),\"\")","v":""}]
[{"$nulls":6},{"$f":"IF(H197<>\"\",VLOOKUP(H197,Codes!C$1:D$475,2,FALSE),\"\")","v":""}]
[{"$nulls":6},{"$f":"IF(H198<>\"\",VLOOKUP(H198,Codes!C$1:D$475,2,FALSE),\"\")","v":""}]
[{"$nulls":6},{"$f":"IF(H199<>\"\",VLOOKUP(H199,Codes!C$1:D$475,2,FALSE),\"\")","v":""}]
[{"$nulls":6},{"$f":"IF(H200<>\"\",VLOOKUP(H200,Codes!C$1:D$475,2,FALSE),\"\")","v":""}]
[{"$nulls":6},{"$f":"IF(H201<>\"\",VLOOKUP(H201,Codes!C$1:D$475,2,FALSE),\"\")","v":""}]
[{"$nulls":6},{"$f":"IF(H202<>\"\",VLOOKUP(H202,Codes!C$1:D$475,2,FALSE),\"\")","v":""}]
[{"$nulls":6},{"$f":"IF(H203<>\"\",VLOOKUP(H203,Codes!C$1:D$475,2,FALSE),\"\")","v":""}]
[{"$nulls":6},{"$f":"IF(H204<>\"\",VLOOKUP(H204,Codes!C$1:D$475,2,FALSE),\"\")","v":""}]
[{"$nulls":6},{"$f":"IF(H205<>\"\",VLOOKUP(H205,Codes!C$1:D$475,2,FALSE),\"\")","v":""}]
[{"$nulls":6},{"$f":"IF(H206<>\"\",VLOOKUP(H206,Codes!C$1:D$475,2,FALSE),\"\")","v":""}]
[{"$nulls":6},{"$f":"IF(H207<>\"\",VLOOKUP(H207,Codes!C$1:D$475,2,FALSE),\"\")","v":""}]
[{"$nulls":6},{"$f":"IF(H208<>\"\",VLOOKUP(H208,Codes!C$1:D$475,2,FALSE),\"\")","v":""}]
[{"$nulls":6},{"$f":"IF(H209<>\"\",VLOOKUP(H209,Codes!C$1:D$475,2,FALSE),\"\")","v":""}]
[{"$nulls":6},{"$f":"IF(H210<>\"\",VLOOKUP(H210,Codes!C$1:D$475,2,FALSE),\"\")","v":""}]
[{"$nulls":6},{"$f":"IF(H211<>\"\",VLOOKUP(H211,Codes!C$1:D$475,2,FALSE),\"\")","v":""}]
[{"$nulls":6},{"$f":"IF(H212<>\"\",VLOOKUP(H212,Codes!C$1:D$475,2,FALSE),\"\")","v":""}]
[{"$nulls":6},{"$f":"IF(H213<>\"\",VLOOKUP(H213,Codes!C$1:D$475,2,FALSE),\"\")","v":""}]
[{"$nulls":6},{"$f":"IF(H214<>\"\",VLOOKUP(H214,Codes!C$1:D$475,2,FALSE),\"\")","v":""}]
[{"$nulls":6},{"$f":"IF(H215<>\"\",VLOOKUP(H215,Codes!C$1:D$475,2,FALSE),\"\")","v":""}]
[{"$nulls":6},{"$f":"IF(H216<>\"\",VLOOKUP(H216,Codes!C$1:D$475,2,FALSE),\"\")","v":""}]
[{"$nulls":6},{"$f":"IF(H217<>\"\",VLOOKUP(H217,Codes!C$1:D$475,2,FALSE),\"\")","v":""}]
[{"$nulls":6},{"$f":"IF(H218<>\"\",VLOOKUP(H218,Codes!C$1:D$475,2,FALSE),\"\")","v":""}]
[{"$nulls":6},{"$f":"IF(H219<>\"\",VLOOKUP(H219,Codes!C$1:D$475,2,FALSE),\"\")","v":""}]
[{"$nulls":6},{"$f":"IF(H220<>\"\",VLOOKUP(H220,Codes!C$1:D$475,2,FALSE),\"\")","v":""}]
[{"$nulls":6},{"$f":"IF(H221<>\"\",VLOOKUP(H221,Codes!C$1:D$475,2,FALSE),\"\")","v":""}]
[{"$nulls":6},{"$f":"IF(H222<>\"\",VLOOKUP(H222,Codes!C$1:D$475,2,FALSE),\"\")","v":""}]
[{"$nulls":6},{"$f":"IF(H223<>\"\",VLOOKUP(H223,Codes!C$1:D$475,2,FALSE),\"\")","v":""}]
[{"$nulls":6},{"$f":"IF(H224<>\"\",VLOOKUP(H224,Codes!C$1:D$475,2,FALSE),\"\")","v":""}]
[{"$nulls":6},{"$f":"IF(H225<>\"\",VLOOKUP(H225,Codes!C$1:D$475,2,FALSE),\"\")","v":""}]
[{"$nulls":6},{"$f":"IF(H226<>\"\",VLOOKUP(H226,Codes!C$1:D$475,2,FALSE),\"\")","v":""}]
[{"$nulls":6},{"$f":"IF(H227<>\"\",VLOOKUP(H227,Codes!C$1:D$475,2,FALSE),\"\")","v":""}]
[{"$nulls":6},{"$f":"IF(H228<>\"\",VLOOKUP(H228,Codes!C$1:D$475,2,FALSE),\"\")","v":""}]
[{"$nulls":6},{"$f":"IF(H229<>\"\",VLOOKUP(H229,Codes!C$1:D$475,2,FALSE),\"\")","v":""}]
[{"$nulls":6},{"$f":"IF(H230<>\"\",VLOOKUP(H230,Codes!C$1:D$475,2,FALSE),\"\")","v":""}]
[{"$nulls":6},{"$f":"IF(H231<>\"\",VLOOKUP(H231,Codes!C$1:D$475,2,FALSE),\"\")","v":""}]
[{"$nulls":6},{"$f":"IF(H232<>\"\",VLOOKUP(H232,Codes!C$1:D$475,2,FALSE),\"\")","v":""}]
[{"$nulls":6},{"$f":"IF(H233<>\"\",VLOOKUP(H233,Codes!C$1:D$475,2,FALSE),\"\")","v":""},null,null,0,0,{"$f":"D71","v":{"v":0,"d":"0.00"}},{"$f":"CONCATENATE(G71,H71)","v":""}]
[{"$nulls":6},{"$f":"IF(H234<>\"\",VLOOKUP(H234,Codes!C$1:D$475,2,FALSE),\"\")","v":""},null,null,0,0,{"v":0,"d":"0.00"},""]
[{"$nulls":6},{"$f":"IF(H235<>\"\",VLOOKUP(H235,Codes!C$1:D$475,2,FALSE),\"\")","v":""},null,null,0,0,{"v":0,"d":"0.00"},""]
[{"$nulls":6},{"$f":"IF(H236<>\"\",VLOOKUP(H236,Codes!C$1:D$475,2,FALSE),\"\")","v":""},null,null,{"$f":"D236","v":0},{"$f":"H236","v":0},{"v":0,"d":"0.00"},""]
[{"$nulls":6},{"$f":"IF(H237<>\"\",VLOOKUP(H237,Codes!C$1:D$475,2,FALSE),\"\")","v":""},null,null,0,0,{"$f":"D236","v":{"v":0,"d":"0.00"}},{"$f":"CONCATENATE(G236,H236)","v":""}]
[{"$nulls":6},{"$f":"IF(H238<>\"\",VLOOKUP(H238,Codes!C$1:D$475,2,FALSE),\"\")","v":""},null,null,0,0,{"v":0,"d":"0.00"},""]
[{"$nulls":6},{"$f":"IF(H239<>\"\",VLOOKUP(H239,Codes!C$1:D$475,2,FALSE),\"\")","v":""}]
[{"$nulls":6},{"$f":"IF(H240<>\"\",VLOOKUP(H240,Codes!C$1:D$475,2,FALSE),\"\")","v":""}]
[{"$nulls":6},{"$f":"IF(H241<>\"\",VLOOKUP(H241,Codes!C$1:D$475,2,FALSE),\"\")","v":""}]
[{"$nulls":6},{"$f":"IF(H242<>\"\",VLOOKUP(H242,Codes!C$1:D$475,2,FALSE),\"\")","v":""}]
[{"$nulls":6},{"$f":"IF(H243<>\"\",VLOOKUP(H243,Codes!C$1:D$475,2,FALSE),\"\")","v":""}]
[{"$nulls":6},{"$f":"IF(H244<>\"\",VLOOKUP(H244,Codes!C$1:D$475,2,FALSE),\"\")","v":""}]
[{"$nulls":6},{"$f":"IF(H245<>\"\",VLOOKUP(H245,Codes!C$1:D$475,2,FALSE),\"\")","v":""}]
[{"$nulls":6},{"$f":"IF(H246<>\"\",VLOOKUP(H246,Codes!C$1:D$475,2,FALSE),\"\")","v":""}]
[{"$nulls":6},{"$f":"IF(H247<>\"\",VLOOKUP(H247,Codes!C$1:D$475,2,FALSE),\"\")","v":""}]
[{"$nulls":6},{"$f":"IF(H248<>\"\",VLOOKUP(H248,Codes!C$1:D$475,2,FALSE),\"\")","v":""}]
[{"$nulls":6},{"$f":"IF(H249<>\"\",VLOOKUP(H249,Codes!C$1:D$475,2,FALSE),\"\")","v":""}]
[{"$nulls":6},{"$f":"IF(H250<>\"\",VLOOKUP(H250,Codes!C$1:D$475,2,FALSE),\"\")","v":""}]
[{"$nulls":6},{"$f":"IF(H251<>\"\",VLOOKUP(H251,Codes!C$1:D$475,2,FALSE),\"\")","v":""}]
[{"$nulls":6},{"$f":"IF(H252<>\"\",VLOOKUP(H252,Codes!C$1:D$475,2,FALSE),\"\")","v":""}]
[{"$nulls":6},{"$f":"IF(H253<>\"\",VLOOKUP(H253,Codes!C$1:D$475,2,FALSE),\"\")","v":""}]
[{"$nulls":6},{"$f":"IF(H254<>\"\",VLOOKUP(H254,Codes!C$1:D$475,2,FALSE),\"\")","v":""}]
[{"$nulls":6},{"$f":"IF(H255<>\"\",VLOOKUP(H255,Codes!C$1:D$475,2,FALSE),\"\")","v":""}]
[{"$nulls":6},{"$f":"IF(H256<>\"\",VLOOKUP(H256,Codes!C$1:D$475,2,FALSE),\"\")","v":""}]
[{"$nulls":6},{"$f":"IF(H257<>\"\",VLOOKUP(H257,Codes!C$1:D$475,2,FALSE),\"\")","v":""}]
[{"$nulls":6},{"$f":"IF(H258<>\"\",VLOOKUP(H258,Codes!C$1:D$475,2,FALSE),\"\")","v":""}]
[{"$nulls":6},{"$f":"IF(H259<>\"\",VLOOKUP(H259,Codes!C$1:D$475,2,FALSE),\"\")","v":""}]
[{"$nulls":6},{"$f":"IF(H260<>\"\",VLOOKUP(H260,Codes!C$1:D$475,2,FALSE),\"\")","v":""}]
[{"$nulls":6},{"$f":"IF(H261<>\"\",VLOOKUP(H261,Codes!C$1:D$475,2,FALSE),\"\")","v":""}]
[{"$nulls":6},{"$f":"IF(H262<>\"\",VLOOKUP(H262,Codes!C$1:D$475,2,FALSE),\"\")","v":""}]
[{"$nulls":6},{"$f":"IF(H263<>\"\",VLOOKUP(H263,Codes!C$1:D$475,2,FALSE),\"\")","v":""}]
[{"$nulls":6},{"$f":"IF(H264<>\"\",VLOOKUP(H264,Codes!C$1:D$475,2,FALSE),\"\")","v":""}]
[{"$nulls":6},{"$f":"IF(H265<>\"\",VLOOKUP(H265,Codes!C$1:D$475,2,FALSE),\"\")","v":""}]
[{"$nulls":6},{"$f":"IF(H266<>\"\",VLOOKUP(H266,Codes!C$1:D$475,2,FALSE),\"\")","v":""}]
[{"$nulls":6},{"$f":"IF(H267<>\"\",VLOOKUP(H267,Codes!C$1:D$475,2,FALSE),\"\")","v":""}]
[{"$nulls":6},{"$f":"IF(H268<>\"\",VLOOKUP(H268,Codes!C$1:D$475,2,FALSE),\"\")","v":""},null,null,0,0,{"$f":"D238","v":{"v":0,"d":"0.00"}},{"$f":"CONCATENATE(G238,H238)","v":""}]
[{"$nulls":6},{"$f":"IF(H269<>\"\",VLOOKUP(H269,Codes!C$1:D$475,2,FALSE),\"\")","v":""},null,null,0,0,{"v":0,"d":"0.00"},""]
[{"$nulls":6},{"$f":"IF(H270<>\"\",VLOOKUP(H270,Codes!C$1:D$475,2,FALSE),\"\")","v":""},null,null,0,0,{"v":0,"d":"0.00"},""]
[{"$nulls":6},{"$f":"IF(H271<>\"\",VLOOKUP(H271,Codes!C$1:D$475,2,FALSE),\"\")","v":""},null,null,0,0,{"v":0,"d":"0.00"},""]
[{"$nulls":6},{"$f":"IF(H272<>\"\",VLOOKUP(H272,Codes!C$1:D$475,2,FALSE),\"\")","v":""},null,null,0,0,{"v":0,"d":"0.00"},""]
[{"$nulls":6},{"$f":"IF(H273<>\"\",VLOOKUP(H273,Codes!C$1:D$475,2,FALSE),\"\")","v":""},null,null,0,0,{"v":0,"d":"0.00"},""]
[{"$nulls":6},{"$f":"IF(H274<>\"\",VLOOKUP(H274,Codes!C$1:D$475,2,FALSE),\"\")","v":""},null,null,0,0,{"v":0,"d":"0.00"},""]
[{"$nulls":6},{"$f":"IF(H275<>\"\",VLOOKUP(H275,Codes!C$1:D$475,2,FALSE),\"\")","v":""},null,null,0,0,{"v":0,"d":"0.00"},""]
[{"$nulls":6},{"$f":"IF(H276<>\"\",VLOOKUP(H276,Codes!C$1:D$475,2,FALSE),\"\")","v":""},null,null,0,0,{"v":0,"d":"0.00"},""]
[{"$nulls":6},{"$f":"IF(H277<>\"\",VLOOKUP(H277,Codes!C$1:D$475,2,FALSE),\"\")","v":""},null,null,0,0,{"v":0,"d":"0.00"},""]
[{"$nulls":6},{"$f":"IF(H278<>\"\",VLOOKUP(H278,Codes!C$1:D$475,2,FALSE),\"\")","v":""},null,null,0,0,{"v":0,"d":"0.00"},""]
[{"$nulls":6},{"$f":"IF(H279<>\"\",VLOOKUP(H279,Codes!C$1:D$475,2,FALSE),\"\")","v":""},null,null,0,0,{"v":0,"d":"0.00"},""]
[{"$nulls":6},{"$f":"IF(H280<>\"\",VLOOKUP(H280,Codes!C$1:D$475,2,FALSE),\"\")","v":""},null,null,0,0,{"v":0,"d":"0.00"},""]
[{"$nulls":6},{"$f":"IF(H281<>\"\",VLOOKUP(H281,Codes!C$1:D$475,2,FALSE),\"\")","v":""},null,null,0,0,{"v":0,"d":"0.00"},""]
[{"$nulls":6},{"$f":"IF(H282<>\"\",VLOOKUP(H282,Codes!C$1:D$475,2,FALSE),\"\")","v":""},null,null,0,0,{"v":0,"d":"0.00"},""]
[{"$nulls":6},{"$f":"IF(H283<>\"\",VLOOKUP(H283,Codes!C$1:D$475,2,FALSE),\"\")","v":""},null,null,0,0,{"v":0,"d":"0.00"},""]
[{"$nulls":6},{"$f":"IF(H284<>\"\",VLOOKUP(H284,Codes!C$1:D$475,2,FALSE),\"\")","v":""},null,null,0,0,{"v":0,"d":"0.00"},""]
[{"$nulls":6},{"$f":"IF(H285<>\"\",VLOOKUP(H285,Codes!C$1:D$475,2,FALSE),\"\")","v":""},null,null,0,0,{"v":0,"d":"0.00"},""]
[{"$nulls":6},{"$f":"IF(H286<>\"\",VLOOKUP(H286,Codes!C$1:D$475,2,FALSE),\"\")","v":""},null,null,0,0,{"v":0,"d":"0.00"},""]
[{"$nulls":6},{"$f":"IF(H287<>\"\",VLOOKUP(H287,Codes!C$1:D$475,2,FALSE),\"\")","v":""},null,null,0,0,{"v":0,"d":"0.00"},""]
[{"$nulls":6},{"$f":"IF(H288<>\"\",VLOOKUP(H288,Codes!C$1:D$475,2,FALSE),\"\")","v":""},null,null,0,0,{"v":0,"d":"0.00"},""]
[{"$nulls":6},{"$f":"IF(H289<>\"\",VLOOKUP(H289,Codes!C$1:D$475,2,FALSE),\"\")","v":""},null,null,0,0,{"v":0,"d":"0.00"},""]
[{"$nulls":6},{"$f":"IF(H290<>\"\",VLOOKUP(H290,Codes!C$1:D$475,2,FALSE),\"\")","v":""},null,null,0,0,{"v":0,"d":"0.00"},""]
[{"$nulls":6},{"$f":"IF(H291<>\"\",VLOOKUP(H291,Codes!C$1:D$475,2,FALSE),\"\")","v":""},null,null,0,0,{"v":0,"d":"0.00"},""]
[{"$nulls":6},{"$f":"IF(H292<>\"\",VLOOKUP(H292,Codes!C$1:D$475,2,FALSE),\"\")","v":""},null,null,0,0,{"v":0,"d":"0.00"},""]
[{"$nulls":6},{"$f":"IF(H293<>\"\",VLOOKUP(H293,Codes!C$1:D$475,2,FALSE),\"\")","v":""},null,null,0,0,{"v":0,"d":"0.00"},""]
[{"$nulls":6},{"$f":"IF(H294<>\"\",VLOOKUP(H294,Codes!C$1:D$475,2,FALSE),\"\")","v":""},null,null,0,0,{"v":0,"d":"0.00"},""]
[{"$nulls":6},{"$f":"IF(H295<>\"\",VLOOKUP(H295,Codes!C$1:D$475,2,FALSE),\"\")","v":""},null,null,0,0,{"v":0,"d":"0.00"},""]
[{"$nulls":6},{"$f":"IF(H296<>\"\",VLOOKUP(H296,Codes!C$1:D$475,2,FALSE),\"\")","v":""},null,null,0,0,{"v":0,"d":"0.00"},""]
[{"$nulls":6},{"$f":"IF(H297<>\"\",VLOOKUP(H297,Codes!C$1:D$475,2,FALSE),\"\")","v":""},null,null,0,0,{"v":0,"d":"0.00"},""]
[{"$nulls":6},{"$f":"IF(H298<>\"\",VLOOKUP(H298,Codes!C$1:D$475,2,FALSE),\"\")","v":""},null,null,0,0,{"v":0,"d":"0.00"},""]
[{"$nulls":6},{"$f":"IF(H299<>\"\",VLOOKUP(H299,Codes!C$1:D$475,2,FALSE),\"\")","v":""},null,null,0,0,{"v":0,"d":"0.00"},""]
[{"$nulls":6},{"$f":"IF(H300<>\"\",VLOOKUP(H300,Codes!C$1:D$475,2,FALSE),\"\")","v":""},null,null,0,0,{"v":0,"d":"0.00"},""]
[{"$nulls":6},{"$f":"IF(H301<>\"\",VLOOKUP(H301,Codes!C$1:D$475,2,FALSE),\"\")","v":""}]
[{"$nulls":6},{"$f":"IF(H302<>\"\",VLOOKUP(H302,Codes!C$1:D$475,2,FALSE),\"\")","v":""}]
[{"$nulls":6},{"$f":"IF(H303<>\"\",VLOOKUP(H303,Codes!C$1:D$475,2,FALSE),\"\")","v":""}]
[{"$nulls":6},{"$f":"IF(H304<>\"\",VLOOKUP(H304,Codes!C$1:D$475,2,FALSE),\"\")","v":""}]
[{"$nulls":6},{"$f":"IF(H305<>\"\",VLOOKUP(H305,Codes!C$1:D$475,2,FALSE),\"\")","v":""}]
[{"$nulls":6},{"$f":"IF(H306<>\"\",VLOOKUP(H306,Codes!C$1:D$475,2,FALSE),\"\")","v":""}]
[{"$nulls":6},{"$f":"IF(H307<>\"\",VLOOKUP(H307,Codes!C$1:D$475,2,FALSE),\"\")","v":""}]
[{"$nulls":6},{"$f":"IF(H308<>\"\",VLOOKUP(H308,Codes!C$1:D$475,2,FALSE),\"\")","v":""}]
[{"$nulls":6},{"$f":"IF(H309<>\"\",VLOOKUP(H309,Codes!C$1:D$475,2,FALSE),\"\")","v":""}]
[{"$nulls":6},{"$f":"IF(H310<>\"\",VLOOKUP(H310,Codes!C$1:D$475,2,FALSE),\"\")","v":""}]
[{"$nulls":6},{"$f":"IF(H311<>\"\",VLOOKUP(H311,Codes!C$1:D$475,2,FALSE),\"\")","v":""}]
[{"$nulls":6},{"$f":"IF(H312<>\"\",VLOOKUP(H312,Codes!C$1:D$475,2,FALSE),\"\")","v":""}]
[{"$nulls":6},{"$f":"IF(H313<>\"\",VLOOKUP(H313,Codes!C$1:D$475,2,FALSE),\"\")","v":""}]
[{"$nulls":6},{"$f":"IF(H314<>\"\",VLOOKUP(H314,Codes!C$1:D$475,2,FALSE),\"\")","v":""}]
[{"$nulls":6},{"$f":"IF(H315<>\"\",VLOOKUP(H315,Codes!C$1:D$475,2,FALSE),\"\")","v":""}]
[{"$nulls":6},{"$f":"IF(H316<>\"\",VLOOKUP(H316,Codes!C$1:D$475,2,FALSE),\"\")","v":""}]
[{"$nulls":6},{"$f":"IF(H317<>\"\",VLOOKUP(H317,Codes!C$1:D$475,2,FALSE),\"\")","v":""}]
[{"$nulls":6},{"$f":"IF(H318<>\"\",VLOOKUP(H318,Codes!C$1:D$475,2,FALSE),\"\")","v":""}]
[{"$nulls":6},{"$f":"IF(H319<>\"\",VLOOKUP(H319,Codes!C$1:D$475,2,FALSE),\"\")","v":""}]
[{"$nulls":6},{"$f":"IF(H320<>\"\",VLOOKUP(H320,Codes!C$1:D$475,2,FALSE),\"\")","v":""}]
[{"$nulls":6},{"$f":"IF(H321<>\"\",VLOOKUP(H321,Codes!C$1:D$475,2,FALSE),\"\")","v":""}]
[{"$nulls":6},{"$f":"IF(H322<>\"\",VLOOKUP(H322,Codes!C$1:D$475,2,FALSE),\"\")","v":""}]
[{"$nulls":6},{"$f":"IF(H323<>\"\",VLOOKUP(H323,Codes!C$1:D$475,2,FALSE),\"\")","v":""}]
[{"$nulls":6},{"$f":"IF(H324<>\"\",VLOOKUP(H324,Codes!C$1:D$475,2,FALSE),\"\")","v":""}]
[{"$nulls":6},{"$f":"IF(H325<>\"\",VLOOKUP(H325,Codes!C$1:D$475,2,FALSE),\"\")","v":""}]
[{"$nulls":6},{"$f":"IF(H326<>\"\",VLOOKUP(H326,Codes!C$1:D$475,2,FALSE),\"\")","v":""}]
[{"$nulls":6},{"$f":"IF(H327<>\"\",VLOOKUP(H327,Codes!C$1:D$475,2,FALSE),\"\")","v":""}]
[{"$nulls":6},{"$f":"IF(H328<>\"\",VLOOKUP(H328,Codes!C$1:D$475,2,FALSE),\"\")","v":""}]
[{"$nulls":6},{"$f":"IF(H329<>\"\",VLOOKUP(H329,Codes!C$1:D$475,2,FALSE),\"\")","v":""}]
[{"$nulls":6},{"$f":"IF(H330<>\"\",VLOOKUP(H330,Codes!C$1:D$475,2,FALSE),\"\")","v":""}]
[{"$nulls":6},{"$f":"IF(H331<>\"\",VLOOKUP(H331,Codes!C$1:D$475,2,FALSE),\"\")","v":""}]
[{"$nulls":6},{"$f":"IF(H332<>\"\",VLOOKUP(H332,Codes!C$1:D$475,2,FALSE),\"\")","v":""}]
[{"$nulls":6},{"$f":"IF(H333<>\"\",VLOOKUP(H333,Codes!C$1:D$475,2,FALSE),\"\")","v":""}]
[{"$nulls":6},{"$f":"IF(H334<>\"\",VLOOKUP(H334,Codes!C$1:D$475,2,FALSE),\"\")","v":""}]
[{"$nulls":6},{"$f":"IF(H335<>\"\",VLOOKUP(H335,Codes!C$1:D$475,2,FALSE),\"\")","v":""}]
[{"$nulls":6},{"$f":"IF(H336<>\"\",VLOOKUP(H336,Codes!C$1:D$475,2,FALSE),\"\")","v":""}]
[{"$nulls":6},{"$f":"IF(H337<>\"\",VLOOKUP(H337,Codes!C$1:D$475,2,FALSE),\"\")","v":""}]
[{"$nulls":6},{"$f":"IF(H338<>\"\",VLOOKUP(H338,Codes!C$1:D$475,2,FALSE),\"\")","v":""}]
[{"$nulls":6},{"$f":"IF(H339<>\"\",VLOOKUP(H339,Codes!C$1:D$475,2,FALSE),\"\")","v":""}]
[{"$nulls":6},{"$f":"IF(H340<>\"\",VLOOKUP(H340,Codes!C$1:D$475,2,FALSE),\"\")","v":""}]
[{"$nulls":6},{"$f":"IF(H341<>\"\",VLOOKUP(H341,Codes!C$1:D$475,2,FALSE),\"\")","v":""}]
[{"$nulls":6},{"$f":"IF(H342<>\"\",VLOOKUP(H342,Codes!C$1:D$475,2,FALSE),\"\")","v":""}]
[{"$nulls":6},{"$f":"IF(H343<>\"\",VLOOKUP(H343,Codes!C$1:D$475,2,FALSE),\"\")","v":""}]
[{"$nulls":6},{"$f":"IF(H344<>\"\",VLOOKUP(H344,Codes!C$1:D$475,2,FALSE),\"\")","v":""}]
[{"$nulls":6},{"$f":"IF(H345<>\"\",VLOOKUP(H345,Codes!C$1:D$475,2,FALSE),\"\")","v":""}]
[{"$nulls":6},{"$f":"IF(H346<>\"\",VLOOKUP(H346,Codes!C$1:D$475,2,FALSE),\"\")","v":""}]
[{"$nulls":6},{"$f":"IF(H347<>\"\",VLOOKUP(H347,Codes!C$1:D$475,2,FALSE),\"\")","v":""}]
[{"$nulls":6},{"$f":"IF(H348<>\"\",VLOOKUP(H348,Codes!C$1:D$475,2,FALSE),\"\")","v":""}]
[{"$nulls":6},{"$f":"IF(H349<>\"\",VLOOKUP(H349,Codes!C$1:D$475,2,FALSE),\"\")","v":""}]
[{"$nulls":6},{"$f":"IF(H350<>\"\",VLOOKUP(H350,Codes!C$1:D$475,2,FALSE),\"\")","v":""}]
[{"$nulls":6},{"$f":"IF(H351<>\"\",VLOOKUP(H351,Codes!C$1:D$475,2,FALSE),\"\")","v":""}]
[{"$nulls":6},{"$f":"IF(H352<>\"\",VLOOKUP(H352,Codes!C$1:D$475,2,FALSE),\"\")","v":""}]
[{"$nulls":6},{"$f":"IF(H353<>\"\",VLOOKUP(H353,Codes!C$1:D$475,2,FALSE),\"\")","v":""}]
[{"$nulls":6},{"$f":"IF(H354<>\"\",VLOOKUP(H354,Codes!C$1:D$475,2,FALSE),\"\")","v":""}]
[{"$nulls":6},{"$f":"IF(H355<>\"\",VLOOKUP(H355,Codes!C$1:D$475,2,FALSE),\"\")","v":""}]
[{"$nulls":6},{"$f":"IF(H356<>\"\",VLOOKUP(H356,Codes!C$1:D$475,2,FALSE),\"\")","v":""}]
[{"$nulls":6},{"$f":"IF(H357<>\"\",VLOOKUP(H357,Codes!C$1:D$475,2,FALSE),\"\")","v":""}]
[{"$nulls":6},{"$f":"IF(H358<>\"\",VLOOKUP(H358,Codes!C$1:D$475,2,FALSE),\"\")","v":""}]
[{"$nulls":6},{"$f":"IF(H359<>\"\",VLOOKUP(H359,Codes!C$1:D$475,2,FALSE),\"\")","v":""}]
[{"$nulls":6},{"$f":"IF(H360<>\"\",VLOOKUP(H360,Codes!C$1:D$475,2,FALSE),\"\")","v":""}]
[{"$nulls":6},{"$f":"IF(H361<>\"\",VLOOKUP(H361,Codes!C$1:D$475,2,FALSE),\"\")","v":""}]
[{"$nulls":6},{"$f":"IF(H362<>\"\",VLOOKUP(H362,Codes!C$1:D$475,2,FALSE),\"\")","v":""}]
[{"$nulls":6},{"$f":"IF(H363<>\"\",VLOOKUP(H363,Codes!C$1:D$475,2,FALSE),\"\")","v":""}]
[{"$nulls":6},{"$f":"IF(H364<>\"\",VLOOKUP(H364,Codes!C$1:D$475,2,FALSE),\"\")","v":""}]
[{"$nulls":6},{"$f":"IF(H365<>\"\",VLOOKUP(H365,Codes!C$1:D$475,2,FALSE),\"\")","v":""}]
[{"$nulls":6},{"$f":"IF(H366<>\"\",VLOOKUP(H366,Codes!C$1:D$475,2,FALSE),\"\")","v":""}]
[{"$nulls":6},{"$f":"IF(H367<>\"\",VLOOKUP(H367,Codes!C$1:D$475,2,FALSE),\"\")","v":""}]
[{"$nulls":6},{"$f":"IF(H368<>\"\",VLOOKUP(H368,Codes!C$1:D$475,2,FALSE),\"\")","v":""}]
[{"$nulls":6},{"$f":"IF(H369<>\"\",VLOOKUP(H369,Codes!C$1:D$475,2,FALSE),\"\")","v":""}]
[{"$nulls":6},{"$f":"IF(H370<>\"\",VLOOKUP(H370,Codes!C$1:D$475,2,FALSE),\"\")","v":""}]
[{"$nulls":6},{"$f":"IF(H371<>\"\",VLOOKUP(H371,Codes!C$1:D$475,2,FALSE),\"\")","v":""}]
[{"$nulls":6},{"$f":"IF(H372<>\"\",VLOOKUP(H372,Codes!C$1:D$475,2,FALSE),\"\")","v":""}]
[{"$nulls":6},{"$f":"IF(H373<>\"\",VLOOKUP(H373,Codes!C$1:D$475,2,FALSE),\"\")","v":""}]
[{"$nulls":6},{"$f":"IF(H374<>\"\",VLOOKUP(H374,Codes!C$1:D$475,2,FALSE),\"\")","v":""}]
[{"$nulls":6},{"$f":"IF(H375<>\"\",VLOOKUP(H375,Codes!C$1:D$475,2,FALSE),\"\")","v":""}]
[{"$nulls":6},{"$f":"IF(H376<>\"\",VLOOKUP(H376,Codes!C$1:D$475,2,FALSE),\"\")","v":""}]
[{"$nulls":6},{"$f":"IF(H377<>\"\",VLOOKUP(H377,Codes!C$1:D$475,2,FALSE),\"\")","v":""}]
[{"$nulls":6},{"$f":"IF(H378<>\"\",VLOOKUP(H378,Codes!C$1:D$475,2,FALSE),\"\")","v":""}]
[{"$nulls":6},{"$f":"IF(H379<>\"\",VLOOKUP(H379,Codes!C$1:D$475,2,FALSE),\"\")","v":""}]
[{"$nulls":6},{"$f":"IF(H380<>\"\",VLOOKUP(H380,Codes!C$1:D$475,2,FALSE),\"\")","v":""}]
[{"$nulls":6},{"$f":"IF(H381<>\"\",VLOOKUP(H381,Codes!C$1:D$475,2,FALSE),\"\")","v":""}]
[{"$nulls":6},{"$f":"IF(H382<>\"\",VLOOKUP(H382,Codes!C$1:D$475,2,FALSE),\"\")","v":""}]
[{"$nulls":6},{"$f":"IF(H383<>\"\",VLOOKUP(H383,Codes!C$1:D$475,2,FALSE),\"\")","v":""}]
[{"$nulls":6},{"$f":"IF(H384<>\"\",VLOOKUP(H384,Codes!C$1:D$475,2,FALSE),\"\")","v":""}]
[{"$nulls":6},{"$f":"IF(H385<>\"\",VLOOKUP(H385,Codes!C$1:D$475,2,FALSE),\"\")","v":""}]
[{"$nulls":6},{"$f":"IF(H386<>\"\",VLOOKUP(H386,Codes!C$1:D$475,2,FALSE),\"\")","v":""}]
[{"$nulls":6},{"$f":"IF(H387<>\"\",VLOOKUP(H387,Codes!C$1:D$475,2,FALSE),\"\")","v":""}]
[{"$nulls":6},{"$f":"IF(H388<>\"\",VLOOKUP(H388,Codes!C$1:D$475,2,FALSE),\"\")","v":""}]
[{"$nulls":6},{"$f":"IF(H389<>\"\",VLOOKUP(H389,Codes!C$1:D$475,2,FALSE),\"\")","v":""}]
[{"$nulls":6},{"$f":"IF(H390<>\"\",VLOOKUP(H390,Codes!C$1:D$475,2,FALSE),\"\")","v":""}]
[{"$nulls":6},{"$f":"IF(H391<>\"\",VLOOKUP(H391,Codes!C$1:D$475,2,FALSE),\"\")","v":""}]
[{"$nulls":6},{"$f":"IF(H392<>\"\",VLOOKUP(H392,Codes!C$1:D$475,2,FALSE),\"\")","v":""}]
[{"$nulls":6},{"$f":"IF(H393<>\"\",VLOOKUP(H393,Codes!C$1:D$475,2,FALSE),\"\")","v":""}]
[{"$nulls":6},{"$f":"IF(H394<>\"\",VLOOKUP(H394,Codes!C$1:D$475,2,FALSE),\"\")","v":""}]
[{"$nulls":6},{"$f":"IF(H395<>\"\",VLOOKUP(H395,Codes!C$1:D$475,2,FALSE),\"\")","v":""}]
[{"$nulls":6},{"$f":"IF(H396<>\"\",VLOOKUP(H396,Codes!C$1:D$475,2,FALSE),\"\")","v":""}]
[{"$nulls":6},{"$f":"IF(H397<>\"\",VLOOKUP(H397,Codes!C$1:D$475,2,FALSE),\"\")","v":""}]
[{"$nulls":6},{"$f":"IF(H398<>\"\",VLOOKUP(H398,Codes!C$1:D$475,2,FALSE),\"\")","v":""}]
[{"$nulls":6},{"$f":"IF(H399<>\"\",VLOOKUP(H399,Codes!C$1:D$475,2,FALSE),\"\")","v":""}]
[{"$nulls":6},{"$f":"IF(H400<>\"\",VLOOKUP(H400,Codes!C$1:D$475,2,FALSE),\"\")","v":""}]
[{"$nulls":6},{"$f":"IF(H401<>\"\",VLOOKUP(H401,Codes!C$1:D$475,2,FALSE),\"\")","v":""}]
[{"$nulls":6},{"$f":"IF(H402<>\"\",VLOOKUP(H402,Codes!C$1:D$475,2,FALSE),\"\")","v":""}]
[{"$nulls":6},{"$f":"IF(H403<>\"\",VLOOKUP(H403,Codes!C$1:D$475,2,FALSE),\"\")","v":""}]
[{"$nulls":6},{"$f":"IF(H404<>\"\",VLOOKUP(H404,Codes!C$1:D$475,2,FALSE),\"\")","v":""}]
[{"$nulls":6},{"$f":"IF(H405<>\"\",VLOOKUP(H405,Codes!C$1:D$475,2,FALSE),\"\")","v":""}]
[{"$nulls":6},{"$f":"IF(H406<>\"\",VLOOKUP(H406,Codes!C$1:D$475,2,FALSE),\"\")","v":""}]
[{"$nulls":6},{"$f":"IF(H407<>\"\",VLOOKUP(H407,Codes!C$1:D$475,2,FALSE),\"\")","v":""}]
[{"$nulls":6},{"$f":"IF(H408<>\"\",VLOOKUP(H408,Codes!C$1:D$475,2,FALSE),\"\")","v":""}]
[{"$nulls":6},{"$f":"IF(H409<>\"\",VLOOKUP(H409,Codes!C$1:D$475,2,FALSE),\"\")","v":""}]
[{"$nulls":6},{"$f":"IF(H410<>\"\",VLOOKUP(H410,Codes!C$1:D$475,2,FALSE),\"\")","v":""}]
[{"$nulls":6},{"$f":"IF(H411<>\"\",VLOOKUP(H411,Codes!C$1:D$475,2,FALSE),\"\")","v":""}]
[{"$nulls":6},{"$f":"IF(H412<>\"\",VLOOKUP(H412,Codes!C$1:D$475,2,FALSE),\"\")","v":""}]
[{"$nulls":6},{"$f":"IF(H413<>\"\",VLOOKUP(H413,Codes!C$1:D$475,2,FALSE),\"\")","v":""}]
[{"$nulls":6},{"$f":"IF(H414<>\"\",VLOOKUP(H414,Codes!C$1:D$475,2,FALSE),\"\")","v":""}]
[{"$nulls":6},{"$f":"IF(H415<>\"\",VLOOKUP(H415,Codes!C$1:D$475,2,FALSE),\"\")","v":""}]
[{"$nulls":6},{"$f":"IF(H416<>\"\",VLOOKUP(H416,Codes!C$1:D$475,2,FALSE),\"\")","v":""}]
[{"$nulls":6},{"$f":"IF(H417<>\"\",VLOOKUP(H417,Codes!C$1:D$475,2,FALSE),\"\")","v":""}]
[{"$nulls":6},{"$f":"IF(H418<>\"\",VLOOKUP(H418,Codes!C$1:D$475,2,FALSE),\"\")","v":""}]
[{"$nulls":6},{"$f":"IF(H419<>\"\",VLOOKUP(H419,Codes!C$1:D$475,2,FALSE),\"\")","v":""}]
[{"$nulls":6},{"$f":"IF(H420<>\"\",VLOOKUP(H420,Codes!C$1:D$475,2,FALSE),\"\")","v":""}]
[{"$nulls":6},{"$f":"IF(H421<>\"\",VLOOKUP(H421,Codes!C$1:D$475,2,FALSE),\"\")","v":""}]
[{"$nulls":6},{"$f":"IF(H422<>\"\",VLOOKUP(H422,Codes!C$1:D$475,2,FALSE),\"\")","v":""}]
[{"$nulls":6},{"$f":"IF(H423<>\"\",VLOOKUP(H423,Codes!C$1:D$475,2,FALSE),\"\")","v":""}]
[{"$nulls":6},{"$f":"IF(H424<>\"\",VLOOKUP(H424,Codes!C$1:D$475,2,FALSE),\"\")","v":""}]
[{"$nulls":6},{"$f":"IF(H425<>\"\",VLOOKUP(H425,Codes!C$1:D$475,2,FALSE),\"\")","v":""}]
[{"$nulls":6},{"$f":"IF(H426<>\"\",VLOOKUP(H426,Codes!C$1:D$475,2,FALSE),\"\")","v":""}]
[{"$nulls":6},{"$f":"IF(H427<>\"\",VLOOKUP(H427,Codes!C$1:D$475,2,FALSE),\"\")","v":""}]
[{"$nulls":6},{"$f":"IF(H428<>\"\",VLOOKUP(H428,Codes!C$1:D$475,2,FALSE),\"\")","v":""}]
[{"$nulls":6},{"$f":"IF(H429<>\"\",VLOOKUP(H429,Codes!C$1:D$475,2,FALSE),\"\")","v":""}]
[{"$nulls":6},{"$f":"IF(H430<>\"\",VLOOKUP(H430,Codes!C$1:D$475,2,FALSE),\"\")","v":""}]
[{"$nulls":6},{"$f":"IF(H431<>\"\",VLOOKUP(H431,Codes!C$1:D$475,2,FALSE),\"\")","v":""}]
[{"$nulls":6},{"$f":"IF(H432<>\"\",VLOOKUP(H432,Codes!C$1:D$475,2,FALSE),\"\")","v":""}]
[{"$nulls":6},{"$f":"IF(H433<>\"\",VLOOKUP(H433,Codes!C$1:D$475,2,FALSE),\"\")","v":""}]
[{"$nulls":6},{"$f":"IF(H434<>\"\",VLOOKUP(H434,Codes!C$1:D$475,2,FALSE),\"\")","v":""}]
[{"$nulls":6},{"$f":"IF(H435<>\"\",VLOOKUP(H435,Codes!C$1:D$475,2,FALSE),\"\")","v":""}]
[{"$nulls":6},{"$f":"IF(H436<>\"\",VLOOKUP(H436,Codes!C$1:D$475,2,FALSE),\"\")","v":""}]
[{"$nulls":6},{"$f":"IF(H437<>\"\",VLOOKUP(H437,Codes!C$1:D$475,2,FALSE),\"\")","v":""}]
[{"$nulls":6},{"$f":"IF(H438<>\"\",VLOOKUP(H438,Codes!C$1:D$475,2,FALSE),\"\")","v":""}]
[{"$nulls":6},{"$f":"IF(H439<>\"\",VLOOKUP(H439,Codes!C$1:D$475,2,FALSE),\"\")","v":""}]
[{"$nulls":6},{"$f":"IF(H440<>\"\",VLOOKUP(H440,Codes!C$1:D$475,2,FALSE),\"\")","v":""}]
[{"$nulls":6},{"$f":"IF(H441<>\"\",VLOOKUP(H441,Codes!C$1:D$475,2,FALSE),\"\")","v":""}]
[{"$nulls":6},{"$f":"IF(H442<>\"\",VLOOKUP(H442,Codes!C$1:D$475,2,FALSE),\"\")","v":""}]
[{"$nulls":6},{"$f":"IF(H443<>\"\",VLOOKUP(H443,Codes!C$1:D$475,2,FALSE),\"\")","v":""}]
[{"$nulls":6},{"$f":"IF(H444<>\"\",VLOOKUP(H444,Codes!C$1:D$475,2,FALSE),\"\")","v":""}]
[{"$nulls":6},{"$f":"IF(H445<>\"\",VLOOKUP(H445,Codes!C$1:D$475,2,FALSE),\"\")","v":""}]
[{"$nulls":6},{"$f":"IF(H446<>\"\",VLOOKUP(H446,Codes!C$1:D$475,2,FALSE),\"\")","v":""}]
[{"$nulls":6},{"$f":"IF(H447<>\"\",VLOOKUP(H447,Codes!C$1:D$475,2,FALSE),\"\")","v":""}]
[{"$nulls":6},{"$f":"IF(H448<>\"\",VLOOKUP(H448,Codes!C$1:D$475,2,FALSE),\"\")","v":""}]
[{"$nulls":6},{"$f":"IF(H449<>\"\",VLOOKUP(H449,Codes!C$1:D$475,2,FALSE),\"\")","v":""}]
[{"$nulls":6},{"$f":"IF(H450<>\"\",VLOOKUP(H450,Codes!C$1:D$475,2,FALSE),\"\")","v":""}]
[{"$nulls":6},{"$f":"IF(H451<>\"\",VLOOKUP(H451,Codes!C$1:D$475,2,FALSE),\"\")","v":""}]
[{"$nulls":6},{"$f":"IF(H452<>\"\",VLOOKUP(H452,Codes!C$1:D$475,2,FALSE),\"\")","v":""}]
[{"$nulls":6},{"$f":"IF(H453<>\"\",VLOOKUP(H453,Codes!C$1:D$475,2,FALSE),\"\")","v":""}]
[{"$nulls":6},{"$f":"IF(H454<>\"\",VLOOKUP(H454,Codes!C$1:D$475,2,FALSE),\"\")","v":""}]
[{"$nulls":6},{"$f":"IF(H455<>\"\",VLOOKUP(H455,Codes!C$1:D$475,2,FALSE),\"\")","v":""}]
[{"$nulls":6},{"$f":"IF(H456<>\"\",VLOOKUP(H456,Codes!C$1:D$475,2,FALSE),\"\")","v":""}]
[{"$nulls":6},{"$f":"IF(H457<>\"\",VLOOKUP(H457,Codes!C$1:D$475,2,FALSE),\"\")","v":""}]
[{"$nulls":6},{"$f":"IF(H458<>\"\",VLOOKUP(H458,Codes!C$1:D$475,2,FALSE),\"\")","v":""}]
[{"$nulls":6},{"$f":"IF(H459<>\"\",VLOOKUP(H459,Codes!C$1:D$475,2,FALSE),\"\")","v":""}]
[{"$nulls":6},{"$f":"IF(H460<>\"\",VLOOKUP(H460,Codes!C$1:D$475,2,FALSE),\"\")","v":""}]
[{"$nulls":6},{"$f":"IF(H461<>\"\",VLOOKUP(H461,Codes!C$1:D$475,2,FALSE),\"\")","v":""}]
[{"$nulls":6},{"$f":"IF(H462<>\"\",VLOOKUP(H462,Codes!C$1:D$475,2,FALSE),\"\")","v":""}]
[{"$nulls":6},{"$f":"IF(H463<>\"\",VLOOKUP(H463,Codes!C$1:D$475,2,FALSE),\"\")","v":""}]
[{"$nulls":6},{"$f":"IF(H464<>\"\",VLOOKUP(H464,Codes!C$1:D$475,2,FALSE),\"\")","v":""}]
[{"$nulls":6},{"$f":"IF(H465<>\"\",VLOOKUP(H465,Codes!C$1:D$475,2,FALSE),\"\")","v":""}]
[{"$nulls":6},{"$f":"IF(H466<>\"\",VLOOKUP(H466,Codes!C$1:D$475,2,FALSE),\"\")","v":""}]
[{"$nulls":6},{"$f":"IF(H467<>\"\",VLOOKUP(H467,Codes!C$1:D$475,2,FALSE),\"\")","v":""}]
[{"$nulls":6},{"$f":"IF(H468<>\"\",VLOOKUP(H468,Codes!C$1:D$475,2,FALSE),\"\")","v":""}]
[{"$nulls":6},{"$f":"IF(H469<>\"\",VLOOKUP(H469,Codes!C$1:D$475,2,FALSE),\"\")","v":""}]
[{"$nulls":6},{"$f":"IF(H470<>\"\",VLOOKUP(H470,Codes!C$1:D$475,2,FALSE),\"\")","v":""}]
[{"$nulls":6},{"$f":"IF(H471<>\"\",VLOOKUP(H471,Codes!C$1:D$475,2,FALSE),\"\")","v":""}]
[{"$nulls":6},{"$f":"IF(H472<>\"\",VLOOKUP(H472,Codes!C$1:D$475,2,FALSE),\"\")","v":""}]
[{"$nulls":6},{"$f":"IF(H473<>\"\",VLOOKUP(H473,Codes!C$1:D$475,2,FALSE),\"\")","v":""}]
[{"$nulls":6},{"$f":"IF(H474<>\"\",VLOOKUP(H474,Codes!C$1:D$475,2,FALSE),\"\")","v":""}]
[{"$nulls":6},{"$f":"IF(H475<>\"\",VLOOKUP(H475,Codes!C$1:D$475,2,FALSE),\"\")","v":""}]
[{"$nulls":6},{"$f":"IF(H476<>\"\",VLOOKUP(H476,Codes!C$1:D$475,2,FALSE),\"\")","v":""}]
[{"$nulls":6},{"$f":"IF(H477<>\"\",VLOOKUP(H477,Codes!C$1:D$475,2,FALSE),\"\")","v":""}]
[{"$nulls":6},{"$f":"IF(H478<>\"\",VLOOKUP(H478,Codes!C$1:D$475,2,FALSE),\"\")","v":""}]
[{"$nulls":6},{"$f":"IF(H479<>\"\",VLOOKUP(H479,Codes!C$1:D$475,2,FALSE),\"\")","v":""}]
[{"$nulls":6},{"$f":"IF(H480<>\"\",VLOOKUP(H480,Codes!C$1:D$475,2,FALSE),\"\")","v":""}]
[{"$nulls":6},{"$f":"IF(H481<>\"\",VLOOKUP(H481,Codes!C$1:D$475,2,FALSE),\"\")","v":""}]
[{"$nulls":6},{"$f":"IF(H482<>\"\",VLOOKUP(H482,Codes!C$1:D$475,2,FALSE),\"\")","v":""}]
[{"$nulls":6},{"$f":"IF(H483<>\"\",VLOOKUP(H483,Codes!C$1:D$475,2,FALSE),\"\")","v":""}]
[{"$nulls":6},{"$f":"IF(H484<>\"\",VLOOKUP(H484,Codes!C$1:D$475,2,FALSE),\"\")","v":""}]
[{"$nulls":6},{"$f":"IF(H485<>\"\",VLOOKUP(H485,Codes!C$1:D$475,2,FALSE),\"\")","v":""}]
[{"$nulls":6},{"$f":"IF(H486<>\"\",VLOOKUP(H486,Codes!C$1:D$475,2,FALSE),\"\")","v":""}]
[{"$nulls":6},{"$f":"IF(H487<>\"\",VLOOKUP(H487,Codes!C$1:D$475,2,FALSE),\"\")","v":""}]
[{"$nulls":6},{"$f":"IF(H488<>\"\",VLOOKUP(H488,Codes!C$1:D$475,2,FALSE),\"\")","v":""}]
[{"$nulls":6},{"$f":"IF(H489<>\"\",VLOOKUP(H489,Codes!C$1:D$475,2,FALSE),\"\")","v":""}]
[{"$nulls":6},{"$f":"IF(H490<>\"\",VLOOKUP(H490,Codes!C$1:D$475,2,FALSE),\"\")","v":""}]
[{"$nulls":6},{"$f":"IF(H491<>\"\",VLOOKUP(H491,Codes!C$1:D$475,2,FALSE),\"\")","v":""}]
[{"$nulls":6},{"$f":"IF(H492<>\"\",VLOOKUP(H492,Codes!C$1:D$475,2,FALSE),\"\")","v":""}]
[{"$nulls":6},{"$f":"IF(H493<>\"\",VLOOKUP(H493,Codes!C$1:D$475,2,FALSE),\"\")","v":""}]
[{"$nulls":6},{"$f":"IF(H494<>\"\",VLOOKUP(H494,Codes!C$1:D$475,2,FALSE),\"\")","v":""}]
[{"$nulls":6},{"$f":"IF(H495<>\"\",VLOOKUP(H495,Codes!C$1:D$475,2,FALSE),\"\")","v":""}]
[{"$nulls":6},{"$f":"IF(H496<>\"\",VLOOKUP(H496,Codes!C$1:D$475,2,FALSE),\"\")","v":""}]
[{"$nulls":6},{"$f":"IF(H497<>\"\",VLOOKUP(H497,Codes!C$1:D$475,2,FALSE),\"\")","v":""}]
[{"$nulls":6},{"$f":"IF(H498<>\"\",VLOOKUP(H498,Codes!C$1:D$475,2,FALSE),\"\")","v":""}]
[{"$nulls":6},{"$f":"IF(H499<>\"\",VLOOKUP(H499,Codes!C$1:D$475,2,FALSE),\"\")","v":""}]
[{"$nulls":6},{"$f":"IF(H500<>\"\",VLOOKUP(H500,Codes!C$1:D$475,2,FALSE),\"\")","v":""}]

{"sheet":"Codes","index":12,"n_rows":436,"n_cols":4,"rows_kept":436,"hidden":true}
["      Codes","Nederlands","Français","      Codes"]
[612231,"Animatiemateriaal","Achat matériel d'animation",612231]
["601","Achats de fournitures","Achats de fournitures","601"]
["604","Achats de marchandises","Achats de marchandises","604"]
["600","Achats de matières premières","Achats de matières premières","600"]
["602","Achats de services, travaux et études","Achats de services, travaux et études","602"]
["605","Achats d'immeubles destinés à la revente","Achats d'immeubles destinés à la revente","605"]
[406000,"Vooruitbetalingen","Acomptes versés",406000]
[613210,"Administratie","Administration",613210]
["79","AFFECTATION AUX RESULTATS ","AFFECTATION AUX RESULTATS ","79"]
["69","AFFECTATION DES RESULTATS ","AFFECTATION DES RESULTATS ","69"]
[614210,"Affiches,folders,catalogi,adve","Affiches,dépliants,catal.,ann.",614210]
[612410,"Agape - Broederlijke gemeenschap","Agape - communion fraternelle",612410]
[291200,"Aide aux pasteurs (à recevoir pour MIB)","Aide aux pasteurs (à recevoir pour MIB)",291200]
["62312","Allocations familiales complémentaires","Allocations familiales complémentaires","62312"]
["62320","Allocations familiales complémentaires pour non salariés","Allocations familiales complémentaires pour non salariés","62320"]
["6501","Amortissements des agios et frais d'émission d'emprunts","Amortissements des agios et frais d'émission d'emprunts","6501"]
["660","Amortissements et réductions de valeur exceptionnels","Amortissements et réductions de valeur exceptionnels","660"]
["6600","Amortissements et réductions de valeur exceptionnels sur frais d'établissement","Amortissements et réductions de valeur exceptionnels sur frais d'établissement","6600"]
["6602","Amortissements et réductions de valeur exceptionnels sur immobilisations corporelles","Amortissements et réductions de valeur exceptionnels sur immobilisations corporelles","6602"]
["6601","Amortissements et réductions de valeur exceptionnels sur immobilisations incorporelles","Amortissements et réductions de valeur exceptionnels sur immobilisations incorporelles","6601"]
["63","AMORTISSEMENTS, REDUCTIONS DE VALEUR ET PROVISIONS POUR RISQUES ET CHARGES ","AMORTISSEMENTS, REDUCTIONS DE VALEUR ET PROVISIONS POUR RISQUES ET CHARGES ","63"]
["6140","Annonces et insertions","Annonces et insertions","6140"]
["614","Annonces, publicité, propagande et documentation","Annonces, publicité, propagande et documentation","614"]
[620100,"Bezoldiging Directiepersoneel","Appointement - Direction",620100]
[620210,"Bezoldigingen","Appointement - Employés",620210]
["60","APPROVISIONNEMENTS ET MARCHANDISES ","APPROVISIONNEMENTS ET MARCHANDISES ","60"]
["61312","Assurance autos","Assurance autos","61312"]
["61313","Assurance crédit","Assurance crédit","61313"]
["61310","Assurance incendie","Assurance incendie","61310"]
["62301","Assurance salaire garanti","Assurance salaire garanti","62301"]
["61311","Assurance vol","Assurance vol","61311"]
[613100,"Verzekeringen","Assurances",613100]
[613130,"Verzekeringen jongkamp","Assurances camp de jeunesse",613130]
["6230","Assurances du personnel","Assurances du personnel","6230"]
["61314","Assurances frais généraux","Assurances frais généraux","61314"]
["62302","Assurances individuelles","Assurances individuelles","62302"]
["62300","Assurances loi, responsabilité civile, chemin du travail","Assurances loi, responsabilité civile, chemin du travail","62300"]
["6131","Assurances non relatives au personnel","Assurances non relatives au personnel","6131"]
["6502","Autres charges de dettes","Autres charges de dettes","6502"]
["64","AUTRES CHARGES D'EXPLOITATION ","AUTRES CHARGES D'EXPLOITATION ","64"]
["459","Autres dettes sociales","Autres dettes sociales","459"]
[424000,"Overige leningen","Autres emprunts",424000]
[174100,"Overige leningen - verschuldigde MIB","Autres emprunts - dûs au MIB",174100]
[613230,"Andere kosten","Autres frais",613230]
["623","Autres frais de personnel","Autres frais de personnel","623"]
["4505","Autres impôts en Belgique","Autres impôts en Belgique","4505"]
["45253","Autres impôts et taxes à payer","Autres impôts et taxes à payer","45253"]
[4525,"Autres impôts et taxes en Belgique","Autres impôts et taxes en Belgique",4525]
[4520,"Autres impôts sur le résultat","Autres impôts sur le résultat",4520]
["4538","Autres précomptes retenus (Dettes)","Autres précomptes retenus (Dettes)","4538"]
["74","AUTRES PRODUITS D'EXPLOITATION ","AUTRES PRODUITS D'EXPLOITATION ","74"]
["764","Autres produits exceptionnels","Autres produits exceptionnels","764"]
[730700,"Andere ontvangsten","Autres recettes",730700]
["61301","Autres redevances (procédés de fabrication)","Autres redevances (procédés de fabrication)","61301"]
[550000,"Bank","Banque",550000]
[221002,"Gebouw - Kerk","Bâtiment - Eglise",221002]
["693","Bénéfice à reporter","Bénéfice à reporter","693"]
["790","Bénéfice reporté de l'exercice précédent","Bénéfice reporté de l'exercice précédent","790"]
["7171","Bénéfices portés en compte sur commandes en cours","Bénéfices portés en compte sur commandes en cours","7171"]
["7490","Bonis sur reprises d'emballages consignés","Bonis sur reprises d'emballages consignés","7490"]
["7491","Bonis sur travaux en associations momentanées","Bonis sur travaux en associations momentanées","7491"]
["6145","Cadeaux à la clientèle","Cadeaux à la clientèle","6145"]
[570000,"Kas","Caisse",570000]
["6141","Catalogues et imprimés","Catalogues et imprimés","6141"]
[418000,"Borgtochten betaald in contant","Cautionnements versés e/numér.",418000]
[490000,"Over te dragen kosten","Charges à reporter",490000]
["650","Charges des dettes","Charges des dettes","650"]
["653","Charges d'escompte de créances","Charges d'escompte de créances","653"]
["649","Charges d'exploitation portées à l'actif au titre de restructuration","Charges d'exploitation portées à l'actif au titre de restructuration","649"]
["66","CHARGES EXCEPTIONNELLES ","CHARGES EXCEPTIONNELLES ","66"]
["669","Charges exceptionnelles transférées à l'actif en frais de restructuration","Charges exceptionnelles transférées à l'actif en frais de restructuration","669"]
["65","CHARGES FINANCIERES ","CHARGES FINANCIERES ","65"]
["640","Charges fiscales d'exploitation","Charges fiscales d'exploitation","640"]
["6702","Charges fiscales estimées","Charges fiscales estimées","6702"]
["6101","Charges locatives (assurances, frais de confort, ...)","Charges locatives (assurances, frais de confort, ...)","6101"]
["6232","Charges sociales des administrateurs, gérants et commissaires","Charges sociales des administrateurs, gérants et commissaires","6232"]
["6231","Charges sociales diverses","Charges sociales diverses","6231"]
[612160,"Verwarming","Chauffage",612160]
[730400,"Collecten","Collectes - Offrandes",730400]
["61320","Commissions aux tiers","Commissions aux tiers","61320"]
["657","Commissions sur ouvertures de crédit, cautions, avals","Commissions sur ouvertures de crédit, cautions, avals","657"]
[416300,"R/C bestuurders, zaakvoerders","Compte courant / Administrateur = prêt à un administrateur",416300]
[416200,"R/C vennoot in een vzw","Compte courant / Membre = prêt à un membre",416200]
["4512","Compte courant administration T.V.A.","Compte courant administration T.V.A.","4512"]
[499000,"Wachtrekening","Comptes d'attente",499000]
[730810,"Deelneming kampen Kinderenafdeling","Contributions camp des enfants",730810]
[730800,"Deelneming kampen Jongerenafdeling","Contributions camp des jeunes",730800]
[614410,"Solidariteitsbijdrage","Cotisation de solidarité",614410]
["61322","Cotisations aux groupements professionnels","Cotisations aux groupements professionnels","61322"]
[410000,"Bijdragen.,niet gestorte","Cotisations non versées",410000]
["621","Cotisations patronales d'assurances sociales","Cotisations patronales d'assurances sociales","621"]
["6211","Cotisations patronales d'assurances socialesSur appointements et commissions","Cotisations patronales d'assurances socialesSur appointements et commissions","6211"]
["6210","Cotisations patronales d'assurances socialesSur salaires","Cotisations patronales d'assurances socialesSur salaires","6210"]
["71701","Recettes de Coût des travaux en cours des associations momentanées","Coût des travaux en cours des associations momentanées","71701"]
[412000,"Vordering Notaris Muylle","Créance Notaire Muylle",412000]
[407000,"Dubieuze debiteuren","Créances douteuses",407000]
[416700,"Vorderingen o/openb. besturen","Créances s/pouvoirs publics",416700]
[173000,"Schulden onroerende","Crédit hypothécaire",173000]
[614230,"Decoratie-bloemen-geschenken","Décoration-fleurs-cadeaux",614230]
[612560,"Terugbetaling (vrijwilliger(ster)s)","Défraiement (bénévoles)",612560]
[452530,"Overige belastingen en taksen","Dette - Autres impots & taxes",452530]
[452500,"Onroerende voorheffing","Dette - Précompte immobilier",452500]
[452510,"Gemeente en Provinciale belastingen","Dette - Taxes communales & provinciales",452510]
["4540","Dettes - Arriérés","Dettes - Arriérés","4540"]
["45932","Dettes - Assurance groupe","Dettes - Assurance groupe","45932"]
["45930","Dettes - Assurance loi","Dettes - Assurance loi","45930"]
["45931","Dettes - Assurance salaire garanti","Dettes - Assurance salaire garanti","45931"]
["45933","Dettes - Assurances individuelles","Dettes - Assurances individuelles","45933"]
["4594","Dettes - Caisse d'assurances sociales pour travailleurs indépendants","Dettes - Caisse d'assurances sociales pour travailleurs indépendants","4594"]
["4590","Dettes - Provision pour gratifications de fin d'année","Dettes - Provision pour gratifications de fin d'année","4590"]
["455","Dettes - Rémunérations","Dettes - Rémunérations","455"]
["4550","Dettes - Rémunérations - Administrateurs, gérants et commissaires (non réviseurs)","Dettes - Rémunérations - Administrateurs, gérants et commissaires (non réviseurs)","4550"]
["4551","Dettes - Rémunérations - Direction","Dettes - Rémunérations - Direction","4551"]
["4552","Dettes - Rémunérations - Employés","Dettes - Rémunérations - Employés","4552"]
["4553","Dettes - Rémunérations Ouvriers","Dettes - Rémunérations Ouvriers","4553"]
[420000,"Leasingsschulden < 1 jaar","Dettes >1 an échéant d/l'année",420000]
["4593","Dettes -Assurances relatives au personnel","Dettes -Assurances relatives au personnel","4593"]
["4591","Dettes Départs de personnel","Dettes Départs de personnel","4591"]
[429200,"Over. schulden best,zaakv,venn","Dettes envers Administrateurs, Membres",429200]
["4597","Dettes et provisions sociales diverses","Dettes et provisions sociales diverses","4597"]
["450","Dettes fiscales estimées","Dettes fiscales estimées","450"]
["45","DETTES FISCALES, SALARIALES ET SOCIALES ","DETTES FISCALES, SALARIALES ET SOCIALES ","45"]
["4592","Dettes Oppositions sur rémunérations","Dettes Oppositions sur rémunérations","4592"]
["456","Dettes Pécules de vacances","Dettes Pécules de vacances","456"]
["4560","Dettes Pécules de vacances Direction","Dettes Pécules de vacances Direction","4560"]
["4561","Dettes Pécules de vacances Employés","Dettes Pécules de vacances Employés","4561"]
["4562","Dettes Pécules de vacances Ouvriers","Dettes Pécules de vacances Ouvriers","4562"]
[455020,"Loon","Dettes sur Salaires",455020]
[489700,"Schulden aan VIM vzw","Dettes VIM VZW",489700]
[612510,"Diaconie (Voedselbank)","Diaconie - Dépenses (Banque alimentaire)",612510]
[730720,"Diaconie (Voedselbank)","Diaconie - Recettes (Banque alimentaire)",730720]
[612540,"Diaconie (Geschenken voor bepaalde gebeurtenissen)","Diaconie - Dépenses (Cadeaux événementiels)",612540]
[730750,"Diaconie (Geschenken voor bepaalde gebeurtenissen)","Diaconie - Recettes (Cadeaux événementiels)",730750]
[612530,"Diaconie (PUCIS)","Diaconie - Dépenses (CUPEI)",612530]
[730740,"Diaconie (PUCIS)","Diaconie - Recettes (CUPEI)",730740]
[612500,"Diaconie (Speciale collecten)","Diaconie - Dépenses (Offrandes spéciales)",612500]
[730710,"Diaconie (Speciale collecten)","Diaconie - Recettes (Offrandes spéciales)",730710]
[612520,"Diaconie (Gerichte hulp)","Diaconie - Dépenses (Secours ponctuels)",612520]
[730730,"Diaconie (Gerichte hulp)","Diaconie - Recettes (Secours ponctuels)",730730]
["665","Différence de charge","Différence de charge","665"]
[756200,"Betalingsverschil (positief)","Différence de paiement (+)",756200]
["654","Différences de change","Différences de change","654"]
[656200,"Betalingsverschillen (-)","Différences de paiements (-)",656200]
[613253,"Diversen","Divers",613253]
["6132","Divers","Divers","6132"]
["62322","Divers","Divers","62322"]
["6147","Documentation","Documentation","6147"]
[614500,"Gaven - Steun aan de zending - Ondersteuning","Dons - Soutien mission - entraide (Dépenses)",614500]
[730500,"Diverse gaven","Dons divers - Recettes",730500]
["61323","Dons, libéralités, ...","Dons, libéralités, … (Dépenses)","61323"]
["691","Dotation à la réserve légale","Dotation à la réserve légale","691"]
["692","Dotation aux autres réserves","Dotation aux autres réserves","692"]
[630000,"T / afschrijvingen","Dotations aux amortissements",630000]
["630","Dotations aux amortissements et aux réductions de valeur sur immobilisations","Dotations aux amortissements et aux réductions de valeur sur immobilisations","630"]
["6300","Dotations aux amortissements sur frais d'établissement","Dotations aux amortissements sur frais d'établissement","6300"]
["6302","Dotations aux amortissements sur immobilisations corporelles","Dotations aux amortissements sur immobilisations corporelles","6302"]
["6301","Dotations aux amortissements sur immobilisations incorporelles","Dotations aux amortissements sur immobilisations incorporelles","6301"]
["6309","Dotations aux réductions de valeur sur immobilisations corporelles","Dotations aux réductions de valeur sur immobilisations corporelles","6309"]
["6308","Dotations aux réductions de valeur sur immobilisations incorporelles","Dotations aux réductions de valeur sur immobilisations incorporelles","6308"]
[640400,"Roerende Voorheffing","Droits d'enregistrement",640400]
["64011","Droits d'enregistrement","Droits d'enregistrement","64011"]
[612130,"Water","Eau",612130]
["61200","Eau","Eau","61200"]
["6120","Eau, gaz, électricité, vapeur","Eau, gaz, électricité, vapeur","6120"]
["655","Ecarts de conversion des devises","Ecarts de conversion des devises","655"]
["755","Ecarts de conversion des devises","Ecarts de conversion des devises","755"]
["6142","Echantillons","Echantillons","6142"]
[613249,"Zondagsschool","Ecole du dimanche",613249]
["61202","Electricité","Electricité","61202"]
[612120,"Electriciteit en Gas","Electricité & Gaz",612120]
[611320,"Onderhoud-herstellingen  ","Entretien & réparation bâtIment",611320]
[611330,"Onderhoud-herstellingen  ","Entretien & réparation instal. machine & outillage",611330]
[611360,"Onderhoud-herstellingen  ","Entretien & réparation matériel de bureau",611360]
[611351,"Onderhoud-herstellingen  ","Entretien & réparation matériel roulant - auto",611351]
[611350,"Onderhoud-herstellingen  ","Entretien & réparation matériel roulant - camion",611350]
[611340,"Onderhoud-herstellingen  ","Entretien & réparation mobilier",611340]
[611310,"Onderhoud-herstellingen  ","Entretien & réparation terrain",611310]
["611","Entretien et réparation (fournitures et prestations)","Entretien et réparation (fournitures et prestations)","611"]
[613248,"Evangelisatie","Evangélisation",613248]
["6701","Excédent de versements d'impôts et précomptes porté à l'actif","Excédent de versements d'impôts et précomptes porté à l'actif","6701"]
["704","Recettes de Facturations des travaux en cours (associations momentanées)","Facturations des travaux en cours (associations momentanées)","704"]
[612420,"Plechtige vieringen ( Kerst, Pasen, ..)","Fêtes Solennelles ( Noêl, Pâques, ..)",612420]
["6143","Foires et expositions","Foires et expositions","6143"]
[645100,"Wettelijke formaliteiten","Formalités légales & administratives",645100]
[440000,"Leveranciers","Fournisseurs",440000]
[612240,"Kantoorbenodigdheden","Fourniture de bureau",612240]
["612","Fournitures faites à l'entreprise","Fournitures faites à l'entreprise","612"]
[656000,"Bankkosten  ","Frais bancaires",656000]
["656","Frais de banques, de chèques postaux","Frais de banques, de chèques postaux","656"]
["61324","Frais de contentieux","Frais de contentieux","61324"]
[646400,"Verhuiskosten","Frais de déménagement",646400]
[612550,"Reisvergoedingen","Frais de déplacement",612550]
["658","Frais de vente des titres","Frais de vente des titres","658"]
[656090,"Handlichtingskosten","Frais Mainlevée",656090]
[613220,"Pastorale kosten","Frais pastoraux - toges - habits de céremonie",613220]
["61213","Frais postaux","Frais postaux","61213"]
["754","Gain de Différences de change","Gain de Différences de change","754"]
["61201","Gaz","Gaz","61201"]
[612229,"Groot gereedschap","Grand outillage - achat",612229]
[613251,"Vrouwenkring","Groupe des dames",613251]
[613252,"Mannenkring","Groupe des hommes",613252]
[613250,"Jeugdgroep","Groupe des jeunes - Jeunesse",613250]
[613217,"Honoraria architecten","Honoraires architectes",613217]
[613211,"Honoraria advocaten","Honoraires avocats",613211]
[613215,"Honoraria accountants","Honoraires comptables",613215]
["61321","Honoraires d'avocats, d'experts, etc ...","Honoraires d'avocats, d'experts, etc ...","61321"]
[613214,"Honoraria ????","Honoraires experts",613214]
[613212,"Honoraria notaris","Honoraires notaires",613212]
[613216,"Honoraria bedrijfsrevisoren","Honoraires reviseurs d'entreprise",613216]
["4508","Impôts à l'étranger","Impôts à l'étranger","4508"]
["670","Impôts belges sur le résultat de l'exercice","Impôts belges sur le résultat de l'exercice","670"]
["671","Impôts belges sur le résultat d'exercices antérieurs","Impôts belges sur le résultat d'exercices antérieurs","671"]
["45251","Impôts communaux à payer","Impôts communaux à payer","45251"]
["6700","Impôts et précomptes dus ou versés","Impôts et précomptes dus ou versés","6700"]
["4528","Impôts et taxes à l'étranger (Dettes)","Impôts et taxes à l'étranger (Dettes)","4528"]
["452","Impôts et taxes à payer","Impôts et taxes à payer","452"]
["672","Impôts étrangers sur le résultat de l'exercice","Impôts étrangers sur le résultat de l'exercice","672"]
["673","Impôts étrangers sur le résultat d'exercices antérieurs","Impôts étrangers sur le résultat d'exercices antérieurs","673"]
["45252","Impôts provinciaux à payer","Impôts provinciaux à payer","45252"]
["6402","Impôts provinciaux et communaux","Impôts provinciaux et communaux","6402"]
["4501"," Impôts sur le résultat","Impôts sur le résultat","4501"]
["67","IMPOTS SUR LE RESULTAT ","IMPOTS SUR LE RESULTAT ","67"]
["6123","Imprimés et fournitures de bureau (si non comptabilisé au 601)","Imprimés et fournitures de bureau (si non comptabilisé au 601)","6123"]
[650000,"Bankintresten","Intérêts bancaires - Dépenses",650000]
[750100,"Bankintresten","Intérêts bancaires - Recettes 750100",750100]
[751300,"Bankintresten  ","Intérêts bancaires - Recettes 751300",751300]
[650900,"Interest krediet","Intérêts crédit - emprunt",650900]
["6503","Intérêts intercalaires portés à l'actif","Intérêts intercalaires portés à l'actif","6503"]
["6500","Intérêts, commissions et frais afférents aux dettes","Intérêts, commissions et frais afférents aux dettes","6500"]
["794","Intervention d'associés (ou du propriétaire) dans la perte","Intervention d'associés (ou du propriétaire) dans la perte - 794","794"]
["62310","Jours fériés payés","Jours fériés payés","62310"]
[611200,"Buitenlandse leasing","Leasing - Location financement",611200]
[212010,"Licenties (software)","Licence (software)",212010]
["6122","Livres, bibliothèque","Livres, bibliothèque","6122"]
[612300,"Aankoop van literatuur","Livres, périodiques, documentations,..",612300]
[611135,"Huur container","Location container",611135]
[611130,"Huur inst., mach. & gereedsch.","Location installation, machine & outillage",611130]
[611151,"Huur personenwagens","Location matériel roulant - auto",611151]
[611150,"Huur bedrijfswagens","Location matériel roulant - camoin",611150]
[611125,"Huur parking","Location parking",611125]
[611110,"Huur terreinen","Location terrain",611110]
["62321","Lois sociales pour indépendants","Lois sociales pour indépendants","62321"]
[611120,"Huur gebouwen","Loyer immeuble",611120]
["6100","Loyers divers","Loyers divers","6100"]
["610","Loyers et charges locatives","Loyers et charges locatives","610"]
[240030,"Kantoormachines","Machines",240030]
["7084","Mali sur travaux facturés aux associations momentanées","Mali sur travaux facturés aux associations momentanées","7084"]
[241010,"Bedrijfswagens","Matériel roulant : camions e.a",241010]
[241015,"Personenwagens","Matériel roulant : voitures",241015]
["6146","Missions et réceptions","Missions et réceptions","6146"]
[240000,"Meubilair & Kantoormachines","Mobilier & Machines",240000]
[240020,"Meubilair","Mobiliers ",240020]
["6634","Moins-values Sur immeubles acquis ou construits en vue de la revente","Moins-values Sur immeubles acquis ou construits en vue de la revente","6634"]
["6631","Moins-values Sur immobilisations corporelles","Moins-values Sur immobilisations corporelles","6631"]
["6632","Moins-values Sur immobilisations détenues en location-financement et droits similaires","Moins-values Sur immobilisations détenues en location-financement et droits similaires","6632"]
["6633","Moins-values Sur immobilisations financières","Moins-values Sur immobilisations financières","6633"]
["6630","Moins-values Sur immobilisations incorporelles","Moins-values Sur immobilisations incorporelles","6630"]
["652","Moins-values sur réalisation d'actifs circulants","Moins-values sur réalisation d'actifs circulants","652"]
["663","Moins-values sur réalisation d'actifs immobilisés","Moins-values sur réalisation d'actifs immobilisés","663"]
["641","Moins-values sur réalisations courantes d'immobilisations corporelles","Moins-values sur réalisations courantes d'immobilisations corporelles","641"]
["642","Moins-values sur réalisations de créances commerciales","Moins-values sur réalisations de créances commerciales","642"]
["454","Office National de la Sécurité Sociale (Dettes)","Office National de la Sécurité Sociale (Dettes)","454"]
[240010,"Computermaterieel","Ordinateur",240010]
[612440,"Organist / Koorzangers","Organistes / Choristes",612440]
[613260,"Vergoeding vervangers","PAF pasteur visiteur",613260]
[614400,"Bijdragen","Participation aux frais",614400]
[614420,"Deelnemingskosten","Participation aux frais",614420]
[614700,"Participatie Wedden","Participation aux salaires",614700]
["664","Pénalités et amendes diverses","Pénalités et amendes diverses","664"]
["706","Recettes de Pénalités et dédits obtenus par l'entreprise","Pénalités et dédits obtenus par l'entreprise","706"]
["624","Pensions de retraite et de survie","Pensions de retraite et de survie","624"]
["6240","Pensions de retraite et de survie Administrateurs et gérants","Pensions de retraite et de survie Administrateurs et gérants","6240"]
["6241","Pensions de retraite et de survie Personnel","Pensions de retraite et de survie Personnel","6241"]
["6134","Personnel intérimaire","Personnel intérimaire","6134"]
["61700","Personnel intérimaire et personnes mises à la disposition de l'entreprise","Personnel intérimaire et personnes mises à la disposition de l'entreprise","61700"]
["793","Perte à reporter","Perte à reporter","793"]
["690","Perte reportée de l'exercice précédent","Perte reportée de l'exercice précédent","690"]
[612230,"Klein gereedschap","Petit outillage - achat",612230]
[730900,"Spaarplan","Plan d'épargne",730900]
["7631","Plus-values Sur immobilisations corporelles","Plus-values Sur immobilisations corporelles","7631"]
["7632","Plus-values Sur immobilisations financières","Plus-values Sur immobilisations financières","7632"]
["7630","Plus-values Sur immobilisations incorporelles","Plus-values Sur immobilisations incorporelles","7630"]
["763","Plus-values sur réalisation d'actifs immobilisés","Plus-values sur réalisation d'actifs immobilisés","763"]
["741","Plus-values sur réalisations courantes d'immobilisations corporelles","Plus-values sur réalisations courantes d'immobilisations corporelles","741"]
["752","Plus-values sur réalisations d'actifs circulants","Plus-values sur réalisations d'actifs circulants","752"]
["742","Plus-values sur réalisations de créances commerciales","Plus-values sur réalisations de créances commerciales","742"]
[456100,"Voorziening vakantiegeld","Povisions pour pécule de vacan",456100]
["45250","Précompte immobilier","Précompte immobilier 45250","45250"]
[670010,"Roerende Voorheffing","Précompte mobilier - 670010",670010]
["4532","Précompte mobilier retenu sur dividendes attribués (Dettes)","Précompte mobilier retenu sur dividendes attribués (Dettes)","4532"]
["4533","Précompte mobilier retenu sur intérêts payés (Dettes)","Précompte mobilier retenu sur intérêts payés (Dettes)","4533"]
["4530","Précompte professionnel retenu sur rémunérations (Dettes)","Précompte professionnel retenu sur rémunérations (Dettes)","4530"]
["4531","Précompte professionnel retenu sur tantièmes (Dettes)","Précompte professionnel retenu sur tantièmes (Dettes)","4531"]
["453","Précomptes retenus (Dettes)","Précomptes retenus (Dettes)","453"]
["791","Prélèvement sur le capital et les primes d'émission","Prélèvement sur le capital et les primes d'émission","791"]
["792","Prélèvement sur les réserves","Prélèvement sur les réserves","792"]
["705","Recettes Prestations de services","Prestations de services","705"]
["7051","Recette Prestations de services dans les pays membres de la C.E .E.","Prestations de services dans les pays membres de la C.E .E.","7051"]
["7050","Recettes Prestations de services en Belgique","Prestations de services en Belgique","7050"]
["7052","Recettes Prestations de services en vue de l'exportation","Prestations de services en vue de l'exportation","7052"]
["6144","Primes","Primes","6144"]
["622","Primes patronales pour assurances extralégales","Primes patronales pour assurances extralégales","622"]
[493000,"Over te dragen opbrengsten","Produits à reporter",493000]
["743","Produits de services exploités dans l'intérêt du personnel","Produits de services exploités dans l'intérêt du personnel","743"]
[612225,"Onderhoudsprodukten","Produits d'entretien ",612225]
["751","Produits des actifs circulants","Produits des actifs circulants","751"]
["756","Produits des autres créances","Produits des autres créances","756"]
["750","Produits des immobilisations financières","Produits des immobilisations financières","750"]
["749","Produits divers","Produits divers","749"]
["76","PRODUITS EXCEPTIONNELS ","PRODUITS EXCEPTIONNELS ","76"]
["75","PRODUITS FINANCIERS ","PRODUITS FINANCIERS ","75"]
[662000,"Voorzien.uitz.risico's & kost.","Prov.risques & charges except.",662000]
["625","Provision pour pécule de vacances","Provision pour pécule de vacances","625"]
["6251","Provision pour pécule de vacances Utilisations et reprises","Provision pour pécule de vacances Utilisations et reprises","6251"]
["6712","Provisions fiscales constituées","Provisions fiscales constituées","6712"]
["637","Provisions pour autres risques et charges","Provisions pour autres risques et charges","637"]
["6371","Provisions pour autres risques et charges Utilisations et reprises","Provisions pour autres risques et charges Utilisations et reprises","6371"]
["636","Provisions pour grosses réparations et gros entretiens","Provisions pour grosses réparations et gros entretiens","636"]
["6361","Provisions pour grosses réparations et gros entretiens Utilisations et reprises","Provisions pour grosses réparations et gros entretiens Utilisations et reprises","6361"]
["635","Provisions pour pensions et obligations similaires","Provisions pour pensions et obligations similaires","635"]
["6351","Provisions pour pensions et obligations similaires Utilisations et reprises","Provisions pour pensions et obligations similaires Utilisations et reprises","6351"]
["662","Provisions pour risques et charges exceptionnels","Provisions pour risques et charges exceptionnels","662"]
["61325","Publications légales","Publications légales","61325"]
["6152","Quote-part bénéficiaire des coparticipants","Quote-part bénéficiaire des coparticipants","6152"]
[611390,"Onderhoud-herstellingen","Ramassage de déchets",611390]
["744","Recettes de Commissions et courtages","Recettes de Commissions et courtages","744"]
["746","Recettes de Prestations de services (transports, études , etc...)","Recettes de Prestations de services (transports, études , etc...)","746"]
["745","Recettes de Redevances pour brevets et licences","Recettes de Redevances pour brevets et licences","745"]
["6130","Redevances et royalties","Redevances et royalties","6130"]
["61300","Redevances pour brevets, licences, marques, accessoires","Redevances pour brevets, licences, marques, accessoires","61300"]
["651","Réductions de valeur sur actifs circulants","Réductions de valeur sur actifs circulants","651"]
["632","Réductions de valeur sur commandes en cours d'exécution","Réductions de valeur sur commandes en cours d'exécution","632"]
["6321"," Réductions de valeur sur commandes en cours d'exécution","Réductions de valeur sur commandes en cours d'exécution","6321"]
["633","Réductions de valeur sur créances commerciales à plus d'un an","Réductions de valeur sur créances commerciales à plus d'un an","633"]
["634","Réductions de valeur sur créances commerciales à un an au plus","Réductions de valeur sur créances commerciales à un an au plus","634"]
["661","Réductions de valeur sur immobilisations financières","Réductions de valeur sur immobilisations financières","661"]
["631","Réductions de valeur sur stocks","Réductions de valeur sur stocks","631"]
["77","REGULARISATIONS D'IMPOTS ET REPRISES DE PROVISIONS FISCALES ","REGULARISATIONS D'IMPOTS ET REPRISES DE PROVISIONS FISCALES ","77"]
[613240,"Terugbetaling inschrijving voor kampen","Remboursement inscriptions aux camps",613240]
["708","Remises, ristournes et rabais accordés","Remises, ristournes et rabais accordés","708"]
["7083","Remises, ristournes et rabais accordés sur prestations de services","Remises, ristournes et rabais accordés sur prestations de services","7083"]
["7082","Remises, ristournes et rabais accordés sur ventes de déchets et rebuts","Remises, ristournes et rabais accordés sur ventes de déchets et rebuts","7082"]
["7080","Remises, ristournes et rabais accordés Sur ventes de marchandises","Remises, ristournes et rabais accordés Sur ventes de marchandises","7080"]
["7081","Remises, ristournes et rabais accordés Sur ventes de produits finis","Remises, ristournes et rabais accordés Sur ventes de produits finis","7081"]
["608","Remises, ristournes et rabais obtenus sur achats","Remises, ristournes et rabais obtenus sur achats","608"]
["694","Rémunération du capital","Rémunération du capital","694"]
["695","Rémunération du capital Administrateurs ou gérants","Rémunération du capital Administrateurs ou gérants","695"]
["696","Rémunération du capital Autres allocataires","Rémunération du capital Autres allocataires","696"]
["620","Rémunérations et avantages sociaux directs","Rémunérations et avantages sociaux directs","620"]
["6200","Rémunérations et avantages sociaux directs Administrateurs ou gérants","Rémunérations et avantages sociaux directs Administrateurs ou gérants","6200"]
["6204","Rémunérations et avantages sociaux directs Autres membres du personnel","Rémunérations et avantages sociaux directs Autres membres du personnel","6204"]
["6202","Rémunérations et avantages sociaux directs Employés","Rémunérations et avantages sociaux directs Employés","6202"]
["6203","Rémunérations et avantages sociaux directs Ouvriers","Rémunérations et avantages sociaux directs Ouvriers","6203"]
["6201","Rémunérations et avantages sociaux directs Personnel de direction","Rémunérations et avantages sociaux directs Personnel de direction","6201"]
["62","REMUNERATIONS, CHARGES SOCIALES ET PENSIONS ","REMUNERATIONS, CHARGES SOCIALES ET PENSIONS ","62"]
["61800","Rémunérations, primes pour assurances extralégales, pensions de retraite et de survie des administrateurs, gérants et associés actifs qui ne sont pas attribuées en vertu d'un contrat de travail","Rémunérations, primes pour assurances extralégales, pensions de retraite et de survie des administrateurs, gérants et associés actifs qui ne sont pas attribuées en vertu d'un contrat de travail","61800"]
["760","Reprises d'amortissements et de réductions de valeur","Reprises d'amortissements et de réductions de valeur","760"]
["7601","Reprises d'amortissements et de réductions de valeur sur immobilisations corporelles","Reprises d'amortissements et de réductions de valeur sur immobilisations corporelles","7601"]
["7600","Reprises d'amortissements et de réductions de valeur sur immobilisations incorporelles","Reprises d'amortissements et de réductions de valeur sur immobilisations incorporelles","7600"]
["7712","Reprises de provisions fiscales","Reprises de provisions fiscales","7712"]
["762","Reprises de provisions pour risques et charges exceptionnelles","Reprises de provisions pour risques et charges exceptionnelles","762"]
["761","Reprises de réductions de valeur sur immobilisations financières","Reprises de réductions de valeur sur immobilisations financières","761"]
["6511","Reprises Réductions de valeur sur actifs circulants","Reprises Réductions de valeur sur actifs circulants","6511"]
["6331","Reprises Réductions de valeur sur créances commerciales à plus d'un an","Reprises Réductions de valeur sur créances commerciales à plus d'un an","6331"]
["6341","Reprises Réductions de valeur sur créances commerciales à un an au plus","Reprises Réductions de valeur sur créances commerciales à un an au plus","6341"]
["6311","Reprises Réductions de valeur sur stocks","Reprises Réductions de valeur sur stocks","6311"]
[614160,"Restaurantkosten buitenland","Restaurants à l'étranger",614160]
[614150,"Restaurantkosten binnenland","Restaurants Belges",614150]
[612430,"Retraite","Retraite - récollection",612430]
["613","Rétributions de tiers","Rétributions de tiers","613"]
["748","Revenus de Locations diverses à caractère professionnel","Revenus de Locations diverses à caractère professionnel","748"]
["7710","Revenus de Régularisations d'impôts dus ou versés","Revenus de Régularisations d'impôts dus ou versés","7710"]
["7711","Revenus de Régularisations d'impôts estimés","Revenus de Régularisations d'impôts estimés","7711"]
["7500","Revenus des actions","Revenus des actions","7500"]
["7502","Revenus des créances à plus d'un an","Revenus des créances à plus d'un an","7502"]
["747","Revenus des immeubles affectés aux activités non professionnelles","Revenus des immeubles affectés aux activités non professionnelles","747"]
["773","Revenus des Impôts étrangers sur le résultat","Revenus des Impôts étrangers sur le résultat","773"]
["7501","Revenus des obligations","Revenus des obligations","7501"]
["757","Revenus d'Escomptes obtenus","Revenus d'Escomptes obtenus","757"]
["771","Revenus d'Impôts belges sur le résultat","Revenus d'Impôts belges sur le résultat","771"]
[640550,"Sabam / Auteursrechten","Sabam / droits d'auteurs",640550]
[612400,"Avondmaal","Sainte Cêne",612400]
["62311","Salaire hebdomadaire garanti","Salaire hebdomadaire garanti","62311"]
[620000,"Bezoldigingen","Salaires",620000]
["61","SERVICES ET BIENS DIVERS ","SERVICES ET BIENS DIVERS ","61"]
["603","Sous-traitances générales","Sous-traitances générales","603"]
["615","Sous-traitants","Sous-traitants","615"]
["6151","Sous-traitants d'associations momentanées (coparticipants)","Sous-traitants d'associations momentanées (coparticipants)","6151"]
["6150","Sous-traitants pour activités propres","Sous-traitants pour activités propres","6150"]
[430040,"Straight loan","Straight loan",430040]
["740","Subsides d'exploitation et montants compensatoires","Subsides d'exploitation et montants compensatoires","740"]
["753","Subsides en capital et en intérêts reçus","Subsides en capital et en intérêts reçus","753"]
["6710","Suppléments d'impôts dus ou versés","Suppléments d'impôts dus ou versés","6710"]
["6711","Suppléments d'impôts estimés","Suppléments d'impôts estimés","6711"]
["451","T.V.A. à payer","T.V.A. à payer","451"]
["4511","T.V.A. déductible","T.V.A. déductible","4511"]
["4510","T.V.A. due","T.V.A. due","4510"]
["64012","T.V.A. non déductible","T.V.A. non déductible","64012"]
[730600,"Boekentafels en verkoop","Table de littérature",730600]
[640120,"Belasting o/inverkeersstelling","Taxe de mise en circulation",640120]
[640300,"Patrimoniumtaks","Taxe de patrimoine",640300]
["4518","Taxe d'égalisation due","Taxe d'égalisation due","4518"]
[640110,"Verkeersbelasting P.W.","Taxe immatriculation - auto",640110]
["64020","Taxe sur la force motrice","Taxe sur la force motrice","64020"]
["64021","Taxe sur le personnel occupé","Taxe sur le personnel occupé","64021"]
[640500,"Provincie- & gemeentebelasting","Taxes communales & provinciales",640500]
["6403","Taxes diverses","Taxes diverses","6403"]
["6400","Taxes et impôts directs","Taxes et impôts directs","6400"]
["6401","Taxes et impôts indirects","Taxes et impôts indirects","6401"]
["64000","Taxes sur autos et camions","Taxes sur autos et camions","64000"]
[612170,"TV Distributie","Télédistribution",612170]
["61211","Télégrammes","Télégrammes","61211"]
["61210","Téléphone","Téléphone","61210"]
[612000,"Telefoon, fax en internet - Kerk","Téléphone, fax & internet - Eglise",612000]
[612010,"Telefoon, fax en internet - Dominee","Téléphone, fax & internet - Pasteur",612010]
["6121","Téléphone, télégrammes, télex, téléfax, frais postaux","Téléphone, télégrammes, télex, téléfax, frais postaux","6121"]
["61212","Télex et téléfax","Télex et téléfax","61212"]
["64010","Timbres fiscaux pris en charge par la firme","Timbres fiscaux pris en charge par la firme","64010"]
[730900,"Banktransfert","Transfert bancaire - 730900",730900]
["68","TRANSFERTS AUX RESERVES IMMUNISEES ","TRANSFERTS AUX RESERVES IMMUNISEES ","68"]
["61330","Transports de personnel","Transports de personnel","61330"]
["6133","Transports et déplacements","Transports et déplacements","6133"]
["61203","Vapeur","Vapeur","61203"]
["71","VARIATION DES STOCKS ET DES COMMANDES EN COURS D'EXECUTION ","VARIATION DES STOCKS ET DES COMMANDES EN COURS D'EXECUTION ","71"]
["71710","Variation des stocks sur commandes en cours d'exécution","Variation des stocks sur commandes en cours d'exécution","71710"]
["71711","Variation des stocks sur travaux en cours des associations momentanées","Variation des stocks sur travaux en cours des associations momentanées","71711"]
["609","Variations de stocks","Variations de stocks","609"]
["6091","Variations de stocks de fournitures","Variations de stocks de fournitures","6091"]
["6094","Variations de stocks de marchandises","Variations de stocks de marchandises","6094"]
["6090","Variations de stocks de matières premières","Variations de stocks de matières premières","6090"]
["6095","Variations de stocks d'immeubles destinés à la vente","Variations de stocks d'immeubles destinés à la vente","6095"]
[580000,"Interne overboekingen","Virements internes",580000]
[614110,"Verpl. & reiskosten buitenland","Voyages & déplac. à l'étranger",614110]
[614100,"Verpl. & reiskosten binnenland ","Voyages & déplacements (B)",614100]
["61331","Voyages, déplacements, représentations","Voyages, déplacements, représentations","61331"]

{"sheet":"Feuil1","index":13,"n_rows":149,"n_cols":3,"rows_kept":149,"hidden":true}
["      Codes","Nederlands","Français"]
[100000,null,"Fonds associatifs - Patrimoine de départ"]
[101000,null,"Fonds (Moyens) permanents ( Dons, Libéralités & Subsides )"]
[101100,null,"Moyens permanents reçus en espèces"]
[101200,"Fondsen van","Moyens permanents reçus en nature"]
[130000,"Fondsen ","Fonds affectés pour investissements"]
[131000,"Fondsen van","Fonds affectés pour passif social"]
[132000,null,"Autres fonds affectés"]
[173000,"Schulden onroerende","Crédit hypothécaire"]
[174100,"Overige leningen - verschuldigde MIB","Autres emprunts - dûs au MIB"]
[212010,"Licenties (software)","Licence (software)"]
[221002,"Gebouw - Kerk","Bâtiment - Eglise"]
[240000,"Meubilair & Kantoormachines","Mobilier & Machines"]
[240010,"Computermaterieel","Ordinateur"]
[240020,"Meubilair","Mobiliers "]
[240030,"Kantoormachines","Machines"]
[241010,"Bedrijfswagens","Matériel roulant : camions e.a"]
[241015,"Personenwagens","Matériel roulant : voitures"]
[291200,"Aide aux pasteurs (à recevoir pour MIB)","Aide aux pasteurs (à recevoir pour MIB)"]
[406000,"Vooruitbetalingen","Acomptes versés"]
[407000,"Dubieuze debiteuren","Créances douteuses"]
[410000,"Bijdragen.,niet gestorte","Cotisations non versées"]
[412000,"Vordering Notaris Muylle","Créance Notaire Muylle"]
[416200,"R/C vennoot in een vzw","Compte courant / Membre = prêt à un membre"]
[416300,"R/C bestuurders, zaakvoerders","Compte courant / Administrateur = prêt à un administrateur"]
[416700,"Vorderingen o/openb. besturen","Créances s/pouvoirs publics"]
[418000,"Borgtochten betaald in contant","Cautionnements versés e/numér."]
[420000,"Leasingsschulden < 1 jaar","Dettes >1 an échéant d/l'année"]
[424000,"Overige leningen","Autres emprunts"]
[429200,"Over. schulden best,zaakv,venn","Dettes envers Administrateurs, Membres"]
[430040,"Straight loan","Straight loan"]
[440000,"Leveranciers","Fournisseurs"]
[452500,"Onroerende voorheffing","Dette - Précompte immobilier"]
[452510,"Gemeente en Provinciale belastingen","Dette - Taxes communales & provinciales"]
[452530,"Overige belastingen en taksen","Dette - Autres impots & taxes"]
[455020,"Loon","Salaires"]
[456100,"Voorziening vakantiegeld","Povisions pour pécule de vacan"]
[489700,"Schulden aan VIM vzw","Dettes VIM VZW"]
[490000,"Over te dragen kosten","Charges à reporter"]
[493000,"Over te dragen opbrengsten","Produits à reporter"]
[499000,"Wachtrekening","Comptes d'attente"]
[550000,"Bank","Banque"]
[570000,"Kas","Caisse"]
[580000,"Interne overboekingen","Virements internes"]
[611110,"Huur terreinen","Location terrain"]
[611120,"Huur gebouwen","Loyer immeuble"]
[611125,"Huur parking","Location parking"]
[611130,"Huur inst., mach. & gereedsch.","Location installation, machine & outillage"]
[611135,"Huur container","Location container"]
[611150,"Huur bedrijfswagens","Location matériel roulant - camoin"]
[611151,"Huur personenwagens","Location matériel roulant - auto"]
[611200,"Buitenlandse leasing","Leasing - Location financement"]
[611310,"Onderhoud-herstellingen  ","Entretien & réparation terrain"]
[611320,"Onderhoud-herstellingen  ","Entretien & réparation bâtIment"]
[611330,"Onderhoud-herstellingen  ","Entretien & réparation instal. machine & outillage"]
[611340,"Onderhoud-herstellingen  ","Entretien & réparation mobilier"]
[611350,"Onderhoud-herstellingen  ","Entretien & réparation matériel roulant - camion"]
[611351,"Onderhoud-herstellingen  ","Entretien & réparation matériel roulant - auto"]
[611360,"Onderhoud-herstellingen  ","Entretien & réparation matériel de bureau"]
[611390,"Onderhoud-herstellingen","Ramassage de déchets"]
[612000,"Telefoon, fax en internet - Kerk","Téléphone, fax & internet - Eglise"]
[612010,"Telefoon, fax en internet - Dominee","Téléphone, fax & internet - Pasteur"]
[612120,"Electriciteit en Gas","Electricité & Gaz"]
[612130,"Water","Eau"]
[612160,"Verwarming","Chauffage"]
[612170,"TV Distributie","Télédistribution"]
[612225,"Onderhoudsprodukten","Produits d'entretien "]
[612229,"Groot gereedschap","Grand outillage - achat"]
[612230,"Klein gereedschap","Petit outillage - achat"]
[612231,"Animatiemateriaal","Achat matériel d'animation"]
[612240,"Kantoorbenodigdheden","Fourniture de bureau"]
[612300,"Aankoop van literatuur","Livres, périodiques, documentations,.."]
[612400,"Avondmaal","Sainte Cêne"]
[612410,"Agape - Broederlijke gemeenschap","Agape - communion fraternelle"]
[612420,"Plechtige vieringen ( Kerst, Pasen, ..)","Fêtes Solennelles ( Noêl, Pâques, ..)"]
[612430,"Retraite","Retraite - récollection"]
[612440,"Organist / Koorzangers","Organistes / Choristes"]
[612500,"Diaconie (Speciale collecten)","Diaconie (Offrandes spéciales)"]
[612510,"Diaconie (Voedselbank)","Diaconie (Banque alimentaire)"]
[612520,"Diaconie (Gerichte hulp)","Diaconie (Secours ponctuels)"]
[612530,"Diaconie (PUCIS)","Diaconie (CUPEI)"]
[612540,"Diaconie (Geschenken voor bepaalde gebeurtenissen)","Diaconie (Cadeaux événementiels)"]
[612550,"Reisvergoedingen","Frais de déplacement"]
[612560,"Terugbetaling (vrijwilliger(ster)s)","Défraiement (bénévoles)"]
[613100,"Verzekeringen","Assurances"]
[613130,"Verzekeringen jongkamp","Assurances camp de jeunesse"]
[613210,"Administratie","Administration"]
[613211,"Honoraria advocaten","Honoraires avocats"]
[613212,"Honoraria notaris","Honoraires notaires"]
[613214,"Honoraria ????","Honoraires experts"]
[613215,"Honoraria accountants","Honoraires comptables"]
[613216,"Honoraria bedrijfsrevisoren","Honoraires reviseurs d'entreprise"]
[613217,"Honoraria architecten","Honoraires architectes"]
[613220,"Pastorale kosten","Frais pastoraux - toges - habits de céremonie"]
[613230,"Andere kosten","Autres frais"]
[613240,"Terugbetaling inschrijving voor kampen","Remboursement inscriptions aux camps"]
[613248,"Evangelisatie","Evangélisation"]
[613249,"Zondagsschool","Ecole du dimanche"]
[613250,"Jeugdgroep","Groupe des jeunes - Jeunesse"]
[613251,"Vrouwenkring","Groupe des dames"]
[613252,"Mannenkring","Groupe des hommes"]
[613253,"Diversen","Divers"]
[613260,"Vergoeding vervangers","PAF pasteur visiteur"]
[614100,"Verpl. & reiskosten binnenland ","Voyages & déplacements (B)"]
[614110,"Verpl. & reiskosten buitenland","Voyages & déplac. à l'étranger"]
[614150,"Restaurantkosten binnenland","Restaurants Belges"]
[614160,"Restaurantkosten buitenland","Restaurants à l'étranger"]
[614210,"Affiches,folders,catalogi,adve","Affiches,dépliants,catal.,ann."]
[614230,"Decoratie-bloemen-geschenken","Décoration-fleurs-cadeaux"]
[614400,"Bijdragen","Participation aux frais"]
[614410,"Solidariteitsbijdrage","Cotisation de solidarité"]
[614420,"Deelnemingskosten","Participation aux frais"]
[614500,"Gaven - Steun aan de zending - Ondersteuning","Dons - Soutien mission - entraide"]
[614700,"Participatie Wedden","Participation aux salaires"]
[620000,"Bezoldigingen","Salaires"]
[620100,"Bezoldiging Directiepersoneel","Appointement - Direction"]
[620210,"Bezoldigingen","Appointement - Employés"]
[630000,"T / afschrijvingen","Dotations aux amortissements"]
[640110,"Verkeersbelasting P.W.","Taxe immatriculation - auto"]
[640120,"Belasting o/inverkeersstelling","Taxe de mise en circulation"]
[640300,"Patrimoniumtaks","Taxe de patrimoine"]
[640400,"Roerende Voorheffing","Droits d'enregistrement"]
[640500,"Provincie- & gemeentebelasting","Taxes communales & provinciales"]
[640550,"Sabam / Auteursrechten","Sabam / droits d'auteurs"]
[645100,"Wettelijke formaliteiten","Formalités légales & administratives"]
[646400,"Verhuiskosten","Frais de déménagement"]
[650000,"Bankintresten","Intérêts bancaires"]
[650900,"Interest krediet","Intérêts crédit - emprunt"]
[656000,"Bankkosten  ","Frais bancaires"]
[656090,"Handlichtingskosten","Frais Mainlevée"]
[656200,"Betalingsverschillen (-)","Différences de paiements (-)"]
[662000,"Voorzien.uitz.risico's & kost.","Prov.risques & charges except."]
[670010,"Roerende Voorheffing","Précompte mobilier"]
[730400,"Collecten","Collectes - Offrandes"]
[730500,"Diverse gaven","Dons divers"]
[730600,"Boekentafels en verkoop","Table de littérature"]
[730700,"Andere ontvangsten","Autres recettes"]
[730710,"Diaconie (Speciale collecten)","Diaconie (Offrandes spéciales)"]
[730720,"Diaconie (Voedselbank)","Diaconie (Banque alimentaire)"]
[730730,"Diaconie (Gerichte hulp)","Diaconie (Secours ponctuels)"]
[730740,"Diaconie (PUCIS)","Diaconie (CUPEI)"]
[730750,"Diaconie (Geschenken voor bepaalde gebeurtenissen)","Diaconie (Cadeaux événementiels)"]
[730800,"Deelneming kampen Jongerenafdeling","Contributions camp des jeunes"]
[730810,"Deelneming kampen Kinderenafdeling","Contributions camp des enfants"]
[730900,"Spaarplan","Plan d'épargne"]
[730900,"Banktransfert","Transfert bancaire"]
[750100,"Bankintresten","Intérêts bancaires"]
[751300,"Bankintresten  ","Intérêts bancaires"]
[756200,"Betalingsverschil (positief)","Différence de paiement (+)"]

{"sheet":"Feuil2","index":14,"n_rows":149,"n_cols":3,"rows_kept":149,"hidden":true}
["      Codes","Nederlands","Français"]
[100000,null,"Fonds associatifs - Patrimoine de départ"]
[101000,null,"Fonds (Moyens) permanents ( Dons, Libéralités & Subsides )"]
[101100,null,"Moyens permanents reçus en espèces"]
[101200,"Fondsen van","Moyens permanents reçus en nature"]
[130000,"Fondsen ","Fonds affectés pour investissements"]
[131000,"Fondsen van","Fonds affectés pour passif social"]
[132000,null,"Autres fonds affectés"]
[173000,"Schulden onroerende","Crédit hypothécaire"]
[174100,"Overige leningen - verschuldigde MIB","Autres emprunts - dûs au MIB"]
[212010,"Licenties (software)","Licence (software)"]
[221002,"Gebouw - Kerk","Bâtiment - Eglise"]
[240000,"Meubilair & Kantoormachines","Mobilier & Machines"]
[240010,"Computermaterieel","Ordinateur"]
[240020,"Meubilair","Mobiliers "]
[240030,"Kantoormachines","Machines"]
[241010,"Bedrijfswagens","Matériel roulant : camions e.a"]
[241015,"Personenwagens","Matériel roulant : voitures"]
[291200,"Aide aux pasteurs (à recevoir pour MIB)","Aide aux pasteurs (à recevoir pour MIB)"]
[406000,"Vooruitbetalingen","Acomptes versés"]
[407000,"Dubieuze debiteuren","Créances douteuses"]
[410000,"Bijdragen.,niet gestorte","Cotisations non versées"]
[412000,"Vordering Notaris Muylle","Créance Notaire Muylle"]
[416200,"R/C vennoot in een vzw","Compte courant / Membre = prêt à un membre"]
[416300,"R/C bestuurders, zaakvoerders","Compte courant / Administrateur = prêt à un administrateur"]
[416700,"Vorderingen o/openb. besturen","Créances s/pouvoirs publics"]
[418000,"Borgtochten betaald in contant","Cautionnements versés e/numér."]
[420000,"Leasingsschulden < 1 jaar","Dettes >1 an échéant d/l'année"]
[424000,"Overige leningen","Autres emprunts"]
[429200,"Over. schulden best,zaakv,venn","Dettes envers Administrateurs, Membres"]
[430040,"Straight loan","Straight loan"]
[440000,"Leveranciers","Fournisseurs"]
[452500,"Onroerende voorheffing","Dette - Précompte immobilier"]
[452510,"Gemeente en Provinciale belastingen","Dette - Taxes communales & provinciales"]
[452530,"Overige belastingen en taksen","Dette - Autres impots & taxes"]
[455020,"Loon","Salaires"]
[456100,"Voorziening vakantiegeld","Povisions pour pécule de vacan"]
[489700,"Schulden aan VIM vzw","Dettes VIM VZW"]
[490000,"Over te dragen kosten","Charges à reporter"]
[493000,"Over te dragen opbrengsten","Produits à reporter"]
[499000,"Wachtrekening","Comptes d'attente"]
[550000,"Bank","Banque"]
[570000,"Kas","Caisse"]
[580000,"Interne overboekingen","Virements internes"]
[611110,"Huur terreinen","Location terrain"]
[611120,"Huur gebouwen","Loyer immeuble"]
[611125,"Huur parking","Location parking"]
[611130,"Huur inst., mach. & gereedsch.","Location installation, machine & outillage"]
[611135,"Huur container","Location container"]
[611150,"Huur bedrijfswagens","Location matériel roulant - camoin"]
[611151,"Huur personenwagens","Location matériel roulant - auto"]
[611200,"Buitenlandse leasing","Leasing - Location financement"]
[611310,"Onderhoud-herstellingen  ","Entretien & réparation terrain"]
[611320,"Onderhoud-herstellingen  ","Entretien & réparation bâtIment"]
[611330,"Onderhoud-herstellingen  ","Entretien & réparation instal. machine & outillage"]
[611340,"Onderhoud-herstellingen  ","Entretien & réparation mobilier"]
[611350,"Onderhoud-herstellingen  ","Entretien & réparation matériel roulant - camion"]
[611351,"Onderhoud-herstellingen  ","Entretien & réparation matériel roulant - auto"]
[611360,"Onderhoud-herstellingen  ","Entretien & réparation matériel de bureau"]
[611390,"Onderhoud-herstellingen","Ramassage de déchets"]
[612000,"Telefoon, fax en internet - Kerk","Téléphone, fax & internet - Eglise"]
[612010,"Telefoon, fax en internet - Dominee","Téléphone, fax & internet - Pasteur"]
[612120,"Electriciteit en Gas","Electricité & Gaz"]
[612130,"Water","Eau"]
[612160,"Verwarming","Chauffage"]
[612170,"TV Distributie","Télédistribution"]
[612225,"Onderhoudsprodukten","Produits d'entretien "]
[612229,"Groot gereedschap","Grand outillage - achat"]
[612230,"Klein gereedschap","Petit outillage - achat"]
[612231,"Animatiemateriaal","Achat matériel d'animation"]
[612240,"Kantoorbenodigdheden","Fourniture de bureau"]
[612300,"Aankoop van literatuur","Livres, périodiques, documentations,.."]
[612400,"Avondmaal","Sainte Cêne"]
[612410,"Agape - Broederlijke gemeenschap","Agape - communion fraternelle"]
[612420,"Plechtige vieringen ( Kerst, Pasen, ..)","Fêtes Solennelles ( Noêl, Pâques, ..)"]
[612430,"Retraite","Retraite - récollection"]
[612440,"Organist / Koorzangers","Organistes / Choristes"]
[612500,"Diaconie (Speciale collecten)","Diaconie (Offrandes spéciales)"]
[612510,"Diaconie (Voedselbank)","Diaconie (Banque alimentaire)"]
[612520,"Diaconie (Gerichte hulp)","Diaconie (Secours ponctuels)"]
[612530,"Diaconie (PUCIS)","Diaconie (CUPEI)"]
[612540,"Diaconie (Geschenken voor bepaalde gebeurtenissen)","Diaconie (Cadeaux événementiels)"]
[612550,"Reisvergoedingen","Frais de déplacement"]
[612560,"Terugbetaling (vrijwilliger(ster)s)","Défraiement (bénévoles)"]
[613100,"Verzekeringen","Assurances"]
[613130,"Verzekeringen jongkamp","Assurances camp de jeunesse"]
[613210,"Administratie","Administration"]
[613211,"Honoraria advocaten","Honoraires avocats"]
[613212,"Honoraria notaris","Honoraires notaires"]
[613214,"Honoraria ????","Honoraires experts"]
[613215,"Honoraria accountants","Honoraires comptables"]
[613216,"Honoraria bedrijfsrevisoren","Honoraires reviseurs d'entreprise"]
[613217,"Honoraria architecten","Honoraires architectes"]
[613220,"Pastorale kosten","Frais pastoraux - toges - habits de céremonie"]
[613230,"Andere kosten","Autres frais"]
[613240,"Terugbetaling inschrijving voor kampen","Remboursement inscriptions aux camps"]
[613248,"Evangelisatie","Evangélisation"]
[613249,"Zondagsschool","Ecole du dimanche"]
[613250,"Jeugdgroep","Groupe des jeunes - Jeunesse"]
[613251,"Vrouwenkring","Groupe des dames"]
[613252,"Mannenkring","Groupe des hommes"]
[613253,"Diversen","Divers"]
[613260,"Vergoeding vervangers","PAF pasteur visiteur"]
[614100,"Verpl. & reiskosten binnenland ","Voyages & déplacements (B)"]
[614110,"Verpl. & reiskosten buitenland","Voyages & déplac. à l'étranger"]
[614150,"Restaurantkosten binnenland","Restaurants Belges"]
[614160,"Restaurantkosten buitenland","Restaurants à l'étranger"]
[614210,"Affiches,folders,catalogi,adve","Affiches,dépliants,catal.,ann."]
[614230,"Decoratie-bloemen-geschenken","Décoration-fleurs-cadeaux"]
[614400,"Bijdragen","Participation aux frais"]
[614410,"Solidariteitsbijdrage","Cotisation de solidarité"]
[614420,"Deelnemingskosten","Participation aux frais"]
[614500,"Gaven - Steun aan de zending - Ondersteuning","Dons - Soutien mission - entraide"]
[614700,"Participatie Wedden","Participation aux salaires"]
[620000,"Bezoldigingen","Salaires"]
[620100,"Bezoldiging Directiepersoneel","Appointement - Direction"]
[620210,"Bezoldigingen","Appointement - Employés"]
[630000,"T / afschrijvingen","Dotations aux amortissements"]
[640110,"Verkeersbelasting P.W.","Taxe immatriculation - auto"]
[640120,"Belasting o/inverkeersstelling","Taxe de mise en circulation"]
[640300,"Patrimoniumtaks","Taxe de patrimoine"]
[640400,"Roerende Voorheffing","Droits d'enregistrement"]
[640500,"Provincie- & gemeentebelasting","Taxes communales & provinciales"]
[640550,"Sabam / Auteursrechten","Sabam / droits d'auteurs"]
[645100,"Wettelijke formaliteiten","Formalités légales & administratives"]
[646400,"Verhuiskosten","Frais de déménagement"]
[650000,"Bankintresten","Intérêts bancaires"]
[650900,"Interest krediet","Intérêts crédit - emprunt"]
[656000,"Bankkosten  ","Frais bancaires"]
[656090,"Handlichtingskosten","Frais Mainlevée"]
[656200,"Betalingsverschillen (-)","Différences de paiements (-)"]
[662000,"Voorzien.uitz.risico's & kost.","Prov.risques & charges except."]
[670010,"Roerende Voorheffing","Précompte mobilier"]
[730400,"Collecten","Collectes - Offrandes"]
[730500,"Diverse gaven","Dons divers"]
[730600,"Boekentafels en verkoop","Table de littérature"]
[730700,"Andere ontvangsten","Autres recettes"]
[730710,"Diaconie (Speciale collecten)","Diaconie (Offrandes spéciales)"]
[730720,"Diaconie (Voedselbank)","Diaconie (Banque alimentaire)"]
[730730,"Diaconie (Gerichte hulp)","Diaconie (Secours ponctuels)"]
[730740,"Diaconie (PUCIS)","Diaconie (CUPEI)"]
[730750,"Diaconie (Geschenken voor bepaalde gebeurtenissen)","Diaconie (Cadeaux événementiels)"]
[730800,"Deelneming kampen Jongerenafdeling","Contributions camp des jeunes"]
[730810,"Deelneming kampen Kinderenafdeling","Contributions camp des enfants"]
[730900,"Spaarplan","Plan d'épargne"]
[730900,"Banktransfert","Transfert bancaire"]
[750100,"Bankintresten","Intérêts bancaires"]
[751300,"Bankintresten  ","Intérêts bancaires"]
[756200,"Betalingsverschil (positief)","Différence de paiement (+)"]

{"sheet":"Feuil3","index":15,"n_rows":149,"n_cols":3,"rows_kept":149,"hidden":true}
["      Codes","Nederlands","Français"]
[100000,null,"Fonds associatifs - Patrimoine de départ"]
[101000,null,"Fonds (Moyens) permanents ( Dons, Libéralités & Subsides )"]
[101100,null,"Moyens permanents reçus en espèces"]
[101200,"Fondsen van","Moyens permanents reçus en nature"]
[130000,"Fondsen ","Fonds affectés pour investissements"]
[131000,"Fondsen van","Fonds affectés pour passif social"]
[132000,null,"Autres fonds affectés"]
[173000,"Schulden onroerende","Crédit hypothécaire"]
[174100,"Overige leningen - verschuldigde MIB","Autres emprunts - dûs au MIB"]
[212010,"Licenties (software)","Licence (software)"]
[221002,"Gebouw - Kerk","Bâtiment - Eglise"]
[240000,"Meubilair & Kantoormachines","Mobilier & Machines"]
[240010,"Computermaterieel","Ordinateur"]
[240020,"Meubilair","Mobiliers "]
[240030,"Kantoormachines","Machines"]
[241010,"Bedrijfswagens","Matériel roulant : camions e.a"]
[241015,"Personenwagens","Matériel roulant : voitures"]
[291200,"Aide aux pasteurs (à recevoir pour MIB)","Aide aux pasteurs (à recevoir pour MIB)"]
[406000,"Vooruitbetalingen","Acomptes versés"]
[407000,"Dubieuze debiteuren","Créances douteuses"]
[410000,"Bijdragen.,niet gestorte","Cotisations non versées"]
[412000,"Vordering Notaris Muylle","Créance Notaire Muylle"]
[416200,"R/C vennoot in een vzw","Compte courant / Membre = prêt à un membre"]
[416300,"R/C bestuurders, zaakvoerders","Compte courant / Administrateur = prêt à un administrateur"]
[416700,"Vorderingen o/openb. besturen","Créances s/pouvoirs publics"]
[418000,"Borgtochten betaald in contant","Cautionnements versés e/numér."]
[420000,"Leasingsschulden < 1 jaar","Dettes >1 an échéant d/l'année"]
[424000,"Overige leningen","Autres emprunts"]
[429200,"Over. schulden best,zaakv,venn","Dettes envers Administrateurs, Membres"]
[430040,"Straight loan","Straight loan"]
[440000,"Leveranciers","Fournisseurs"]
[452500,"Onroerende voorheffing","Dette - Précompte immobilier"]
[452510,"Gemeente en Provinciale belastingen","Dette - Taxes communales & provinciales"]
[452530,"Overige belastingen en taksen","Dette - Autres impots & taxes"]
[455020,"Loon","Salaires"]
[456100,"Voorziening vakantiegeld","Povisions pour pécule de vacan"]
[489700,"Schulden aan VIM vzw","Dettes VIM VZW"]
[490000,"Over te dragen kosten","Charges à reporter"]
[493000,"Over te dragen opbrengsten","Produits à reporter"]
[499000,"Wachtrekening","Comptes d'attente"]
[550000,"Bank","Banque"]
[570000,"Kas","Caisse"]
[580000,"Interne overboekingen","Virements internes"]
[611110,"Huur terreinen","Location terrain"]
[611120,"Huur gebouwen","Loyer immeuble"]
[611125,"Huur parking","Location parking"]
[611130,"Huur inst., mach. & gereedsch.","Location installation, machine & outillage"]
[611135,"Huur container","Location container"]
[611150,"Huur bedrijfswagens","Location matériel roulant - camoin"]
[611151,"Huur personenwagens","Location matériel roulant - auto"]
[611200,"Buitenlandse leasing","Leasing - Location financement"]
[611310,"Onderhoud-herstellingen  ","Entretien & réparation terrain"]
[611320,"Onderhoud-herstellingen  ","Entretien & réparation bâtIment"]
[611330,"Onderhoud-herstellingen  ","Entretien & réparation instal. machine & outillage"]
[611340,"Onderhoud-herstellingen  ","Entretien & réparation mobilier"]
[611350,"Onderhoud-herstellingen  ","Entretien & réparation matériel roulant - camion"]
[611351,"Onderhoud-herstellingen  ","Entretien & réparation matériel roulant - auto"]
[611360,"Onderhoud-herstellingen  ","Entretien & réparation matériel de bureau"]
[611390,"Onderhoud-herstellingen","Ramassage de déchets"]
[612000,"Telefoon, fax en internet - Kerk","Téléphone, fax & internet - Eglise"]
[612010,"Telefoon, fax en internet - Dominee","Téléphone, fax & internet - Pasteur"]
[612120,"Electriciteit en Gas","Electricité & Gaz"]
[612130,"Water","Eau"]
[612160,"Verwarming","Chauffage"]
[612170,"TV Distributie","Télédistribution"]
[612225,"Onderhoudsprodukten","Produits d'entretien "]
[612229,"Groot gereedschap","Grand outillage - achat"]
[612230,"Klein gereedschap","Petit outillage - achat"]
[612231,"Animatiemateriaal","Achat matériel d'animation"]
[612240,"Kantoorbenodigdheden","Fourniture de bureau"]
[612300,"Aankoop van literatuur","Livres, périodiques, documentations,.."]
[612400,"Avondmaal","Sainte Cêne"]
[612410,"Agape - Broederlijke gemeenschap","Agape - communion fraternelle"]
[612420,"Plechtige vieringen ( Kerst, Pasen, ..)","Fêtes Solennelles ( Noêl, Pâques, ..)"]
[612430,"Retraite","Retraite - récollection"]
[612440,"Organist / Koorzangers","Organistes / Choristes"]
[612500,"Diaconie (Speciale collecten)","Diaconie (Offrandes spéciales)"]
[612510,"Diaconie (Voedselbank)","Diaconie (Banque alimentaire)"]
[612520,"Diaconie (Gerichte hulp)","Diaconie (Secours ponctuels)"]
[612530,"Diaconie (PUCIS)","Diaconie (CUPEI)"]
[612540,"Diaconie (Geschenken voor bepaalde gebeurtenissen)","Diaconie (Cadeaux événementiels)"]
[612550,"Reisvergoedingen","Frais de déplacement"]
[612560,"Terugbetaling (vrijwilliger(ster)s)","Défraiement (bénévoles)"]
[613100,"Verzekeringen","Assurances"]
[613130,"Verzekeringen jongkamp","Assurances camp de jeunesse"]
[613210,"Administratie","Administration"]
[613211,"Honoraria advocaten","Honoraires avocats"]
[613212,"Honoraria notaris","Honoraires notaires"]
[613214,"Honoraria ????","Honoraires experts"]
[613215,"Honoraria accountants","Honoraires comptables"]
[613216,"Honoraria bedrijfsrevisoren","Honoraires reviseurs d'entreprise"]
[613217,"Honoraria architecten","Honoraires architectes"]
[613220,"Pastorale kosten","Frais pastoraux - toges - habits de céremonie"]
[613230,"Andere kosten","Autres frais"]
[613240,"Terugbetaling inschrijving voor kampen","Remboursement inscriptions aux camps"]
[613248,"Evangelisatie","Evangélisation"]
[613249,"Zondagsschool","Ecole du dimanche"]
[613250,"Jeugdgroep","Groupe des jeunes - Jeunesse"]
[613251,"Vrouwenkring","Groupe des dames"]
[613252,"Mannenkring","Groupe des hommes"]
[613253,"Diversen","Divers"]
[613260,"Vergoeding vervangers","PAF pasteur visiteur"]
[614100,"Verpl. & reiskosten binnenland ","Voyages & déplacements (B)"]
[614110,"Verpl. & reiskosten buitenland","Voyages & déplac. à l'étranger"]
[614150,"Restaurantkosten binnenland","Restaurants Belges"]
[614160,"Restaurantkosten buitenland","Restaurants à l'étranger"]
[614210,"Affiches,folders,catalogi,adve","Affiches,dépliants,catal.,ann."]
[614230,"Decoratie-bloemen-geschenken","Décoration-fleurs-cadeaux"]
[614400,"Bijdragen","Participation aux frais"]
[614410,"Solidariteitsbijdrage","Cotisation de solidarité"]
[614420,"Deelnemingskosten","Participation aux frais"]
[614500,"Gaven - Steun aan de zending - Ondersteuning","Dons - Soutien mission - entraide"]
[614700,"Participatie Wedden","Participation aux salaires"]
[620000,"Bezoldigingen","Salaires"]
[620100,"Bezoldiging Directiepersoneel","Appointement - Direction"]
[620210,"Bezoldigingen","Appointement - Employés"]
[630000,"T / afschrijvingen","Dotations aux amortissements"]
[640110,"Verkeersbelasting P.W.","Taxe immatriculation - auto"]
[640120,"Belasting o/inverkeersstelling","Taxe de mise en circulation"]
[640300,"Patrimoniumtaks","Taxe de patrimoine"]
[640400,"Roerende Voorheffing","Droits d'enregistrement"]
[640500,"Provincie- & gemeentebelasting","Taxes communales & provinciales"]
[640550,"Sabam / Auteursrechten","Sabam / droits d'auteurs"]
[645100,"Wettelijke formaliteiten","Formalités légales & administratives"]
[646400,"Verhuiskosten","Frais de déménagement"]
[650000,"Bankintresten","Intérêts bancaires"]
[650900,"Interest krediet","Intérêts crédit - emprunt"]
[656000,"Bankkosten  ","Frais bancaires"]
[656090,"Handlichtingskosten","Frais Mainlevée"]
[656200,"Betalingsverschillen (-)","Différences de paiements (-)"]
[662000,"Voorzien.uitz.risico's & kost.","Prov.risques & charges except."]
[670010,"Roerende Voorheffing","Précompte mobilier"]
[730400,"Collecten","Collectes - Offrandes"]
[730500,"Diverse gaven","Dons divers"]
[730600,"Boekentafels en verkoop","Table de littérature"]
[730700,"Andere ontvangsten","Autres recettes"]
[730710,"Diaconie (Speciale collecten)","Diaconie (Offrandes spéciales)"]
[730720,"Diaconie (Voedselbank)","Diaconie (Banque alimentaire)"]
[730730,"Diaconie (Gerichte hulp)","Diaconie (Secours ponctuels)"]
[730740,"Diaconie (PUCIS)","Diaconie (CUPEI)"]
[730750,"Diaconie (Geschenken voor bepaalde gebeurtenissen)","Diaconie (Cadeaux événementiels)"]
[730800,"Deelneming kampen Jongerenafdeling","Contributions camp des jeunes"]
[730810,"Deelneming kampen Kinderenafdeling","Contributions camp des enfants"]
[730900,"Spaarplan","Plan d'épargne"]
[730900,"Banktransfert","Transfert bancaire"]
[750100,"Bankintresten","Intérêts bancaires"]
[751300,"Bankintresten  ","Intérêts bancaires"]
[756200,"Betalingsverschil (positief)","Différence de paiement (+)"]

{"sheet":"Feuil4","index":16,"n_rows":149,"n_cols":3,"rows_kept":149,"hidden":true}
["      Codes","Nederlands","Français"]
[100000,null,"Fonds associatifs - Patrimoine de départ"]
[101000,null,"Fonds (Moyens) permanents ( Dons, Libéralités & Subsides )"]
[101100,null,"Moyens permanents reçus en espèces"]
[101200,"Fondsen van","Moyens permanents reçus en nature"]
[130000,"Fondsen ","Fonds affectés pour investissements"]
[131000,"Fondsen van","Fonds affectés pour passif social"]
[132000,null,"Autres fonds affectés"]
[173000,"Schulden onroerende","Crédit hypothécaire"]
[174100,"Overige leningen - verschuldigde MIB","Autres emprunts - dûs au MIB"]
[212010,"Licenties (software)","Licence (software)"]
[221002,"Gebouw - Kerk","Bâtiment - Eglise"]
[240000,"Meubilair & Kantoormachines","Mobilier & Machines"]
[240010,"Computermaterieel","Ordinateur"]
[240020,"Meubilair","Mobiliers "]
[240030,"Kantoormachines","Machines"]
[241010,"Bedrijfswagens","Matériel roulant : camions e.a"]
[241015,"Personenwagens","Matériel roulant : voitures"]
[291200,"Aide aux pasteurs (à recevoir pour MIB)","Aide aux pasteurs (à recevoir pour MIB)"]
[406000,"Vooruitbetalingen","Acomptes versés"]
[407000,"Dubieuze debiteuren","Créances douteuses"]
[410000,"Bijdragen.,niet gestorte","Cotisations non versées"]
[412000,"Vordering Notaris Muylle","Créance Notaire Muylle"]
[416200,"R/C vennoot in een vzw","Compte courant / Membre = prêt à un membre"]
[416300,"R/C bestuurders, zaakvoerders","Compte courant / Administrateur = prêt à un administrateur"]
[416700,"Vorderingen o/openb. besturen","Créances s/pouvoirs publics"]
[418000,"Borgtochten betaald in contant","Cautionnements versés e/numér."]
[420000,"Leasingsschulden < 1 jaar","Dettes >1 an échéant d/l'année"]
[424000,"Overige leningen","Autres emprunts"]
[429200,"Over. schulden best,zaakv,venn","Dettes envers Administrateurs, Membres"]
[430040,"Straight loan","Straight loan"]
[440000,"Leveranciers","Fournisseurs"]
[452500,"Onroerende voorheffing","Dette - Précompte immobilier"]
[452510,"Gemeente en Provinciale belastingen","Dette - Taxes communales & provinciales"]
[452530,"Overige belastingen en taksen","Dette - Autres impots & taxes"]
[455020,"Loon","Salaires"]
[456100,"Voorziening vakantiegeld","Povisions pour pécule de vacan"]
[489700,"Schulden aan VIM vzw","Dettes VIM VZW"]
[490000,"Over te dragen kosten","Charges à reporter"]
[493000,"Over te dragen opbrengsten","Produits à reporter"]
[499000,"Wachtrekening","Comptes d'attente"]
[550000,"Bank","Banque"]
[570000,"Kas","Caisse"]
[580000,"Interne overboekingen","Virements internes"]
[611110,"Huur terreinen","Location terrain"]
[611120,"Huur gebouwen","Loyer immeuble"]
[611125,"Huur parking","Location parking"]
[611130,"Huur inst., mach. & gereedsch.","Location installation, machine & outillage"]
[611135,"Huur container","Location container"]
[611150,"Huur bedrijfswagens","Location matériel roulant - camoin"]
[611151,"Huur personenwagens","Location matériel roulant - auto"]
[611200,"Buitenlandse leasing","Leasing - Location financement"]
[611310,"Onderhoud-herstellingen  ","Entretien & réparation terrain"]
[611320,"Onderhoud-herstellingen  ","Entretien & réparation bâtIment"]
[611330,"Onderhoud-herstellingen  ","Entretien & réparation instal. machine & outillage"]
[611340,"Onderhoud-herstellingen  ","Entretien & réparation mobilier"]
[611350,"Onderhoud-herstellingen  ","Entretien & réparation matériel roulant - camion"]
[611351,"Onderhoud-herstellingen  ","Entretien & réparation matériel roulant - auto"]
[611360,"Onderhoud-herstellingen  ","Entretien & réparation matériel de bureau"]
[611390,"Onderhoud-herstellingen","Ramassage de déchets"]
[612000,"Telefoon, fax en internet - Kerk","Téléphone, fax & internet - Eglise"]
[612010,"Telefoon, fax en internet - Dominee","Téléphone, fax & internet - Pasteur"]
[612120,"Electriciteit en Gas","Electricité & Gaz"]
[612130,"Water","Eau"]
[612160,"Verwarming","Chauffage"]
[612170,"TV Distributie","Télédistribution"]
[612225,"Onderhoudsprodukten","Produits d'entretien "]
[612229,"Groot gereedschap","Grand outillage - achat"]
[612230,"Klein gereedschap","Petit outillage - achat"]
[612231,"Animatiemateriaal","Achat matériel d'animation"]
[612240,"Kantoorbenodigdheden","Fourniture de bureau"]
[612300,"Aankoop van literatuur","Livres, périodiques, documentations,.."]
[612400,"Avondmaal","Sainte Cêne"]
[612410,"Agape - Broederlijke gemeenschap","Agape - communion fraternelle"]
[612420,"Plechtige vieringen ( Kerst, Pasen, ..)","Fêtes Solennelles ( Noêl, Pâques, ..)"]
[612430,"Retraite","Retraite - récollection"]
[612440,"Organist / Koorzangers","Organistes / Choristes"]
[612500,"Diaconie (Speciale collecten)","Diaconie (Offrandes spéciales)"]
[612510,"Diaconie (Voedselbank)","Diaconie (Banque alimentaire)"]
[612520,"Diaconie (Gerichte hulp)","Diaconie (Secours ponctuels)"]
[612530,"Diaconie (PUCIS)","Diaconie (CUPEI)"]
[612540,"Diaconie (Geschenken voor bepaalde gebeurtenissen)","Diaconie (Cadeaux événementiels)"]
[612550,"Reisvergoedingen","Frais de déplacement"]
[612560,"Terugbetaling (vrijwilliger(ster)s)","Défraiement (bénévoles)"]
[613100,"Verzekeringen","Assurances"]
[613130,"Verzekeringen jongkamp","Assurances camp de jeunesse"]
[613210,"Administratie","Administration"]
[613211,"Honoraria advocaten","Honoraires avocats"]
[613212,"Honoraria notaris","Honoraires notaires"]
[613214,"Honoraria ????","Honoraires experts"]
[613215,"Honoraria accountants","Honoraires comptables"]
[613216,"Honoraria bedrijfsrevisoren","Honoraires reviseurs d'entreprise"]
[613217,"Honoraria architecten","Honoraires architectes"]
[613220,"Pastorale kosten","Frais pastoraux - toges - habits de céremonie"]
[613230,"Andere kosten","Autres frais"]
[613240,"Terugbetaling inschrijving voor kampen","Remboursement inscriptions aux camps"]
[613248,"Evangelisatie","Evangélisation"]
[613249,"Zondagsschool","Ecole du dimanche"]
[613250,"Jeugdgroep","Groupe des jeunes - Jeunesse"]
[613251,"Vrouwenkring","Groupe des dames"]
[613252,"Mannenkring","Groupe des hommes"]
[613253,"Diversen","Divers"]
[613260,"Vergoeding vervangers","PAF pasteur visiteur"]
[614100,"Verpl. & reiskosten binnenland ","Voyages & déplacements (B)"]
[614110,"Verpl. & reiskosten buitenland","Voyages & déplac. à l'étranger"]
[614150,"Restaurantkosten binnenland","Restaurants Belges"]
[614160,"Restaurantkosten buitenland","Restaurants à l'étranger"]
[614210,"Affiches,folders,catalogi,adve","Affiches,dépliants,catal.,ann."]
[614230,"Decoratie-bloemen-geschenken","Décoration-fleurs-cadeaux"]
[614400,"Bijdragen","Participation aux frais"]
[614410,"Solidariteitsbijdrage","Cotisation de solidarité"]
[614420,"Deelnemingskosten","Participation aux frais"]
[614500,"Gaven - Steun aan de zending - Ondersteuning","Dons - Soutien mission - entraide"]
[614700,"Participatie Wedden","Participation aux salaires"]
[620000,"Bezoldigingen","Salaires"]
[620100,"Bezoldiging Directiepersoneel","Appointement - Direction"]
[620210,"Bezoldigingen","Appointement - Employés"]
[630000,"T / afschrijvingen","Dotations aux amortissements"]
[640110,"Verkeersbelasting P.W.","Taxe immatriculation - auto"]
[640120,"Belasting o/inverkeersstelling","Taxe de mise en circulation"]
[640300,"Patrimoniumtaks","Taxe de patrimoine"]
[640400,"Roerende Voorheffing","Droits d'enregistrement"]
[640500,"Provincie- & gemeentebelasting","Taxes communales & provinciales"]
[640550,"Sabam / Auteursrechten","Sabam / droits d'auteurs"]
[645100,"Wettelijke formaliteiten","Formalités légales & administratives"]
[646400,"Verhuiskosten","Frais de déménagement"]
[650000,"Bankintresten","Intérêts bancaires"]
[650900,"Interest krediet","Intérêts crédit - emprunt"]
[656000,"Bankkosten  ","Frais bancaires"]
[656090,"Handlichtingskosten","Frais Mainlevée"]
[656200,"Betalingsverschillen (-)","Différences de paiements (-)"]
[662000,"Voorzien.uitz.risico's & kost.","Prov.risques & charges except."]
[670010,"Roerende Voorheffing","Précompte mobilier"]
[730400,"Collecten","Collectes - Offrandes"]
[730500,"Diverse gaven","Dons divers"]
[730600,"Boekentafels en verkoop","Table de littérature"]
[730700,"Andere ontvangsten","Autres recettes"]
[730710,"Diaconie (Speciale collecten)","Diaconie (Offrandes spéciales)"]
[730720,"Diaconie (Voedselbank)","Diaconie (Banque alimentaire)"]
[730730,"Diaconie (Gerichte hulp)","Diaconie (Secours ponctuels)"]
[730740,"Diaconie (PUCIS)","Diaconie (CUPEI)"]
[730750,"Diaconie (Geschenken voor bepaalde gebeurtenissen)","Diaconie (Cadeaux événementiels)"]
[730800,"Deelneming kampen Jongerenafdeling","Contributions camp des jeunes"]
[730810,"Deelneming kampen Kinderenafdeling","Contributions camp des enfants"]
[730900,"Spaarplan","Plan d'épargne"]
[730900,"Banktransfert","Transfert bancaire"]
[750100,"Bankintresten","Intérêts bancaires"]
[751300,"Bankintresten  ","Intérêts bancaires"]
[756200,"Betalingsverschil (positief)","Différence de paiement (+)"]

{"sheet":"Feuil5","index":17,"n_rows":149,"n_cols":3,"rows_kept":149,"hidden":true}
["      Codes","Nederlands","Français"]
[100000,null,"Fonds associatifs - Patrimoine de départ"]
[101000,null,"Fonds (Moyens) permanents ( Dons, Libéralités & Subsides )"]
[101100,null,"Moyens permanents reçus en espèces"]
[101200,"Fondsen van","Moyens permanents reçus en nature"]
[130000,"Fondsen ","Fonds affectés pour investissements"]
[131000,"Fondsen van","Fonds affectés pour passif social"]
[132000,null,"Autres fonds affectés"]
[173000,"Schulden onroerende","Crédit hypothécaire"]
[174100,"Overige leningen - verschuldigde MIB","Autres emprunts - dûs au MIB"]
[212010,"Licenties (software)","Licence (software)"]
[221002,"Gebouw - Kerk","Bâtiment - Eglise"]
[240000,"Meubilair & Kantoormachines","Mobilier & Machines"]
[240010,"Computermaterieel","Ordinateur"]
[240020,"Meubilair","Mobiliers "]
[240030,"Kantoormachines","Machines"]
[241010,"Bedrijfswagens","Matériel roulant : camions e.a"]
[241015,"Personenwagens","Matériel roulant : voitures"]
[291200,"Aide aux pasteurs (à recevoir pour MIB)","Aide aux pasteurs (à recevoir pour MIB)"]
[406000,"Vooruitbetalingen","Acomptes versés"]
[407000,"Dubieuze debiteuren","Créances douteuses"]
[410000,"Bijdragen.,niet gestorte","Cotisations non versées"]
[412000,"Vordering Notaris Muylle","Créance Notaire Muylle"]
[416200,"R/C vennoot in een vzw","Compte courant / Membre = prêt à un membre"]
[416300,"R/C bestuurders, zaakvoerders","Compte courant / Administrateur = prêt à un administrateur"]
[416700,"Vorderingen o/openb. besturen","Créances s/pouvoirs publics"]
[418000,"Borgtochten betaald in contant","Cautionnements versés e/numér."]
[420000,"Leasingsschulden < 1 jaar","Dettes >1 an échéant d/l'année"]
[424000,"Overige leningen","Autres emprunts"]
[429200,"Over. schulden best,zaakv,venn","Dettes envers Administrateurs, Membres"]
[430040,"Straight loan","Straight loan"]
[440000,"Leveranciers","Fournisseurs"]
[452500,"Onroerende voorheffing","Dette - Précompte immobilier"]
[452510,"Gemeente en Provinciale belastingen","Dette - Taxes communales & provinciales"]
[452530,"Overige belastingen en taksen","Dette - Autres impots & taxes"]
[455020,"Loon","Salaires"]
[456100,"Voorziening vakantiegeld","Povisions pour pécule de vacan"]
[489700,"Schulden aan VIM vzw","Dettes VIM VZW"]
[490000,"Over te dragen kosten","Charges à reporter"]
[493000,"Over te dragen opbrengsten","Produits à reporter"]
[499000,"Wachtrekening","Comptes d'attente"]
[550000,"Bank","Banque"]
[570000,"Kas","Caisse"]
[580000,"Interne overboekingen","Virements internes"]
[611110,"Huur terreinen","Location terrain"]
[611120,"Huur gebouwen","Loyer immeuble"]
[611125,"Huur parking","Location parking"]
[611130,"Huur inst., mach. & gereedsch.","Location installation, machine & outillage"]
[611135,"Huur container","Location container"]
[611150,"Huur bedrijfswagens","Location matériel roulant - camoin"]
[611151,"Huur personenwagens","Location matériel roulant - auto"]
[611200,"Buitenlandse leasing","Leasing - Location financement"]
[611310,"Onderhoud-herstellingen  ","Entretien & réparation terrain"]
[611320,"Onderhoud-herstellingen  ","Entretien & réparation bâtIment"]
[611330,"Onderhoud-herstellingen  ","Entretien & réparation instal. machine & outillage"]
[611340,"Onderhoud-herstellingen  ","Entretien & réparation mobilier"]
[611350,"Onderhoud-herstellingen  ","Entretien & réparation matériel roulant - camion"]
[611351,"Onderhoud-herstellingen  ","Entretien & réparation matériel roulant - auto"]
[611360,"Onderhoud-herstellingen  ","Entretien & réparation matériel de bureau"]
[611390,"Onderhoud-herstellingen","Ramassage de déchets"]
[612000,"Telefoon, fax en internet - Kerk","Téléphone, fax & internet - Eglise"]
[612010,"Telefoon, fax en internet - Dominee","Téléphone, fax & internet - Pasteur"]
[612120,"Electriciteit en Gas","Electricité & Gaz"]
[612130,"Water","Eau"]
[612160,"Verwarming","Chauffage"]
[612170,"TV Distributie","Télédistribution"]
[612225,"Onderhoudsprodukten","Produits d'entretien "]
[612229,"Groot gereedschap","Grand outillage - achat"]
[612230,"Klein gereedschap","Petit outillage - achat"]
[612231,"Animatiemateriaal","Achat matériel d'animation"]
[612240,"Kantoorbenodigdheden","Fourniture de bureau"]
[612300,"Aankoop van literatuur","Livres, périodiques, documentations,.."]
[612400,"Avondmaal","Sainte Cêne"]
[612410,"Agape - Broederlijke gemeenschap","Agape - communion fraternelle"]
[612420,"Plechtige vieringen ( Kerst, Pasen, ..)","Fêtes Solennelles ( Noêl, Pâques, ..)"]
[612430,"Retraite","Retraite - récollection"]
[612440,"Organist / Koorzangers","Organistes / Choristes"]
[612500,"Diaconie (Speciale collecten)","Diaconie (Offrandes spéciales)"]
[612510,"Diaconie (Voedselbank)","Diaconie (Banque alimentaire)"]
[612520,"Diaconie (Gerichte hulp)","Diaconie (Secours ponctuels)"]
[612530,"Diaconie (PUCIS)","Diaconie (CUPEI)"]
[612540,"Diaconie (Geschenken voor bepaalde gebeurtenissen)","Diaconie (Cadeaux événementiels)"]
[612550,"Reisvergoedingen","Frais de déplacement"]
[612560,"Terugbetaling (vrijwilliger(ster)s)","Défraiement (bénévoles)"]
[613100,"Verzekeringen","Assurances"]
[613130,"Verzekeringen jongkamp","Assurances camp de jeunesse"]
[613210,"Administratie","Administration"]
[613211,"Honoraria advocaten","Honoraires avocats"]
[613212,"Honoraria notaris","Honoraires notaires"]
[613214,"Honoraria ????","Honoraires experts"]
[613215,"Honoraria accountants","Honoraires comptables"]
[613216,"Honoraria bedrijfsrevisoren","Honoraires reviseurs d'entreprise"]
[613217,"Honoraria architecten","Honoraires architectes"]
[613220,"Pastorale kosten","Frais pastoraux - toges - habits de céremonie"]
[613230,"Andere kosten","Autres frais"]
[613240,"Terugbetaling inschrijving voor kampen","Remboursement inscriptions aux camps"]
[613248,"Evangelisatie","Evangélisation"]
[613249,"Zondagsschool","Ecole du dimanche"]
[613250,"Jeugdgroep","Groupe des jeunes - Jeunesse"]
[613251,"Vrouwenkring","Groupe des dames"]
[613252,"Mannenkring","Groupe des hommes"]
[613253,"Diversen","Divers"]
[613260,"Vergoeding vervangers","PAF pasteur visiteur"]
[614100,"Verpl. & reiskosten binnenland ","Voyages & déplacements (B)"]
[614110,"Verpl. & reiskosten buitenland","Voyages & déplac. à l'étranger"]
[614150,"Restaurantkosten binnenland","Restaurants Belges"]
[614160,"Restaurantkosten buitenland","Restaurants à l'étranger"]
[614210,"Affiches,folders,catalogi,adve","Affiches,dépliants,catal.,ann."]
[614230,"Decoratie-bloemen-geschenken","Décoration-fleurs-cadeaux"]
[614400,"Bijdragen","Participation aux frais"]
[614410,"Solidariteitsbijdrage","Cotisation de solidarité"]
[614420,"Deelnemingskosten","Participation aux frais"]
[614500,"Gaven - Steun aan de zending - Ondersteuning","Dons - Soutien mission - entraide"]
[614700,"Participatie Wedden","Participation aux salaires"]
[620000,"Bezoldigingen","Salaires"]
[620100,"Bezoldiging Directiepersoneel","Appointement - Direction"]
[620210,"Bezoldigingen","Appointement - Employés"]
[630000,"T / afschrijvingen","Dotations aux amortissements"]
[640110,"Verkeersbelasting P.W.","Taxe immatriculation - auto"]
[640120,"Belasting o/inverkeersstelling","Taxe de mise en circulation"]
[640300,"Patrimoniumtaks","Taxe de patrimoine"]
[640400,"Roerende Voorheffing","Droits d'enregistrement"]
[640500,"Provincie- & gemeentebelasting","Taxes communales & provinciales"]
[640550,"Sabam / Auteursrechten","Sabam / droits d'auteurs"]
[645100,"Wettelijke formaliteiten","Formalités légales & administratives"]
[646400,"Verhuiskosten","Frais de déménagement"]
[650000,"Bankintresten","Intérêts bancaires"]
[650900,"Interest krediet","Intérêts crédit - emprunt"]
[656000,"Bankkosten  ","Frais bancaires"]
[656090,"Handlichtingskosten","Frais Mainlevée"]
[656200,"Betalingsverschillen (-)","Différences de paiements (-)"]
[662000,"Voorzien.uitz.risico's & kost.","Prov.risques & charges except."]
[670010,"Roerende Voorheffing","Précompte mobilier"]
[730400,"Collecten","Collectes - Offrandes"]
[730500,"Diverse gaven","Dons divers"]
[730600,"Boekentafels en verkoop","Table de littérature"]
[730700,"Andere ontvangsten","Autres recettes"]
[730710,"Diaconie (Speciale collecten)","Diaconie (Offrandes spéciales)"]
[730720,"Diaconie (Voedselbank)","Diaconie (Banque alimentaire)"]
[730730,"Diaconie (Gerichte hulp)","Diaconie (Secours ponctuels)"]
[730740,"Diaconie (PUCIS)","Diaconie (CUPEI)"]
[730750,"Diaconie (Geschenken voor bepaalde gebeurtenissen)","Diaconie (Cadeaux événementiels)"]
[730800,"Deelneming kampen Jongerenafdeling","Contributions camp des jeunes"]
[730810,"Deelneming kampen Kinderenafdeling","Contributions camp des enfants"]
[730900,"Spaarplan","Plan d'épargne"]
[730900,"Banktransfert","Transfert bancaire"]
[750100,"Bankintresten","Intérêts bancaires"]
[751300,"Bankintresten  ","Intérêts bancaires"]
[756200,"Betalingsverschil (positief)","Différence de paiement (+)"]

{"sheet":"Feuil6","index":18,"n_rows":149,"n_cols":4,"rows_kept":149,"hidden":true}
["      Codes","Nederlands","Français","      Codes"]
[100000,null,"Fonds associatifs - Patrimoine de départ",100000]
[101000,null,"Fonds (Moyens) permanents ( Dons, Libéralités & Subsides )",101000]
[101100,null,"Moyens permanents reçus en espèces",101100]
[101200,"Fondsen van","Moyens permanents reçus en nature",101200]
[130000,"Fondsen ","Fonds affectés pour investissements",130000]
[131000,"Fondsen van","Fonds affectés pour passif social",131000]
[132000,null,"Autres fonds affectés",132000]
[173000,"Schulden onroerende","Crédit hypothécaire",173000]
[174100,"Overige leningen - verschuldigde MIB","Autres emprunts - dûs au MIB",174100]
[212010,"Licenties (software)","Licence (software)",212010]
[221002,"Gebouw - Kerk","Bâtiment - Eglise",221002]
[240000,"Meubilair & Kantoormachines","Mobilier & Machines",240000]
[240010,"Computermaterieel","Ordinateur",240010]
[240020,"Meubilair","Mobiliers ",240020]
[240030,"Kantoormachines","Machines",240030]
[241010,"Bedrijfswagens","Matériel roulant : camions e.a",241010]
[241015,"Personenwagens","Matériel roulant : voitures",241015]
[291200,"Aide aux pasteurs (à recevoir pour MIB)","Aide aux pasteurs (à recevoir pour MIB)",291200]
[406000,"Vooruitbetalingen","Acomptes versés",406000]
[407000,"Dubieuze debiteuren","Créances douteuses",407000]
[410000,"Bijdragen.,niet gestorte","Cotisations non versées",410000]
[412000,"Vordering Notaris Muylle","Créance Notaire Muylle",412000]
[416200,"R/C vennoot in een vzw","Compte courant / Membre = prêt à un membre",416200]
[416300,"R/C bestuurders, zaakvoerders","Compte courant / Administrateur = prêt à un administrateur",416300]
[416700,"Vorderingen o/openb. besturen","Créances s/pouvoirs publics",416700]
[418000,"Borgtochten betaald in contant","Cautionnements versés e/numér.",418000]
[420000,"Leasingsschulden < 1 jaar","Dettes >1 an échéant d/l'année",420000]
[424000,"Overige leningen","Autres emprunts",424000]
[429200,"Over. schulden best,zaakv,venn","Dettes envers Administrateurs, Membres",429200]
[430040,"Straight loan","Straight loan",430040]
[440000,"Leveranciers","Fournisseurs",440000]
[452500,"Onroerende voorheffing","Dette - Précompte immobilier",452500]
[452510,"Gemeente en Provinciale belastingen","Dette - Taxes communales & provinciales",452510]
[452530,"Overige belastingen en taksen","Dette - Autres impots & taxes",452530]
[455020,"Loon","Salaires",455020]
[456100,"Voorziening vakantiegeld","Povisions pour pécule de vacan",456100]
[489700,"Schulden aan VIM vzw","Dettes VIM VZW",489700]
[490000,"Over te dragen kosten","Charges à reporter",490000]
[493000,"Over te dragen opbrengsten","Produits à reporter",493000]
[499000,"Wachtrekening","Comptes d'attente",499000]
[550000,"Bank","Banque",550000]
[570000,"Kas","Caisse",570000]
[580000,"Interne overboekingen","Virements internes",580000]
[611110,"Huur terreinen","Location terrain",611110]
[611120,"Huur gebouwen","Loyer immeuble",611120]
[611125,"Huur parking","Location parking",611125]
[611130,"Huur inst., mach. & gereedsch.","Location installation, machine & outillage",611130]
[611135,"Huur container","Location container",611135]
[611150,"Huur bedrijfswagens","Location matériel roulant - camoin",611150]
[611151,"Huur personenwagens","Location matériel roulant - auto",611151]
[611200,"Buitenlandse leasing","Leasing - Location financement",611200]
[611310,"Onderhoud-herstellingen  ","Entretien & réparation terrain",611310]
[611320,"Onderhoud-herstellingen  ","Entretien & réparation bâtIment",611320]
[611330,"Onderhoud-herstellingen  ","Entretien & réparation instal. machine & outillage",611330]
[611340,"Onderhoud-herstellingen  ","Entretien & réparation mobilier",611340]
[611350,"Onderhoud-herstellingen  ","Entretien & réparation matériel roulant - camion",611350]
[611351,"Onderhoud-herstellingen  ","Entretien & réparation matériel roulant - auto",611351]
[611360,"Onderhoud-herstellingen  ","Entretien & réparation matériel de bureau",611360]
[611390,"Onderhoud-herstellingen","Ramassage de déchets",611390]
[612000,"Telefoon, fax en internet - Kerk","Téléphone, fax & internet - Eglise",612000]
[612010,"Telefoon, fax en internet - Dominee","Téléphone, fax & internet - Pasteur",612010]
[612120,"Electriciteit en Gas","Electricité & Gaz",612120]
[612130,"Water","Eau",612130]
[612160,"Verwarming","Chauffage",612160]
[612170,"TV Distributie","Télédistribution",612170]
[612225,"Onderhoudsprodukten","Produits d'entretien ",612225]
[612229,"Groot gereedschap","Grand outillage - achat",612229]
[612230,"Klein gereedschap","Petit outillage - achat",612230]
[612231,"Animatiemateriaal","Achat matériel d'animation",612231]
[612240,"Kantoorbenodigdheden","Fourniture de bureau",612240]
[612300,"Aankoop van literatuur","Livres, périodiques, documentations,..",612300]
[612400,"Avondmaal","Sainte Cêne",612400]
[612410,"Agape - Broederlijke gemeenschap","Agape - communion fraternelle",612410]
[612420,"Plechtige vieringen ( Kerst, Pasen, ..)","Fêtes Solennelles ( Noêl, Pâques, ..)",612420]
[612430,"Retraite","Retraite - récollection",612430]
[612440,"Organist / Koorzangers","Organistes / Choristes",612440]
[612500,"Diaconie (Speciale collecten)","Diaconie (Offrandes spéciales)",612500]
[612510,"Diaconie (Voedselbank)","Diaconie (Banque alimentaire)",612510]
[612520,"Diaconie (Gerichte hulp)","Diaconie (Secours ponctuels)",612520]
[612530,"Diaconie (PUCIS)","Diaconie (CUPEI)",612530]
[612540,"Diaconie (Geschenken voor bepaalde gebeurtenissen)","Diaconie (Cadeaux événementiels)",612540]
[612550,"Reisvergoedingen","Frais de déplacement",612550]
[612560,"Terugbetaling (vrijwilliger(ster)s)","Défraiement (bénévoles)",612560]
[613100,"Verzekeringen","Assurances",613100]
[613130,"Verzekeringen jongkamp","Assurances camp de jeunesse",613130]
[613210,"Administratie","Administration",613210]
[613211,"Honoraria advocaten","Honoraires avocats",613211]
[613212,"Honoraria notaris","Honoraires notaires",613212]
[613214,"Honoraria ????","Honoraires experts",613214]
[613215,"Honoraria accountants","Honoraires comptables",613215]
[613216,"Honoraria bedrijfsrevisoren","Honoraires reviseurs d'entreprise",613216]
[613217,"Honoraria architecten","Honoraires architectes",613217]
[613220,"Pastorale kosten","Frais pastoraux - toges - habits de céremonie",613220]
[613230,"Andere kosten","Autres frais",613230]
[613240,"Terugbetaling inschrijving voor kampen","Remboursement inscriptions aux camps",613240]
[613248,"Evangelisatie","Evangélisation",613248]
[613249,"Zondagsschool","Ecole du dimanche",613249]
[613250,"Jeugdgroep","Groupe des jeunes - Jeunesse",613250]
[613251,"Vrouwenkring","Groupe des dames",613251]
[613252,"Mannenkring","Groupe des hommes",613252]
[613253,"Diversen","Divers",613253]
[613260,"Vergoeding vervangers","PAF pasteur visiteur",613260]
[614100,"Verpl. & reiskosten binnenland ","Voyages & déplacements (B)",614100]
[614110,"Verpl. & reiskosten buitenland","Voyages & déplac. à l'étranger",614110]
[614150,"Restaurantkosten binnenland","Restaurants Belges",614150]
[614160,"Restaurantkosten buitenland","Restaurants à l'étranger",614160]
[614210,"Affiches,folders,catalogi,adve","Affiches,dépliants,catal.,ann.",614210]
[614230,"Decoratie-bloemen-geschenken","Décoration-fleurs-cadeaux",614230]
[614400,"Bijdragen","Participation aux frais",614400]
[614410,"Solidariteitsbijdrage","Cotisation de solidarité",614410]
[614420,"Deelnemingskosten","Participation aux frais",614420]
[614500,"Gaven - Steun aan de zending - Ondersteuning","Dons - Soutien mission - entraide",614500]
[614700,"Participatie Wedden","Participation aux salaires",614700]
[620000,"Bezoldigingen","Salaires",620000]
[620100,"Bezoldiging Directiepersoneel","Appointement - Direction",620100]
[620210,"Bezoldigingen","Appointement - Employés",620210]
[630000,"T / afschrijvingen","Dotations aux amortissements",630000]
[640110,"Verkeersbelasting P.W.","Taxe immatriculation - auto",640110]
[640120,"Belasting o/inverkeersstelling","Taxe de mise en circulation",640120]
[640300,"Patrimoniumtaks","Taxe de patrimoine",640300]
[640400,"Roerende Voorheffing","Droits d'enregistrement",640400]
[640500,"Provincie- & gemeentebelasting","Taxes communales & provinciales",640500]
[640550,"Sabam / Auteursrechten","Sabam / droits d'auteurs",640550]
[645100,"Wettelijke formaliteiten","Formalités légales & administratives",645100]
[646400,"Verhuiskosten","Frais de déménagement",646400]
[650000,"Bankintresten","Intérêts bancaires",650000]
[650900,"Interest krediet","Intérêts crédit - emprunt",650900]
[656000,"Bankkosten  ","Frais bancaires",656000]
[656090,"Handlichtingskosten","Frais Mainlevée",656090]
[656200,"Betalingsverschillen (-)","Différences de paiements (-)",656200]
[662000,"Voorzien.uitz.risico's & kost.","Prov.risques & charges except.",662000]
[670010,"Roerende Voorheffing","Précompte mobilier",670010]
[730400,"Collecten","Collectes - Offrandes",730400]
[730500,"Diverse gaven","Dons divers",730500]
[730600,"Boekentafels en verkoop","Table de littérature",730600]
[730700,"Andere ontvangsten","Autres recettes",730700]
[730710,"Diaconie (Speciale collecten)","Diaconie (Offrandes spéciales)",730710]
[730720,"Diaconie (Voedselbank)","Diaconie (Banque alimentaire)",730720]
[730730,"Diaconie (Gerichte hulp)","Diaconie (Secours ponctuels)",730730]
[730740,"Diaconie (PUCIS)","Diaconie (CUPEI)",730740]
[730750,"Diaconie (Geschenken voor bepaalde gebeurtenissen)","Diaconie (Cadeaux événementiels)",730750]
[730800,"Deelneming kampen Jongerenafdeling","Contributions camp des jeunes",730800]
[730810,"Deelneming kampen Kinderenafdeling","Contributions camp des enfants",730810]
[730900,"Spaarplan","Plan d'épargne",730900]
[730900,"Banktransfert","Transfert bancaire",730900]
[750100,"Bankintresten","Intérêts bancaires",750100]
[751300,"Bankintresten  ","Intérêts bancaires",751300]
[756200,"Betalingsverschil (positief)","Différence de paiement (+)",756200]